{"text_format":"1","workbook":"xlsx","n_sheets":17,"sheets":["Instructions","SGO","NData","INSTRUCTIONS DATA EXPORT","SGO DATA EXPORT","HData","Dashboard (A3)","Dashboard (A4)","Queries","Glossary","URN","Analysis","Discrepancies","Checks","Lists","DATA EXPORT SGOs","ESRI_MAPINFO_SHEET"],"not_rendered":{"charts":48,"images":1,"macros":1,"external_links":4,"defined_names":142,"comments":0,"pivot_tables":0},"unopened":[],"bounds":{"document_bytes":16777216,"sheet_cells":100000,"rows_first":2000,"rows_last":500,"rows_between":2000,"halvings":0,"cell_chars":16384,"cell_head_chars":4096},"cells_cut":0,"cells_raw":0,"read":"whole","date_system":"1900"}

{"sheet":"Instructions","index":0,"n_rows":39,"n_cols":11,"rows_kept":39,"cut":false,"hidden":false,"merged":[[4,6,4,7],[10,7,10,9],[6,7,6,12]]}
[]
[null,"ASG CHILD DATA COLLECTION TEMPLATE"]
[]
[]
[null,"Please indicate which quarter your data return is for =>",null,null,null,null,"2026/27 Q1"]
[]
[null,"Please enter the email address of the person completing this return:"]
[]
[null,"In order to use this tool you must enable macros in Excel"]
[]
[null,"PLEASE SUBMIT YOUR COMPLETED CHILD DATA RETURN TO :",null,null,null,null,null,"ASGLB@coram.org.uk"]
[]
[null,"INSTRUCTIONS FOR COMPLETING THE CHILD DATA RETURN"]
[null,{"$f":"\"1. The \"\"SGO\"\" sheet is where you should paste (as values) the SGO data you are planning to submit for the period \"&TEXT(IF(RIGHT(Instructions!G5,2)=\"Q4\",EDATE(Analysis!$B$4,-12),Analysis!$B$4),\"d mmmm yyyy\")&\" to \"&TEXT(IF(RIGHT(Instructions!G5,2)=\"Q4\",Analysis!$B$4-1,EDATE(Analysis!$B$4,3*RIGHT(Instructions!G5,1))-1),\"d mmmm yyyy\")&\".\"","v":"1. The \"SGO\" sheet is where you should paste (as values) the SGO data you are planning to submit for the period 1 April 2026 to 30 June 2026."}]
[null,{"$f":"\"2. The \"\"NData\"\" sheet is where you should paste (as values) the child-level adoption data you are planning to submit for the period \"&TEXT(IF(RIGHT(Instructions!G5,2)=\"Q4\",EDATE(Analysis!$B$4,-12),Analysis!$B$4),\"d mmmm yyyy\")&\" to \"&TEXT(IF(RIGHT(Instructions!G5,2)=\"Q4\",Analysis!$B$4-1,EDATE(Analysis!$B$4,3*RIGHT(Instructions!G5,1))-1),\"d mmmm yyyy\")&\" - when you have added your\"","v":"2. The \"NData\" sheet is where you should paste (as values) the child-level adoption data you are planning to submit for the period 1 April 2026 to 30 June 2026 - when you have added your"}]
[null,{"$f":"\"     data press the \"\"Check Data\"\" button in the top left corner of the \"\"Ndata\"\" sheet.\"","v":"     data press the \"Check Data\" button in the top left corner of the \"Ndata\" sheet."}]
[null,"3. The \"HData\" sheet initially contains all the child data your agency has submitted to the ASG Quarterly Data Collection - you do not have to check the data in here but if you do want to make corrections to any cases"]
[null,{"$f":"\"     where the adoption process both started and ended (adoption or reversal) prior to \"&TEXT(IF(RIGHT(Instructions!G5,2)=\"Q4\",EDATE(Analysis!$B$4,-12),Analysis!$B$4),\"d mmmm yyyy\")&\", then this can only be done by editing the relevant case within the \"\"HData\"\" tab as, by definition,\"","v":"     where the adoption process both started and ended (adoption or reversal) prior to 1 April 2026, then this can only be done by editing the relevant case within the \"HData\" tab as, by definition,"}]
[null,{"$f":"\"     the case will not appear in the \"\"NData\"\" tab.\"","v":"     the case will not appear in the \"NData\" tab."}]
[null,"4. When new data is added to the \"NData\" sheet, the \"Check Data\" button will merge what is in the \"NData\" sheet into a single dataset in the \"HData\" sheet that then feeds the analysis shown in"]
[null,{"$f":"\"     the \"\"Dashboard\"\" sheet.\"","v":"     the \"Dashboard\" sheet."}]
[null,"5. The \"Check Data\" button will also review the data in the \"NData\" sheet and highlight any queries raised. When you click on a highlighted cell, a pop-up will be shown to explain the query and"]
[null,{"$f":"\"     prompt you to enter a correction. If you update a value, then this will be checked to see if it results in any new queries. Any changes you make to the data in \"\"NData\"\" sheet will be reflected in the\"","v":"     prompt you to enter a correction. If you update a value, then this will be checked to see if it results in any new queries. Any changes you make to the data in \"NData\" sheet will be reflected in the"}]
[null,{"$f":"\"     \"\"HData\"\" sheet (and hence the \"\"Dashboard\"\" sheet) if macros are enabled.\"","v":"     \"HData\" sheet (and hence the \"Dashboard\" sheet) if macros are enabled."}]
[null,"6. The \"Queries\" sheet provides you with a log of all the queries generated by the tool."]
[null,"7. When checking a new set of data, this tool assumes that the ID given for a particular child is the same for all the returns in which they have been included - if the ID of a child has changed please"]
[null,{"$f":"\"     leave both records in the return and add a comment to inform us of the new ID.\"","v":"     leave both records in the return and add a comment to inform us of the new ID."}]
[null,"8. The tool will identify children who are missing from your new data set if they do not appear in it but have appeared in previous returns and we do not have a date for an adoption order or"]
[null,{"$f":"\"     change of plan - these children will be added to the \"\"Ndata\"\" sheet when the checks are run.\"","v":"     change of plan - these children will be added to the \"Ndata\" sheet when the checks are run."}]
[]
[null,"In addition to your child-level data, if you fill in the data below, the Dashboard will be able to calculate the rates of children getting adoption plans and leaving care via adoption. "]
[null,{"$f":"INDEX(Lists!$V$2:$V$49,MATCH(Instructions!B$34,Qtrs))","v":"2024-03-31"},{"$f":"INDEX(Lists!$V$2:$V$49,MATCH(Instructions!C$34,Qtrs))","v":"2024-06-30"},{"$f":"INDEX(Lists!$V$2:$V$49,MATCH(Instructions!D$34,Qtrs))","v":"2024-09-30"},{"$f":"INDEX(Lists!$V$2:$V$49,MATCH(Instructions!E$34,Qtrs))","v":"2024-12-31"},{"$f":"INDEX(Lists!$V$2:$V$49,MATCH(Instructions!F$34,Qtrs))","v":"2025-03-31"},{"$f":"INDEX(Lists!$V$2:$V$49,MATCH(Instructions!G$34,Qtrs))","v":"2025-06-30"},{"$f":"INDEX(Lists!$V$2:$V$49,MATCH(Instructions!H$34,Qtrs))","v":"2025-09-30"},{"$f":"INDEX(Lists!$V$2:$V$49,MATCH(Instructions!I$34,Qtrs))","v":"2025-12-31"},{"$f":"INDEX(Lists!$V$2:$V$49,MATCH(Instructions!J$34,Qtrs))","v":"2026-03-31"},{"$f":"INDEX(Lists!$V$2:$V$57,MATCH(Instructions!K$34,Qtrs))","v":"2026-06-30"}]
[null,"Number of children entering care in the quarter who were under the age of 5 when entering care"]
[null,{"$f":"INDEX(Lists!$W$2:$W$57,MATCH(C34,Lists!$W$2:$W$57,0)-1)","v":"2023/24 Q4"},{"$f":"INDEX(Lists!$W$2:$W$57,MATCH(D34,Lists!$W$2:$W$57,0)-1)","v":"2024/25 Q1"},{"$f":"INDEX(Lists!$W$2:$W$57,MATCH(E34,Lists!$W$2:$W$57,0)-1)","v":"2024/25 Q2"},{"$f":"INDEX(Lists!$W$2:$W$57,MATCH(F34,Lists!$W$2:$W$57,0)-1)","v":"2024/25 Q3"},{"$f":"INDEX(Lists!$W$2:$W$57,MATCH(G34,Lists!$W$2:$W$57,0)-1)","v":"2024/25 Q4"},{"$f":"INDEX(Lists!$W$2:$W$57,MATCH(H34,Lists!$W$2:$W$57,0)-1)","v":"2025/26 Q1"},{"$f":"INDEX(Lists!$W$2:$W$57,MATCH(I34,Lists!$W$2:$W$57,0)-1)","v":"2025/26 Q2"},{"$f":"INDEX(Lists!$W$2:$W$57,MATCH(J34,Lists!$W$2:$W$57,0)-1)","v":"2025/26 Q3"},{"$f":"INDEX(Lists!$W$2:$W$57,MATCH(K34,Lists!$W$2:$W$57,0)-1)","v":"2025/26 Q4"},{"$f":"G5","v":"2026/27 Q1"}]
[]
[null,{"$f":"INDEX(Lists!$V$2:$V$49,MATCH(Instructions!B$34,Qtrs)-1)+1","v":"2024-01-01"},{"$f":"INDEX(Lists!$V$2:$V$49,MATCH(Instructions!C$34,Qtrs)-1)+1","v":"2024-04-01"},{"$f":"INDEX(Lists!$V$2:$V$49,MATCH(Instructions!D$34,Qtrs)-1)+1","v":"2024-07-01"},{"$f":"INDEX(Lists!$V$2:$V$49,MATCH(Instructions!E$34,Qtrs)-1)+1","v":"2024-10-01"},{"$f":"INDEX(Lists!$V$2:$V$49,MATCH(Instructions!F$34,Qtrs)-1)+1","v":"2025-01-01"},{"$f":"INDEX(Lists!$V$2:$V$49,MATCH(Instructions!G$34,Qtrs)-1)+1","v":"2025-04-01"},{"$f":"INDEX(Lists!$V$2:$V$49,MATCH(Instructions!H$34,Qtrs)-1)+1","v":"2025-07-01"},{"$f":"INDEX(Lists!$V$2:$V$49,MATCH(Instructions!I$34,Qtrs)-1)+1","v":"2025-10-01"},{"$f":"INDEX(Lists!$V$2:$V$49,MATCH(Instructions!J$34,Qtrs)-1)+1","v":"2026-01-01"},{"$f":"INDEX(Lists!$V$2:$V$49,MATCH(Instructions!K$34,Qtrs)-1)+1","v":"2026-04-01"}]
[null,"Number of children ceasing to be in care"]
[null,null,null,{"$f":"Analysis!$F$2","v":"2025/26"},{"$f":"Analysis!$G$2&IF(AND(DAY(RDate)=31,MONTH(RDate)=3),\"\",\"*\")","v":"2026/27*"},{"$f":"IF(ISERROR(FIND(\"*\",E38)),\"\",\"* up to end of \"&G5)","v":"* up to end of 2026/27 Q1"}]
[null,null,"Total"]

{"sheet":"SGO","index":1,"n_rows":60,"n_cols":9,"rows_kept":60,"cut":false,"hidden":false,"merged":[[1,8,2,8],[0,0,2,1],[1,2,1,5],[4,1,4,5]]}
[{"$f":"\"SPECIAL GUARDIANSHIP ORDERS \n\"&RIGHT(Instructions!G5,2)&\"\n\"&TEXT(IF(RIGHT(Instructions!G5,2)=\"Q4\",EDATE(Analysis!$B$4,-12),Analysis!$B$4),\"d mmmm yyyy\")&\" to \"&TEXT(IF(RIGHT(Instructions!G5,2)=\"Q4\",Analysis!$B$4-1,EDATE(Analysis!$B$4,3*RIGHT(Instructions!G5,1))-1),\"d mmmm yyyy\")","v":"SPECIAL GUARDIANSHIP ORDERS \nQ1\n1 April 2026 to 30 June 2026"}]
[null,null,"ALL LOOKED AFTER CHILDREN WHO WERE THE SUBJECT OF A SPECIAL GUARDIANSHIP ORDER",null,null,null,null,null,"QUERIES"]
[null,null,{"$f":"\"Q1\n1 April \"&IF(MONTH(RDate)>=4,YEAR(RDate),YEAR(RDate)-1)&\" to \n30 June \"&IF(MONTH(RDate)>=4,YEAR(RDate),YEAR(RDate)-1)","v":"Q1\n1 April 2026 to \n30 June 2026"},{"$f":"\"Q2\n1 July \"&IF(MONTH(RDate)>=4,YEAR(RDate),YEAR(RDate)-1)&\" to \n30 September \"&IF(MONTH(RDate)>=4,YEAR(RDate),YEAR(RDate)-1)","v":"Q2\n1 July 2026 to \n30 September 2026"},{"$f":"\"Q3\n1 October \"&IF(MONTH(RDate)>=4,YEAR(RDate),YEAR(RDate)-1)&\" to \n31 December \"&IF(MONTH(RDate)>=4,YEAR(RDate),YEAR(RDate)-1)","v":"Q3\n1 October 2026 to \n31 December 2026"},{"$f":"\"Q4\n1 January \"&IF(MONTH(RDate)>=4,YEAR(RDate)+1,YEAR(RDate))&\" to \n31 March \"&IF(MONTH(RDate)>=4,YEAR(RDate)+1,YEAR(RDate))","v":"Q4\n1 January 2027 to \n31 March 2027"},{"$f":"\"Total Q1 to Q4\n1 April \"&IF(MONTH(RDate)>=4,YEAR(RDate),YEAR(RDate)-1)&\" to \n31 March \"&IF(MONTH(RDate)>=4,YEAR(RDate)+1,YEAR(RDate))","v":"Total Q1 to Q4\n1 April 2026 to \n31 March 2027"}]
[]
[null,"In this section of the return, please enter 0s where the value is meant to be zero and only keep cells blank if you are unable to provide this data."]
[]
["S1","TOTAL NUMBER OF CHILDREN",null,null,null,null,{"$f":"IF(COUNTA(C7:F7)>0,SUM(C7:F7),\"\")","v":""}]
[]
["S2","STATUS OF SPECIAL GUARDIAN"]
["S2.1","Grandparent",null,null,null,null,{"$f":"IF(COUNTA(C10:F10)>0,SUM(C10:F10),\"\")","v":""},null,{"$f":"IF(SUM(C$10:C$14)<>C$7,\"Q1 - The total in this breakdown should match the total number of children in S1\",\"\")","v":""}]
["S2.2","Other family relative",null,null,null,null,{"$f":"IF(COUNTA(C11:F11)>0,SUM(C11:F11),\"\")","v":""},null,{"$f":"IF(SUM(D$10:D$14)<>D$7,\"Q2 - The total in this breakdown should match the total number of children in S1\",\"\")","v":""}]
["S2.3","Friend or other existing relationship",null,null,null,null,{"$f":"IF(COUNTA(C12:F12)>0,SUM(C12:F12),\"\")","v":""},null,{"$f":"IF(SUM(E$10:E$14)<>E$7,\"Q3 - The total in this breakdown should match the total number of children in S1\",\"\")","v":""}]
["S2.4","Former foster carer",null,null,null,null,{"$f":"IF(COUNTA(C13:F13)>0,SUM(C13:F13),\"\")","v":""},null,{"$f":"IF(SUM(F$10:F$14)<>F$7,\"Q4 - The total in this breakdown should match the total number of children in S1\",\"\")","v":""}]
["S2.5","Other carer",null,null,null,null,{"$f":"IF(COUNTA(C14:F14)>0,SUM(C14:F14),\"\")","v":""}]
[]
["S3","AGE OF SPECIAL GUARDIAN as at the date of the SGO"]
["S3.1","18 to 19",null,null,null,null,{"$f":"IF(COUNTA(C17:F17)>0,SUM(C17:F17),\"\")","v":""}]
["S3.2","20 to 29",null,null,null,null,""]
["S3.3","30 to 39",null,null,null,null,""]
["S3.4","40 to 49",null,null,null,null,""]
["S3.5","50 to 59",null,null,null,null,""]
["S3.6","60 and over",null,null,null,null,""]
["S3.7","Unknown",null,null,null,null,""]
[]
["S4","AGE OF CHILD as at the date of their SGO"]
["S4.1","Under 1",null,null,null,null,{"$f":"IF(COUNTA(C26:F26)>0,SUM(C26:F26),\"\")","v":""},null,{"$f":"IF(SUM(C$26:C$30)<>C$7,\"Q1 - The total in this breakdown should match the total number of children in S1\",\"\")","v":""}]
["S4.2","1 to 4",null,null,null,null,{"$f":"IF(COUNTA(C27:F27)>0,SUM(C27:F27),\"\")","v":""},null,{"$f":"IF(SUM(D$26:D$30)<>D$7,\"Q2 - The total in this breakdown should match the total number of children in S1\",\"\")","v":""}]
["S4.3","5 to 9",null,null,null,null,{"$f":"IF(COUNTA(C28:F28)>0,SUM(C28:F28),\"\")","v":""},null,{"$f":"IF(SUM(E$26:E$30)<>E$7,\"Q3 - The total in this breakdown should match the total number of children in S1\",\"\")","v":""}]
["S4.4","10 to 15",null,null,null,null,{"$f":"IF(COUNTA(C29:F29)>0,SUM(C29:F29),\"\")","v":""},null,{"$f":"IF(SUM(F$26:F$30)<>F$7,\"Q4 - The total in this breakdown should match the total number of children in S1\",\"\")","v":""}]
["S4.5","16 and over",null,null,null,null,{"$f":"IF(COUNTA(C30:F30)>0,SUM(C30:F30),\"\")","v":""}]
[]
["S5","GENDER OF CHILD"]
["S5.1","Not known (gender not recorded or unknown for unborn children)",null,null,null,null,{"$f":"IF(COUNTA(C33:F33)>0,SUM(C33:F33),\"\")","v":""},null,{"$f":"IF(SUM(C$33:C$36)<>C$7,\"Q1 - The total in this breakdown should match the total number of children in S1\",\"\")","v":""}]
["S5.2","Male",null,null,null,null,{"$f":"IF(COUNTA(C34:F34)>0,SUM(C34:F34),\"\")","v":""},null,{"$f":"IF(SUM(D$33:D$36)<>D$7,\"Q2 - The total in this breakdown should match the total number of children in S1\",\"\")","v":""}]
["S5.3","Female",null,null,null,null,{"$f":"IF(COUNTA(C35:F35)>0,SUM(C35:F35),\"\")","v":""},null,{"$f":"IF(SUM(E$33:E$36)<>E$7,\"Q3 - The total in this breakdown should match the total number of children in S1\",\"\")","v":""}]
["S5.4","Neither (indeterminate, i.e. unable to be classed as either male or female)",null,null,null,null,{"$f":"IF(COUNTA(C36:F36)>0,SUM(C36:F36),\"\")","v":""},null,{"$f":"IF(SUM(F$33:F$36)<>F$7,\"Q4 - The total in this breakdown should match the total number of children in S1\",\"\")","v":""}]
[]
["S6","DISABILITY",null,null,null,null,null,null,{"$f":"IF(SUM(C$39:C$40)<>C$7,\"Q1 - The total in this breakdown should match the total number of children in S1\",\"\")","v":""}]
["S6.1","Yes",null,null,null,null,{"$f":"IF(COUNTA(C39:F39)>0,SUM(C39:F39),\"\")","v":""},null,{"$f":"IF(SUM(D$39:D$40)<>D$7,\"Q2 - The total in this breakdown should match the total number of children in S1\",\"\")","v":""}]
["S6.2","No",null,null,null,null,{"$f":"IF(COUNTA(C40:F40)>0,SUM(C40:F40),\"\")","v":""},null,{"$f":"IF(SUM(E$39:E$40)<>E$7,\"Q3 - The total in this breakdown should match the total number of children in S1\",\"\")","v":""}]
[null,null,null,null,null,null,null,null,{"$f":"IF(SUM(F$39:F$40)<>F$7,\"Q4 - The total in this breakdown should match the total number of children in S1\",\"\")","v":""}]
["S7","ETHNIC ORIGIN OF CHILD"]
["S7.1","White",null,null,null,null,{"$f":"IF(COUNTA(C43:F43)>0,SUM(C43:F43),\"\")","v":""},null,{"$f":"IF(SUM(C$43:C$49)<>C$7,\"Q1 - The total in this breakdown should match the total number of children in S1\",\"\")","v":""}]
["S7.2","Asian or Asian British",null,null,null,null,"",null,{"$f":"IF(SUM(D$43:D$49)<>D$7,\"Q2 - The total in this breakdown should match the total number of children in S1\",\"\")","v":""}]
["S7.3","Black or Black British",null,null,null,null,"",null,{"$f":"IF(SUM(E$43:E$49)<>E$7,\"Q3 - The total in this breakdown should match the total number of children in S1\",\"\")","v":""}]
["S7.4","Mixed",null,null,null,null,"",null,{"$f":"IF(SUM(F$43:F$49)<>F$7,\"Q4 - The total in this breakdown should match the total number of children in S1\",\"\")","v":""}]
["S7.5","Other ethnic group",null,null,null,null,""]
["S7.6","Not obtained",null,null,null,null,""]
["S7.7","Refused",null,null,null,null,""]
[]
["S8","SIBLING GROUPS"]
["S8.1","No siblings",null,null,null,null,{"$f":"IF(COUNTA(C52:F52)>0,SUM(C52:F52),\"\")","v":""},null,{"$f":"IF(SUM(C$52:C$56)<>C$7,\"Q1 - The total in the S8 breakdown should match the total number of children in S1\",\"\")&\nIF(MOD(C$53,2),\"\nQ1 - S8.2 should be a multiple of 2 as the total number of children in the sibling groups of 2 should be being recorded\",\"\")&\nIF(MOD(C$54,3),\"\nQ1 - S8.3 should be a multiple of 3 as the total number of children in the sibling groups of 3 should be being recorded\",\"\")&\nIF(MOD(C$55,4),\"\nQ1 - S8.4 should be a multiple of 4 as the total number of children in the sibling groups of 4 should be being recorded\",\"\")","v":""}]
["S8.2","Sibling group of 2",null,null,null,null,{"$f":"IF(COUNTA(C53:F53)>0,SUM(C53:F53),\"\")","v":""},null,{"$f":"IF(SUM(D$52:D$56)<>D$7,\"Q3 - The total in this breakdown should match the total number of children in S1\",\"\")&\nIF(MOD(D$53,2),\"\nQ1 - S8.2 should be a multiple of 2 as the total number of children in the sibling groups of 2 should be being recorded\",\"\")&\nIF(MOD(D$54,3),\"\nQ1 - S8.3 should be a multiple of 3 as the total number of children in the sibling groups of 3 should be being recorded\",\"\")&\nIF(MOD(D$55,4),\"\nQ1 - S8.4 should be a multiple of 4 as the total number of children in the sibling groups of 4 should be being recorded\",\"\")","v":""}]
["S8.3","Sibling group of 3",null,null,null,null,{"$f":"IF(COUNTA(C54:F54)>0,SUM(C54:F54),\"\")","v":""},null,{"$f":"IF(SUM(E$52:E$56)<>E$7,\"Q3 - The total in this breakdown should match the total number of children in S1\",\"\")&\nIF(MOD(E$53,2),\"\nQ1 - S8.2 should be a multiple of 2 as the total number of children in the sibling groups of 2 should be being recorded\",\"\")&\nIF(MOD(E$54,3),\"\nQ1 - S8.3 should be a multiple of 3 as the total number of children in the sibling groups of 3 should be being recorded\",\"\")&\nIF(MOD(E$55,4),\"\nQ1 - S8.4 should be a multiple of 4 as the total number of children in the sibling groups of 4 should be being recorded\",\"\")","v":""}]
["S8.4","Sibling group of 4",null,null,null,null,{"$f":"IF(COUNTA(C55:F55)>0,SUM(C55:F55),\"\")","v":""},null,{"$f":"IF(SUM(F$52:F$56)<>F$7,\"Q4 - The total in this breakdown should match the total number of children in S1\",\"\")&\nIF(MOD(F$53,2),\"\nQ1 - S8.2 should be a multiple of 2 as the total number of children in the sibling groups of 2 should be being recorded\",\"\")&\nIF(MOD(F$54,3),\"\nQ1 - S8.3 should be a multiple of 3 as the total number of children in the sibling groups of 3 should be being recorded\",\"\")&\nIF(MOD(F$55,4),\"\nQ1 - S8.4 should be a multiple of 4 as the total number of children in the sibling groups of 4 should be being recorded\",\"\")","v":""}]
["S8.5","Sibling group of 5 or more",null,null,null,null,{"$f":"IF(COUNTA(C56:F56)>0,SUM(C56:F56),\"\")","v":""}]
[]
["S9","STATUS"]
["S9.1","Child previously had an ADM adoption decision",null,null,null,null,{"$f":"IF(COUNTA(C59:F59)>0,SUM(C59:F59),\"\")","v":""}]
["S9.2","SGO granted with supervision order",null,null,null,null,{"$f":"IF(COUNTA(C60:F60)>0,SUM(C60:F60),\"\")","v":""}]

{"sheet":"NData","index":2,"n_rows":2,"n_cols":94,"rows_kept":2,"cut":false,"hidden":false,"merged":[]}
["A2a","A2b","A3","A4","A5","A6","A7a","A7b","A7c","A7d","A8b","B1","B2a","B2b","B3","B4","B5a","B5b","B6","B7","B8","B9","C1a","C1b","C2","C3",null,null,{"$f":"MATCH(TRIM(LEFT(AC2,3)),$A$1:$Z$1,0)","v":1},3,4,4,4,5,6,7,7,7,8,8,9,10,11,11,12,12,12,13,13,13,14,14,14,14,14,14,15,15,15,16,16,16,17,17,18,18,18,18,18,18,18,19,19,19,20,20,21,21,21,21,21,21,22,22,23,23,24,24,24,25,25,25,26,{"$f":"MATCH(TRIM(LEFT(CP2,3)),$A$1:$Z$1,0)","v":26}]
["Child identifier","Family identifier","Gender (1=Male, 2=Female)","Date of birth","Ethnic origin","Is the child classed as being disabled (0=No, 1=Yes)?","Is the child a part of a sibling group (0=No, 1=Yes)?","Number of children placed, or planned to be placed, for adoption together as sibling group INCLUDING this child","Number of siblings placed, or planned to be placed, for adoption separately from the child","Does A7b and A7c represent the original ADM decision for placing these siblings together/apart (0=No, 1=Yes)?","URN of the placement provider agency","Date the child enters care","Date of the decision that the child should be placed in a FFA or CP placement with a selected family","Date of the ADM decision that the child should be placed for adoption","Date of PO or FO","Date the ADM approves an adoptive match for the child with the (prospective) adopter(s)","Date the child was placed in a FFA or CP placement ","Date the child was placed for adoption with the (prospective) adopter(s)","Date the child was originally placed with their foster carer(s) (only if the child was adopted by their foster carer(s))","Date of AO","Placement at adoption","FFA or CP adoption with same carer(s) (0=No, 1=Yes)?","Date of the decision that the child should no longer be placed for adoption","Reason why the child should no longer be placed for adoption","Date of the disruption to the adoptive placement (prior to the AO)","Family-finding?","Disappeared from this return?","Comments to explain remaining 'queries' (e.g. relinquished child, private adoption)","A2a (i)","A3 (i)","A4 (i)","A4 (ii)","A4 (iii)","A5 (i)","A6 (i)","A7a (i)","A7a (ii)","A7a (iii)","A7b (i)","A7b (ii)","A7c (i)","A7d (i)","A8b (i)","A8b (ii)","B1 (i)","B1 (ii)","B1 (iii)","B2a (i)","B2a (ii)","B2a (iii)","B2b (i)","B2b (ii)","B2b (iii)","B2b (iv)","B2b (v)","B2b (vi)","B3 (i)","B3 (ii)","B3 (iii)","B4 (i)","B4 (ii)","B4 (iii)","B5a (i)","B5a (ii)","B5b (i)","B5b (ii)","B5b (iii)","B5b (iv)","B5b (v)","B5b (vi)","B5b (vii)","B6 (i)","B6 (ii)","B6 (iii)","B7 (i)","B7 (ii)","B8 (i)","B8 (ii)","B8 (iii)","B8 (iv)","B8 (v)","B8 (vi)","B9 (i)","B9 (ii)","C1a (i)","C1a (ii)","C1b (i)","C1b (ii)","C1b (iii)","C2 (i)","C2 (ii)","C2 (iii)","C3 (i)","C3 (ii)"]

{"sheet":"INSTRUCTIONS DATA EXPORT","index":3,"n_rows":2,"n_cols":14,"rows_kept":2,"cut":false,"hidden":true,"merged":[]}
["Agency code","Cross?",{"$f":"\"Number of children entering care in \"&Instructions!B34&\" who were under the age of 5 when entering care\"","v":"Number of children entering care in 2023/24 Q4 who were under the age of 5 when entering care"},{"$f":"\"Number of children entering care in \"&Instructions!C34&\" who were under the age of 5 when entering care\"","v":"Number of children entering care in 2024/25 Q1 who were under the age of 5 when entering care"},{"$f":"\"Number of children entering care in \"&Instructions!D34&\" who were under the age of 5 when entering care\"","v":"Number of children entering care in 2024/25 Q2 who were under the age of 5 when entering care"},{"$f":"\"Number of children entering care in \"&Instructions!E34&\" who were under the age of 5 when entering care\"","v":"Number of children entering care in 2024/25 Q3 who were under the age of 5 when entering care"},{"$f":"\"Number of children entering care in \"&Instructions!F34&\" who were under the age of 5 when entering care\"","v":"Number of children entering care in 2024/25 Q4 who were under the age of 5 when entering care"},{"$f":"\"Number of children entering care in \"&Instructions!G34&\" who were under the age of 5 when entering care\"","v":"Number of children entering care in 2025/26 Q1 who were under the age of 5 when entering care"},{"$f":"\"Number of children entering care in \"&Instructions!H34&\" who were under the age of 5 when entering care\"","v":"Number of children entering care in 2025/26 Q2 who were under the age of 5 when entering care"},{"$f":"\"Number of children entering care in \"&Instructions!I34&\" who were under the age of 5 when entering care\"","v":"Number of children entering care in 2025/26 Q3 who were under the age of 5 when entering care"},{"$f":"\"Number of children entering care in \"&Instructions!J34&\" who were under the age of 5 when entering care\"","v":"Number of children entering care in 2025/26 Q4 who were under the age of 5 when entering care"},{"$f":"\"Number of children entering care in \"&Instructions!K34&\" who were under the age of 5 when entering care\"","v":"Number of children entering care in 2026/27 Q1 who were under the age of 5 when entering care"},{"$f":"Instructions!$B$37&\" in \"&Instructions!D38","v":"Number of children ceasing to be in care in 2025/26"},{"$f":"Instructions!$B$37&\" in \"&Instructions!E38","v":"Number of children ceasing to be in care in 2026/27*"}]
[{"$f":"Analysis!$C$3","v":0},null,{"$f":"Instructions!B35","v":0},{"$f":"Instructions!C35","v":0},{"$f":"Instructions!D35","v":0},{"$f":"Instructions!E35","v":0},{"$f":"Instructions!F35","v":0},{"$f":"Instructions!G35","v":0},{"$f":"Instructions!H35","v":0},{"$f":"Instructions!I35","v":0},{"$f":"Instructions!J35","v":0},{"$f":"Instructions!K35","v":0},{"$f":"Instructions!D39","v":0},{"$f":"Instructions!E39","v":0}]

{"sheet":"SGO DATA EXPORT","index":4,"n_rows":6,"n_cols":40,"rows_kept":6,"cut":false,"hidden":true,"merged":[]}
["Agency code","Period","S1","S2.1","S2.2","S2.3","S2.4","S2.5","S3.1","S3.2","S3.3","S3.4","S3.5","S3.6","S3.7","S4.1","S4.2","S4.3","S4.4","S4.5","S5.1","S5.2","S5.3","S5.4","S6.1","S6.2","S7.1","S7.2","S7.3","S7.4","S7.5","S7.6","S7.7","S8.1","S8.2","S8.3","S8.4","S8.5","S9.1","S9.2"]
[{"$f":"Analysis!$C$3","v":0},"Q1",{"$f":"TRANSPOSE(IF(SGO!$C$7:$G$7=\"\",\"\",SGO!$C$7:$G$7))","v":""},{"$f":"TRANSPOSE(IF(SGO!$C$10:$G$14=\"\",\"\",SGO!$C$10:$G$14))","v":""},"","","","",{"$f":"TRANSPOSE(IF(SGO!$C$17:$G$23=\"\",\"\",SGO!$C$17:$G$23))","v":""},"","","","","","",{"$f":"TRANSPOSE(IF(SGO!$C$26:$G$30=\"\",\"\",SGO!$C$26:$G$30))","v":""},"","","","",{"$f":"TRANSPOSE(IF(SGO!$C$33:$G$36=\"\",\"\",SGO!$C$33:$G$36))","v":""},"","","",{"$f":"TRANSPOSE(IF(SGO!$C$39:$G$40=\"\",\"\",SGO!$C$39:$G$40))","v":""},"",{"$f":"TRANSPOSE(IF(SGO!$C$43:$G$49=\"\",\"\",SGO!$C$43:$G$49))","v":""},"","","","","","",{"$f":"TRANSPOSE(IF(SGO!$C$52:$G$56=\"\",\"\",SGO!$C$52:$G$56))","v":""},"","","","",{"$f":"TRANSPOSE(IF(SGO!$C$59:$G$60=\"\",\"\",SGO!$C$59:$G$60))","v":""},""]
[{"$f":"Analysis!$C$3","v":0},"Q2","","","","","","","","","","","","","","","","","","","","","","","","","","","","","","","","","","","","","",""]
[{"$f":"Analysis!$C$3","v":0},"Q3","","","","","","","","","","","","","","","","","","","","","","","","","","","","","","","","","","","","","",""]
[{"$f":"Analysis!$C$3","v":0},"Q4","","","","","","","","","","","","","","","","","","","","","","","","","","","","","","","","","","","","","",""]
[{"$f":"Analysis!$C$3","v":0},"Q1-Q4","","","","","","","","","","","","","","","","","","","","","","","","","","","","","","","","","","","","","",""]

{"sheet":"HData","index":5,"n_rows":2,"n_cols":78,"rows_kept":2,"cut":false,"hidden":false,"merged":[]}
["A2a","A2b","A3","A4","A5","A6","A7a","A7b","A7c","A7d","A8b","B1","B2a","B2b","B3","B4","B5a","B5b","B6","B7","B8","B9","C1a","C1b","C2","C3","A8a"]
["Child identifier","Family identifier","Gender (1=Male, 2=Female)","Date of birth","Ethnic origin","Is the child classed as being disabled (0=No, 1=Yes)?","Is the child a part of a sibling group (0=No, 1=Yes)?","Number of children placed, or planned to be placed, for adoption together as sibling group INCLUDING this child","Number of siblings placed, or planned to be placed, for adoption separately from the child","Does A7b and A7c represent the original ADM decision for placing these siblings together/apart (0=No, 1=Yes)?","URN of the placement provider agency","Date the child enters care","Date of the decision that the child should be placed in a FFA or CP placement with a selected family","Date of the ADM decision that the child should be placed for adoption","Date of PO or FO","Date the ADM approves an adoptive match for the child with the (prospective) adopter(s)","Date the child was placed in a FFA or CP placement ","Date the child was placed for adoption with the (prospective) adopter(s)","Date the child was originally placed with their foster carer(s) (only if the child was adopted by their foster carer(s))","Date of AO","Placement at adoption","FFA or CP adoption with same carer(s) (0=No, 1=Yes)?","Date of the decision that the child should no longer be placed for adoption","Reason why the child should no longer be placed for adoption","Date of the disruption to the adoptive placement (prior to the AO)","Family-finding?","Placement provider code (calculated)","Active record\n(TRUE = not disrupted or disrupted but is the most up-to-date record, FALSE = disrupted and more up-to-date record exists)","Creating unique ID ending for records that appear more than once","BLA to ADM BI","BLA to PO","BLA to Placement (d)","BLA to Placement FC (d)","BLA to Placement (m)","BLA to Placement FC (m)","BLA to AO","BLA to Report date (d)","BLA to Report date (m)","BLA to most recent year end (m)","BLA Year","ADM BI TO PO","ADM BI TO PLACEMENT","ADM BI to Report date (d)","ADM BI to Report date (m)","ADM BI Year","PO to match (d)","PO to match (m)","PO TO PLACEMENT","PO to AO","PO to Report date (m)","PO to Change of Plan","PO to Report date (d)","PO Year","ADM Match to Placement","Match Year","PLACEMENT TO AO","PLACEMENT TO Report Date (d)","PLACEMENT TO Report Date (m)","Placement Year","AO Year","AGE at BLA","AGE at ADM BI","AGE at PO","AGE at PLACEMENT","AGE at AO","AGE WHEN PLAN CHANGED","AGE at Report Date","WHITE / ETHNIC MINORITY","Hard to place","Sibling group size","Waiting to be matched with PO at Rdate","Waiting to be placed with PO at Rdate","Waiting to be placed with BID at Rdate","Waiting to be adopted at most recent year end","Waiting to be placed with BID at most recent year end (without disruptions dealt with)","Waiting to be placed with BID at most recent year end (with disruptions dealt with)","Missing in NData (this column only updates when the CompileOrCheck module is run)","Potential duplicate?"]

{"sheet":"Dashboard (A3)","index":6,"n_rows":188,"n_cols":49,"rows_kept":188,"cut":false,"hidden":false,"merged":[[140,6,140,12],[140,18,140,24],[156,26,156,36],[157,18,157,24],[157,30,157,36],[90,6,90,7],[90,8,90,9],[112,6,112,7],[112,8,112,9],[111,6,111,7],[111,8,111,9],[113,2,113,23],[113,25,113,36],[108,25,108,29],[107,30,107,36],[90,4,90,5],[106,1,106,9],[106,11,106,23],[98,2,98,23],[91,11,91,23],[20,13,20,24],[21,18,21,24],[20,25,20,36],[21,30,21,36],[36,25,36,36],[37,30,37,36],[20,7,22,11],[2,32,3,32],[2,33,3,33],[2,27,3,27],[2,28,3,28],[2,29,3,29],[37,18,37,24],[36,13,36,24],[24,7,24,11],[13,33,13,35],[84,25,85,36],[70,25,70,36],[76,2,76,23],[105,0,118,0],[111,4,111,5],[112,4,112,5],[89,4,89,5],[70,11,70,23],[84,1,84,9],[91,25,91,36],[90,26,90,29],[92,29,92,30],[92,34,92,35],[106,25,106,29],[92,31,92,33],[92,26,92,28],[76,25,76,36],[93,26,93,35],[98,25,98,36],[106,30,106,36],[0,0,0,36],[53,1,53,4],[53,6,53,9],[53,11,53,23],[53,25,53,29],[53,30,53,36],[20,1,22,5],[52,0,66,0],[60,2,60,23],[60,25,60,36],[54,6,54,9],[55,1,55,4],[55,6,55,9],[55,25,55,29],[55,31,55,36],[2,30,3,30],[14,33,14,35],[11,33,11,35],[2,26,3,26],[10,33,10,35],[12,33,12,35],[37,6,37,12],[2,31,3,31],[36,1,36,12],[2,0,18,0],[83,0,104,0],[93,1,93,4],[91,1,92,4],[91,5,91,10],[12,4,13,4],[12,5,13,5],[12,6,13,6],[12,7,13,7],[2,7,3,7],[89,6,89,7],[89,8,89,9],[2,4,3,4],[2,5,3,5],[2,6,3,6],[94,5,95,5],[70,1,70,4],[70,6,70,9],[69,0,82,0],[72,1,72,9],[23,5,24,5],[67,0,67,36],[19,0,51,0],[84,11,84,23],[172,0,188,0],[173,1,173,12],[174,6,174,12],[174,18,174,24],[174,30,174,36],[172,13,173,24],[172,26,173,36],[140,30,140,36],[119,0,119,36],[121,0,137,0],[122,13,122,24],[122,26,122,36],[123,18,123,24],[123,30,123,36],[122,1,122,12],[123,6,123,12],[155,0,171,0],[156,1,156,12],[157,6,157,12],[156,13,156,24],[138,0,154,0],[139,1,139,12],[139,13,139,24],[139,26,139,36]]}
[{"$f":"Analysis!$D$3&\" - Child's Journey as at \"&TEXT(RDate,\"d mmmm yyyy\")&\" (page 1 of 3)\"","v":"England - Child's Journey as at 30 June 2026 (page 1 of 3)"}]
[]
["Summary of analysis to be published",null,null,null,{"$f":"INDEX(Lists!$W$2:$W$57,MATCH(F3,Lists!$W$2:$W$57,0)-1)","v":"2025/26 Q2"},{"$f":"INDEX(Lists!$W$2:$W$57,MATCH(G3,Lists!$W$2:$W$57,0)-1)","v":"2025/26 Q3"},{"$f":"INDEX(Lists!$W$2:$W$57,MATCH(H3,Lists!$W$2:$W$57,0)-1)","v":"2025/26 Q4"},{"$f":"VLOOKUP(RDate,Lists!$V$2:$W$57,2,FALSE)","v":"2026/27 Q1"},"Total",null,null,null,null,null,null,null,null,null,null,null,null,null,null,null,null,null,"Aged under 5 years old","Aged 5 years old and over","Female","Male","BME","Disabled","Part of sibling group","Harder to place"]
[null,null,null,null,null,null,null,null,{"$f":"LEFT(H3,7)&IF(RIGHT(H3,2)=\"Q4\",\"\",\"*\")","v":"2026/27*"},{"$f":"IF(AND(DAY(RDate)=31,MONTH(RDate)=3),\"\",\"(* = YTD)\")","v":"(* = YTD)"},null,null,null,null,null,null,null,{"$f":"\"Children waiting to be placed as at \"&TEXT(RDate,\"d mmmm yyyy\")&\":\"","v":"Children waiting to be placed as at 30 June 2026:"},null,null,null,null,null,null,null,"Child characteristics:"]
[null,null,"Number of…","AOs",{"$f":"HLOOKUP(E$3,Analysis!$B$16:$AG$24,2)","v":0},{"$f":"HLOOKUP(F$3,Analysis!$B$16:$AG$24,2)","v":0},{"$f":"HLOOKUP(G$3,Analysis!$B$16:$AG$24,2)","v":0},{"$f":"HLOOKUP(H$3,Analysis!$B$16:$AG$24,2)","v":0},{"$f":"HLOOKUP(I$4,$B$57:$E$58,2)","v":0},null,null,null,null,null,null,null,null,"Number of children with an ADM BID waiting",{"$f":"COUNTIF(HData!$BU$3:$BU$48828,TRUE)","v":0},null,null,null,null,null,null,"Number adopted in last 12 months",{"$f":"COUNTIFS(HData!$T$3:$T$48828,\"<>\",HData!$T$3:$T$48828,\">=\"&$L$53,HData!$T$3:$T$48828,\"<\"&$X$53,HData!$BM$3:$BM$48828,\"<5\")","v":0},{"$f":"COUNTIFS(HData!$T$3:$T$48828,\"<>\",HData!$T$3:$T$48828,\">=\"&$L$53,HData!$T$3:$T$48828,\"<\"&$X$53,HData!$BM$3:$BM$48828,\">=5\")","v":0},{"$f":"COUNTIFS(HData!$T$3:$T$48828,\"<>\",HData!$T$3:$T$48828,\">=\"&$L$53,HData!$T$3:$T$48828,\"<\"&$X$53,HData!$C$3:$C$48828,2)","v":0},{"$f":"COUNTIFS(HData!$T$3:$T$48828,\"<>\",HData!$T$3:$T$48828,\">=\"&$L$53,HData!$T$3:$T$48828,\"<\"&$X$53,HData!$C$3:$C$48828,1)","v":0},{"$f":"COUNTIFS(HData!$T$3:$T$48828,\"<>\",HData!$T$3:$T$48828,\">=\"&$L$53,HData!$T$3:$T$48828,\"<\"&$X$53,HData!$BP$3:$BP$48828,$AE$3)","v":0},{"$f":"COUNTIFS(HData!$T$3:$T$48828,\"<>\",HData!$T$3:$T$48828,\">=\"&$L$53,HData!$T$3:$T$48828,\"<\"&$X$53,HData!$F$3:$F$48828,1)","v":0},{"$f":"COUNTIFS(HData!$T$3:$T$48828,\"<>\",HData!$T$3:$T$48828,\">=\"&$L$53,HData!$T$3:$T$48828,\"<\"&$X$53,HData!$BR$3:$BR$48828,\">1\")","v":0},{"$f":"COUNTIFS(HData!$T$3:$T$48828,\"<>\",HData!$T$3:$T$48828,\">=\"&$L$53,HData!$T$3:$T$48828,\"<\"&$X$53,HData!$BQ$3:$BQ$48828,TRUE)","v":0}]
[null,null,null,"Placements",{"$f":"HLOOKUP(E$3,Analysis!$B$16:$AG$24,3)","v":0},{"$f":"HLOOKUP(F$3,Analysis!$B$16:$AG$24,3)","v":0},{"$f":"HLOOKUP(G$3,Analysis!$B$16:$AG$24,3)","v":0},{"$f":"HLOOKUP(H$3,Analysis!$B$16:$AG$24,3)","v":0},{"$f":"HLOOKUP(I$4,$B$74:$E$75,2)","v":0},null,null,null,null,null,null,null,null,"Number of children with a PO waiting",{"$f":"COUNTIF(HData!$BT$3:$BT$48828,TRUE)","v":0},null,null,null,null,null,null,"Number waiting with a PO…",{"$f":"COUNTIFS(HData!$BT$3:$BT$48828,TRUE,HData!$BO$3:$BO$48828,\"<5\")","v":0},{"$f":"COUNTIFS(HData!$BT$3:$BT$48828,TRUE,HData!$BO$3:$BO$48828,\">=5\")","v":0},{"$f":"COUNTIFS(HData!$BT$3:$BT$48828,TRUE,HData!$C$3:$C$48828,2)","v":0},{"$f":"COUNTIFS(HData!$BT$3:$BT$48828,TRUE,HData!$C$3:$C$48828,1)","v":0},{"$f":"COUNTIFS(HData!$BT$3:$BT$48828,TRUE,HData!$BP$3:$BP$48828,$AE$3)","v":0},{"$f":"COUNTIFS(HData!$BT$3:$BT$48828,TRUE,HData!$F$3:$F$48828,1)","v":0},{"$f":"COUNTIFS(HData!$BT$3:$BT$48828,TRUE,HData!$BR$3:$BR$48828,\">1\")","v":0},{"$f":"COUNTIFS(HData!$BT$3:$BT$48828,TRUE,HData!$BQ$3:$BQ$48828,TRUE)","v":0}]
[null,null,null,"Matches",{"$f":"HLOOKUP(E$3,Analysis!$B$16:$AG$24,4)","v":0},{"$f":"HLOOKUP(F$3,Analysis!$B$16:$AG$24,4)","v":0},{"$f":"HLOOKUP(G$3,Analysis!$B$16:$AG$24,4)","v":0},{"$f":"HLOOKUP(H$3,Analysis!$B$16:$AG$24,4)","v":0},{"$f":"HLOOKUP($I$4,Analysis!$B$33:$I$40,4,FALSE)","v":0},null,null,null,null,null,null,null,null,"Number of children with a PO waiting for at least 90 days since PO",{"$f":"COUNTIFS(HData!$BT$3:$BT$48828,TRUE,HData!$AZ$3:$AZ$48828,\">=90\")","v":0},null,null,null,null,null,null,"...of which have been waiting at least 18 months since BLA",{"$f":"COUNTIFS(HData!$BT$3:$BT$48828,TRUE,HData!$BO$3:$BO$48828,\"<5\",HData!$AL$3:$AL$48828,\">=18\")","v":0},{"$f":"COUNTIFS(HData!$BT$3:$BT$48828,TRUE,HData!$BO$3:$BO$48828,\">=5\",HData!$AL$3:$AL$48828,\">=18\")","v":0},{"$f":"COUNTIFS(HData!$BT$3:$BT$48828,TRUE,HData!$C$3:$C$48828,2,HData!$AL$3:$AL$48828,\">=18\")","v":0},{"$f":"COUNTIFS(HData!$BT$3:$BT$48828,TRUE,HData!$C$3:$C$48828,1,HData!$AL$3:$AL$48828,\">=18\")","v":0},{"$f":"COUNTIFS(HData!$BT$3:$BT$48828,TRUE,HData!$BP$3:$BP$48828,$AE$3,HData!$AL$3:$AL$48828,\">=18\")","v":0},{"$f":"COUNTIFS(HData!$BT$3:$BT$48828,TRUE,HData!$F$3:$F$48828,1,HData!$AL$3:$AL$48828,\">=18\")","v":0},{"$f":"COUNTIFS(HData!$BT$3:$BT$48828,TRUE,HData!$BR$3:$BR$48828,\">1\",HData!$AL$3:$AL$48828,\">=18\")","v":0},{"$f":"COUNTIFS(HData!$BT$3:$BT$48828,TRUE,HData!$BQ$3:$BQ$48828,TRUE,HData!$AL$3:$AL$48828,\">=18\")","v":0}]
[null,null,null,"POs",{"$f":"HLOOKUP(E$3,Analysis!$B$16:$AG$24,5)","v":0},{"$f":"HLOOKUP(F$3,Analysis!$B$16:$AG$24,5)","v":0},{"$f":"HLOOKUP(G$3,Analysis!$B$16:$AG$24,5)","v":0},{"$f":"HLOOKUP(H$3,Analysis!$B$16:$AG$24,5)","v":0},{"$f":"HLOOKUP($I$4,Analysis!$B$33:$I$40,8,FALSE)","v":0},null,null,null,null,null,null,null,null,"Number of children with a PO waiting for at least 18 months since BLA",{"$f":"COUNTIFS(HData!$BT$3:$BT$48828,TRUE,HData!$AL$3:$AL$48828,\">=18\")","v":0}," BLA = becoming looked after = entering care"]
[null,null,null,"BIDs",{"$f":"HLOOKUP(E$3,Analysis!$B$16:$AG$24,6)","v":0},{"$f":"HLOOKUP(F$3,Analysis!$B$16:$AG$24,6)","v":0},{"$f":"HLOOKUP(G$3,Analysis!$B$16:$AG$24,6)","v":0},{"$f":"HLOOKUP(H$3,Analysis!$B$16:$AG$24,6)","v":0},{"$f":"HLOOKUP($I$4,Analysis!$B$33:$I$41,9,FALSE)","v":0},null,null,null,null,null,null,null,null,"Average days waiting since BLA for children with a PO",{"$f":"IFERROR(F24,\"\")","v":""},null,null,null,null,null,null,null,null,null,null,null,null,null,null,null,{"$f":"DATE(LEFT($AH$11,4)*1,4,1)","v":"2023-04-01"},{"$f":"DATE(RIGHT($AH$11,4)*1,3,31)","v":"2026-03-31"}]
[null,null,null,"FFA/CP Placements",{"$f":"HLOOKUP(E$3,Analysis!$B$16:$AG$24,8)","v":0},{"$f":"HLOOKUP(F$3,Analysis!$B$16:$AG$24,8)","v":0},{"$f":"HLOOKUP(G$3,Analysis!$B$16:$AG$24,8)","v":0},{"$f":"HLOOKUP(H$3,Analysis!$B$16:$AG$24,8)","v":0},{"$f":"HLOOKUP($I$4,Analysis!$B$33:$I$42,10,FALSE)","v":0}]
[null,null,null,"Changes of Plan",{"$f":"HLOOKUP(E$3,Analysis!$B$16:$AG$24,7)","v":0},{"$f":"HLOOKUP(F$3,Analysis!$B$16:$AG$24,7)","v":0},{"$f":"HLOOKUP(G$3,Analysis!$B$16:$AG$24,7)","v":0},{"$f":"HLOOKUP(H$3,Analysis!$B$16:$AG$24,7)","v":0},{"$f":"HLOOKUP($I$4,Analysis!$B$33:$I$60,28,FALSE)","v":0},null,null,null,null,null,null,null,null,null,null,null,null,null,"Scorecard indicators:",null,null,null,null,null,null,null,null,null,null,{"$f":"IF(AND(DAY(RDate)=31,MONTH(RDate)=3),AK55,AJ55)","v":"2023-2026"},null,null,"Last 12m"]
[null,null,null,null,null,null,null,null,null,null,null,null,null,null,null,null,null,{"$f":"\"Children with a PO waiting as at \"&TEXT(RDate,\"d mmmm yyyy\")&\" for whom LA is:\"","v":"Children with a PO waiting as at 30 June 2026 for whom LA is:"},null,null,null,null,null,null,null,null,null,null,null,null,null,null,"A10: Average time between a child entering care and moving in with its adoptive family, adjusted for foster carer adoptions",{"$f":"ROUND(HLOOKUP(AH11,Analysis!$B$97:$G$103,6,FALSE),0)&\" days\"","v":{"$error":"#VALUE!"}},null,null,{"$f":"ROUND(HLOOKUP(RDate+1,Analysis!$B$70:$AX$85,15,FALSE),0)&\" days\"","v":{"$error":"#VALUE!"}}]
[null,null,null,null,{"$f":"INDEX(Lists!$W$2:$W$57,MATCH(F13,Lists!$W$2:$W$57,0)-1)","v":"2025/26 Q2"},{"$f":"INDEX(Lists!$W$2:$W$57,MATCH(G13,Lists!$W$2:$W$57,0)-1)","v":"2025/26 Q3"},{"$f":"INDEX(Lists!$W$2:$W$57,MATCH(H13,Lists!$W$2:$W$57,0)-1)","v":"2025/26 Q4"},{"$f":"VLOOKUP(RDate,Lists!$V$2:$W$57,2,FALSE)","v":"2026/27 Q1"},null,null,null,null,null,null,null,null,null,"currently family finding",{"$f":"COUNTIFS(HData!$BT$3:$BT$48828,TRUE,HData!$Z$3:$Z$48828,1)","v":0},null,null,null,null,null,null,null,null,null,null,null,null,null,"A2: Average time between an LA receiving court authority to place a child and the LA deciding on a match to an adoptive family",{"$f":"ROUND(IF(AND(DAY(RDate)=31,MONTH(RDate)=3),AK58,AJ58),0)&\" days\"","v":{"$error":"#VALUE!"}},null,null,{"$f":"ROUND(HLOOKUP(RDate+1,Analysis!$B$70:$AX$85,13,FALSE),0)&\" days\"","v":{"$error":"#VALUE!"}}]
[null,null,null,"Placements with…",null,null,null,null,null,null,null,null,null,null,null,null,null,"not family-finding, order currently being appealed / revoked",{"$f":"COUNTIFS(HData!$BT$3:$BT$48828,TRUE,HData!$Z$3:$Z$48828,2)","v":0},null,null,null,null,null,null,null,null,null,null,null,null,null,"A20: Average time between a child entering care and an LA receiving court authority to place a child",{"$f":"ROUND(IF(AND(DAY(RDate)=31,MONTH(RDate)=3),AK59,AJ59),0)&\" days\"","v":{"$error":"#VALUE!"}},null,null,{"$f":"ROUND(HLOOKUP(RDate+1,Analysis!$B$70:$AX$85,16,FALSE),0)&\" days\"","v":{"$error":"#VALUE!"}}]
[null,null,null,"own adopters",{"$f":"HLOOKUP(E$3,Analysis!$B$16:$AG$28,10)","v":0},{"$f":"HLOOKUP(F$3,Analysis!$B$16:$AG$28,10)","v":0},{"$f":"HLOOKUP(G$3,Analysis!$B$16:$AG$28,10)","v":0},{"$f":"HLOOKUP(H$3,Analysis!$B$16:$AG$28,10)","v":0},null,null,null,null,null,null,null,null,null,"not family-finding, family found but not yet formally matched at panel",{"$f":"COUNTIFS(HData!$BT$3:$BT$48828,TRUE,HData!$Z$3:$Z$48828,3)","v":0},null,null,null,null,null,null,null,null,null,null,null,null,null,"A3: Children who wait less than 14 months between entering care and moving in with their adoptive family (number and %)",{"$f":"IFERROR(SUM($AH$16:$AH$18)&\" (\"&ROUND(SUM($AH$16:$AH$18)*100/SUM($AJ$16:$AJ$18),0)&\"%)\",\"\")","v":""},null,null,{"$f":"IFERROR(SUM($AL$16:$AL$18)&\" (\"&ROUND(SUM($AL$16:$AL$18)*100/SUM($AM$16:$AM$18),0)&\"%)\",\"\")","v":""}]
[null,null,null,"other LA/RAA adopters",{"$f":"HLOOKUP(E$3,Analysis!$B$16:$AG$28,11)","v":0},{"$f":"HLOOKUP(F$3,Analysis!$B$16:$AG$28,11)","v":0},{"$f":"HLOOKUP(G$3,Analysis!$B$16:$AG$28,11)","v":0},{"$f":"HLOOKUP(H$3,Analysis!$B$16:$AG$28,11)","v":0},null,null,null,null,null,null,null,null,null,"not family-finding, other reason",{"$f":"COUNTIFS(HData!$BT$3:$BT$48828,TRUE,HData!$Z$3:$Z$48828,4)","v":0},null,null,null,null,null,null,null,null,null,null,null,null,null,"A3(i): Number of children adopted who waited less than 14 months between entering care and moving in with their adoptive family",{"$f":"COUNTIFS(HData!$AH$3:$AH$48828,\"<14\",HData!$T$3:$T$48828,\">=\"&AI9,HData!$T$3:$T$48828,\"<=\"&AJ9,HData!$R$3:$R$48828,\"<>\")","v":0},"out of",{"$f":"COUNTIFS(HData!$T$3:$T$48828,\">=\"&AI9,HData!$T$3:$T$48828,\"<=\"&AJ9,HData!$R$3:$R$48828,\"<>\")","v":0},{"$f":"AL16&\" / \"&AM16","v":"0 / 0"},{"$f":"COUNTIFS(HData!$AH$3:$AH$48828,\"<14\",HData!$T$3:$T$48828,\">=\"&Analysis!$D$4,HData!$T$3:$T$48828,\"<=\"&RDate,HData!$R$3:$R$48828,\"<>\")","v":0},{"$f":"COUNTIFS(HData!$T$3:$T$48828,\">=\"&Analysis!$D$4,HData!$T$3:$T$48828,\"<=\"&RDate,HData!$R$3:$R$48828,\"<>\")","v":0}]
[null,null,null,"VAA adopters",{"$f":"HLOOKUP(E$3,Analysis!$B$16:$AG$28,12)","v":0},{"$f":"HLOOKUP(F$3,Analysis!$B$16:$AG$28,12)","v":0},{"$f":"HLOOKUP(G$3,Analysis!$B$16:$AG$28,12)","v":0},{"$f":"HLOOKUP(H$3,Analysis!$B$16:$AG$28,12)","v":0},null,null,null,null,null,null,null,null,null,"no family finding code provided",{"$f":"COUNTIFS(HData!$BT$3:$BT$48828,TRUE,HData!$Z$3:$Z$48828,\"\")","v":0},null,null,null,null,null,null,null,null,null,null,null,null,null,"A3 (ii): Number of children placed but not adopted who waited less than 14 months between entering care and moving in with their adoptive family",{"$f":"COUNTIFS(HData!$BV$3:$BV$48828,TRUE,HData!$AH$3:$AH$48828,\"<14\")","v":0},"out of",{"$f":"COUNTIFS(HData!$BV$3:$BV$48828,TRUE)","v":0},{"$f":"AL17&\" / \"&AM17","v":"0 / 0"},{"$f":"COUNTIFS(HData!$BE$3:$BE$48828,\">=0\",HData!$AH$3:$AH$48828,\"<14\")","v":0},{"$f":"Z57","v":0}]
[null,null,null,"adopters outside England",{"$f":"HLOOKUP(E$3,Analysis!$B$16:$AG$28,13)","v":0},{"$f":"HLOOKUP(F$3,Analysis!$B$16:$AG$28,13)","v":0},{"$f":"HLOOKUP(G$3,Analysis!$B$16:$AG$28,13)","v":0},{"$f":"HLOOKUP(H$3,Analysis!$B$16:$AG$28,13)","v":0},null,null,null,null,null,null,null,null,null,null,null,null,null,null,null,null,null,null,null,null,null,null,null,null,"A3 (iii): Number of children waiting to be placed who have waited less than 14 months since entering care",{"$f":"COUNTIFS(HData!$BX$3:$BX$48828,TRUE,HData!$AM$3:$AM$48828,\"<14\")","v":0},"out of",{"$f":"COUNTIFS(HData!$BX$3:$BX$48828,TRUE)","v":0},"0 / 0",{"$f":"COUNTIFS(HData!$BU$3:$BU$48828,TRUE,HData!$AL$3:$AL$48828,\"<14\")","v":0},{"$f":"COUNTIFS(HData!$BU$3:$BU$48828,TRUE)","v":0}]
[]
["Children waiting to be placed"]
[null,{"$f":"IF(B27=1,\"1 child\",B27&\" children\")&\" with a PO waiting to be placed as at \"&TEXT(RDate,\"dd-mmm-yyyy\")","v":"0 children with a PO waiting to be placed as at 30-Jun-2026"},null,null,null,null,null,{"$f":"IF(H27=1,\"1 child \",H27&\" children \")&\"with a PO currently waiting to be matched\"","v":"0 children with a PO currently waiting to be matched"},null,null,null,null,null,"Characteristics of children waiting to be placed and in care at least 18 months",null,null,null,null,null,null,null,null,null,null,null,"Characteristics of children waiting to be placed and in care at least 18 months, currently family finding / no FF code only"]
[null,null,null,null,null,null,null,null,null,null,null,null,null,null,null,null,null,null,{"$f":"\"Age as at \"&TEXT(RDate,\"d mmmm yyyy\")","v":"Age as at 30 June 2026"},null,null,null,null,null,null,null,null,null,null,null,{"$f":"\"Age as at \"&TEXT(RDate,\"d mmmm yyyy\")","v":"Age as at 30 June 2026"}]
[null,null,null,null,null,null,null,null,null,null,null,null,null,null,null,null,null,"Characteristics",0,1,2,3,4,5,">5",null,null,null,null,"Characteristics",0,1,2,3,4,5,">5"]
[null,null,null,null,{"$f":"IF(ISERROR(F24),\"\",\"waiting an average of \"&TEXT(F24,\"0\")&\" days \")","v":"waiting an average of  days "},{"$f":"Analysis!F116","v":""},null,null,null,null,{"$f":"IF(ISERROR(L24),\"\",\"waiting an average of \"&TEXT(L24,\"0\")&\" days since PO \")","v":"waiting an average of  days since PO "},{"$f":"Analysis!B116","v":""},null,null,null,null,null,"White | single child | no disability",{"$f":"Analysis!B167","v":0},{"$f":"Analysis!C167","v":0},{"$f":"Analysis!D167","v":0},{"$f":"Analysis!E167","v":0},{"$f":"Analysis!F167","v":0},{"$f":"Analysis!G167","v":0},{"$f":"Analysis!H167","v":0},null,null,null,null,"White | single child | no disability",{"$f":"Analysis!B181","v":0},{"$f":"Analysis!C181","v":0},{"$f":"Analysis!D181","v":0},{"$f":"Analysis!E181","v":0},{"$f":"Analysis!F181","v":0},{"$f":"Analysis!G181","v":0},{"$f":"Analysis!H181","v":0}]
[null,null,null,null,{"$f":"IF(B27=0,\"\",\"since becoming looked after\")","v":""},null,null,{"$f":"\"of whom \"&H33&IF(H33=1,\" child is \", \" children are \")&\"in a FFA/CP placement\"","v":"of whom 0 children are in a FFA/CP placement"},null,null,null,null,null,null,null,null,null,"BME | single child | no disability",{"$f":"Analysis!B168","v":0},{"$f":"Analysis!C168","v":0},{"$f":"Analysis!D168","v":0},{"$f":"Analysis!E168","v":0},{"$f":"Analysis!F168","v":0},{"$f":"Analysis!G168","v":0},{"$f":"Analysis!H168","v":0},null,null,null,null,"BME | single child | no disability",{"$f":"Analysis!B182","v":0},{"$f":"Analysis!C182","v":0},{"$f":"Analysis!D182","v":0},{"$f":"Analysis!E182","v":0},{"$f":"Analysis!F182","v":0},{"$f":"Analysis!G182","v":0},{"$f":"Analysis!H182","v":0}]
[null,null,null,"Time since becoming looked after",null,null,null,null,null,"Time since PO granted",null,null,null,null,null,null,null,"White | single child | with disability",{"$f":"Analysis!B169","v":0},{"$f":"Analysis!C169","v":0},{"$f":"Analysis!D169","v":0},{"$f":"Analysis!E169","v":0},{"$f":"Analysis!F169","v":0},{"$f":"Analysis!G169","v":0},{"$f":"Analysis!H169","v":0},null,null,null,null,"White | single child | with disability",{"$f":"Analysis!B183","v":0},{"$f":"Analysis!C183","v":0},{"$f":"Analysis!D183","v":0},{"$f":"Analysis!E183","v":0},{"$f":"Analysis!F183","v":0},{"$f":"Analysis!G183","v":0},{"$f":"Analysis!H183","v":0}]
[null,{"$f":"SUM(B29:F29)","v":0},null,null,null,null,null,{"$f":"SUM(H29:L29)","v":0},null,null,null,null,null,null,null,null,null,"BME | single child | with disability",{"$f":"Analysis!B170","v":0},{"$f":"Analysis!C170","v":0},{"$f":"Analysis!D170","v":0},{"$f":"Analysis!E170","v":0},{"$f":"Analysis!F170","v":0},{"$f":"Analysis!G170","v":0},{"$f":"Analysis!H170","v":0},null,null,null,null,"BME | single child | with disability",{"$f":"Analysis!B184","v":0},{"$f":"Analysis!C184","v":0},{"$f":"Analysis!D184","v":0},{"$f":"Analysis!E184","v":0},{"$f":"Analysis!F184","v":0},{"$f":"Analysis!G184","v":0},{"$f":"Analysis!H184","v":0}]
[null,{"$f":"B29&\" - \"&Analysis!E114","v":"0 - Less than 1 year"},{"$f":"C29&\" - \"&Analysis!E113","v":"0 - 12-14 months"},{"$f":"D29&\" - \"&Analysis!E112","v":"0 - 14-18 months"},{"$f":"E29&\" - \"&Analysis!E111","v":"0 - 18-24 months"},{"$f":"F29&\" - \"&Analysis!E110","v":"0 - Over 2 years"},null,{"$f":"H29&\" - \"&Analysis!A114","v":"0 - Less than 2 months"},{"$f":"I29&\" - \"&Analysis!A113","v":"0 - 2-4 months"},{"$f":"J29&\" - \"&Analysis!A112","v":"0 - 4-6 months"},{"$f":"K29&\" - \"&Analysis!A111","v":"0 - 6-12 months"},{"$f":"L29&\" - \"&Analysis!A110","v":"0 - Over 1 year"},null,null,null,null,null,"White | sibling group of 2 | no disability",{"$f":"Analysis!B171","v":0},{"$f":"Analysis!C171","v":0},{"$f":"Analysis!D171","v":0},{"$f":"Analysis!E171","v":0},{"$f":"Analysis!F171","v":0},{"$f":"Analysis!G171","v":0},{"$f":"Analysis!H171","v":0},null,null,null,null,"White | sibling group of 2 | no disability",{"$f":"Analysis!B185","v":0},{"$f":"Analysis!C185","v":0},{"$f":"Analysis!D185","v":0},{"$f":"Analysis!E185","v":0},{"$f":"Analysis!F185","v":0},{"$f":"Analysis!G185","v":0},{"$f":"Analysis!H185","v":0}]
[null,{"$f":"Analysis!F114","v":0},{"$f":"Analysis!F113","v":0},{"$f":"Analysis!F112","v":0},{"$f":"Analysis!F111","v":0},{"$f":"Analysis!F110","v":0},{"$f":"$Y$57-B27","v":0},{"$f":"Analysis!B114","v":0},{"$f":"Analysis!B113","v":0},{"$f":"Analysis!B112","v":0},{"$f":"Analysis!B111","v":0},{"$f":"Analysis!B110","v":0},{"$f":"$Y$57-H27","v":0},null,null,null,null,"BME | sibling group of 2 | no disability",{"$f":"Analysis!B172","v":0},{"$f":"Analysis!C172","v":0},{"$f":"Analysis!D172","v":0},{"$f":"Analysis!E172","v":0},{"$f":"Analysis!F172","v":0},{"$f":"Analysis!G172","v":0},{"$f":"Analysis!H172","v":0},null,null,null,null,"BME | sibling group of 2 | no disability",{"$f":"Analysis!B186","v":0},{"$f":"Analysis!C186","v":0},{"$f":"Analysis!D186","v":0},{"$f":"Analysis!E186","v":0},{"$f":"Analysis!F186","v":0},{"$f":"Analysis!G186","v":0},{"$f":"Analysis!H186","v":0}]
[null,null,null,null,null,null,null,null,null,null,null,null,null,null,null,null,null,"White | sibling group of 2 | with disability",{"$f":"Analysis!B173","v":0},{"$f":"Analysis!C173","v":0},{"$f":"Analysis!D173","v":0},{"$f":"Analysis!E173","v":0},{"$f":"Analysis!F173","v":0},{"$f":"Analysis!G173","v":0},{"$f":"Analysis!H173","v":0},null,null,null,null,"White | sibling group of 2 | with disability",{"$f":"Analysis!B187","v":0},{"$f":"Analysis!C187","v":0},{"$f":"Analysis!D187","v":0},{"$f":"Analysis!E187","v":0},{"$f":"Analysis!F187","v":0},{"$f":"Analysis!G187","v":0},{"$f":"Analysis!H187","v":0}]
[null,null,null,null,null,null,null,null,null,null,null,null,null,null,null,null,null,"BME | sibling group of 2 | with disability",{"$f":"Analysis!B174","v":0},{"$f":"Analysis!C174","v":0},{"$f":"Analysis!D174","v":0},{"$f":"Analysis!E174","v":0},{"$f":"Analysis!F174","v":0},{"$f":"Analysis!G174","v":0},{"$f":"Analysis!H174","v":0},null,null,null,null,"BME | sibling group of 2 | with disability",{"$f":"Analysis!B188","v":0},{"$f":"Analysis!C188","v":0},{"$f":"Analysis!D188","v":0},{"$f":"Analysis!E188","v":0},{"$f":"Analysis!F188","v":0},{"$f":"Analysis!G188","v":0},{"$f":"Analysis!H188","v":0}]
[null,null,"comprising of:",{"$f":"COUNTIFS(HData!$BT$3:$BT$48828,TRUE,HData!$BR$3:$BR$48828,1)","v":0},{"$f":"IF(D32=1,\"single child\",\"single children\")","v":"single children"},null,"of which we are actively family finding for",null,null,null,{"$f":"COUNTIFS(HData!$BT$3:$BT$48828,TRUE,HData!$BR$3:$BR$48828,1,HData!$Z$3:$Z$48828,\"<>2\",HData!$Z$3:$Z$48828,\"<>3\",HData!$Z$3:$Z$48828,\"<>4\")","v":0},{"$f":"IF(K32=1,\"single child\",\"single children\")","v":"single children"},null,null,null,null,null,"White | sibling group of 3 | no disability",{"$f":"Analysis!B175","v":0},{"$f":"Analysis!C175","v":0},{"$f":"Analysis!D175","v":0},{"$f":"Analysis!E175","v":0},{"$f":"Analysis!F175","v":0},{"$f":"Analysis!G175","v":0},{"$f":"Analysis!H175","v":0},null,null,null,null,"White | sibling group of 3 | no disability",{"$f":"Analysis!B189","v":0},{"$f":"Analysis!C189","v":0},{"$f":"Analysis!D189","v":0},{"$f":"Analysis!E189","v":0},{"$f":"Analysis!F189","v":0},{"$f":"Analysis!G189","v":0},{"$f":"Analysis!H189","v":0}]
[null,null,null,{"$f":"COUNTIFS(HData!$BT$3:$BT$48828,TRUE,HData!$BR$3:$BR$48828,2)/2","v":0},{"$f":"IF(D33=1,\"sibling group of 2\",\"sibling groups of 2\")","v":"sibling groups of 2"},null,null,{"$f":"COUNTIFS(HData!$BS$3:$BS$48828,TRUE,HData!$Q$3:$Q$48828,\"<>\",HData!$Q$3:$Q$48828,\">0\",HData!$Q$3:$Q$48828,\"<=\"&RDate)","v":0},null,null,{"$f":"COUNTIFS(HData!$BT$3:$BT$48828,TRUE,HData!$BR$3:$BR$48828,2,HData!$Z$3:$Z$48828,\"<>2\",HData!$Z$3:$Z$48828,\"<>3\",HData!$Z$3:$Z$48828,\"<>4\")/2","v":0},{"$f":"IF(K33=1,\"sibling group of 2\",\"sibling groups of 2\")","v":"sibling groups of 2"},null,null,null,null,null,"BME | sibling group of 3 | no disability",{"$f":"Analysis!B176","v":0},{"$f":"Analysis!C176","v":0},{"$f":"Analysis!D176","v":0},{"$f":"Analysis!E176","v":0},{"$f":"Analysis!F176","v":0},{"$f":"Analysis!G176","v":0},{"$f":"Analysis!H176","v":0},null,null,null,null,"BME | sibling group of 3 | no disability",{"$f":"Analysis!B190","v":0},{"$f":"Analysis!C190","v":0},{"$f":"Analysis!D190","v":0},{"$f":"Analysis!E190","v":0},{"$f":"Analysis!F190","v":0},{"$f":"Analysis!G190","v":0},{"$f":"Analysis!H190","v":0}]
[null,null,null,{"$f":"COUNTIFS(HData!$BT$3:$BT$48828,TRUE,HData!$BR$3:$BR$48828,3)/3","v":0},{"$f":"IF(D34=1,\"sibling group of 3\",\"sibling groups of 3\")","v":"sibling groups of 3"},null,null,null,null,null,{"$f":"COUNTIFS(HData!$BT$3:$BT$48828,TRUE,HData!$BR$3:$BR$48828,3,HData!$Z$3:$Z$48828,\"<>2\",HData!$Z$3:$Z$48828,\"<>3\",HData!$Z$3:$Z$48828,\"<>4\")/3","v":0},{"$f":"IF(K34=1,\"sibling group of 3\",\"sibling groups of 3\")","v":"sibling groups of 3"},null,null,null,null,null,"White | sibling group of 3 | with disability",{"$f":"Analysis!B177","v":0},{"$f":"Analysis!C177","v":0},{"$f":"Analysis!D177","v":0},{"$f":"Analysis!E177","v":0},{"$f":"Analysis!F177","v":0},{"$f":"Analysis!G177","v":0},{"$f":"Analysis!H177","v":0},null,null,null,null,"White | sibling group of 3 | with disability",{"$f":"Analysis!B191","v":0},{"$f":"Analysis!C191","v":0},{"$f":"Analysis!D191","v":0},{"$f":"Analysis!E191","v":0},{"$f":"Analysis!F191","v":0},{"$f":"Analysis!G191","v":0},{"$f":"Analysis!H191","v":0}]
[null,null,"Therefore",{"$f":"SUM(D32:D34)","v":0},{"$f":"IF(D35=1,\"family is needed\",\"families are needed\")","v":"families are needed"},null,null,null,null,"so",{"$f":"SUM(K32:K34)","v":0},{"$f":"IF(K35=1,\"family is needed\",\"families are needed\")","v":"families are needed"},null,null,null,null,null,"BME | sibling group of 3 | with disability",{"$f":"Analysis!B178","v":0},{"$f":"Analysis!C178","v":0},{"$f":"Analysis!D178","v":0},{"$f":"Analysis!E178","v":0},{"$f":"Analysis!F178","v":0},{"$f":"Analysis!G178","v":0},{"$f":"Analysis!H178","v":0},null,null,null,null,"BME | sibling group of 3 | with disability",{"$f":"Analysis!B192","v":0},{"$f":"Analysis!C192","v":0},{"$f":"Analysis!D192","v":0},{"$f":"Analysis!E192","v":0},{"$f":"Analysis!F192","v":0},{"$f":"Analysis!G192","v":0},{"$f":"Analysis!H192","v":0}]
[]
[null,"Average days waiting since becoming looked after (BLA) for all children waiting to be placed by characteristic",null,null,null,null,null,null,null,null,null,null,null,"Characteristics of all children waiting to be placed",null,null,null,null,null,null,null,null,null,null,null,"Characteristics of all children waiting to be placed, currently family finding / no FF code only"]
[null,null,null,null,null,null,{"$f":"\"Age as at \"&TEXT(RDate,\"d mmmm yyyy\")","v":"Age as at 30 June 2026"},null,null,null,null,null,null,null,null,null,null,null,{"$f":"\"Age as at \"&TEXT(RDate,\"d mmmm yyyy\")","v":"Age as at 30 June 2026"},null,null,null,null,null,null,null,null,null,null,null,{"$f":"\"Age as at \"&TEXT(RDate,\"d mmmm yyyy\")","v":"Age as at 30 June 2026"}]
[null,null,null,null,null,"Characteristics",0,1,2,3,4,5,">5",null,null,null,null,"Characteristics",0,1,2,3,4,5,">5",null,null,null,null,"Characteristics",0,1,2,3,4,5,">5"]
[null,null,null,null,null,"White | single child | no disability",{"$f":"Analysis!B153","v":""},{"$f":"Analysis!C153","v":""},{"$f":"Analysis!D153","v":""},{"$f":"Analysis!E153","v":""},{"$f":"Analysis!F153","v":""},{"$f":"Analysis!G153","v":""},{"$f":"Analysis!H153","v":""},null,null,null,null,"White | single child | no disability",{"$f":"Analysis!B125","v":0},{"$f":"Analysis!C125","v":0},{"$f":"Analysis!D125","v":0},{"$f":"Analysis!E125","v":0},{"$f":"Analysis!F125","v":0},{"$f":"Analysis!G125","v":0},{"$f":"Analysis!H125","v":0},null,null,null,null,"White | single child | no disability",{"$f":"Analysis!B139","v":0},{"$f":"Analysis!C139","v":0},{"$f":"Analysis!D139","v":0},{"$f":"Analysis!E139","v":0},{"$f":"Analysis!F139","v":0},{"$f":"Analysis!G139","v":0},{"$f":"Analysis!H139","v":0}]
[null,null,null,null,null,"BME | single child | no disability",{"$f":"Analysis!B154","v":""},{"$f":"Analysis!C154","v":""},{"$f":"Analysis!D154","v":""},{"$f":"Analysis!E154","v":""},{"$f":"Analysis!F154","v":""},{"$f":"Analysis!G154","v":""},{"$f":"Analysis!H154","v":""},null,null,null,null,"BME | single child | no disability",{"$f":"Analysis!B126","v":0},{"$f":"Analysis!C126","v":0},{"$f":"Analysis!D126","v":0},{"$f":"Analysis!E126","v":0},{"$f":"Analysis!F126","v":0},{"$f":"Analysis!G126","v":0},{"$f":"Analysis!H126","v":0},null,null,null,null,"BME | single child | no disability",{"$f":"Analysis!B140","v":0},{"$f":"Analysis!C140","v":0},{"$f":"Analysis!D140","v":0},{"$f":"Analysis!E140","v":0},{"$f":"Analysis!F140","v":0},{"$f":"Analysis!G140","v":0},{"$f":"Analysis!H140","v":0}]
[null,null,null,null,null,"White | single child | with disability",{"$f":"Analysis!B155","v":""},{"$f":"Analysis!C155","v":""},{"$f":"Analysis!D155","v":""},{"$f":"Analysis!E155","v":""},{"$f":"Analysis!F155","v":""},{"$f":"Analysis!G155","v":""},{"$f":"Analysis!H155","v":""},null,null,null,null,"White | single child | with disability",{"$f":"Analysis!B127","v":0},{"$f":"Analysis!C127","v":0},{"$f":"Analysis!D127","v":0},{"$f":"Analysis!E127","v":0},{"$f":"Analysis!F127","v":0},{"$f":"Analysis!G127","v":0},{"$f":"Analysis!H127","v":0},null,null,null,null,"White | single child | with disability",{"$f":"Analysis!B141","v":0},{"$f":"Analysis!C141","v":0},{"$f":"Analysis!D141","v":0},{"$f":"Analysis!E141","v":0},{"$f":"Analysis!F141","v":0},{"$f":"Analysis!G141","v":0},{"$f":"Analysis!H141","v":0}]
[null,null,null,null,null,"BME | single child | with disability",{"$f":"Analysis!B156","v":""},{"$f":"Analysis!C156","v":""},{"$f":"Analysis!D156","v":""},{"$f":"Analysis!E156","v":""},{"$f":"Analysis!F156","v":""},{"$f":"Analysis!G156","v":""},{"$f":"Analysis!H156","v":""},null,null,null,null,"BME | single child | with disability",{"$f":"Analysis!B128","v":0},{"$f":"Analysis!C128","v":0},{"$f":"Analysis!D128","v":0},{"$f":"Analysis!E128","v":0},{"$f":"Analysis!F128","v":0},{"$f":"Analysis!G128","v":0},{"$f":"Analysis!H128","v":0},null,null,null,null,"BME | single child | with disability",{"$f":"Analysis!B142","v":0},{"$f":"Analysis!C142","v":0},{"$f":"Analysis!D142","v":0},{"$f":"Analysis!E142","v":0},{"$f":"Analysis!F142","v":0},{"$f":"Analysis!G142","v":0},{"$f":"Analysis!H142","v":0}]
[null,null,null,null,null,"White | sibling group of 2 | no disability",{"$f":"Analysis!B157","v":""},{"$f":"Analysis!C157","v":""},{"$f":"Analysis!D157","v":""},{"$f":"Analysis!E157","v":""},{"$f":"Analysis!F157","v":""},{"$f":"Analysis!G157","v":""},{"$f":"Analysis!H157","v":""},null,null,null,null,"White | sibling group of 2 | no disability",{"$f":"Analysis!B129","v":0},{"$f":"Analysis!C129","v":0},{"$f":"Analysis!D129","v":0},{"$f":"Analysis!E129","v":0},{"$f":"Analysis!F129","v":0},{"$f":"Analysis!G129","v":0},{"$f":"Analysis!H129","v":0},null,null,null,null,"White | sibling group of 2 | no disability",{"$f":"Analysis!B143","v":0},{"$f":"Analysis!C143","v":0},{"$f":"Analysis!D143","v":0},{"$f":"Analysis!E143","v":0},{"$f":"Analysis!F143","v":0},{"$f":"Analysis!G143","v":0},{"$f":"Analysis!H143","v":0}]
[null,null,null,null,null,"BME | sibling group of 2 | no disability",{"$f":"Analysis!B158","v":""},{"$f":"Analysis!C158","v":""},{"$f":"Analysis!D158","v":""},{"$f":"Analysis!E158","v":""},{"$f":"Analysis!F158","v":""},{"$f":"Analysis!G158","v":""},{"$f":"Analysis!H158","v":""},null,null,null,null,"BME | sibling group of 2 | no disability",{"$f":"Analysis!B130","v":0},{"$f":"Analysis!C130","v":0},{"$f":"Analysis!D130","v":0},{"$f":"Analysis!E130","v":0},{"$f":"Analysis!F130","v":0},{"$f":"Analysis!G130","v":0},{"$f":"Analysis!H130","v":0},null,null,null,null,"BME | sibling group of 2 | no disability",{"$f":"Analysis!B144","v":0},{"$f":"Analysis!C144","v":0},{"$f":"Analysis!D144","v":0},{"$f":"Analysis!E144","v":0},{"$f":"Analysis!F144","v":0},{"$f":"Analysis!G144","v":0},{"$f":"Analysis!H144","v":0}]
[null,null,null,null,null,"White | sibling group of 2 | with disability",{"$f":"Analysis!B159","v":""},{"$f":"Analysis!C159","v":""},{"$f":"Analysis!D159","v":""},{"$f":"Analysis!E159","v":""},{"$f":"Analysis!F159","v":""},{"$f":"Analysis!G159","v":""},{"$f":"Analysis!H159","v":""},null,null,null,null,"White | sibling group of 2 | with disability",{"$f":"Analysis!B131","v":0},{"$f":"Analysis!C131","v":0},{"$f":"Analysis!D131","v":0},{"$f":"Analysis!E131","v":0},{"$f":"Analysis!F131","v":0},{"$f":"Analysis!G131","v":0},{"$f":"Analysis!H131","v":0},null,null,null,null,"White | sibling group of 2 | with disability",{"$f":"Analysis!B145","v":0},{"$f":"Analysis!C145","v":0},{"$f":"Analysis!D145","v":0},{"$f":"Analysis!E145","v":0},{"$f":"Analysis!F145","v":0},{"$f":"Analysis!G145","v":0},{"$f":"Analysis!H145","v":0}]
[null,null,null,null,null,"BME | sibling group of 2 | with disability",{"$f":"Analysis!B160","v":""},{"$f":"Analysis!C160","v":""},{"$f":"Analysis!D160","v":""},{"$f":"Analysis!E160","v":""},{"$f":"Analysis!F160","v":""},{"$f":"Analysis!G160","v":""},{"$f":"Analysis!H160","v":""},null,null,null,null,"BME | sibling group of 2 | with disability",{"$f":"Analysis!B132","v":0},{"$f":"Analysis!C132","v":0},{"$f":"Analysis!D132","v":0},{"$f":"Analysis!E132","v":0},{"$f":"Analysis!F132","v":0},{"$f":"Analysis!G132","v":0},{"$f":"Analysis!H132","v":0},null,null,null,null,"BME | sibling group of 2 | with disability",{"$f":"Analysis!B146","v":0},{"$f":"Analysis!C146","v":0},{"$f":"Analysis!D146","v":0},{"$f":"Analysis!E146","v":0},{"$f":"Analysis!F146","v":0},{"$f":"Analysis!G146","v":0},{"$f":"Analysis!H146","v":0}]
[null,null,null,null,null,"White | sibling group of 3 | no disability",{"$f":"Analysis!B161","v":""},{"$f":"Analysis!C161","v":""},{"$f":"Analysis!D161","v":""},{"$f":"Analysis!E161","v":""},{"$f":"Analysis!F161","v":""},{"$f":"Analysis!G161","v":""},{"$f":"Analysis!H161","v":""},null,null,null,null,"White | sibling group of 3 | no disability",{"$f":"Analysis!B133","v":0},{"$f":"Analysis!C133","v":0},{"$f":"Analysis!D133","v":0},{"$f":"Analysis!E133","v":0},{"$f":"Analysis!F133","v":0},{"$f":"Analysis!G133","v":0},{"$f":"Analysis!H133","v":0},null,null,null,null,"White | sibling group of 3 | no disability",{"$f":"Analysis!B147","v":0},{"$f":"Analysis!C147","v":0},{"$f":"Analysis!D147","v":0},{"$f":"Analysis!E147","v":0},{"$f":"Analysis!F147","v":0},{"$f":"Analysis!G147","v":0},{"$f":"Analysis!H147","v":0}]
[null,null,null,null,null,"BME | sibling group of 3 | no disability",{"$f":"Analysis!B162","v":""},{"$f":"Analysis!C162","v":""},{"$f":"Analysis!D162","v":""},{"$f":"Analysis!E162","v":""},{"$f":"Analysis!F162","v":""},{"$f":"Analysis!G162","v":""},{"$f":"Analysis!H162","v":""},null,null,null,null,"BME | sibling group of 3 | no disability",{"$f":"Analysis!B134","v":0},{"$f":"Analysis!C134","v":0},{"$f":"Analysis!D134","v":0},{"$f":"Analysis!E134","v":0},{"$f":"Analysis!F134","v":0},{"$f":"Analysis!G134","v":0},{"$f":"Analysis!H134","v":0},null,null,null,null,"BME | sibling group of 3 | no disability",{"$f":"Analysis!B148","v":0},{"$f":"Analysis!C148","v":0},{"$f":"Analysis!D148","v":0},{"$f":"Analysis!E148","v":0},{"$f":"Analysis!F148","v":0},{"$f":"Analysis!G148","v":0},{"$f":"Analysis!H148","v":0}]
[null,null,null,null,null,"White | sibling group of 3 | with disability",{"$f":"Analysis!B163","v":""},{"$f":"Analysis!C163","v":""},{"$f":"Analysis!D163","v":""},{"$f":"Analysis!E163","v":""},{"$f":"Analysis!F163","v":""},{"$f":"Analysis!G163","v":""},{"$f":"Analysis!H163","v":""},null,null,null,null,"White | sibling group of 3 | with disability",{"$f":"Analysis!B135","v":0},{"$f":"Analysis!C135","v":0},{"$f":"Analysis!D135","v":0},{"$f":"Analysis!E135","v":0},{"$f":"Analysis!F135","v":0},{"$f":"Analysis!G135","v":0},{"$f":"Analysis!H135","v":0},null,null,null,null,"White | sibling group of 3 | with disability",{"$f":"Analysis!B149","v":0},{"$f":"Analysis!C149","v":0},{"$f":"Analysis!D149","v":0},{"$f":"Analysis!E149","v":0},{"$f":"Analysis!F149","v":0},{"$f":"Analysis!G149","v":0},{"$f":"Analysis!H149","v":0}]
[null,null,null,null,null,"BME | sibling group of 3 | with disability",{"$f":"Analysis!B164","v":""},{"$f":"Analysis!C164","v":""},{"$f":"Analysis!D164","v":""},{"$f":"Analysis!E164","v":""},{"$f":"Analysis!F164","v":""},{"$f":"Analysis!G164","v":""},{"$f":"Analysis!H164","v":""},null,null,null,null,"BME | sibling group of 3 | with disability",{"$f":"Analysis!B136","v":0},{"$f":"Analysis!C136","v":0},{"$f":"Analysis!D136","v":0},{"$f":"Analysis!E136","v":0},{"$f":"Analysis!F136","v":0},{"$f":"Analysis!G136","v":0},{"$f":"Analysis!H136","v":0},null,null,null,null,"BME | sibling group of 3 | with disability",{"$f":"Analysis!B150","v":0},{"$f":"Analysis!C150","v":0},{"$f":"Analysis!D150","v":0},{"$f":"Analysis!E150","v":0},{"$f":"Analysis!F150","v":0},{"$f":"Analysis!G150","v":0},{"$f":"Analysis!H150","v":0}]
[]
["Adoptions",null,null,null,null,null,null,null,null,null,null,{"$f":"EDATE(M53,-1)","v":"2025-07-01"},"2025-08-01","2025-09-01","2025-10-01","2025-11-01","2025-12-01","2026-01-01","2026-02-01","2026-03-01","2026-04-01","2026-05-01",{"$f":"EDATE(X53,-1)","v":"2026-06-01"},{"$f":"RDate+1","v":"2026-07-01"}]
[null,"Number of AOs by year",null,null,null,{"$f":"LOOKUP(2,1/(Lists!$AA$7:$AJ$7<>\"\"),Lists!$AA$7:$AJ$7)","v":10},"% children leaving care via adoption",null,null,null,null,"Average days from placement to AO (12-month rolling average for children ADOPTED)",null,null,null,null,null,null,null,null,null,null,null,null,null,{"$f":"IF(Z57=1,\"1 child currently placed but not yet adopted\",Z57&\" children currently placed but not yet adopted\")","v":"0 children currently placed but not yet adopted"},null,null,null,null,"Adoption Scorecard figures"]
[null,null,null,null,null,{"$f":"INDEX(Lists!$A$4:$AR$4,1,LOOKUP(2,1/(Lists!$AA$7:$AJ$7<>\"\"),COLUMN(Lists!$AA$7:$AJ$7)))","v":"2021/22"},{"$f":"\"(National average in \"&F55&\" was \"&F54&\"%)\"","v":"(National average in 2021/22 was 10%)"},null,null,null,"Within target",{"$f":"IF(L57<=L60,L57,NA())","v":{"$error":"#N/A"}},{"$error":"#N/A"},{"$error":"#N/A"},{"$error":"#N/A"},{"$error":"#N/A"},{"$error":"#N/A"},{"$error":"#N/A"},{"$error":"#N/A"},{"$error":"#N/A"},{"$error":"#N/A"},{"$error":"#N/A"},{"$error":"#N/A"},{"$error":"#N/A"},null,null,null,null,{"$f":"IF(ISERROR(AD55),\"\",\"placed for an average of \"&TEXT(AD55,\"0.0\")&\" days \")","v":"placed for an average of  days "},{"$f":"Analysis!J116","v":""},null,{"$f":"B57","v":"2023/24"},{"$f":"C57","v":"2024/25"},{"$f":"D57","v":"2025/26"},{"$f":"E57","v":"2026/27*"},{"$f":"LEFT(AF55,4)&\"-\"&LEFT(AF55,4)*1+3","v":"2023-2026"},{"$f":"LEFT(AG55,4)&\"-\"&LEFT(AG55,4)*1+3&IF(AND(DAY(RDate)=31,MONTH(RDate)=3),\"\",\"*\")","v":"2024-2027*"}]
[null,null,null,null,null,null,null,null,null,null,"Exceeding target",{"$f":"IF(L57>L60,L57,NA())","v":""},"","","","","","","","","","","","",null,"\nTime since being placed"]
[null,{"$f":"Analysis!D$2","v":"2023/24"},{"$f":"Analysis!E$2","v":"2024/25"},{"$f":"Analysis!F$2","v":"2025/26"},{"$f":"Analysis!$G$2&IF(AND(DAY(RDate)=31,MONTH(RDate)=3),\"\",\"*\")","v":"2026/27*"},{"$f":"IF(AND(DAY(RDate)=31,MONTH(RDate)=3),\"\",\"(* = YTD)\")","v":"(* = YTD)"},{"$f":"B57","v":"2023/24"},{"$f":"C57","v":"2024/25"},{"$f":"D57","v":"2025/26"},{"$f":"E57","v":"2026/27*"},null,{"$f":"HLOOKUP(L53,Analysis!$B$70:$AX$81,12,FALSE)","v":""},{"$f":"HLOOKUP(M53,Analysis!$B$70:$AX$81,12,FALSE)","v":""},{"$f":"HLOOKUP(N53,Analysis!$B$70:$AX$81,12,FALSE)","v":""},{"$f":"HLOOKUP(O53,Analysis!$B$70:$AX$81,12,FALSE)","v":""},{"$f":"HLOOKUP(P53,Analysis!$B$70:$AX$81,12,FALSE)","v":""},{"$f":"HLOOKUP(Q53,Analysis!$B$70:$AX$81,12,FALSE)","v":""},{"$f":"HLOOKUP(R53,Analysis!$B$70:$AX$81,12,FALSE)","v":""},{"$f":"HLOOKUP(S53,Analysis!$B$70:$AX$81,12,FALSE)","v":""},{"$f":"HLOOKUP(T53,Analysis!$B$70:$AX$81,12,FALSE)","v":""},{"$f":"HLOOKUP(U53,Analysis!$B$70:$AX$81,12,FALSE)","v":""},{"$f":"HLOOKUP(V53,Analysis!$B$70:$AX$81,12,FALSE)","v":""},{"$f":"HLOOKUP(W53,Analysis!$B$70:$AX$81,12,FALSE)","v":""},{"$f":"HLOOKUP(X53,Analysis!$B$70:$AX$81,12,FALSE)","v":""},{"$f":"MAX(Z57,H27,Z110,B27)","v":0},{"$f":"SUM(Z60:AD60)","v":0},null,null,null,null,"A10:",{"$f":"HLOOKUP(AF$55,Analysis!$B$33:$I$58,26,FALSE)","v":""},{"$f":"HLOOKUP(AG$55,Analysis!$B$33:$I$58,26,FALSE)","v":""},{"$f":"HLOOKUP(AH$55,Analysis!$B$33:$I$58,26,FALSE)","v":""},{"$f":"HLOOKUP(AI$55,Analysis!$B$33:$I$58,26,FALSE)","v":""},{"$f":"HLOOKUP(AJ55,Analysis!$B$97:$J$103,6,FALSE)","v":""},{"$f":"HLOOKUP(AK55,Analysis!$B$97:$J$103,6,FALSE)","v":""}]
[null,{"$f":"HLOOKUP(B57,Analysis!$B$33:$I$34,2,FALSE)","v":0},{"$f":"HLOOKUP(C57,Analysis!$B$33:$I$34,2,FALSE)","v":0},{"$f":"HLOOKUP(D57,Analysis!$B$33:$I$34,2,FALSE)","v":0},{"$f":"HLOOKUP(E57,Analysis!$B$33:$I$34,2,FALSE)","v":0},null,{"$f":"HLOOKUP(G57,Analysis!$B$33:$I$48,16,FALSE)","v":0},{"$f":"HLOOKUP(H57,Analysis!$B$33:$I$48,16,FALSE)","v":0},{"$f":"HLOOKUP(I57,Analysis!$B$33:$I$48,16,FALSE)","v":0},{"$f":"HLOOKUP(J57,Analysis!$B$33:$I$48,16,FALSE)","v":0},null,{"$f":"TEXT(EDATE(L53,-12),\"mmm-yy\")&\" to \"&TEXT(L53-1,\"mmm-yy\")","v":"Jul-24 to Jun-25"},null,null,null,null,null,null,null,null,null,null,null,{"$f":"TEXT(EDATE(X53,-12),\"mmm-yy\")&\" to \"&TEXT(X53-1,\"mmm-yy\")","v":"Jul-25 to Jun-26"},null,{"$f":"Z60&\" - \"&Analysis!I114","v":"0 - Less than 6 months"},{"$f":"AA60&\" - \"&Analysis!I113","v":"0 - 6-9 months"},{"$f":"AB60&\" - \"&Analysis!I112","v":"0 - 9-12 months"},{"$f":"AC60&\" - \"&Analysis!I111","v":"0 - 1-2 years"},{"$f":"AD60&\" - \"&Analysis!I110","v":"0 - Over 2 years"},"A2:",{"$f":"HLOOKUP(AF$55,Analysis!$B$33:$I$57,25,FALSE)","v":""},{"$f":"HLOOKUP(AG$55,Analysis!$B$33:$I$57,25,FALSE)","v":""},{"$f":"HLOOKUP(AH$55,Analysis!$B$33:$I$57,25,FALSE)","v":""},{"$f":"HLOOKUP(AI$55,Analysis!$B$33:$I$57,25,FALSE)","v":""},{"$f":"HLOOKUP(AJ55,Analysis!$B$97:$J$103,4,FALSE)","v":""},{"$f":"HLOOKUP(AK55,Analysis!$B$97:$J$103,4,FALSE)","v":""}]
[null,null,null,null,null,null,null,null,null,null,null,null,null,null,null,null,null,null,null,null,null,null,null,null,null,null,null,null,null,null,"A20:",{"$f":"HLOOKUP(AF$55,Analysis!$B$33:$I$59,27,FALSE)","v":""},{"$f":"HLOOKUP(AG$55,Analysis!$B$33:$I$59,27,FALSE)","v":""},{"$f":"HLOOKUP(AH$55,Analysis!$B$33:$I$59,27,FALSE)","v":""},{"$f":"HLOOKUP(AI$55,Analysis!$B$33:$I$59,27,FALSE)","v":""},{"$f":"HLOOKUP(AJ55,Analysis!$B$97:$J$103,7,FALSE)","v":""},{"$f":"HLOOKUP(AK55,Analysis!$B$97:$J$103,7,FALSE)","v":""}]
[null,null,null,null,null,null,null,null,null,null,{"$f":"\"National average is \"&L60&\" days\"","v":"National average is 274 days"},{"$f":"Analysis!B359","v":274},{"$f":"$L$60","v":274},274,274,274,274,274,274,274,274,274,274,274,null,{"$f":"Analysis!J114","v":0},{"$f":"Analysis!J113","v":0},{"$f":"Analysis!J112","v":0},{"$f":"Analysis!J111","v":0},{"$f":"Analysis!J110","v":0},{"$f":"Y57-Z57","v":0}]
[null,null,"Number of AOs (12-month rolling total)",null,null,null,null,null,null,null,null,null,null,null,null,null,null,null,null,null,null,null,null,null,null,"Number of AOs per month"]
[null,null,{"$f":"EDATE(D62,-1)","v":45566},45597,45627,45658,45689,45717,45748,45778,45809,45839,{"$f":"EDATE(N62,-1)","v":45870},{"$f":"EDATE(O62,-1)","v":45901},45931,45962,45992,46023,46054,46082,46113,46143,{"$f":"EDATE(X62,-1)","v":46174},{"$f":"RDate+1","v":46204}]
[]
[null,null,{"$f":"TEXT(EDATE(C62,-12),\"mmm-yy\")&\" to \"&TEXT(C62-1,\"mmm-yy\")","v":"Oct-23 to Sep-24"},null,null,null,null,null,null,null,null,null,null,{"$f":"TEXT(EDATE(N62,-12),\"mmm-yy\")&\" to \"&TEXT(N62-1,\"mmm-yy\")","v":"Sep-24 to Aug-25"},null,null,null,null,null,null,null,null,null,{"$f":"TEXT(EDATE(X62,-12),\"mmm-yy\")&\" to \"&TEXT(X62-1,\"mmm-yy\")","v":"Jul-25 to Jun-26"},null,{"$f":"EDATE(AA64,-1)","v":"2025-07-01"},"2025-08-01","2025-09-01","2025-10-01","2025-11-01","2025-12-01","2026-01-01","2026-02-01","2026-03-01","2026-04-01","2026-05-01",{"$f":"DATE(YEAR(RDate),MONTH(RDate),1)","v":"2026-06-01"}]
[null,null,{"$f":"HLOOKUP(C62,Analysis!$B$70:$AX$81,2,FALSE)","v":0},{"$f":"HLOOKUP(D62,Analysis!$B$70:$AX$81,2,FALSE)","v":0},{"$f":"HLOOKUP(E62,Analysis!$B$70:$AX$81,2,FALSE)","v":0},{"$f":"HLOOKUP(F62,Analysis!$B$70:$AX$81,2,FALSE)","v":0},{"$f":"HLOOKUP(G62,Analysis!$B$70:$AX$81,2,FALSE)","v":0},{"$f":"HLOOKUP(H62,Analysis!$B$70:$AX$81,2,FALSE)","v":0},{"$f":"HLOOKUP(I62,Analysis!$B$70:$AX$81,2,FALSE)","v":0},{"$f":"HLOOKUP(J62,Analysis!$B$70:$AX$81,2,FALSE)","v":0},{"$f":"HLOOKUP(K62,Analysis!$B$70:$AX$81,2,FALSE)","v":0},{"$f":"HLOOKUP(L62,Analysis!$B$70:$AX$81,2,FALSE)","v":0},{"$f":"HLOOKUP(M62,Analysis!$B$70:$AX$81,2,FALSE)","v":0},{"$f":"HLOOKUP(N62,Analysis!$B$70:$AX$81,2,FALSE)","v":0},{"$f":"HLOOKUP(O62,Analysis!$B$70:$AX$81,2,FALSE)","v":0},{"$f":"HLOOKUP(P62,Analysis!$B$70:$AX$81,2,FALSE)","v":0},{"$f":"HLOOKUP(Q62,Analysis!$B$70:$AX$81,2,FALSE)","v":0},{"$f":"HLOOKUP(R62,Analysis!$B$70:$AX$81,2,FALSE)","v":0},{"$f":"HLOOKUP(S62,Analysis!$B$70:$AX$81,2,FALSE)","v":0},{"$f":"HLOOKUP(T62,Analysis!$B$70:$AX$81,2,FALSE)","v":0},{"$f":"HLOOKUP(U62,Analysis!$B$70:$AX$81,2,FALSE)","v":0},{"$f":"HLOOKUP(V62,Analysis!$B$70:$AX$81,2,FALSE)","v":0},{"$f":"HLOOKUP(W62,Analysis!$B$70:$AX$81,2,FALSE)","v":0},{"$f":"HLOOKUP(X62,Analysis!$B$70:$AX$81,2,FALSE)","v":0},null,{"$f":"HLOOKUP(Z64,Analysis!$B$6:$AX$10,2,FALSE)","v":0},{"$f":"HLOOKUP(AA64,Analysis!$B$6:$AX$10,2,FALSE)","v":0},{"$f":"HLOOKUP(AB64,Analysis!$B$6:$AX$10,2,FALSE)","v":0},{"$f":"HLOOKUP(AC64,Analysis!$B$6:$AX$10,2,FALSE)","v":0},{"$f":"HLOOKUP(AD64,Analysis!$B$6:$AX$10,2,FALSE)","v":0},{"$f":"HLOOKUP(AE64,Analysis!$B$6:$AX$10,2,FALSE)","v":0},{"$f":"HLOOKUP(AF64,Analysis!$B$6:$AX$10,2,FALSE)","v":0},{"$f":"HLOOKUP(AG64,Analysis!$B$6:$AX$10,2,FALSE)","v":0},{"$f":"HLOOKUP(AH64,Analysis!$B$6:$AX$10,2,FALSE)","v":0},{"$f":"HLOOKUP(AI64,Analysis!$B$6:$AX$10,2,FALSE)","v":0},{"$f":"HLOOKUP(AJ64,Analysis!$B$6:$AX$10,2,FALSE)","v":0},{"$f":"HLOOKUP(AK64,Analysis!$B$6:$AX$10,2,FALSE)","v":0}]
[null,null,null,null,null,null,null,null,null,null,null,null,null,null,null,null,null,null,null,null,null,null,null,null,null,null,{"$f":"IF(MONTH(AB64)=3,\"Q4:\",IF(MONTH(AB64)=12,\"Q3:\",IF(MONTH(AB64)=9,\"Q2:\",\"Q1:\")))","v":"Q2:"},{"$f":"SUM(Z65:AB65)","v":0},null,{"$f":"IF(MONTH(AE64)=3,\"Q4:\",IF(MONTH(AE64)=12,\"Q3:\",IF(MONTH(AE64)=9,\"Q2:\",\"Q1:\")))","v":"Q3:"},{"$f":"SUM(AC65:AE65)","v":0},null,{"$f":"IF(MONTH(AH64)=3,\"Q4:\",IF(MONTH(AH64)=12,\"Q3:\",IF(MONTH(AH64)=9,\"Q2:\",\"Q1:\")))","v":"Q4:"},{"$f":"SUM(AF65:AH65)","v":0},null,{"$f":"IF(MONTH(AK64)=3,\"Q4:\",IF(MONTH(AK64)=12,\"Q3:\",IF(MONTH(AK64)=9,\"Q2:\",\"Q1:\")))","v":"Q1:"},{"$f":"SUM(AI65:AK65)","v":0}]
[]
[{"$f":"Analysis!$D$3&\" - Child's Journey as at \"&TEXT(RDate,\"d mmmm yyyy\")&\" (page 2 of 3)\"","v":"England - Child's Journey as at 30 June 2026 (page 2 of 3)"}]
[]
["Placements"]
[null,"Number of adoptive placements by year",null,null,null,null,"Early permanency placements by year",null,null,null,null,"Average days between a child entering care and moving in with its adoptive family (12-month rolling average for children PLACED)",null,null,null,null,null,null,null,null,null,null,null,null,null,{"$f":"\"Cumulative % children PLACED between \"&TEXT(Analysis!$C$2,\"d mmmm yyyy\")&\" & \"&TEXT(RDate,\"d mmmm yyyy\")&\" by months from entering care to adoptive placement\"","v":"Cumulative % children PLACED between 1 July 2023 & 30 June 2026 by months from entering care to adoptive placement"}]
[null,null,null,null,null,null,null,null,null,null,"Exceeding target",{"$f":"IF(L74>L76,L74,NA())","v":""},"","","","","","","","","","","",""]
[null,null,null,null,null,null,null,null,null,null,"Within target",{"$f":"IF(L74<=L76,L74,NA())","v":{"$error":"#N/A"}},{"$error":"#N/A"},{"$error":"#N/A"},{"$error":"#N/A"},{"$error":"#N/A"},{"$error":"#N/A"},{"$error":"#N/A"},{"$error":"#N/A"},{"$error":"#N/A"},{"$error":"#N/A"},{"$error":"#N/A"},{"$error":"#N/A"},{"$error":"#N/A"}]
[null,{"$f":"B57","v":"2023/24"},{"$f":"C57","v":"2024/25"},{"$f":"D57","v":"2025/26"},{"$f":"E57","v":"2026/27*"},null,{"$f":"B57","v":"2023/24"},{"$f":"C57","v":"2024/25"},{"$f":"D57","v":"2025/26"},{"$f":"E57","v":"2026/27*"},null,{"$f":"HLOOKUP(L$53,Analysis!$B$70:$AX$81,11,FALSE)","v":""},{"$f":"HLOOKUP(M$53,Analysis!$B$70:$AX$81,11,FALSE)","v":""},{"$f":"HLOOKUP(N$53,Analysis!$B$70:$AX$81,11,FALSE)","v":""},{"$f":"HLOOKUP(O$53,Analysis!$B$70:$AX$81,11,FALSE)","v":""},{"$f":"HLOOKUP(P$53,Analysis!$B$70:$AX$81,11,FALSE)","v":""},{"$f":"HLOOKUP(Q$53,Analysis!$B$70:$AX$81,11,FALSE)","v":""},{"$f":"HLOOKUP(R$53,Analysis!$B$70:$AX$81,11,FALSE)","v":""},{"$f":"HLOOKUP(S$53,Analysis!$B$70:$AX$81,11,FALSE)","v":""},{"$f":"HLOOKUP(T$53,Analysis!$B$70:$AX$81,11,FALSE)","v":""},{"$f":"HLOOKUP(U$53,Analysis!$B$70:$AX$81,11,FALSE)","v":""},{"$f":"HLOOKUP(V$53,Analysis!$B$70:$AX$81,11,FALSE)","v":""},{"$f":"HLOOKUP(W$53,Analysis!$B$70:$AX$81,11,FALSE)","v":""},{"$f":"HLOOKUP(X$53,Analysis!$B$70:$AX$81,11,FALSE)","v":""}]
[null,{"$f":"HLOOKUP(B74,Analysis!$B$33:$I$35,3,FALSE)","v":0},{"$f":"HLOOKUP(C74,Analysis!$B$33:$I$35,3,FALSE)","v":0},{"$f":"HLOOKUP(D74,Analysis!$B$33:$I$35,3,FALSE)","v":0},{"$f":"HLOOKUP(E74,Analysis!$B$33:$I$35,3,FALSE)","v":0},null,{"$f":"HLOOKUP(G74,Analysis!$B$33:$I$42,10,FALSE)","v":0},{"$f":"HLOOKUP(H74,Analysis!$B$33:$I$42,10,FALSE)","v":0},{"$f":"HLOOKUP(I74,Analysis!$B$33:$I$42,10,FALSE)","v":0},{"$f":"HLOOKUP(J74,Analysis!$B$33:$I$42,10,FALSE)","v":0},null,{"$f":"L58","v":"Jul-24 to Jun-25"},null,null,null,null,null,null,null,null,null,null,null,{"$f":"X58","v":"Jul-25 to Jun-26"}]
[null,null,null,null,null,null,null,null,null,null,{"$f":"\"Adoption scorecard target is \"&L76&\" days\"","v":"Adoption scorecard target is 426 days"},{"$f":"Analysis!B360","v":426},{"$f":"$L$76","v":426},426,426,426,426,426,426,426,426,426,426,426,null,null,null,null,null,null,null,"(Adoption scorecard target is 14 months)"]
[null,null,"Number of placements (12-month rolling total)",null,null,null,null,null,null,null,null,null,null,null,null,null,null,null,null,null,null,null,null,null,null,"Number of placements per month"]
[null,null,{"$f":"EDATE(D78,-1)","v":45566},45597,45627,45658,45689,45717,45748,45778,45809,45839,{"$f":"EDATE(N78,-1)","v":45870},{"$f":"EDATE(O78,-1)","v":45901},45931,45962,45992,46023,46054,46082,46113,46143,{"$f":"EDATE(X78,-1)","v":46174},{"$f":"RDate+1","v":46204}]
[]
[null,null,{"$f":"TEXT(EDATE(C78,-12),\"mmm-yy\")&\" to \"&TEXT(C78-1,\"mmm-yy\")","v":"Oct-23 to Sep-24"},null,null,null,null,null,null,null,null,null,null,{"$f":"TEXT(EDATE(N78,-12),\"mmm-yy\")&\" to \"&TEXT(N78-1,\"mmm-yy\")","v":"Sep-24 to Aug-25"},null,null,null,null,null,null,null,null,null,{"$f":"TEXT(EDATE(X78,-12),\"mmm-yy\")&\" to \"&TEXT(X78-1,\"mmm-yy\")","v":"Jul-25 to Jun-26"},null,{"$f":"EDATE(AA80,-1)","v":"2025-07-01"},"2025-08-01","2025-09-01","2025-10-01","2025-11-01","2025-12-01","2026-01-01","2026-02-01","2026-03-01","2026-04-01","2026-05-01",{"$f":"DATE(YEAR(RDate),MONTH(RDate),1)","v":"2026-06-01"}]
[null,null,{"$f":"HLOOKUP(C78,Analysis!$B$70:$AX$81,3,FALSE)","v":0},{"$f":"HLOOKUP(D78,Analysis!$B$70:$AX$81,3,FALSE)","v":0},{"$f":"HLOOKUP(E78,Analysis!$B$70:$AX$81,3,FALSE)","v":0},{"$f":"HLOOKUP(F78,Analysis!$B$70:$AX$81,3,FALSE)","v":0},{"$f":"HLOOKUP(G78,Analysis!$B$70:$AX$81,3,FALSE)","v":0},{"$f":"HLOOKUP(H78,Analysis!$B$70:$AX$81,3,FALSE)","v":0},{"$f":"HLOOKUP(I78,Analysis!$B$70:$AX$81,3,FALSE)","v":0},{"$f":"HLOOKUP(J78,Analysis!$B$70:$AX$81,3,FALSE)","v":0},{"$f":"HLOOKUP(K78,Analysis!$B$70:$AX$81,3,FALSE)","v":0},{"$f":"HLOOKUP(L78,Analysis!$B$70:$AX$81,3,FALSE)","v":0},{"$f":"HLOOKUP(M78,Analysis!$B$70:$AX$81,3,FALSE)","v":0},{"$f":"HLOOKUP(N78,Analysis!$B$70:$AX$81,3,FALSE)","v":0},{"$f":"HLOOKUP(O78,Analysis!$B$70:$AX$81,3,FALSE)","v":0},{"$f":"HLOOKUP(P78,Analysis!$B$70:$AX$81,3,FALSE)","v":0},{"$f":"HLOOKUP(Q78,Analysis!$B$70:$AX$81,3,FALSE)","v":0},{"$f":"HLOOKUP(R78,Analysis!$B$70:$AX$81,3,FALSE)","v":0},{"$f":"HLOOKUP(S78,Analysis!$B$70:$AX$81,3,FALSE)","v":0},{"$f":"HLOOKUP(T78,Analysis!$B$70:$AX$81,3,FALSE)","v":0},{"$f":"HLOOKUP(U78,Analysis!$B$70:$AX$81,3,FALSE)","v":0},{"$f":"HLOOKUP(V78,Analysis!$B$70:$AX$81,3,FALSE)","v":0},{"$f":"HLOOKUP(W78,Analysis!$B$70:$AX$81,3,FALSE)","v":0},{"$f":"HLOOKUP(X78,Analysis!$B$70:$AX$81,3,FALSE)","v":0},null,{"$f":"HLOOKUP(Z80,Analysis!$B$6:$AX$10,3,FALSE)","v":0},{"$f":"HLOOKUP(AA80,Analysis!$B$6:$AX$10,3,FALSE)","v":0},{"$f":"HLOOKUP(AB80,Analysis!$B$6:$AX$10,3,FALSE)","v":0},{"$f":"HLOOKUP(AC80,Analysis!$B$6:$AX$10,3,FALSE)","v":0},{"$f":"HLOOKUP(AD80,Analysis!$B$6:$AX$10,3,FALSE)","v":0},{"$f":"HLOOKUP(AE80,Analysis!$B$6:$AX$10,3,FALSE)","v":0},{"$f":"HLOOKUP(AF80,Analysis!$B$6:$AX$10,3,FALSE)","v":0},{"$f":"HLOOKUP(AG80,Analysis!$B$6:$AX$10,3,FALSE)","v":0},{"$f":"HLOOKUP(AH80,Analysis!$B$6:$AX$10,3,FALSE)","v":0},{"$f":"HLOOKUP(AI80,Analysis!$B$6:$AX$10,3,FALSE)","v":0},{"$f":"HLOOKUP(AJ80,Analysis!$B$6:$AX$10,3,FALSE)","v":0},{"$f":"HLOOKUP(AK80,Analysis!$B$6:$AX$10,3,FALSE)","v":0}]
[null,null,null,null,null,null,null,null,null,null,null,null,null,null,null,null,null,null,null,null,null,null,null,null,null,null,{"$f":"IF(MONTH(AB80)=3,\"Q4:\",IF(MONTH(AB80)=12,\"Q3:\",IF(MONTH(AB80)=9,\"Q2:\",\"Q1:\")))","v":"Q2:"},{"$f":"SUM(Z81:AB81)","v":0},null,{"$f":"IF(MONTH(AE80)=3,\"Q4:\",IF(MONTH(AE80)=12,\"Q3:\",IF(MONTH(AE80)=9,\"Q2:\",\"Q1:\")))","v":"Q3:"},{"$f":"SUM(AC81:AE81)","v":0},null,{"$f":"IF(MONTH(AH80)=3,\"Q4:\",IF(MONTH(AH80)=12,\"Q3:\",IF(MONTH(AH80)=9,\"Q2:\",\"Q1:\")))","v":"Q4:"},{"$f":"SUM(AF81:AH81)","v":0},null,{"$f":"IF(MONTH(AK80)=3,\"Q4:\",IF(MONTH(AK80)=12,\"Q3:\",IF(MONTH(AK80)=9,\"Q2:\",\"Q1:\")))","v":"Q1:"},{"$f":"SUM(AI81:AK81)","v":0}]
[null,null,null,null,null,null,null,null,null,null,null,null,null,null,null,null,null,null,null,null,null,null,null,null,null,null,null,null,null,null,null,null,null,null,null,null,null,null,{"$f":"B57","v":"2023/24"},null,null,{"$f":"C57","v":"2024/25"},null,null,{"$f":"D57","v":"2025/26"},null,null,{"$f":"E57","v":"2026/27*"}]
["Placement Orders and Matches",null,null,null,null,null,null,null,null,null,null,null,null,null,null,null,null,null,null,null,null,null,null,null,null,null,null,null,null,null,null,null,null,null,null,null,null,"POs granted",{"$f":"HLOOKUP(AM$83,Analysis!$B$33:$I$40,8,FALSE)","v":0},0,0,{"$f":"HLOOKUP(AP$83,Analysis!$B$33:$I$40,8,FALSE)","v":0},0,0,{"$f":"HLOOKUP(AS$83,Analysis!$B$33:$I$40,8,FALSE)","v":0},0,0,{"$f":"HLOOKUP(AV$83,Analysis!$B$33:$I$40,8,FALSE)","v":0},0]
[null,{"$f":"\"Number of POs by year and status as at \"&TEXT(RDate,\"d mmmm yyyy\")","v":"Number of POs by year and status as at 30 June 2026"},null,null,null,null,null,null,null,null,null,"Average days from PO to adoptive match approved (12-month rolling average for children MATCHED)",null,null,null,null,null,null,null,null,null,null,null,null,null,{"$f":"\"Cumulative % children MATCHED between \"&TEXT(Analysis!$C$2,\"d mmmm yyyy\")&\" & \"&TEXT(RDate,\"d mmmm yyyy\")&\" by months from PO to adoptive match approved\"","v":"Cumulative % children MATCHED between 1 July 2023 & 30 June 2026 by months from PO to adoptive match approved"},null,null,null,null,null,null,null,null,null,null,null,"Change of plan",0,{"$f":"HLOOKUP(AM$83,Analysis!$B$33:$I$44,12,FALSE)","v":0},0,0,{"$f":"HLOOKUP(AP$83,Analysis!$B$33:$I$44,12,FALSE)","v":0},0,0,{"$f":"HLOOKUP(AS$83,Analysis!$B$33:$I$44,12,FALSE)","v":0},0,0,{"$f":"HLOOKUP(AV$83,Analysis!$B$33:$I$44,12,FALSE)","v":0}]
[null,null,null,null,null,null,null,null,null,null,null,null,null,null,null,null,null,null,null,null,null,null,null,null,null,null,null,null,null,null,null,null,null,null,null,null,null,"Placed",0,{"$f":"HLOOKUP(AM$83,Analysis!$B$33:$I$45,13,FALSE)","v":0},0,0,{"$f":"HLOOKUP(AP$83,Analysis!$B$33:$I$45,13,FALSE)","v":0},0,0,{"$f":"HLOOKUP(AS$83,Analysis!$B$33:$I$45,13,FALSE)","v":0},0,0,{"$f":"HLOOKUP(AV$83,Analysis!$B$33:$I$45,13,FALSE)","v":0}]
[null,null,null,null,null,null,null,null,null,null,null,{"$f":"HLOOKUP(L$53,Analysis!$B$70:$AX$81,10,FALSE)","v":""},{"$f":"HLOOKUP(M$53,Analysis!$B$70:$AX$81,10,FALSE)","v":""},{"$f":"HLOOKUP(N$53,Analysis!$B$70:$AX$81,10,FALSE)","v":""},{"$f":"HLOOKUP(O$53,Analysis!$B$70:$AX$81,10,FALSE)","v":""},{"$f":"HLOOKUP(P$53,Analysis!$B$70:$AX$81,10,FALSE)","v":""},{"$f":"HLOOKUP(Q$53,Analysis!$B$70:$AX$81,10,FALSE)","v":""},{"$f":"HLOOKUP(R$53,Analysis!$B$70:$AX$81,10,FALSE)","v":""},{"$f":"HLOOKUP(S$53,Analysis!$B$70:$AX$81,10,FALSE)","v":""},{"$f":"HLOOKUP(T$53,Analysis!$B$70:$AX$81,10,FALSE)","v":""},{"$f":"HLOOKUP(U$53,Analysis!$B$70:$AX$81,10,FALSE)","v":""},{"$f":"HLOOKUP(V$53,Analysis!$B$70:$AX$81,10,FALSE)","v":""},{"$f":"HLOOKUP(W$53,Analysis!$B$70:$AX$81,10,FALSE)","v":""},{"$f":"HLOOKUP(X$53,Analysis!$B$70:$AX$81,10,FALSE)","v":""},null,null,null,null,null,null,null,null,null,null,null,null,null,"Waiting to be matched",0,{"$f":"HLOOKUP(AM$83,Analysis!$B$33:$I$47,15,FALSE)","v":0},0,0,{"$f":"HLOOKUP(AP$83,Analysis!$B$33:$I$47,15,FALSE)","v":0},0,0,{"$f":"HLOOKUP(AS$83,Analysis!$B$33:$I$47,15,FALSE)","v":0},0,0,{"$f":"HLOOKUP(AV$83,Analysis!$B$33:$I$47,15,FALSE)","v":0}]
[null,null,null,null,null,null,null,null,null,null,{"$f":"\"Adoption scorecard target is \"&L88&\" days\"","v":"Adoption scorecard target is 121 days"},{"$f":"Analysis!B361","v":121},{"$f":"$L$88","v":121},121,121,121,121,121,121,121,121,121,121,121,null,null,null,null,null,null,null,null,null,null,null,null,null,"Waiting to be placed",0,{"$f":"HLOOKUP(AM$83,Analysis!$B$33:$I$46,14,FALSE)","v":0},0,0,{"$f":"HLOOKUP(AP$83,Analysis!$B$33:$I$46,14,FALSE)","v":0},0,0,{"$f":"HLOOKUP(AS$83,Analysis!$B$33:$I$46,14,FALSE)","v":0},0,0,{"$f":"HLOOKUP(AV$83,Analysis!$B$33:$I$46,14,FALSE)","v":0}]
[null,null,null,null,null,null,null,null,null,null,"Within target",{"$f":"IF(L87<=L88,L87,NA())","v":{"$error":"#N/A"}},{"$error":"#N/A"},{"$error":"#N/A"},{"$error":"#N/A"},{"$error":"#N/A"},{"$error":"#N/A"},{"$error":"#N/A"},{"$error":"#N/A"},{"$error":"#N/A"},{"$error":"#N/A"},{"$error":"#N/A"},{"$error":"#N/A"},{"$error":"#N/A"},null,null,null,null,null,null,null,null,null,null,null,null,null,"Private adoption",0,{"$f":"HLOOKUP(AM$83,Analysis!$B$33:$I$61,29,FALSE)","v":0},0,0,{"$f":"HLOOKUP(AP$83,Analysis!$B$33:$I$61,29,FALSE)","v":0},0,0,{"$f":"HLOOKUP(AS$83,Analysis!$B$33:$I$61,29,FALSE)","v":0},0,0,{"$f":"HLOOKUP(AV$83,Analysis!$B$33:$I$61,29,FALSE)","v":0}]
[null,null,{"$f":"B74","v":"2023/24"},null,{"$f":"C74","v":"2024/25"},null,{"$f":"D74","v":"2025/26"},null,{"$f":"E57","v":"2026/27*"},null,null,{"$f":"L75","v":"Jul-24 to Jun-25"},null,null,null,null,null,null,null,null,null,null,null,{"$f":"X75","v":"Jul-25 to Jun-26"},null,null,null,null,null,null,null,null,null,null,null,null,null,"Adopted",0,{"$f":"HLOOKUP(AM$83,Analysis!$B$33:$I$63,31,FALSE)","v":0},0,0,{"$f":"HLOOKUP(AP$83,Analysis!$B$33:$I$63,31,FALSE)","v":0},0,0,{"$f":"HLOOKUP(AS$83,Analysis!$B$33:$I$63,31,FALSE)","v":0},0,0,{"$f":"HLOOKUP(AV$83,Analysis!$B$33:$I$63,31,FALSE)","v":0}]
[null,"COP %:",{"$f":"IF(AM84>0,AN85/AM84,\"\")","v":""},null,{"$f":"IF(AP84>0,AQ85/AP84,\"\")","v":""},null,{"$f":"IF(AS84>0,AT85/AS84,\"\")","v":""},null,{"$f":"IF(AV84>0,AW85/AV84,\"\")","v":""},null,"Exceeding target",{"$f":"IF(L87>L88,L87,NA())","v":""},"","","","","","","","","","","","",null,null,"(Adoption scorecard target is 4 months)"]
[null,"Average days from PO to change of plan (number of children, by year of PO)",null,null,null,"Average days waiting for match (by year of PO)",null,null,null,null,null,"Average days from ADM BID to PO (12-month rolling average for children for whom a PO is GRANTED)",null,null,null,null,null,null,null,null,null,null,null,null,null,{"$f":"\"Average days from PO to match by child characteristics for children MATCHED between \"&TEXT(Analysis!C2,\"d mmmm yyyy\")&\" & \"&TEXT(RDate,\"d mmmm yyyy\")","v":"Average days from PO to match by child characteristics for children MATCHED between 1 July 2023 & 30 June 2026"}]
[null,null,null,null,null,"Placed/adopted (days from PO to match)",{"$f":"HLOOKUP(G$95,Analysis!$B$33:$I$55,23,FALSE)","v":""},{"$f":"HLOOKUP(H$95,Analysis!$B$33:$I$55,23,FALSE)","v":""},{"$f":"HLOOKUP(I$95,Analysis!$B$33:$I$55,23,FALSE)","v":""},{"$f":"HLOOKUP(J$95,Analysis!$B$33:$I$55,23,FALSE)","v":""},"Within target",{"$f":"IF(L95<=L97,L95,NA())","v":{"$error":"#N/A"}},{"$error":"#N/A"},{"$error":"#N/A"},{"$error":"#N/A"},{"$error":"#N/A"},{"$error":"#N/A"},{"$error":"#N/A"},{"$error":"#N/A"},{"$error":"#N/A"},{"$error":"#N/A"},{"$error":"#N/A"},{"$error":"#N/A"},{"$error":"#N/A"},null,null,"Age when PO granted",null,null,"Ethnicity",null,"Sibling groups",null,null,"With disability"]
[null,null,null,null,null,{"$f":"\"Waiting (days from PO to \"&TEXT(RDate,\"dd/mm/yy\")&\")\"","v":"Waiting (days from PO to 30/06/26)"},{"$f":"HLOOKUP(G$95,Analysis!$B$33:$I$56,24,FALSE)","v":""},{"$f":"HLOOKUP(H$95,Analysis!$B$33:$I$56,24,FALSE)","v":""},{"$f":"HLOOKUP(I$95,Analysis!$B$33:$I$56,24,FALSE)","v":""},{"$f":"HLOOKUP(J$95,Analysis!$B$33:$I$56,24,FALSE)","v":""},"Exceeding target",{"$f":"IF(L95>L97,L95,NA())","v":""},"","","","","","","","","","","",""]
[null,{"$f":"C90","v":"2023/24"},{"$f":"E90","v":"2024/25"},{"$f":"G90","v":"2025/26"},{"$f":"I90","v":"2026/27*"},"# placed / adopted",{"$f":"G74","v":"2023/24"},{"$f":"H74","v":"2024/25"},{"$f":"I74","v":"2025/26"},{"$f":"J74","v":"2026/27*"},null,{"$f":"HLOOKUP(L$53,Analysis!$B$70:$AX$81,9,FALSE)","v":""},{"$f":"HLOOKUP(M$53,Analysis!$B$70:$AX$81,9,FALSE)","v":""},{"$f":"HLOOKUP(N$53,Analysis!$B$70:$AX$81,9,FALSE)","v":""},{"$f":"HLOOKUP(O$53,Analysis!$B$70:$AX$81,9,FALSE)","v":""},{"$f":"HLOOKUP(P$53,Analysis!$B$70:$AX$81,9,FALSE)","v":""},{"$f":"HLOOKUP(Q$53,Analysis!$B$70:$AX$81,9,FALSE)","v":""},{"$f":"HLOOKUP(R$53,Analysis!$B$70:$AX$81,9,FALSE)","v":""},{"$f":"HLOOKUP(S$53,Analysis!$B$70:$AX$81,9,FALSE)","v":""},{"$f":"HLOOKUP(T$53,Analysis!$B$70:$AX$81,9,FALSE)","v":""},{"$f":"HLOOKUP(U$53,Analysis!$B$70:$AX$81,9,FALSE)","v":""},{"$f":"HLOOKUP(V$53,Analysis!$B$70:$AX$81,9,FALSE)","v":""},{"$f":"HLOOKUP(W$53,Analysis!$B$70:$AX$81,9,FALSE)","v":""},{"$f":"HLOOKUP(X$53,Analysis!$B$70:$AX$81,9,FALSE)","v":""},null,null,"<= 1yo","2 to 4 yo",">= 5yo","White","BME","1 child","2 children","3 children","No","Yes"]
[null,{"$f":"HLOOKUP(B95,Analysis!$B$33:$I$54,22,FALSE)","v":""},{"$f":"HLOOKUP(C95,Analysis!$B$33:$I$54,22,FALSE)","v":""},{"$f":"HLOOKUP(D95,Analysis!$B$33:$I$54,22,FALSE)","v":""},{"$f":"HLOOKUP(E95,Analysis!$B$33:$I$54,22,FALSE)","v":""},null,{"$f":"AN86+AN90","v":0},{"$f":"AQ86+AQ90","v":0},{"$f":"AT86+AT90","v":0},{"$f":"AW86+AW90","v":0},null,{"$f":"L90","v":"Jul-24 to Jun-25"},null,null,null,null,null,null,null,null,null,null,null,{"$f":"X90","v":"Jul-25 to Jun-26"},null,"Days:",{"$f":"Analysis!B121","v":""},{"$f":"Analysis!C121","v":""},{"$f":"Analysis!D121","v":""},{"$f":"Analysis!E121","v":""},{"$f":"Analysis!F121","v":""},{"$f":"Analysis!G121","v":""},{"$f":"Analysis!H121","v":""},{"$f":"Analysis!I121","v":""},{"$f":"Analysis!J121","v":""},{"$f":"Analysis!K121","v":""}]
[null,{"$f":"\"(\"&AN85&\")\"","v":"(0)"},{"$f":"\"(\"&AQ85&\")\"","v":"(0)"},{"$f":"\"(\"&AT85&\")\"","v":"(0)"},{"$f":"\"(\"&AW85&\")\"","v":"(0)"},"# waiting",{"$f":"AN87","v":0},{"$f":"AQ87","v":0},{"$f":"AT87","v":0},{"$f":"AW87","v":0},{"$f":"\"Nominal target is \"&L97&\" days\"","v":"Nominal target is 91 days"},{"$f":"Analysis!B362","v":91},{"$f":"$L$97","v":91},91,91,91,91,91,91,91,91,91,91,91,null,"# children:",{"$f":"Analysis!B120","v":0},{"$f":"Analysis!C120","v":0},{"$f":"Analysis!D120","v":0},{"$f":"Analysis!E120","v":0},{"$f":"Analysis!F120","v":0},{"$f":"Analysis!G120","v":0},{"$f":"Analysis!H120","v":0},{"$f":"Analysis!I120","v":0},{"$f":"Analysis!J120","v":0},{"$f":"Analysis!K120","v":0}]
[]
[null,null,"Number of POs (12-month rolling total)",null,null,null,null,null,null,null,null,null,null,null,null,null,null,null,null,null,null,null,null,null,null,"Number of POs per month"]
[null,null,{"$f":"EDATE(D100,-1)","v":45566},45597,45627,45658,45689,45717,45748,45778,45809,45839,{"$f":"EDATE(N100,-1)","v":45870},45901,45931,45962,45992,46023,46054,46082,46113,46143,{"$f":"EDATE(X100,-1)","v":46174},{"$f":"RDate+1","v":46204}]
[]
[null,null,{"$f":"TEXT(EDATE(C100,-12),\"mmm-yy\")&\" to \"&TEXT(C100-1,\"mmm-yy\")","v":"Oct-23 to Sep-24"},null,null,null,null,null,null,null,null,null,null,{"$f":"TEXT(EDATE(N100,-12),\"mmm-yy\")&\" to \"&TEXT(N100-1,\"mmm-yy\")","v":"Sep-24 to Aug-25"},null,null,null,null,null,null,null,null,null,{"$f":"TEXT(EDATE(X100,-12),\"mmm-yy\")&\" to \"&TEXT(X100-1,\"mmm-yy\")","v":"Jul-25 to Jun-26"},null,{"$f":"EDATE(AA102,-1)","v":"2025-07-01"},"2025-08-01","2025-09-01","2025-10-01","2025-11-01","2025-12-01","2026-01-01","2026-02-01","2026-03-01","2026-04-01","2026-05-01",{"$f":"DATE(YEAR(RDate),MONTH(RDate),1)","v":"2026-06-01"}]
[null,null,{"$f":"HLOOKUP(C100,Analysis!$B$70:$AX$81,6,FALSE)","v":0},{"$f":"HLOOKUP(D100,Analysis!$B$70:$AX$81,6,FALSE)","v":0},{"$f":"HLOOKUP(E100,Analysis!$B$70:$AX$81,6,FALSE)","v":0},{"$f":"HLOOKUP(F100,Analysis!$B$70:$AX$81,6,FALSE)","v":0},{"$f":"HLOOKUP(G100,Analysis!$B$70:$AX$81,6,FALSE)","v":0},{"$f":"HLOOKUP(H100,Analysis!$B$70:$AX$81,6,FALSE)","v":0},{"$f":"HLOOKUP(I100,Analysis!$B$70:$AX$81,6,FALSE)","v":0},{"$f":"HLOOKUP(J100,Analysis!$B$70:$AX$81,6,FALSE)","v":0},{"$f":"HLOOKUP(K100,Analysis!$B$70:$AX$81,6,FALSE)","v":0},{"$f":"HLOOKUP(L100,Analysis!$B$70:$AX$81,6,FALSE)","v":0},{"$f":"HLOOKUP(M100,Analysis!$B$70:$AX$81,6,FALSE)","v":0},{"$f":"HLOOKUP(N100,Analysis!$B$70:$AX$81,6,FALSE)","v":0},{"$f":"HLOOKUP(O100,Analysis!$B$70:$AX$81,6,FALSE)","v":0},{"$f":"HLOOKUP(P100,Analysis!$B$70:$AX$81,6,FALSE)","v":0},{"$f":"HLOOKUP(Q100,Analysis!$B$70:$AX$81,6,FALSE)","v":0},{"$f":"HLOOKUP(R100,Analysis!$B$70:$AX$81,6,FALSE)","v":0},{"$f":"HLOOKUP(S100,Analysis!$B$70:$AX$81,6,FALSE)","v":0},{"$f":"HLOOKUP(T100,Analysis!$B$70:$AX$81,6,FALSE)","v":0},{"$f":"HLOOKUP(U100,Analysis!$B$70:$AX$81,6,FALSE)","v":0},{"$f":"HLOOKUP(V100,Analysis!$B$70:$AX$81,6,FALSE)","v":0},{"$f":"HLOOKUP(W100,Analysis!$B$70:$AX$81,6,FALSE)","v":0},{"$f":"HLOOKUP(X100,Analysis!$B$70:$AX$81,6,FALSE)","v":0},null,{"$f":"HLOOKUP(Z102,Analysis!$B$6:$AX$10,5,FALSE)","v":0},{"$f":"HLOOKUP(AA102,Analysis!$B$6:$AX$10,5,FALSE)","v":0},{"$f":"HLOOKUP(AB102,Analysis!$B$6:$AX$10,5,FALSE)","v":0},{"$f":"HLOOKUP(AC102,Analysis!$B$6:$AX$10,5,FALSE)","v":0},{"$f":"HLOOKUP(AD102,Analysis!$B$6:$AX$10,5,FALSE)","v":0},{"$f":"HLOOKUP(AE102,Analysis!$B$6:$AX$10,5,FALSE)","v":0},{"$f":"HLOOKUP(AF102,Analysis!$B$6:$AX$10,5,FALSE)","v":0},{"$f":"HLOOKUP(AG102,Analysis!$B$6:$AX$10,5,FALSE)","v":0},{"$f":"HLOOKUP(AH102,Analysis!$B$6:$AX$10,5,FALSE)","v":0},{"$f":"HLOOKUP(AI102,Analysis!$B$6:$AX$10,5,FALSE)","v":0},{"$f":"HLOOKUP(AJ102,Analysis!$B$6:$AX$10,5,FALSE)","v":0},{"$f":"HLOOKUP(AK102,Analysis!$B$6:$AX$10,5,FALSE)","v":0}]
[null,null,null,null,null,null,null,null,null,null,null,null,null,null,null,null,null,null,null,null,null,null,null,null,null,null,{"$f":"IF(MONTH(AB102)=3,\"Q4:\",IF(MONTH(AB102)=12,\"Q3:\",IF(MONTH(AB102)=9,\"Q2:\",\"Q1:\")))","v":"Q2:"},{"$f":"SUM(Z103:AB103)","v":0},null,{"$f":"IF(MONTH(AE102)=3,\"Q4:\",IF(MONTH(AE102)=12,\"Q3:\",IF(MONTH(AE102)=9,\"Q2:\",\"Q1:\")))","v":"Q3:"},{"$f":"SUM(AC103:AE103)","v":0},null,{"$f":"IF(MONTH(AH102)=3,\"Q4:\",IF(MONTH(AH102)=12,\"Q3:\",IF(MONTH(AH102)=9,\"Q2:\",\"Q1:\")))","v":"Q4:"},{"$f":"SUM(AF103:AH103)","v":0},null,{"$f":"IF(MONTH(AK102)=3,\"Q4:\",IF(MONTH(AK102)=12,\"Q3:\",IF(MONTH(AK102)=9,\"Q2:\",\"Q1:\")))","v":"Q1:"},{"$f":"SUM(AI103:AK103)","v":0}]
[null,null,null,null,null,null,null,null,null,null,null,null,null,null,null,null,null,null,null,null,null,null,null,null,null,{"$f":"Z106&\" - Less than two months\"","v":"0 - Less than two months"},{"$f":"AA106&\" - 2-4 months\"","v":"0 - 2-4 months"},{"$f":"AB106&\" - 4-6 months\"","v":"0 - 4-6 months"},{"$f":"AC106&\" - 6-14 months\"","v":"0 - 6-14 months"},{"$f":"AD106&\" - Over 14 months\"","v":"0 - Over 14 months"},null,null,null,null,null,null,null,null,{"$f":"AM83","v":"2023/24"},null,null,{"$f":"AP83","v":"2024/25"},null,null,{"$f":"AS83","v":"2025/26"},null,null,{"$f":"AV83","v":"2026/27*"}]
["ADM Best Interest Decisions",null,null,null,null,null,null,null,null,null,null,null,null,null,null,null,null,null,null,null,null,null,null,null,null,{"$f":"Analysis!N114","v":0},{"$f":"Analysis!N113","v":0},{"$f":"Analysis!N112","v":0},{"$f":"Analysis!N111","v":0},{"$f":"Analysis!N110","v":0},{"$f":"$Y$57-Z110","v":0},null,null,null,null,null,null,"ADM BIDs made",{"$f":"HLOOKUP(AM$83,Analysis!$B$33:$I$41,9,FALSE)","v":0},0,0,{"$f":"HLOOKUP(AP$83,Analysis!$B$33:$I$41,9,FALSE)","v":0},0,0,{"$f":"HLOOKUP(AS$83,Analysis!$B$33:$I$41,9,FALSE)","v":0},0,0,{"$f":"HLOOKUP(AV$83,Analysis!$B$33:$I$41,9,FALSE)","v":0},0]
[null,"Number of ADM BIDs by year and current status",null,null,null,null,null,null,null,null,null,"Average days from BLA to ADM BID (12-month rolling average for children for whom ADOPTION PLAN IS APPROVED)",null,null,null,null,null,null,null,null,null,null,null,null,null,{"$f":"IF(Y108=1,\"1 child with a SHOPA BID but no PO yet\",Y108&\" children with a BID but no PO yet\")","v":"0 children with a BID but no PO yet"},null,null,null,null,"% children entering care under the age of 5 for whom adoption is the plan",null,null,null,null,null,null,"No PO, plan changed",0,{"$f":"HLOOKUP(AM$83,Analysis!$B$33:$I$67,32,FALSE)","v":0},0,0,{"$f":"HLOOKUP(AP$83,Analysis!$B$33:$I$67,32,FALSE)","v":0},0,0,{"$f":"HLOOKUP(AS$83,Analysis!$B$33:$I$67,32,FALSE)","v":0},0,0,{"$f":"HLOOKUP(AV$83,Analysis!$B$33:$I$67,31,FALSE)","v":0}]
[null,null,null,null,null,null,null,null,null,null,{"$f":"\"NMS target is \"&L108&\" days\"","v":"NMS target is 182 days"},{"$f":"Analysis!B363","v":182},{"$f":"$L$108","v":182},182,182,182,182,182,182,182,182,182,182,182,{"$f":"Z110","v":0},null,null,null,{"$f":"IF(ISERROR(AD108),\"\",\"waiting an average of \"&TEXT(AD108,\"0.0\")&\" days \")","v":"waiting an average of  days "},{"$f":"Analysis!N116","v":""},"(12-month rolling average)",null,null,null,null,null,null,"PO granted, plan changed",0,{"$f":"HLOOKUP(AM$83,Analysis!$B$33:$I$67,33,FALSE)","v":0},0,0,{"$f":"HLOOKUP(AP$83,Analysis!$B$33:$I$67,33,FALSE)","v":0},0,0,{"$f":"HLOOKUP(AS$83,Analysis!$B$33:$I$67,33,FALSE)","v":0},0,0,{"$f":"HLOOKUP(AV$83,Analysis!$B$33:$I$67,32,FALSE)","v":0}]
[null,null,null,null,null,null,null,null,null,null,"Within target",{"$f":"IF(L110<=L108,L110,NA())","v":{"$error":"#N/A"}},{"$error":"#N/A"},{"$error":"#N/A"},{"$error":"#N/A"},{"$error":"#N/A"},{"$error":"#N/A"},{"$error":"#N/A"},{"$error":"#N/A"},{"$error":"#N/A"},{"$error":"#N/A"},{"$error":"#N/A"},{"$error":"#N/A"},{"$error":"#N/A"},null,"\nTime since ADM (SHOPA) BID",null,null,null,null,{"$f":"EDATE(AF109,-3)","v":45658},45748,45839,45931,46023,{"$f":"EDATE(AK109,-3)","v":46113},{"$f":"RDate+1","v":46204},"PO granted, no change of plan",0,{"$f":"HLOOKUP(AM$83,Analysis!$B$33:$I$67,34,FALSE)","v":0},0,0,{"$f":"HLOOKUP(AP$83,Analysis!$B$33:$I$67,34,FALSE)","v":0},0,0,{"$f":"HLOOKUP(AS$83,Analysis!$B$33:$I$67,34,FALSE)","v":0},0,0,{"$f":"HLOOKUP(AV$83,Analysis!$B$33:$I$67,33,FALSE)","v":0}]
[null,null,null,null,null,null,null,null,null,null,null,{"$f":"HLOOKUP(L$53,Analysis!$B$70:$AX$81,8,FALSE)","v":""},{"$f":"HLOOKUP(M$53,Analysis!$B$70:$AX$81,8,FALSE)","v":""},{"$f":"HLOOKUP(N$53,Analysis!$B$70:$AX$81,8,FALSE)","v":""},{"$f":"HLOOKUP(O$53,Analysis!$B$70:$AX$81,8,FALSE)","v":""},{"$f":"HLOOKUP(P$53,Analysis!$B$70:$AX$81,8,FALSE)","v":""},{"$f":"HLOOKUP(Q$53,Analysis!$B$70:$AX$81,8,FALSE)","v":""},{"$f":"HLOOKUP(R$53,Analysis!$B$70:$AX$81,8,FALSE)","v":""},{"$f":"HLOOKUP(S$53,Analysis!$B$70:$AX$81,8,FALSE)","v":""},{"$f":"HLOOKUP(T$53,Analysis!$B$70:$AX$81,8,FALSE)","v":""},{"$f":"HLOOKUP(U$53,Analysis!$B$70:$AX$81,8,FALSE)","v":""},{"$f":"HLOOKUP(V$53,Analysis!$B$70:$AX$81,8,FALSE)","v":""},{"$f":"HLOOKUP(W$53,Analysis!$B$70:$AX$81,8,FALSE)","v":""},{"$f":"HLOOKUP(X$53,Analysis!$B$70:$AX$81,8,FALSE)","v":""},null,{"$f":"SUM(Z106:AD106)","v":0},null,null,null,null,{"$f":"TEXT(EDATE(AE109,-12),\"mmm-yy\")&\" to \"&TEXT(AE109-1,\"mmm-yy\")","v":"Jan-24 to Dec-24"},null,null,null,null,null,{"$f":"X111","v":"Jul-25 to Jun-26"},"Awaiting PO",0,{"$f":"HLOOKUP(AM$83,Analysis!$B$33:$I$67,35,FALSE)","v":0},0,0,{"$f":"HLOOKUP(AP$83,Analysis!$B$33:$I$67,35,FALSE)","v":0},0,0,{"$f":"HLOOKUP(AS$83,Analysis!$B$33:$I$67,35,FALSE)","v":0},0,0,{"$f":"HLOOKUP(AV$83,Analysis!$B$33:$I$67,34,FALSE)","v":0}]
[null,null,null,null,null,null,null,null,null,null,null,{"$f":"L75","v":"Jul-24 to Jun-25"},null,null,null,null,null,null,null,null,null,null,null,{"$f":"X75","v":"Jul-25 to Jun-26"},null,null,null,null,null,null,{"$f":"HLOOKUP(AE109,Analysis!$B$91:$AH$94,4,FALSE)","v":""},{"$f":"HLOOKUP(AF109,Analysis!$B$91:$AH$94,4,FALSE)","v":""},{"$f":"HLOOKUP(AG109,Analysis!$B$91:$AH$94,4,FALSE)","v":""},{"$f":"HLOOKUP(AH109,Analysis!$B$91:$AH$94,4,FALSE)","v":""},{"$f":"HLOOKUP(AI109,Analysis!$B$91:$AH$94,4,FALSE)","v":""},{"$f":"HLOOKUP(AJ109,Analysis!$B$91:$AH$94,4,FALSE)","v":""},{"$f":"HLOOKUP(AK109,Analysis!$B$91:$AH$94,4,FALSE)","v":""}]
[null,null,{"$f":"C90","v":"2023/24"},null,{"$f":"E90","v":"2024/25"},null,{"$f":"G90","v":"2025/26"},null,{"$f":"I90","v":"2026/27*"},null,"Exceeding target",{"$f":"IF(L110>L108,L110,NA())","v":""},"","","","","","","","","","","",""]
[null,"COP %:",{"$f":"IF(AM106>0,SUM(AN107:AN108)/AM106,\"\")","v":""},null,{"$f":"IF(AP106>0,SUM(AQ107:AQ108)/AP106,\"\")","v":""},null,{"$f":"IF(AS106>0,SUM(AT107:AT108)/AS106,\"\")","v":""},null,{"$f":"IF(AV106>0,SUM(AW107:AW108)/AV106,\"\")","v":""}]
[null,null,"Number of BIDs (12-month rolling total)",null,null,null,null,null,null,null,null,null,null,null,null,null,null,null,null,null,null,null,null,null,null,"Number of BIDs per month"]
[null,null,{"$f":"EDATE(D115,-1)","v":45566},45597,45627,45658,45689,45717,45748,45778,45809,45839,{"$f":"EDATE(N115,-1)","v":45870},{"$f":"EDATE(O115,-1)","v":45901},45931,45962,45992,46023,46054,46082,46113,46143,{"$f":"EDATE(X115,-1)","v":46174},{"$f":"RDate+1","v":46204}]
[]
[null,null,{"$f":"TEXT(EDATE(C115,-12),\"mmm-yy\")&\" to \"&TEXT(C115-1,\"mmm-yy\")","v":"Oct-23 to Sep-24"},null,null,null,null,null,null,null,null,null,null,{"$f":"TEXT(EDATE(N115,-12),\"mmm-yy\")&\" to \"&TEXT(N115-1,\"mmm-yy\")","v":"Sep-24 to Aug-25"},null,null,null,null,null,null,null,null,null,{"$f":"TEXT(EDATE(X115,-12),\"mmm-yy\")&\" to \"&TEXT(X115-1,\"mmm-yy\")","v":"Jul-25 to Jun-26"},null,{"$f":"EDATE(AA117,-1)","v":"2025-07-01"},"2025-08-01","2025-09-01","2025-10-01","2025-11-01","2025-12-01","2026-01-01","2026-02-01","2026-03-01","2026-04-01","2026-05-01",{"$f":"DATE(YEAR(RDate),MONTH(RDate),1)","v":"2026-06-01"}]
[null,null,{"$f":"HLOOKUP(C115,Analysis!$B$70:$AX$81,7,FALSE)","v":0},{"$f":"HLOOKUP(D115,Analysis!$B$70:$AX$81,7,FALSE)","v":0},{"$f":"HLOOKUP(E115,Analysis!$B$70:$AX$81,7,FALSE)","v":0},{"$f":"HLOOKUP(F115,Analysis!$B$70:$AX$81,7,FALSE)","v":0},{"$f":"HLOOKUP(G115,Analysis!$B$70:$AX$81,7,FALSE)","v":0},{"$f":"HLOOKUP(H115,Analysis!$B$70:$AX$81,7,FALSE)","v":0},{"$f":"HLOOKUP(I115,Analysis!$B$70:$AX$81,7,FALSE)","v":0},{"$f":"HLOOKUP(J115,Analysis!$B$70:$AX$81,7,FALSE)","v":0},{"$f":"HLOOKUP(K115,Analysis!$B$70:$AX$81,7,FALSE)","v":0},{"$f":"HLOOKUP(L115,Analysis!$B$70:$AX$81,7,FALSE)","v":0},{"$f":"HLOOKUP(M115,Analysis!$B$70:$AX$81,7,FALSE)","v":0},{"$f":"HLOOKUP(N115,Analysis!$B$70:$AX$81,7,FALSE)","v":0},{"$f":"HLOOKUP(O115,Analysis!$B$70:$AX$81,7,FALSE)","v":0},{"$f":"HLOOKUP(P115,Analysis!$B$70:$AX$81,7,FALSE)","v":0},{"$f":"HLOOKUP(Q115,Analysis!$B$70:$AX$81,7,FALSE)","v":0},{"$f":"HLOOKUP(R115,Analysis!$B$70:$AX$81,7,FALSE)","v":0},{"$f":"HLOOKUP(S115,Analysis!$B$70:$AX$81,7,FALSE)","v":0},{"$f":"HLOOKUP(T115,Analysis!$B$70:$AX$81,7,FALSE)","v":0},{"$f":"HLOOKUP(U115,Analysis!$B$70:$AX$81,7,FALSE)","v":0},{"$f":"HLOOKUP(V115,Analysis!$B$70:$AX$81,7,FALSE)","v":0},{"$f":"HLOOKUP(W115,Analysis!$B$70:$AX$81,7,FALSE)","v":0},{"$f":"HLOOKUP(X115,Analysis!$B$70:$AX$81,7,FALSE)","v":0},null,{"$f":"HLOOKUP(Z117,Analysis!$B$6:$AX$11,6,FALSE)","v":0},{"$f":"HLOOKUP(AA117,Analysis!$B$6:$AX$11,6,FALSE)","v":0},{"$f":"HLOOKUP(AB117,Analysis!$B$6:$AX$11,6,FALSE)","v":0},{"$f":"HLOOKUP(AC117,Analysis!$B$6:$AX$11,6,FALSE)","v":0},{"$f":"HLOOKUP(AD117,Analysis!$B$6:$AX$11,6,FALSE)","v":0},{"$f":"HLOOKUP(AE117,Analysis!$B$6:$AX$11,6,FALSE)","v":0},{"$f":"HLOOKUP(AF117,Analysis!$B$6:$AX$11,6,FALSE)","v":0},{"$f":"HLOOKUP(AG117,Analysis!$B$6:$AX$11,6,FALSE)","v":0},{"$f":"HLOOKUP(AH117,Analysis!$B$6:$AX$11,6,FALSE)","v":0},{"$f":"HLOOKUP(AI117,Analysis!$B$6:$AX$11,6,FALSE)","v":0},{"$f":"HLOOKUP(AJ117,Analysis!$B$6:$AX$11,6,FALSE)","v":0},{"$f":"HLOOKUP(AK117,Analysis!$B$6:$AX$11,6,FALSE)","v":0}]
[null,null,null,null,null,null,null,null,null,null,null,null,null,null,null,null,null,null,null,null,null,null,null,null,null,null,{"$f":"IF(MONTH(AB117)=3,\"Q4:\",IF(MONTH(AB117)=12,\"Q3:\",IF(MONTH(AB117)=9,\"Q2:\",\"Q1:\")))","v":"Q2:"},{"$f":"SUM(Z118:AB118)","v":0},null,{"$f":"IF(MONTH(AE117)=3,\"Q4:\",IF(MONTH(AE117)=12,\"Q3:\",IF(MONTH(AE117)=9,\"Q2:\",\"Q1:\")))","v":"Q3:"},{"$f":"SUM(AC118:AE118)","v":0},null,{"$f":"IF(MONTH(AH117)=3,\"Q4:\",IF(MONTH(AH117)=12,\"Q3:\",IF(MONTH(AH117)=9,\"Q2:\",\"Q1:\")))","v":"Q4:"},{"$f":"SUM(AF118:AH118)","v":0},null,{"$f":"IF(MONTH(AK117)=3,\"Q4:\",IF(MONTH(AK117)=12,\"Q3:\",IF(MONTH(AK117)=9,\"Q2:\",\"Q1:\")))","v":"Q1:"},{"$f":"SUM(AI118:AK118)","v":0}]
[{"$f":"Analysis!$D$3&\" - Child's Journey as at \"&TEXT(RDate,\"d mmmm yyyy\")&\" (page 3 of 3)\"","v":"England - Child's Journey as at 30 June 2026 (page 3 of 3)"}]
[]
["Breakdown of A2 Performance (PO to match)"]
[null,{"$f":"\"Characteristics of children matched between \"&TEXT(SDate,\"d mmmm yyyy\")&\" and \"&TEXT(RDate,\"d mmmm yyyy\")","v":"Characteristics of children matched between 1 July 2023 and 30 June 2026"},null,null,null,null,null,null,null,null,null,null,null,"Average days from PO to match for these children by characteristic",null,null,null,null,null,null,null,null,null,null,null,null,"Proportion of these children matched more than 4 months after their Placement Order"]
[null,null,null,null,null,null,"Age when Placement Order was granted",null,null,null,null,null,null,null,null,null,null,null,"Age when Placement Order was granted",null,null,null,null,null,null,null,null,null,null,null,"Age when Placement Order was granted"]
[null,null,null,null,null,"Characteristics",0,1,2,3,4,5,">5",null,null,null,null,"Characteristics",0,1,2,3,4,5,">5",null,null,null,null,"Characteristics",0,1,2,3,4,5,">5"]
[null,null,null,null,null,"White | single child | no disability",{"$f":"Analysis!B196","v":0},{"$f":"Analysis!C196","v":0},{"$f":"Analysis!D196","v":0},{"$f":"Analysis!E196","v":0},{"$f":"Analysis!F196","v":0},{"$f":"Analysis!G196","v":0},{"$f":"Analysis!H196","v":0},null,null,null,null,"White | single child | no disability",{"$f":"Analysis!B210","v":""},{"$f":"Analysis!C210","v":""},{"$f":"Analysis!D210","v":""},{"$f":"Analysis!E210","v":""},{"$f":"Analysis!F210","v":""},{"$f":"Analysis!G210","v":""},{"$f":"Analysis!H210","v":""},null,null,null,null,"White | single child | no disability",{"$f":"Analysis!B224","v":""},{"$f":"Analysis!C224","v":""},{"$f":"Analysis!D224","v":""},{"$f":"Analysis!E224","v":""},{"$f":"Analysis!F224","v":""},{"$f":"Analysis!G224","v":""},{"$f":"Analysis!H224","v":""}]
[null,null,null,null,null,"BME | single child | no disability",{"$f":"Analysis!B197","v":0},{"$f":"Analysis!C197","v":0},{"$f":"Analysis!D197","v":0},{"$f":"Analysis!E197","v":0},{"$f":"Analysis!F197","v":0},{"$f":"Analysis!G197","v":0},{"$f":"Analysis!H197","v":0},null,null,null,null,"BME | single child | no disability",{"$f":"Analysis!B211","v":""},{"$f":"Analysis!C211","v":""},{"$f":"Analysis!D211","v":""},{"$f":"Analysis!E211","v":""},{"$f":"Analysis!F211","v":""},{"$f":"Analysis!G211","v":""},{"$f":"Analysis!H211","v":""},null,null,null,null,"BME | single child | no disability",{"$f":"Analysis!B225","v":""},{"$f":"Analysis!C225","v":""},{"$f":"Analysis!D225","v":""},{"$f":"Analysis!E225","v":""},{"$f":"Analysis!F225","v":""},{"$f":"Analysis!G225","v":""},{"$f":"Analysis!H225","v":""}]
[null,null,null,null,null,"White | single child | with disability",{"$f":"Analysis!B198","v":0},{"$f":"Analysis!C198","v":0},{"$f":"Analysis!D198","v":0},{"$f":"Analysis!E198","v":0},{"$f":"Analysis!F198","v":0},{"$f":"Analysis!G198","v":0},{"$f":"Analysis!H198","v":0},null,null,null,null,"White | single child | with disability",{"$f":"Analysis!B212","v":""},{"$f":"Analysis!C212","v":""},{"$f":"Analysis!D212","v":""},{"$f":"Analysis!E212","v":""},{"$f":"Analysis!F212","v":""},{"$f":"Analysis!G212","v":""},{"$f":"Analysis!H212","v":""},null,null,null,null,"White | single child | with disability",{"$f":"Analysis!B226","v":""},{"$f":"Analysis!C226","v":""},{"$f":"Analysis!D226","v":""},{"$f":"Analysis!E226","v":""},{"$f":"Analysis!F226","v":""},{"$f":"Analysis!G226","v":""},{"$f":"Analysis!H226","v":""}]
[null,null,null,null,null,"BME | single child | with disability",{"$f":"Analysis!B199","v":0},{"$f":"Analysis!C199","v":0},{"$f":"Analysis!D199","v":0},{"$f":"Analysis!E199","v":0},{"$f":"Analysis!F199","v":0},{"$f":"Analysis!G199","v":0},{"$f":"Analysis!H199","v":0},null,null,null,null,"BME | single child | with disability",{"$f":"Analysis!B213","v":""},{"$f":"Analysis!C213","v":""},{"$f":"Analysis!D213","v":""},{"$f":"Analysis!E213","v":""},{"$f":"Analysis!F213","v":""},{"$f":"Analysis!G213","v":""},{"$f":"Analysis!H213","v":""},null,null,null,null,"BME | single child | with disability",{"$f":"Analysis!B227","v":""},{"$f":"Analysis!C227","v":""},{"$f":"Analysis!D227","v":""},{"$f":"Analysis!E227","v":""},{"$f":"Analysis!F227","v":""},{"$f":"Analysis!G227","v":""},{"$f":"Analysis!H227","v":""}]
[null,null,null,null,null,"White | sibling group of 2 | no disability",{"$f":"Analysis!B200","v":0},{"$f":"Analysis!C200","v":0},{"$f":"Analysis!D200","v":0},{"$f":"Analysis!E200","v":0},{"$f":"Analysis!F200","v":0},{"$f":"Analysis!G200","v":0},{"$f":"Analysis!H200","v":0},null,null,null,null,"White | sibling group of 2 | no disability",{"$f":"Analysis!B214","v":""},{"$f":"Analysis!C214","v":""},{"$f":"Analysis!D214","v":""},{"$f":"Analysis!E214","v":""},{"$f":"Analysis!F214","v":""},{"$f":"Analysis!G214","v":""},{"$f":"Analysis!H214","v":""},null,null,null,null,"White | sibling group of 2 | no disability",{"$f":"Analysis!B228","v":""},{"$f":"Analysis!C228","v":""},{"$f":"Analysis!D228","v":""},{"$f":"Analysis!E228","v":""},{"$f":"Analysis!F228","v":""},{"$f":"Analysis!G228","v":""},{"$f":"Analysis!H228","v":""}]
[null,null,null,null,null,"BME | sibling group of 2 | no disability",{"$f":"Analysis!B201","v":0},{"$f":"Analysis!C201","v":0},{"$f":"Analysis!D201","v":0},{"$f":"Analysis!E201","v":0},{"$f":"Analysis!F201","v":0},{"$f":"Analysis!G201","v":0},{"$f":"Analysis!H201","v":0},null,null,null,null,"BME | sibling group of 2 | no disability",{"$f":"Analysis!B215","v":""},{"$f":"Analysis!C215","v":""},{"$f":"Analysis!D215","v":""},{"$f":"Analysis!E215","v":""},{"$f":"Analysis!F215","v":""},{"$f":"Analysis!G215","v":""},{"$f":"Analysis!H215","v":""},null,null,null,null,"BME | sibling group of 2 | no disability",{"$f":"Analysis!B229","v":""},{"$f":"Analysis!C229","v":""},{"$f":"Analysis!D229","v":""},{"$f":"Analysis!E229","v":""},{"$f":"Analysis!F229","v":""},{"$f":"Analysis!G229","v":""},{"$f":"Analysis!H229","v":""}]
[null,null,null,null,null,"White | sibling group of 2 | with disability",{"$f":"Analysis!B202","v":0},{"$f":"Analysis!C202","v":0},{"$f":"Analysis!D202","v":0},{"$f":"Analysis!E202","v":0},{"$f":"Analysis!F202","v":0},{"$f":"Analysis!G202","v":0},{"$f":"Analysis!H202","v":0},null,null,null,null,"White | sibling group of 2 | with disability",{"$f":"Analysis!B216","v":""},{"$f":"Analysis!C216","v":""},{"$f":"Analysis!D216","v":""},{"$f":"Analysis!E216","v":""},{"$f":"Analysis!F216","v":""},{"$f":"Analysis!G216","v":""},{"$f":"Analysis!H216","v":""},null,null,null,null,"White | sibling group of 2 | with disability",{"$f":"Analysis!B230","v":""},{"$f":"Analysis!C230","v":""},{"$f":"Analysis!D230","v":""},{"$f":"Analysis!E230","v":""},{"$f":"Analysis!F230","v":""},{"$f":"Analysis!G230","v":""},{"$f":"Analysis!H230","v":""}]
[null,null,null,null,null,"BME | sibling group of 2 | with disability",{"$f":"Analysis!B203","v":0},{"$f":"Analysis!C203","v":0},{"$f":"Analysis!D203","v":0},{"$f":"Analysis!E203","v":0},{"$f":"Analysis!F203","v":0},{"$f":"Analysis!G203","v":0},{"$f":"Analysis!H203","v":0},null,null,null,null,"BME | sibling group of 2 | with disability",{"$f":"Analysis!B217","v":""},{"$f":"Analysis!C217","v":""},{"$f":"Analysis!D217","v":""},{"$f":"Analysis!E217","v":""},{"$f":"Analysis!F217","v":""},{"$f":"Analysis!G217","v":""},{"$f":"Analysis!H217","v":""},null,null,null,null,"BME | sibling group of 2 | with disability",{"$f":"Analysis!B231","v":""},{"$f":"Analysis!C231","v":""},{"$f":"Analysis!D231","v":""},{"$f":"Analysis!E231","v":""},{"$f":"Analysis!F231","v":""},{"$f":"Analysis!G231","v":""},{"$f":"Analysis!H231","v":""}]
[null,null,null,null,null,"White | sibling group of 3 | no disability",{"$f":"Analysis!B204","v":0},{"$f":"Analysis!C204","v":0},{"$f":"Analysis!D204","v":0},{"$f":"Analysis!E204","v":0},{"$f":"Analysis!F204","v":0},{"$f":"Analysis!G204","v":0},{"$f":"Analysis!H204","v":0},null,null,null,null,"White | sibling group of 3 | no disability",{"$f":"Analysis!B218","v":""},{"$f":"Analysis!C218","v":""},{"$f":"Analysis!D218","v":""},{"$f":"Analysis!E218","v":""},{"$f":"Analysis!F218","v":""},{"$f":"Analysis!G218","v":""},{"$f":"Analysis!H218","v":""},null,null,null,null,"White | sibling group of 3 | no disability",{"$f":"Analysis!B232","v":""},{"$f":"Analysis!C232","v":""},{"$f":"Analysis!D232","v":""},{"$f":"Analysis!E232","v":""},{"$f":"Analysis!F232","v":""},{"$f":"Analysis!G232","v":""},{"$f":"Analysis!H232","v":""}]
[null,null,null,null,null,"BME | sibling group of 3 | no disability",{"$f":"Analysis!B205","v":0},{"$f":"Analysis!C205","v":0},{"$f":"Analysis!D205","v":0},{"$f":"Analysis!E205","v":0},{"$f":"Analysis!F205","v":0},{"$f":"Analysis!G205","v":0},{"$f":"Analysis!H205","v":0},null,null,null,null,"BME | sibling group of 3 | no disability",{"$f":"Analysis!B219","v":""},{"$f":"Analysis!C219","v":""},{"$f":"Analysis!D219","v":""},{"$f":"Analysis!E219","v":""},{"$f":"Analysis!F219","v":""},{"$f":"Analysis!G219","v":""},{"$f":"Analysis!H219","v":""},null,null,null,null,"BME | sibling group of 3 | no disability",{"$f":"Analysis!B233","v":""},{"$f":"Analysis!C233","v":""},{"$f":"Analysis!D233","v":""},{"$f":"Analysis!E233","v":""},{"$f":"Analysis!F233","v":""},{"$f":"Analysis!G233","v":""},{"$f":"Analysis!H233","v":""}]
[null,null,null,null,null,"White | sibling group of 3 | with disability",{"$f":"Analysis!B206","v":0},{"$f":"Analysis!C206","v":0},{"$f":"Analysis!D206","v":0},{"$f":"Analysis!E206","v":0},{"$f":"Analysis!F206","v":0},{"$f":"Analysis!G206","v":0},{"$f":"Analysis!H206","v":0},null,null,null,null,"White | sibling group of 3 | with disability",{"$f":"Analysis!B220","v":""},{"$f":"Analysis!C220","v":""},{"$f":"Analysis!D220","v":""},{"$f":"Analysis!E220","v":""},{"$f":"Analysis!F220","v":""},{"$f":"Analysis!G220","v":""},{"$f":"Analysis!H220","v":""},null,null,null,null,"White | sibling group of 3 | with disability",{"$f":"Analysis!B234","v":""},{"$f":"Analysis!C234","v":""},{"$f":"Analysis!D234","v":""},{"$f":"Analysis!E234","v":""},{"$f":"Analysis!F234","v":""},{"$f":"Analysis!G234","v":""},{"$f":"Analysis!H234","v":""}]
[null,null,null,null,null,"BME | sibling group of 3 | with disability",{"$f":"Analysis!B207","v":0},{"$f":"Analysis!C207","v":0},{"$f":"Analysis!D207","v":0},{"$f":"Analysis!E207","v":0},{"$f":"Analysis!F207","v":0},{"$f":"Analysis!G207","v":0},{"$f":"Analysis!H207","v":0},null,null,null,null,"BME | sibling group of 3 | with disability",{"$f":"Analysis!B221","v":""},{"$f":"Analysis!C221","v":""},{"$f":"Analysis!D221","v":""},{"$f":"Analysis!E221","v":""},{"$f":"Analysis!F221","v":""},{"$f":"Analysis!G221","v":""},{"$f":"Analysis!H221","v":""},null,null,null,null,"BME | sibling group of 3 | with disability",{"$f":"Analysis!B235","v":""},{"$f":"Analysis!C235","v":""},{"$f":"Analysis!D235","v":""},{"$f":"Analysis!E235","v":""},{"$f":"Analysis!F235","v":""},{"$f":"Analysis!G235","v":""},{"$f":"Analysis!H235","v":""}]
[]
["Breakdown of A10 Performance (BLA to placement, adjusted for foster carer adoptions)"]
[null,{"$f":"\"Characteristics of children placed between \"&TEXT(SDate,\"d mmmm yyyy\")&\" and \"&TEXT(RDate,\"d mmmm yyyy\")","v":"Characteristics of children placed between 1 July 2023 and 30 June 2026"},null,null,null,null,null,null,null,null,null,null,null,"Average days from BLA to placement for these children by characteristic",null,null,null,null,null,null,null,null,null,null,null,null,"Proportion of these children placed more than 14 months after entering care"]
[null,null,null,null,null,null,"Age when Placement Order was granted",null,null,null,null,null,null,null,null,null,null,null,"Age when Placement Order was granted",null,null,null,null,null,null,null,null,null,null,null,"Age when Placement Order was granted"]
[null,null,null,null,null,"Characteristics",0,1,2,3,4,5,">5",null,null,null,null,"Characteristics",0,1,2,3,4,5,">5",null,null,null,null,"Characteristics",0,1,2,3,4,5,">5"]
[null,null,null,null,null,"White | single child | no disability",{"$f":"Analysis!B239","v":0},{"$f":"Analysis!C239","v":0},{"$f":"Analysis!D239","v":0},{"$f":"Analysis!E239","v":0},{"$f":"Analysis!F239","v":0},{"$f":"Analysis!G239","v":0},{"$f":"Analysis!H239","v":0},null,null,null,null,"White | single child | no disability",{"$f":"Analysis!B253","v":""},{"$f":"Analysis!C253","v":""},{"$f":"Analysis!D253","v":""},{"$f":"Analysis!E253","v":""},{"$f":"Analysis!F253","v":""},{"$f":"Analysis!G253","v":""},{"$f":"Analysis!H253","v":""},null,null,null,null,"White | single child | no disability",{"$f":"Analysis!B267","v":""},{"$f":"Analysis!C267","v":""},{"$f":"Analysis!D267","v":""},{"$f":"Analysis!E267","v":""},{"$f":"Analysis!F267","v":""},{"$f":"Analysis!G267","v":""},{"$f":"Analysis!H267","v":""}]
[null,null,null,null,null,"BME | single child | no disability",{"$f":"Analysis!B240","v":0},{"$f":"Analysis!C240","v":0},{"$f":"Analysis!D240","v":0},{"$f":"Analysis!E240","v":0},{"$f":"Analysis!F240","v":0},{"$f":"Analysis!G240","v":0},{"$f":"Analysis!H240","v":0},null,null,null,null,"BME | single child | no disability",{"$f":"Analysis!B254","v":""},{"$f":"Analysis!C254","v":""},{"$f":"Analysis!D254","v":""},{"$f":"Analysis!E254","v":""},{"$f":"Analysis!F254","v":""},{"$f":"Analysis!G254","v":""},{"$f":"Analysis!H254","v":""},null,null,null,null,"BME | single child | no disability",{"$f":"Analysis!B268","v":""},{"$f":"Analysis!C268","v":""},{"$f":"Analysis!D268","v":""},{"$f":"Analysis!E268","v":""},{"$f":"Analysis!F268","v":""},{"$f":"Analysis!G268","v":""},{"$f":"Analysis!H268","v":""}]
[null,null,null,null,null,"White | single child | with disability",{"$f":"Analysis!B241","v":0},{"$f":"Analysis!C241","v":0},{"$f":"Analysis!D241","v":0},{"$f":"Analysis!E241","v":0},{"$f":"Analysis!F241","v":0},{"$f":"Analysis!G241","v":0},{"$f":"Analysis!H241","v":0},null,null,null,null,"White | single child | with disability",{"$f":"Analysis!B255","v":""},{"$f":"Analysis!C255","v":""},{"$f":"Analysis!D255","v":""},{"$f":"Analysis!E255","v":""},{"$f":"Analysis!F255","v":""},{"$f":"Analysis!G255","v":""},{"$f":"Analysis!H255","v":""},null,null,null,null,"White | single child | with disability",{"$f":"Analysis!B269","v":""},{"$f":"Analysis!C269","v":""},{"$f":"Analysis!D269","v":""},{"$f":"Analysis!E269","v":""},{"$f":"Analysis!F269","v":""},{"$f":"Analysis!G269","v":""},{"$f":"Analysis!H269","v":""}]
[null,null,null,null,null,"BME | single child | with disability",{"$f":"Analysis!B242","v":0},{"$f":"Analysis!C242","v":0},{"$f":"Analysis!D242","v":0},{"$f":"Analysis!E242","v":0},{"$f":"Analysis!F242","v":0},{"$f":"Analysis!G242","v":0},{"$f":"Analysis!H242","v":0},null,null,null,null,"BME | single child | with disability",{"$f":"Analysis!B256","v":""},{"$f":"Analysis!C256","v":""},{"$f":"Analysis!D256","v":""},{"$f":"Analysis!E256","v":""},{"$f":"Analysis!F256","v":""},{"$f":"Analysis!G256","v":""},{"$f":"Analysis!H256","v":""},null,null,null,null,"BME | single child | with disability",{"$f":"Analysis!B270","v":""},{"$f":"Analysis!C270","v":""},{"$f":"Analysis!D270","v":""},{"$f":"Analysis!E270","v":""},{"$f":"Analysis!F270","v":""},{"$f":"Analysis!G270","v":""},{"$f":"Analysis!H270","v":""}]
[null,null,null,null,null,"White | sibling group of 2 | no disability",{"$f":"Analysis!B243","v":0},{"$f":"Analysis!C243","v":0},{"$f":"Analysis!D243","v":0},{"$f":"Analysis!E243","v":0},{"$f":"Analysis!F243","v":0},{"$f":"Analysis!G243","v":0},{"$f":"Analysis!H243","v":0},null,null,null,null,"White | sibling group of 2 | no disability",{"$f":"Analysis!B257","v":""},{"$f":"Analysis!C257","v":""},{"$f":"Analysis!D257","v":""},{"$f":"Analysis!E257","v":""},{"$f":"Analysis!F257","v":""},{"$f":"Analysis!G257","v":""},{"$f":"Analysis!H257","v":""},null,null,null,null,"White | sibling group of 2 | no disability",{"$f":"Analysis!B271","v":""},{"$f":"Analysis!C271","v":""},{"$f":"Analysis!D271","v":""},{"$f":"Analysis!E271","v":""},{"$f":"Analysis!F271","v":""},{"$f":"Analysis!G271","v":""},{"$f":"Analysis!H271","v":""}]
[null,null,null,null,null,"BME | sibling group of 2 | no disability",{"$f":"Analysis!B244","v":0},{"$f":"Analysis!C244","v":0},{"$f":"Analysis!D244","v":0},{"$f":"Analysis!E244","v":0},{"$f":"Analysis!F244","v":0},{"$f":"Analysis!G244","v":0},{"$f":"Analysis!H244","v":0},null,null,null,null,"BME | sibling group of 2 | no disability",{"$f":"Analysis!B258","v":""},{"$f":"Analysis!C258","v":""},{"$f":"Analysis!D258","v":""},{"$f":"Analysis!E258","v":""},{"$f":"Analysis!F258","v":""},{"$f":"Analysis!G258","v":""},{"$f":"Analysis!H258","v":""},null,null,null,null,"BME | sibling group of 2 | no disability",{"$f":"Analysis!B272","v":""},{"$f":"Analysis!C272","v":""},{"$f":"Analysis!D272","v":""},{"$f":"Analysis!E272","v":""},{"$f":"Analysis!F272","v":""},{"$f":"Analysis!G272","v":""},{"$f":"Analysis!H272","v":""}]
[null,null,null,null,null,"White | sibling group of 2 | with disability",{"$f":"Analysis!B245","v":0},{"$f":"Analysis!C245","v":0},{"$f":"Analysis!D245","v":0},{"$f":"Analysis!E245","v":0},{"$f":"Analysis!F245","v":0},{"$f":"Analysis!G245","v":0},{"$f":"Analysis!H245","v":0},null,null,null,null,"White | sibling group of 2 | with disability",{"$f":"Analysis!B259","v":""},{"$f":"Analysis!C259","v":""},{"$f":"Analysis!D259","v":""},{"$f":"Analysis!E259","v":""},{"$f":"Analysis!F259","v":""},{"$f":"Analysis!G259","v":""},{"$f":"Analysis!H259","v":""},null,null,null,null,"White | sibling group of 2 | with disability",{"$f":"Analysis!B273","v":""},{"$f":"Analysis!C273","v":""},{"$f":"Analysis!D273","v":""},{"$f":"Analysis!E273","v":""},{"$f":"Analysis!F273","v":""},{"$f":"Analysis!G273","v":""},{"$f":"Analysis!H273","v":""}]
[null,null,null,null,null,"BME | sibling group of 2 | with disability",{"$f":"Analysis!B246","v":0},{"$f":"Analysis!C246","v":0},{"$f":"Analysis!D246","v":0},{"$f":"Analysis!E246","v":0},{"$f":"Analysis!F246","v":0},{"$f":"Analysis!G246","v":0},{"$f":"Analysis!H246","v":0},null,null,null,null,"BME | sibling group of 2 | with disability",{"$f":"Analysis!B260","v":""},{"$f":"Analysis!C260","v":""},{"$f":"Analysis!D260","v":""},{"$f":"Analysis!E260","v":""},{"$f":"Analysis!F260","v":""},{"$f":"Analysis!G260","v":""},{"$f":"Analysis!H260","v":""},null,null,null,null,"BME | sibling group of 2 | with disability",{"$f":"Analysis!B274","v":""},{"$f":"Analysis!C274","v":""},{"$f":"Analysis!D274","v":""},{"$f":"Analysis!E274","v":""},{"$f":"Analysis!F274","v":""},{"$f":"Analysis!G274","v":""},{"$f":"Analysis!H274","v":""}]
[null,null,null,null,null,"White | sibling group of 3 | no disability",{"$f":"Analysis!B247","v":0},{"$f":"Analysis!C247","v":0},{"$f":"Analysis!D247","v":0},{"$f":"Analysis!E247","v":0},{"$f":"Analysis!F247","v":0},{"$f":"Analysis!G247","v":0},{"$f":"Analysis!H247","v":0},null,null,null,null,"White | sibling group of 3 | no disability",{"$f":"Analysis!B261","v":""},{"$f":"Analysis!C261","v":""},{"$f":"Analysis!D261","v":""},{"$f":"Analysis!E261","v":""},{"$f":"Analysis!F261","v":""},{"$f":"Analysis!G261","v":""},{"$f":"Analysis!H261","v":""},null,null,null,null,"White | sibling group of 3 | no disability",{"$f":"Analysis!B275","v":""},{"$f":"Analysis!C275","v":""},{"$f":"Analysis!D275","v":""},{"$f":"Analysis!E275","v":""},{"$f":"Analysis!F275","v":""},{"$f":"Analysis!G275","v":""},{"$f":"Analysis!H275","v":""}]
[null,null,null,null,null,"BME | sibling group of 3 | no disability",{"$f":"Analysis!B248","v":0},{"$f":"Analysis!C248","v":0},{"$f":"Analysis!D248","v":0},{"$f":"Analysis!E248","v":0},{"$f":"Analysis!F248","v":0},{"$f":"Analysis!G248","v":0},{"$f":"Analysis!H248","v":0},null,null,null,null,"BME | sibling group of 3 | no disability",{"$f":"Analysis!B262","v":""},{"$f":"Analysis!C262","v":""},{"$f":"Analysis!D262","v":""},{"$f":"Analysis!E262","v":""},{"$f":"Analysis!F262","v":""},{"$f":"Analysis!G262","v":""},{"$f":"Analysis!H262","v":""},null,null,null,null,"BME | sibling group of 3 | no disability",{"$f":"Analysis!B276","v":""},{"$f":"Analysis!C276","v":""},{"$f":"Analysis!D276","v":""},{"$f":"Analysis!E276","v":""},{"$f":"Analysis!F276","v":""},{"$f":"Analysis!G276","v":""},{"$f":"Analysis!H276","v":""}]
[null,null,null,null,null,"White | sibling group of 3 | with disability",{"$f":"Analysis!B249","v":0},{"$f":"Analysis!C249","v":0},{"$f":"Analysis!D249","v":0},{"$f":"Analysis!E249","v":0},{"$f":"Analysis!F249","v":0},{"$f":"Analysis!G249","v":0},{"$f":"Analysis!H249","v":0},null,null,null,null,"White | sibling group of 3 | with disability",{"$f":"Analysis!B263","v":""},{"$f":"Analysis!C263","v":""},{"$f":"Analysis!D263","v":""},{"$f":"Analysis!E263","v":""},{"$f":"Analysis!F263","v":""},{"$f":"Analysis!G263","v":""},{"$f":"Analysis!H263","v":""},null,null,null,null,"White | sibling group of 3 | with disability",{"$f":"Analysis!B277","v":""},{"$f":"Analysis!C277","v":""},{"$f":"Analysis!D277","v":""},{"$f":"Analysis!E277","v":""},{"$f":"Analysis!F277","v":""},{"$f":"Analysis!G277","v":""},{"$f":"Analysis!H277","v":""}]
[null,null,null,null,null,"BME | sibling group of 3 | with disability",{"$f":"Analysis!B250","v":0},{"$f":"Analysis!C250","v":0},{"$f":"Analysis!D250","v":0},{"$f":"Analysis!E250","v":0},{"$f":"Analysis!F250","v":0},{"$f":"Analysis!G250","v":0},{"$f":"Analysis!H250","v":0},null,null,null,null,"BME | sibling group of 3 | with disability",{"$f":"Analysis!B264","v":""},{"$f":"Analysis!C264","v":""},{"$f":"Analysis!D264","v":""},{"$f":"Analysis!E264","v":""},{"$f":"Analysis!F264","v":""},{"$f":"Analysis!G264","v":""},{"$f":"Analysis!H264","v":""},null,null,null,null,"BME | sibling group of 3 | with disability",{"$f":"Analysis!B278","v":""},{"$f":"Analysis!C278","v":""},{"$f":"Analysis!D278","v":""},{"$f":"Analysis!E278","v":""},{"$f":"Analysis!F278","v":""},{"$f":"Analysis!G278","v":""},{"$f":"Analysis!H278","v":""}]
[]
["Breakdown of Children granted a PO and Change of Plan"]
[null,{"$f":"\"Characteristics of children granted a PO between \"&TEXT(SDate,\"d mmmm yyyy\")&\" and \"&TEXT(RDate,\"d mmmm yyyy\")","v":"Characteristics of children granted a PO between 1 July 2023 and 30 June 2026"},null,null,null,null,null,null,null,null,null,null,null,{"$f":"\"Characteristics of children granted a PO between \"&TEXT(SDate,\"d mmmm yyyy\")&\" and \"&TEXT(RDate,\"d mmmm yyyy\")&\" whose plan has changed from adoption\"","v":"Characteristics of children granted a PO between 1 July 2023 and 30 June 2026 whose plan has changed from adoption"},null,null,null,null,null,null,null,null,null,null,null,null,{"$f":"\"Proportion of children granted a PO between \"&TEXT(SDate,\"d mmmm yyyy\")&\" and \"&TEXT(RDate,\"d mmmm yyyy\")&\" whose plan has changed from adoption\"","v":"Proportion of children granted a PO between 1 July 2023 and 30 June 2026 whose plan has changed from adoption"}]
[null,null,null,null,null,null,"Age when Placement Order was granted",null,null,null,null,null,null,null,null,null,null,null,"Age when Placement Order was granted",null,null,null,null,null,null,null,null,null,null,null,"Age when Placement Order was granted"]
[null,null,null,null,null,"Characteristics",0,1,2,3,4,5,">5",null,null,null,null,"Characteristics",0,1,2,3,4,5,">5",null,null,null,null,"Characteristics",0,1,2,3,4,5,">5"]
[null,null,null,null,null,"White | single child | no disability",{"$f":"Analysis!B281","v":0},{"$f":"Analysis!C281","v":0},{"$f":"Analysis!D281","v":0},{"$f":"Analysis!E281","v":0},{"$f":"Analysis!F281","v":0},{"$f":"Analysis!G281","v":0},{"$f":"Analysis!H281","v":0},null,null,null,null,"White | single child | no disability",{"$f":"Analysis!B295","v":0},{"$f":"Analysis!C295","v":0},{"$f":"Analysis!D295","v":0},{"$f":"Analysis!E295","v":0},{"$f":"Analysis!F295","v":0},{"$f":"Analysis!G295","v":0},{"$f":"Analysis!H295","v":0},null,null,null,null,"White | single child | no disability",{"$f":"IF(G160>0,S160/G160,\"\")","v":""},{"$f":"IF(H160>0,T160/H160,\"\")","v":""},"","","","",""]
[null,null,null,null,null,"BME | single child | no disability",{"$f":"Analysis!B282","v":0},{"$f":"Analysis!C282","v":0},{"$f":"Analysis!D282","v":0},{"$f":"Analysis!E282","v":0},{"$f":"Analysis!F282","v":0},{"$f":"Analysis!G282","v":0},{"$f":"Analysis!H282","v":0},null,null,null,null,"BME | single child | no disability",{"$f":"Analysis!B296","v":0},{"$f":"Analysis!C296","v":0},{"$f":"Analysis!D296","v":0},{"$f":"Analysis!E296","v":0},{"$f":"Analysis!F296","v":0},{"$f":"Analysis!G296","v":0},{"$f":"Analysis!H296","v":0},null,null,null,null,"BME | single child | no disability",{"$f":"IF(G161>0,S161/G161,\"\")","v":""},"","","","","",""]
[null,null,null,null,null,"White | single child | with disability",{"$f":"Analysis!B283","v":0},{"$f":"Analysis!C283","v":0},{"$f":"Analysis!D283","v":0},{"$f":"Analysis!E283","v":0},{"$f":"Analysis!F283","v":0},{"$f":"Analysis!G283","v":0},{"$f":"Analysis!H283","v":0},null,null,null,null,"White | single child | with disability",{"$f":"Analysis!B297","v":0},{"$f":"Analysis!C297","v":0},{"$f":"Analysis!D297","v":0},{"$f":"Analysis!E297","v":0},{"$f":"Analysis!F297","v":0},{"$f":"Analysis!G297","v":0},{"$f":"Analysis!H297","v":0},null,null,null,null,"White | single child | with disability","","","","","","",""]
[null,null,null,null,null,"BME | single child | with disability",{"$f":"Analysis!B284","v":0},{"$f":"Analysis!C284","v":0},{"$f":"Analysis!D284","v":0},{"$f":"Analysis!E284","v":0},{"$f":"Analysis!F284","v":0},{"$f":"Analysis!G284","v":0},{"$f":"Analysis!H284","v":0},null,null,null,null,"BME | single child | with disability",{"$f":"Analysis!B298","v":0},{"$f":"Analysis!C298","v":0},{"$f":"Analysis!D298","v":0},{"$f":"Analysis!E298","v":0},{"$f":"Analysis!F298","v":0},{"$f":"Analysis!G298","v":0},{"$f":"Analysis!H298","v":0},null,null,null,null,"BME | single child | with disability","","","","","","",""]
[null,null,null,null,null,"White | sibling group of 2 | no disability",{"$f":"Analysis!B285","v":0},{"$f":"Analysis!C285","v":0},{"$f":"Analysis!D285","v":0},{"$f":"Analysis!E285","v":0},{"$f":"Analysis!F285","v":0},{"$f":"Analysis!G285","v":0},{"$f":"Analysis!H285","v":0},null,null,null,null,"White | sibling group of 2 | no disability",{"$f":"Analysis!B299","v":0},{"$f":"Analysis!C299","v":0},{"$f":"Analysis!D299","v":0},{"$f":"Analysis!E299","v":0},{"$f":"Analysis!F299","v":0},{"$f":"Analysis!G299","v":0},{"$f":"Analysis!H299","v":0},null,null,null,null,"White | sibling group of 2 | no disability","","","","","","",""]
[null,null,null,null,null,"BME | sibling group of 2 | no disability",{"$f":"Analysis!B286","v":0},{"$f":"Analysis!C286","v":0},{"$f":"Analysis!D286","v":0},{"$f":"Analysis!E286","v":0},{"$f":"Analysis!F286","v":0},{"$f":"Analysis!G286","v":0},{"$f":"Analysis!H286","v":0},null,null,null,null,"BME | sibling group of 2 | no disability",{"$f":"Analysis!B300","v":0},{"$f":"Analysis!C300","v":0},{"$f":"Analysis!D300","v":0},{"$f":"Analysis!E300","v":0},{"$f":"Analysis!F300","v":0},{"$f":"Analysis!G300","v":0},{"$f":"Analysis!H300","v":0},null,null,null,null,"BME | sibling group of 2 | no disability","","","","","","",""]
[null,null,null,null,null,"White | sibling group of 2 | with disability",{"$f":"Analysis!B287","v":0},{"$f":"Analysis!C287","v":0},{"$f":"Analysis!D287","v":0},{"$f":"Analysis!E287","v":0},{"$f":"Analysis!F287","v":0},{"$f":"Analysis!G287","v":0},{"$f":"Analysis!H287","v":0},null,null,null,null,"White | sibling group of 2 | with disability",{"$f":"Analysis!B301","v":0},{"$f":"Analysis!C301","v":0},{"$f":"Analysis!D301","v":0},{"$f":"Analysis!E301","v":0},{"$f":"Analysis!F301","v":0},{"$f":"Analysis!G301","v":0},{"$f":"Analysis!H301","v":0},null,null,null,null,"White | sibling group of 2 | with disability","","","","","","",""]
[null,null,null,null,null,"BME | sibling group of 2 | with disability",{"$f":"Analysis!B288","v":0},{"$f":"Analysis!C288","v":0},{"$f":"Analysis!D288","v":0},{"$f":"Analysis!E288","v":0},{"$f":"Analysis!F288","v":0},{"$f":"Analysis!G288","v":0},{"$f":"Analysis!H288","v":0},null,null,null,null,"BME | sibling group of 2 | with disability",{"$f":"Analysis!B302","v":0},{"$f":"Analysis!C302","v":0},{"$f":"Analysis!D302","v":0},{"$f":"Analysis!E302","v":0},{"$f":"Analysis!F302","v":0},{"$f":"Analysis!G302","v":0},{"$f":"Analysis!H302","v":0},null,null,null,null,"BME | sibling group of 2 | with disability","","","","","","",""]
[null,null,null,null,null,"White | sibling group of 3 | no disability",{"$f":"Analysis!B289","v":0},{"$f":"Analysis!C289","v":0},{"$f":"Analysis!D289","v":0},{"$f":"Analysis!E289","v":0},{"$f":"Analysis!F289","v":0},{"$f":"Analysis!G289","v":0},{"$f":"Analysis!H289","v":0},null,null,null,null,"White | sibling group of 3 | no disability",{"$f":"Analysis!B303","v":0},{"$f":"Analysis!C303","v":0},{"$f":"Analysis!D303","v":0},{"$f":"Analysis!E303","v":0},{"$f":"Analysis!F303","v":0},{"$f":"Analysis!G303","v":0},{"$f":"Analysis!H303","v":0},null,null,null,null,"White | sibling group of 3 | no disability","","","","","","",""]
[null,null,null,null,null,"BME | sibling group of 3 | no disability",{"$f":"Analysis!B290","v":0},{"$f":"Analysis!C290","v":0},{"$f":"Analysis!D290","v":0},{"$f":"Analysis!E290","v":0},{"$f":"Analysis!F290","v":0},{"$f":"Analysis!G290","v":0},{"$f":"Analysis!H290","v":0},null,null,null,null,"BME | sibling group of 3 | no disability",{"$f":"Analysis!B304","v":0},{"$f":"Analysis!C304","v":0},{"$f":"Analysis!D304","v":0},{"$f":"Analysis!E304","v":0},{"$f":"Analysis!F304","v":0},{"$f":"Analysis!G304","v":0},{"$f":"Analysis!H304","v":0},null,null,null,null,"BME | sibling group of 3 | no disability","","","","","","",""]
[null,null,null,null,null,"White | sibling group of 3 | with disability",{"$f":"Analysis!B291","v":0},{"$f":"Analysis!C291","v":0},{"$f":"Analysis!D291","v":0},{"$f":"Analysis!E291","v":0},{"$f":"Analysis!F291","v":0},{"$f":"Analysis!G291","v":0},{"$f":"Analysis!H291","v":0},null,null,null,null,"White | sibling group of 3 | with disability",{"$f":"Analysis!B305","v":0},{"$f":"Analysis!C305","v":0},{"$f":"Analysis!D305","v":0},{"$f":"Analysis!E305","v":0},{"$f":"Analysis!F305","v":0},{"$f":"Analysis!G305","v":0},{"$f":"Analysis!H305","v":0},null,null,null,null,"White | sibling group of 3 | with disability","","","","","","",""]
[null,null,null,null,null,"BME | sibling group of 3 | with disability",{"$f":"Analysis!B292","v":0},{"$f":"Analysis!C292","v":0},{"$f":"Analysis!D292","v":0},{"$f":"Analysis!E292","v":0},{"$f":"Analysis!F292","v":0},{"$f":"Analysis!G292","v":0},{"$f":"Analysis!H292","v":0},null,null,null,null,"BME | sibling group of 3 | with disability",{"$f":"Analysis!B306","v":0},{"$f":"Analysis!C306","v":0},{"$f":"Analysis!D306","v":0},{"$f":"Analysis!E306","v":0},{"$f":"Analysis!F306","v":0},{"$f":"Analysis!G306","v":0},{"$f":"Analysis!H306","v":0},null,null,null,null,"BME | sibling group of 3 | with disability","","","","","","",""]
[]
["Breakdown of Children with a BID and a Change of Plan without PO",null,null,null,null,null,null,null,null,null,null,null,null,{"$f":"\"Characteristics of children for whom an ADM BID was made between \"&TEXT(SDate,\"d mmmm yyyy\")&\" and \"&TEXT(RDate,\"d mmmm yyyy\")&\", and whose plan changed from adoption before a PO was granted\"","v":"Characteristics of children for whom an ADM BID was made between 1 July 2023 and 30 June 2026, and whose plan changed from adoption before a PO was granted"},null,null,null,null,null,null,null,null,null,null,null,null,{"$f":"\"Proportion of children for whom an ADM BID was made between \"&TEXT(SDate,\"d mmmm yyyy\")&\" and \"&TEXT(RDate,\"d mmmm yyyy\")&\", and whose plan changed from adoption before a PO was granted\"","v":"Proportion of children for whom an ADM BID was made between 1 July 2023 and 30 June 2026, and whose plan changed from adoption before a PO was granted"}]
[null,{"$f":"\"Characteristics of children for whom an ADM BID was made between \"&TEXT(SDate,\"d mmmm yyyy\")&\" and \"&TEXT(RDate,\"d mmmm yyyy\")","v":"Characteristics of children for whom an ADM BID was made between 1 July 2023 and 30 June 2026"}]
[null,null,null,null,null,null,"Age when BID was made",null,null,null,null,null,null,null,null,null,null,null,"Age when BID was made",null,null,null,null,null,null,null,null,null,null,null,"Age when BID was made"]
[null,null,null,null,null,"Characteristics",0,1,2,3,4,5,">5",null,null,null,null,"Characteristics",0,1,2,3,4,5,">5",null,null,null,null,"Characteristics",0,1,2,3,4,5,">5"]
[null,null,null,null,null,"White | single child | no disability",{"$f":"Analysis!B323","v":0},{"$f":"Analysis!C323","v":0},{"$f":"Analysis!D323","v":0},{"$f":"Analysis!E323","v":0},{"$f":"Analysis!F323","v":0},{"$f":"Analysis!G323","v":0},{"$f":"Analysis!H323","v":0},null,null,null,null,"White | single child | no disability",{"$f":"Analysis!B337","v":0},{"$f":"Analysis!C337","v":0},{"$f":"Analysis!D337","v":0},{"$f":"Analysis!E337","v":0},{"$f":"Analysis!F337","v":0},{"$f":"Analysis!G337","v":0},{"$f":"Analysis!H337","v":0},null,null,null,null,"White | single child | no disability",{"$f":"IF(G177>0,S177/G177,\"\")","v":""},{"$f":"IF(H177>0,T177/H177,\"\")","v":""},"","","","",""]
[null,null,null,null,null,"BME | single child | no disability",{"$f":"Analysis!B324","v":0},{"$f":"Analysis!C324","v":0},{"$f":"Analysis!D324","v":0},{"$f":"Analysis!E324","v":0},{"$f":"Analysis!F324","v":0},{"$f":"Analysis!G324","v":0},{"$f":"Analysis!H324","v":0},null,null,null,null,"BME | single child | no disability",{"$f":"Analysis!B338","v":0},{"$f":"Analysis!C338","v":0},{"$f":"Analysis!D338","v":0},{"$f":"Analysis!E338","v":0},{"$f":"Analysis!F338","v":0},{"$f":"Analysis!G338","v":0},{"$f":"Analysis!H338","v":0},null,null,null,null,"BME | single child | no disability",{"$f":"IF(G178>0,S178/G178,\"\")","v":""},"","","","","",""]
[null,null,null,null,null,"White | single child | with disability",{"$f":"Analysis!B325","v":0},{"$f":"Analysis!C325","v":0},{"$f":"Analysis!D325","v":0},{"$f":"Analysis!E325","v":0},{"$f":"Analysis!F325","v":0},{"$f":"Analysis!G325","v":0},{"$f":"Analysis!H325","v":0},null,null,null,null,"White | single child | with disability",{"$f":"Analysis!B339","v":0},{"$f":"Analysis!C339","v":0},{"$f":"Analysis!D339","v":0},{"$f":"Analysis!E339","v":0},{"$f":"Analysis!F339","v":0},{"$f":"Analysis!G339","v":0},{"$f":"Analysis!H339","v":0},null,null,null,null,"White | single child | with disability","","","","","","",""]
[null,null,null,null,null,"BME | single child | with disability",{"$f":"Analysis!B326","v":0},{"$f":"Analysis!C326","v":0},{"$f":"Analysis!D326","v":0},{"$f":"Analysis!E326","v":0},{"$f":"Analysis!F326","v":0},{"$f":"Analysis!G326","v":0},{"$f":"Analysis!H326","v":0},null,null,null,null,"BME | single child | with disability",{"$f":"Analysis!B340","v":0},{"$f":"Analysis!C340","v":0},{"$f":"Analysis!D340","v":0},{"$f":"Analysis!E340","v":0},{"$f":"Analysis!F340","v":0},{"$f":"Analysis!G340","v":0},{"$f":"Analysis!H340","v":0},null,null,null,null,"BME | single child | with disability","","","","","","",""]
[null,null,null,null,null,"White | sibling group of 2 | no disability",{"$f":"Analysis!B327","v":0},{"$f":"Analysis!C327","v":0},{"$f":"Analysis!D327","v":0},{"$f":"Analysis!E327","v":0},{"$f":"Analysis!F327","v":0},{"$f":"Analysis!G327","v":0},{"$f":"Analysis!H327","v":0},null,null,null,null,"White | sibling group of 2 | no disability",{"$f":"Analysis!B341","v":0},{"$f":"Analysis!C341","v":0},{"$f":"Analysis!D341","v":0},{"$f":"Analysis!E341","v":0},{"$f":"Analysis!F341","v":0},{"$f":"Analysis!G341","v":0},{"$f":"Analysis!H341","v":0},null,null,null,null,"White | sibling group of 2 | no disability","","","","","","",""]
[null,null,null,null,null,"BME | sibling group of 2 | no disability",{"$f":"Analysis!B328","v":0},{"$f":"Analysis!C328","v":0},{"$f":"Analysis!D328","v":0},{"$f":"Analysis!E328","v":0},{"$f":"Analysis!F328","v":0},{"$f":"Analysis!G328","v":0},{"$f":"Analysis!H328","v":0},null,null,null,null,"BME | sibling group of 2 | no disability",{"$f":"Analysis!B342","v":0},{"$f":"Analysis!C342","v":0},{"$f":"Analysis!D342","v":0},{"$f":"Analysis!E342","v":0},{"$f":"Analysis!F342","v":0},{"$f":"Analysis!G342","v":0},{"$f":"Analysis!H342","v":0},null,null,null,null,"BME | sibling group of 2 | no disability","","","","","","",""]
[null,null,null,null,null,"White | sibling group of 2 | with disability",{"$f":"Analysis!B329","v":0},{"$f":"Analysis!C329","v":0},{"$f":"Analysis!D329","v":0},{"$f":"Analysis!E329","v":0},{"$f":"Analysis!F329","v":0},{"$f":"Analysis!G329","v":0},{"$f":"Analysis!H329","v":0},null,null,null,null,"White | sibling group of 2 | with disability",{"$f":"Analysis!B343","v":0},{"$f":"Analysis!C343","v":0},{"$f":"Analysis!D343","v":0},{"$f":"Analysis!E343","v":0},{"$f":"Analysis!F343","v":0},{"$f":"Analysis!G343","v":0},{"$f":"Analysis!H343","v":0},null,null,null,null,"White | sibling group of 2 | with disability","","","","","","",""]
[null,null,null,null,null,"BME | sibling group of 2 | with disability",{"$f":"Analysis!B330","v":0},{"$f":"Analysis!C330","v":0},{"$f":"Analysis!D330","v":0},{"$f":"Analysis!E330","v":0},{"$f":"Analysis!F330","v":0},{"$f":"Analysis!G330","v":0},{"$f":"Analysis!H330","v":0},null,null,null,null,"BME | sibling group of 2 | with disability",{"$f":"Analysis!B344","v":0},{"$f":"Analysis!C344","v":0},{"$f":"Analysis!D344","v":0},{"$f":"Analysis!E344","v":0},{"$f":"Analysis!F344","v":0},{"$f":"Analysis!G344","v":0},{"$f":"Analysis!H344","v":0},null,null,null,null,"BME | sibling group of 2 | with disability","","","","","","",""]
[null,null,null,null,null,"White | sibling group of 3 | no disability",{"$f":"Analysis!B331","v":0},{"$f":"Analysis!C331","v":0},{"$f":"Analysis!D331","v":0},{"$f":"Analysis!E331","v":0},{"$f":"Analysis!F331","v":0},{"$f":"Analysis!G331","v":0},{"$f":"Analysis!H331","v":0},null,null,null,null,"White | sibling group of 3 | no disability",{"$f":"Analysis!B345","v":0},{"$f":"Analysis!C345","v":0},{"$f":"Analysis!D345","v":0},{"$f":"Analysis!E345","v":0},{"$f":"Analysis!F345","v":0},{"$f":"Analysis!G345","v":0},{"$f":"Analysis!H345","v":0},null,null,null,null,"White | sibling group of 3 | no disability","","","","","","",""]
[null,null,null,null,null,"BME | sibling group of 3 | no disability",{"$f":"Analysis!B332","v":0},{"$f":"Analysis!C332","v":0},{"$f":"Analysis!D332","v":0},{"$f":"Analysis!E332","v":0},{"$f":"Analysis!F332","v":0},{"$f":"Analysis!G332","v":0},{"$f":"Analysis!H332","v":0},null,null,null,null,"BME | sibling group of 3 | no disability",{"$f":"Analysis!B346","v":0},{"$f":"Analysis!C346","v":0},{"$f":"Analysis!D346","v":0},{"$f":"Analysis!E346","v":0},{"$f":"Analysis!F346","v":0},{"$f":"Analysis!G346","v":0},{"$f":"Analysis!H346","v":0},null,null,null,null,"BME | sibling group of 3 | no disability","","","","","","",""]
[null,null,null,null,null,"White | sibling group of 3 | with disability",{"$f":"Analysis!B333","v":0},{"$f":"Analysis!C333","v":0},{"$f":"Analysis!D333","v":0},{"$f":"Analysis!E333","v":0},{"$f":"Analysis!F333","v":0},{"$f":"Analysis!G333","v":0},{"$f":"Analysis!H333","v":0},null,null,null,null,"White | sibling group of 3 | with disability",{"$f":"Analysis!B347","v":0},{"$f":"Analysis!C347","v":0},{"$f":"Analysis!D347","v":0},{"$f":"Analysis!E347","v":0},{"$f":"Analysis!F347","v":0},{"$f":"Analysis!G347","v":0},{"$f":"Analysis!H347","v":0},null,null,null,null,"White | sibling group of 3 | with disability","","","","","","",""]
[null,null,null,null,null,"BME | sibling group of 3 | with disability",{"$f":"Analysis!B334","v":0},{"$f":"Analysis!C334","v":0},{"$f":"Analysis!D334","v":0},{"$f":"Analysis!E334","v":0},{"$f":"Analysis!F334","v":0},{"$f":"Analysis!G334","v":0},{"$f":"Analysis!H334","v":0},null,null,null,null,"BME | sibling group of 3 | with disability",{"$f":"Analysis!B348","v":0},{"$f":"Analysis!C348","v":0},{"$f":"Analysis!D348","v":0},{"$f":"Analysis!E348","v":0},{"$f":"Analysis!F348","v":0},{"$f":"Analysis!G348","v":0},{"$f":"Analysis!H348","v":0},null,null,null,null,"BME | sibling group of 3 | with disability","","","","","","",""]

{"sheet":"Dashboard (A4)","index":7,"n_rows":671,"n_cols":37,"rows_kept":671,"cut":false,"hidden":false,"merged":[[217,5,217,10],[166,2,166,5],[166,8,166,11],[204,5,204,9],[229,0,253,0],[165,0,189,0],[163,0,163,13],[201,12,201,13],[192,1,192,13],[190,0,190,13],[172,1,172,13],[177,1,177,13],[215,4,215,10],[167,8,167,11],[168,2,168,5],[168,8,168,11],[206,2,206,6],[227,0,227,13],[241,1,241,13],[236,1,236,13],[230,1,230,4],[230,6,230,9],[232,1,232,9],[0,0,0,13],[27,0,27,13],[29,0,53,0],[54,0,54,13],[91,1,91,12],[2,4,3,4],[2,5,3,5],[2,6,3,6],[2,7,3,7],[37,6,38,6],[37,7,38,7],[37,8,38,8],[37,9,38,9],[59,5,60,5],[60,7,60,11],[47,10,47,12],[75,6,75,12],[56,1,58,5],[56,7,58,11],[37,13,38,13],[13,4,14,4],[49,10,49,12],[13,5,14,5],[13,6,14,6],[657,6,657,12],[562,1,562,12],[599,1,599,12],[564,6,564,12],[601,6,601,12],[619,6,619,12],[597,0,597,13],[634,0,634,13],[636,1,637,13],[562,0,578,0],[579,0,596,0],[599,0,633,0],[636,0,670,0],[617,1,617,13],[268,1,268,13],[427,6,427,10],[437,4,437,10],[361,1,361,13],[372,1,372,13],[381,12,381,13],[654,2,655,12],[580,1,580,12],[582,6,582,12],[639,6,639,12],[470,1,470,12],[543,2,543,12],[471,6,471,12],[508,6,508,12],[545,6,545,12],[293,1,293,9],[298,4,298,5],[298,6,298,7],[298,8,298,9],[299,4,299,5],[299,6,299,7],[291,0,291,13],[293,0,312,0],[309,2,309,11],[542,0,559,0],[429,6,429,10],[315,1,315,13],[325,12,325,13],[313,0,313,13],[350,0,350,13],[328,1,328,13],[339,2,339,5],[416,1,416,13],[425,1,425,2],[352,1,352,13],[331,0,333,0],[432,0,434,0],[390,1,390,9],[469,0,485,0],[453,0,468,0],[453,1,453,12],[525,2,525,12],[454,6,454,12],[490,6,490,12],[527,6,527,12],[488,0,504,0],[505,0,522,0],[525,0,541,0],[13,7,14,7],[37,10,38,10],[37,11,38,11],[37,12,38,12],[2,0,26,0],[73,1,73,12],[56,0,88,0],[45,10,45,12],[46,10,46,12],[46,1,46,9],[51,1,51,9],[48,10,48,12],[47,1,47,9],[89,0,89,13],[91,0,125,0],[126,0,126,13],[128,1,128,12],[93,6,93,12],[130,6,130,12],[108,1,108,12],[145,1,145,12],[110,6,110,12],[128,0,162,0],[147,6,147,12],[300,5,300,11],[299,8,299,9],[300,1,301,4],[307,1,307,12],[308,2,308,4],[308,5,308,6],[308,7,308,9],[308,10,308,11],[302,1,302,4],[254,0,254,13],[256,1,256,13],[265,12,265,13],[451,0,451,13],[560,0,560,13],[486,0,486,13],[523,0,523,13],[488,1,488,13],[506,1,506,13],[368,0,370,0],[387,0,387,13],[425,12,425,13],[414,0,414,13],[389,0,413,0],[401,1,401,2],[398,1,398,13],[403,1,403,13],[438,4,438,10],[395,4,395,5],[395,6,395,7],[395,8,395,9],[396,4,396,5],[396,6,396,7],[396,8,396,9]]}
[{"$f":"Analysis!$D$3&\" - Child's Journey as at \"&TEXT(RDate,\"d mmmm yyyy\")&\" (page 1 of 20)\"","v":"England - Child's Journey as at 30 June 2026 (page 1 of 20)"}]
[]
["Summary of analysis to be published",null,null,null,{"$f":"INDEX(Lists!$W$2:$W$57,MATCH(F3,Lists!$W$2:$W$57,0)-1)","v":"2025/26 Q2"},{"$f":"INDEX(Lists!$W$2:$W$57,MATCH(G3,Lists!$W$2:$W$57,0)-1)","v":"2025/26 Q3"},{"$f":"INDEX(Lists!$W$2:$W$57,MATCH(H3,Lists!$W$2:$W$57,0)-1)","v":"2025/26 Q4"},{"$f":"VLOOKUP(RDate,Lists!$V$2:$W$57,2,FALSE)","v":"2026/27 Q1"},"Total"]
[null,null,null,null,null,null,null,null,{"$f":"LEFT(H3,7)&IF(RIGHT(H3,2)=\"Q4\",\"\",\"*\")","v":"2026/27*"}]
[null,null,"Number of…","AOs",{"$f":"HLOOKUP(E$3,Analysis!$B$16:$AG$24,2)","v":0},{"$f":"HLOOKUP(F$3,Analysis!$B$16:$AG$24,2)","v":0},{"$f":"HLOOKUP(G$3,Analysis!$B$16:$AG$24,2)","v":0},{"$f":"HLOOKUP(H$3,Analysis!$B$16:$AG$24,2)","v":0},{"$f":"HLOOKUP(I$4,$C$170:$F$171,2)","v":0}]
[null,null,null,"Placements",{"$f":"HLOOKUP(E$3,Analysis!$B$16:$AG$24,3)","v":0},{"$f":"HLOOKUP(F$3,Analysis!$B$16:$AG$24,3)","v":0},{"$f":"HLOOKUP(G$3,Analysis!$B$16:$AG$24,3)","v":0},{"$f":"HLOOKUP(H$3,Analysis!$B$16:$AG$24,3)","v":0},{"$f":"HLOOKUP(I$4,$B$234:$E$235,2)","v":0}]
[null,null,null,"Matches",{"$f":"HLOOKUP(E$3,Analysis!$B$16:$AG$24,4)","v":0},{"$f":"HLOOKUP(F$3,Analysis!$B$16:$AG$24,4)","v":0},{"$f":"HLOOKUP(G$3,Analysis!$B$16:$AG$24,4)","v":0},{"$f":"HLOOKUP(H$3,Analysis!$B$16:$AG$24,4)","v":0},{"$f":"HLOOKUP($I$4,Analysis!$B$33:$I$40,4,FALSE)","v":0}]
[null,null,null,"POs",{"$f":"HLOOKUP(E$3,Analysis!$B$16:$AG$24,5)","v":0},{"$f":"HLOOKUP(F$3,Analysis!$B$16:$AG$24,5)","v":0},{"$f":"HLOOKUP(G$3,Analysis!$B$16:$AG$24,5)","v":0},{"$f":"HLOOKUP(H$3,Analysis!$B$16:$AG$24,5)","v":0},{"$f":"HLOOKUP($I$4,Analysis!$B$33:$I$40,8,FALSE)","v":0}]
[null,null,null,"BIDs",{"$f":"HLOOKUP(E$3,Analysis!$B$16:$AG$24,6)","v":0},{"$f":"HLOOKUP(F$3,Analysis!$B$16:$AG$24,6)","v":0},{"$f":"HLOOKUP(G$3,Analysis!$B$16:$AG$24,6)","v":0},{"$f":"HLOOKUP(H$3,Analysis!$B$16:$AG$24,6)","v":0},{"$f":"HLOOKUP($I$4,Analysis!$B$33:$I$41,9,FALSE)","v":0}]
[null,null,null,"FFA/CP Placements",{"$f":"HLOOKUP(E$3,Analysis!$B$16:$AG$24,8)","v":0},{"$f":"HLOOKUP(F$3,Analysis!$B$16:$AG$24,8)","v":0},{"$f":"HLOOKUP(G$3,Analysis!$B$16:$AG$24,8)","v":0},{"$f":"HLOOKUP(H$3,Analysis!$B$16:$AG$24,8)","v":0},{"$f":"HLOOKUP($I$4,Analysis!$B$33:$I$42,10,FALSE)","v":0}]
[null,null,null,"Changes of Plan",{"$f":"HLOOKUP(E$3,Analysis!$B$16:$AG$24,7)","v":0},{"$f":"HLOOKUP(F$3,Analysis!$B$16:$AG$24,7)","v":0},{"$f":"HLOOKUP(G$3,Analysis!$B$16:$AG$24,7)","v":0},{"$f":"HLOOKUP(H$3,Analysis!$B$16:$AG$24,7)","v":0},{"$f":"HLOOKUP($I$4,Analysis!$B$33:$I$60,28,FALSE)","v":0}]
[null,null,null,null,null,null,null,null,{"$f":"IF(AND(DAY(RDate)=31,MONTH(RDate)=3),\"\",\"(* = YTD)\")","v":"(* = YTD)"}]
[]
[null,null,null,null,{"$f":"INDEX(Lists!$W$2:$W$57,MATCH(F14,Lists!$W$2:$W$57,0)-1)","v":"2025/26 Q2"},{"$f":"INDEX(Lists!$W$2:$W$57,MATCH(G14,Lists!$W$2:$W$57,0)-1)","v":"2025/26 Q3"},{"$f":"INDEX(Lists!$W$2:$W$57,MATCH(H14,Lists!$W$2:$W$57,0)-1)","v":"2025/26 Q4"},{"$f":"VLOOKUP(RDate,Lists!$V$2:$W$57,2,FALSE)","v":"2026/27 Q1"}]
[null,null,null,"Placements with…"]
[null,null,null,"own adopters",{"$f":"HLOOKUP(E$3,Analysis!$B$16:$AG$28,10)","v":0},{"$f":"HLOOKUP(F$3,Analysis!$B$16:$AG$28,10)","v":0},{"$f":"HLOOKUP(G$3,Analysis!$B$16:$AG$28,10)","v":0},{"$f":"HLOOKUP(H$3,Analysis!$B$16:$AG$28,10)","v":0}]
[null,null,null,"other LA/RAA adopters",{"$f":"HLOOKUP(E$3,Analysis!$B$16:$AG$28,11)","v":0},{"$f":"HLOOKUP(F$3,Analysis!$B$16:$AG$28,11)","v":0},{"$f":"HLOOKUP(G$3,Analysis!$B$16:$AG$28,11)","v":0},{"$f":"HLOOKUP(H$3,Analysis!$B$16:$AG$28,11)","v":0}]
[null,null,null,"VAA adopters",{"$f":"HLOOKUP(E$3,Analysis!$B$16:$AG$28,12)","v":0},{"$f":"HLOOKUP(F$3,Analysis!$B$16:$AG$28,12)","v":0},{"$f":"HLOOKUP(G$3,Analysis!$B$16:$AG$28,12)","v":0},{"$f":"HLOOKUP(H$3,Analysis!$B$16:$AG$28,12)","v":0}]
[null,null,null,"adopters outside England",{"$f":"HLOOKUP(E$3,Analysis!$B$16:$AG$28,13)","v":0},{"$f":"HLOOKUP(F$3,Analysis!$B$16:$AG$28,13)","v":0},{"$f":"HLOOKUP(G$3,Analysis!$B$16:$AG$28,13)","v":0},{"$f":"HLOOKUP(H$3,Analysis!$B$16:$AG$28,13)","v":0}]
[]
[null,null,null,null,null,null,null,{"$f":"\"Children waiting to be placed as at \"&TEXT(RDate,\"d mmmm yyyy\")&\":\"","v":"Children waiting to be placed as at 30 June 2026:"}]
[null,null,null,null,null,null,null,"Number of children with an ADM BID waiting",{"$f":"COUNTIF(HData!$BU$3:$BU$48828,TRUE)","v":0}]
[null,null,null,null,null,null,null,"Number of children with a PO waiting",{"$f":"COUNTIF(HData!$BT$3:$BT$48828,TRUE)","v":0}]
[null,null,null,null,null,null,null,"Number of children with a PO waiting for at least 90 days since PO",{"$f":"COUNTIFS(HData!$BT$3:$BT$48828,TRUE,HData!$AZ$3:$AZ$48828,\">=90\")","v":0}]
[null,null,null,null,null,null,null,"Number of children with a PO waiting for at least 18 months since BLA",{"$f":"COUNTIFS(HData!$BT$3:$BT$48828,TRUE,HData!$AL$3:$AL$48828,\">=18\")","v":0}]
[null,null,null,null,null,null,null,"Average days waiting since BLA for children with a PO",{"$f":"IFERROR(F60,\"\")","v":""}," BLA = becoming looked after = entering care"]
[]
[{"$f":"Analysis!$D$3&\" - Child's Journey as at \"&TEXT(RDate,\"d mmmm yyyy\")&\" (page 2 of 20)\"","v":"England - Child's Journey as at 30 June 2026 (page 2 of 20)"}]
[]
["Summary of analysis to be published",null,null,null,null,null,null,{"$f":"\"Children with a PO waiting as at \"&TEXT(RDate,\"d mmmm yyyy\")&\" for whom LA is:\"","v":"Children with a PO waiting as at 30 June 2026 for whom LA is:"}]
[null,null,null,null,null,null,null,"currently family finding",{"$f":"COUNTIFS(HData!$BT$3:$BT$48828,TRUE,HData!$Z$3:$Z$48828,1)","v":0}]
[null,null,null,null,null,null,null,"not family-finding, order currently being appealed / revoked",{"$f":"COUNTIFS(HData!$BT$3:$BT$48828,TRUE,HData!$Z$3:$Z$48828,2)","v":0}]
[null,null,null,null,null,null,null,"not family-finding, family found but not yet formally matched at panel",{"$f":"COUNTIFS(HData!$BT$3:$BT$48828,TRUE,HData!$Z$3:$Z$48828,3)","v":0}]
[null,null,null,null,null,null,null,"not family-finding, other reason",{"$f":"COUNTIFS(HData!$BT$3:$BT$48828,TRUE,HData!$Z$3:$Z$48828,4)","v":0}]
[null,null,null,null,null,null,null,"no family finding code provided",{"$f":"COUNTIFS(HData!$BT$3:$BT$48828,TRUE,HData!$Z$3:$Z$48828,\"\")","v":0}]
[]
[]
[null,null,null,"Child characteristics:",null,null,"Aged under 5 years old","Aged 5 years old and over","Female","Male","BME","Disabled","Part of sibling group","Harder to place"]
[]
[null,null,null,null,null,"Number adopted in last 12 months",{"$f":"COUNTIFS(HData!$T$3:$T$48828,\"<>\",HData!$T$3:$T$48828,\">=\"&$B$192,HData!$T$3:$T$48828,\"<\"&$N$192,HData!$BM$3:$BM$48828,\"<5\")","v":0},{"$f":"COUNTIFS(HData!$T$3:$T$48828,\"<>\",HData!$T$3:$T$48828,\">=\"&$B$192,HData!$T$3:$T$48828,\"<\"&$N$192,HData!$BM$3:$BM$48828,\">=5\")","v":0},{"$f":"COUNTIFS(HData!$T$3:$T$48828,\"<>\",HData!$T$3:$T$48828,\">=\"&$B$192,HData!$T$3:$T$48828,\"<\"&$N$192,HData!$C$3:$C$48828,2)","v":0},{"$f":"COUNTIFS(HData!$T$3:$T$48828,\"<>\",HData!$T$3:$T$48828,\">=\"&$B$192,HData!$T$3:$T$48828,\"<\"&$N$192,HData!$C$3:$C$48828,1)","v":0},{"$f":"COUNTIFS(HData!$T$3:$T$48828,\"<>\",HData!$T$3:$T$48828,\">=\"&$B$192,HData!$T$3:$T$48828,\"<\"&$N$192,HData!$BP$3:$BP$48828,$K$38)","v":0},{"$f":"COUNTIFS(HData!$T$3:$T$48828,\"<>\",HData!$T$3:$T$48828,\">=\"&$B$192,HData!$T$3:$T$48828,\"<\"&$N$192,HData!$F$3:$F$48828,1)","v":0},{"$f":"COUNTIFS(HData!$T$3:$T$48828,\"<>\",HData!$T$3:$T$48828,\">=\"&$B$192,HData!$T$3:$T$48828,\"<\"&$N$192,HData!$BR$3:$BR$48828,\">1\")","v":0},{"$f":"COUNTIFS(HData!$T$3:$T$48828,\"<>\",HData!$T$3:$T$48828,\">=\"&$B$192,HData!$T$3:$T$48828,\"<\"&$N$192,HData!$BQ$3:$BQ$48828,TRUE)","v":0}]
[null,null,null,null,null,"Number waiting with a PO…",{"$f":"COUNTIFS(HData!$BT$3:$BT$48828,TRUE,HData!$BO$3:$BO$48828,\"<5\")","v":0},{"$f":"COUNTIFS(HData!$BT$3:$BT$48828,TRUE,HData!$BO$3:$BO$48828,\">=5\")","v":0},{"$f":"COUNTIFS(HData!$BT$3:$BT$48828,TRUE,HData!$C$3:$C$48828,2)","v":0},{"$f":"COUNTIFS(HData!$BT$3:$BT$48828,TRUE,HData!$C$3:$C$48828,1)","v":0},{"$f":"COUNTIFS(HData!$BT$3:$BT$48828,TRUE,HData!$BP$3:$BP$48828,$K$38)","v":0},{"$f":"COUNTIFS(HData!$BT$3:$BT$48828,TRUE,HData!$F$3:$F$48828,1)","v":0},{"$f":"COUNTIFS(HData!$BT$3:$BT$48828,TRUE,HData!$BR$3:$BR$48828,\">1\")","v":0},{"$f":"COUNTIFS(HData!$BT$3:$BT$48828,TRUE,HData!$BQ$3:$BQ$48828,TRUE)","v":0}]
[null,null,null,null,null,"…of which have been waiting at least 18 months since BLA",{"$f":"COUNTIFS(HData!$BT$3:$BT$48828,TRUE,HData!$BO$3:$BO$48828,\"<5\",HData!$AL$3:$AL$48828,\">=18\")","v":0},{"$f":"COUNTIFS(HData!$BT$3:$BT$48828,TRUE,HData!$BO$3:$BO$48828,\">=5\",HData!$AL$3:$AL$48828,\">=18\")","v":0},{"$f":"COUNTIFS(HData!$BT$3:$BT$48828,TRUE,HData!$C$3:$C$48828,2,HData!$AL$3:$AL$48828,\">=18\")","v":0},{"$f":"COUNTIFS(HData!$BT$3:$BT$48828,TRUE,HData!$C$3:$C$48828,1,HData!$AL$3:$AL$48828,\">=18\")","v":0},{"$f":"COUNTIFS(HData!$BT$3:$BT$48828,TRUE,HData!$BP$3:$BP$48828,$K$38,HData!$AL$3:$AL$48828,\">=18\")","v":0},{"$f":"COUNTIFS(HData!$BT$3:$BT$48828,TRUE,HData!$F$3:$F$48828,1,HData!$AL$3:$AL$48828,\">=18\")","v":0},{"$f":"COUNTIFS(HData!$BT$3:$BT$48828,TRUE,HData!$BR$3:$BR$48828,\">1\",HData!$AL$3:$AL$48828,\">=18\")","v":0},{"$f":"COUNTIFS(HData!$BT$3:$BT$48828,TRUE,HData!$BQ$3:$BQ$48828,TRUE,HData!$AL$3:$AL$48828,\">=18\")","v":0}]
[]
[]
[null,null,null,"Scorecard indicators:"]
[null,{"$f":"DATE(LEFT($K$46,4)*1,4,1)","v":"2023-04-01"},{"$f":"DATE(RIGHT($K$46,4)*1,3,31)","v":"2026-03-31"},null,null,null,null,null,null,null,{"$f":"IF(AND(DAY(RDate)=31,MONTH(RDate)=3),K217,J217)","v":"2023-2026"},null,null,"Last 12m"]
[null,"A10: Average time between a child entering care and moving in with its adoptive family, adjusted for foster carer adoptions",null,null,null,null,null,null,null,null,{"$f":"ROUND(HLOOKUP(K46,Analysis!$B$97:$G$102,6,FALSE),0)&\" days\"","v":{"$error":"#VALUE!"}},null,null,{"$f":"ROUND(HLOOKUP(RDate+1,Analysis!$B$70:$AX$85,15,FALSE),0)&\" days\"","v":{"$error":"#VALUE!"}}]
[null,"A2: Average time between an LA receiving court authority to place a child and the LA deciding on a match to an adoptive family",null,null,null,null,null,null,null,null,{"$f":"ROUND(IF(AND(DAY(RDate)=31,MONTH(RDate)=3),K225,J225),0)&\" days\"","v":{"$error":"#VALUE!"}},null,null,{"$f":"ROUND(HLOOKUP(RDate+1,Analysis!$B$70:$AX$85,13,FALSE),0)&\" days\"","v":{"$error":"#VALUE!"}}]
[null,null,null,null,null,null,null,null,null,"A20: Average time between a child entering care and an LA receiving court authority to place a child",{"$f":"ROUND(IF(AND(DAY(RDate)=31,MONTH(RDate)=3),K226,J226),0)&\" days\"","v":{"$error":"#VALUE!"}},null,null,{"$f":"ROUND(HLOOKUP(RDate+1,Analysis!$B$70:$AX$85,16,FALSE),0)&\" days\"","v":{"$error":"#VALUE!"}}]
[null,null,null,null,null,null,null,null,null,"A3: Children who wait less than 14 months between entering care & their adoptive placement",{"$f":"IFERROR(SUM($K$51:$K$53)&\" (\"&ROUND(SUM($K$51:$K$53)*100/SUM($M$51:$M$53),0)&\"%)\",\"\")","v":""},null,null,{"$f":"IFERROR(SUM($O$51:$O$53)&\" (\"&ROUND(SUM($O$51:$O$53)*100/SUM($P$51:$P$53),0)&\"%)\",\"\")","v":""}]
[null,null,null,null,null,null,null,null,null,"A3(i): Children adopted who waited less than 14 months between entering care & their adoptive placement",{"$f":"COUNTIFS(HData!$AH$3:$AH$48828,\"<14\",HData!$T$3:$T$48828,\">=\"&B46,HData!$T$3:$T$48828,\"<=\"&C46,HData!$R$3:$R$48828,\"<>\")","v":0},"out of",{"$f":"COUNTIFS(HData!$T$3:$T$48828,\">=\"&B46,HData!$T$3:$T$48828,\"<=\"&C46,HData!$R$3:$R$48828,\"<>\")","v":0},{"$f":"O51&\" / \"&P51","v":"0 / 0"},{"$f":"COUNTIFS(HData!$AH$3:$AH$48828,\"<14\",HData!$T$3:$T$48828,\">=\"&Analysis!$D$4,HData!$T$3:$T$48828,\"<=\"&RDate,HData!$R$3:$R$48828,\"<>\")","v":0},{"$f":"COUNTIFS(HData!$T$3:$T$48828,\">=\"&Analysis!$D$4,HData!$T$3:$T$48828,\"<=\"&RDate,HData!$R$3:$R$48828,\"<>\")","v":0}]
[null,"A3 (ii): Children placed but not adopted who waited less than 14 months between entering care and their adoptive placement",null,null,null,null,null,null,null,null,{"$f":"COUNTIFS(HData!$BV$3:$BV$48828,TRUE,HData!$AH$3:$AH$48828,\"<14\")","v":0},"out of",{"$f":"COUNTIFS(HData!$BV$3:$BV$48828,TRUE)","v":0},{"$f":"O52&\" / \"&P52","v":"0 / 0"},{"$f":"COUNTIFS(HData!$BE$3:$BE$48828,\">=0\",HData!$AH$3:$AH$48828,\"<14\")","v":0},{"$f":"C208","v":0}]
[null,null,null,null,null,null,null,null,null,"A3 (iii): Number of children waiting to be placed who have waited less than 14 months since entering care",{"$f":"COUNTIFS(HData!$BX$3:$BX$48828,TRUE,HData!$AM$3:$AM$48828,\"<14\")","v":0},"out of",{"$f":"COUNTIFS(HData!$BX$3:$BX$48828,TRUE)","v":0},{"$f":"O53&\" / \"&P53","v":"0 / 0"},{"$f":"COUNTIFS(HData!$BU$3:$BU$48828,TRUE,HData!$AL$3:$AL$48828,\"<14\")","v":0},{"$f":"COUNTIFS(HData!$BU$3:$BU$48828,TRUE)","v":0}]
[]
[{"$f":"Analysis!$D$3&\" - Child's Journey as at \"&TEXT(RDate,\"d mmmm yyyy\")&\" (page 3 of 20)\"","v":"England - Child's Journey as at 30 June 2026 (page 3 of 20)"}]
[]
["Children waiting to be placed",{"$f":"IF(B63=1,\"1 child\",B63&\" children\")&\" with a PO waiting to be placed as at \"&TEXT(RDate,\"dd-mmm-yyyy\")","v":"0 children with a PO waiting to be placed as at 30-Jun-2026"},null,null,null,null,null,{"$f":"IF(H63=1,\"1 child \",H63&\" children \")&\"with a PO currently waiting to be matched\"","v":"0 children with a PO currently waiting to be matched"}]
[]
[]
[null,null,null,null,{"$f":"IF(ISERROR(F60),\"\",\"waiting an average of \"&TEXT(F60,\"0\")&\" days \")","v":"waiting an average of  days "},{"$f":"Analysis!F116","v":""},null,null,null,null,{"$f":"IF(ISERROR(L60),\"\",\"waiting an average of \"&TEXT(L60,\"0\")&\" days since PO \")","v":"waiting an average of  days since PO "},{"$f":"Analysis!B116","v":""}]
[null,null,null,null,{"$f":"IF(B63=0,\"\",\"since becoming looked after\")","v":""},null,null,{"$f":"\"of whom \"&H69&IF(H69=1,\" child is \", \" children are \")&\"in a FFA/CP placement\"","v":"of whom 0 children are in a FFA/CP placement"}]
[null,null,null,"Time since becoming looked after",null,null,null,null,null,"Time since PO granted"]
[null,{"$f":"SUM(B65:F65)","v":0},null,null,null,null,null,{"$f":"SUM(H65:L65)","v":0}]
[null,{"$f":"B65&\" - \"&Analysis!E114","v":"0 - Less than 1 year"},{"$f":"C65&\" - \"&Analysis!E113","v":"0 - 12-14 months"},{"$f":"D65&\" - \"&Analysis!E112","v":"0 - 14-18 months"},{"$f":"E65&\" - \"&Analysis!E111","v":"0 - 18-24 months"},{"$f":"F65&\" - \"&Analysis!E110","v":"0 - Over 2 years"},null,{"$f":"H65&\" - \"&Analysis!A114","v":"0 - Less than 2 months"},{"$f":"I65&\" - \"&Analysis!A113","v":"0 - 2-4 months"},{"$f":"J65&\" - \"&Analysis!A112","v":"0 - 4-6 months"},{"$f":"K65&\" - \"&Analysis!A111","v":"0 - 6-12 months"},{"$f":"L65&\" - \"&Analysis!A110","v":"0 - Over 1 year"}]
[null,{"$f":"Analysis!F114","v":0},{"$f":"Analysis!F113","v":0},{"$f":"Analysis!F112","v":0},{"$f":"Analysis!F111","v":0},{"$f":"Analysis!F110","v":0},{"$f":"$B$208-B63","v":0},{"$f":"Analysis!B114","v":0},{"$f":"Analysis!B113","v":0},{"$f":"Analysis!B112","v":0},{"$f":"Analysis!B111","v":0},{"$f":"Analysis!B110","v":0},{"$f":"$B$208-H63","v":0}]
[]
[]
[null,null,"comprising of:",{"$f":"COUNTIFS(HData!$BT$3:$BT$48828,TRUE,HData!$BR$3:$BR$48828,1)","v":0},{"$f":"IF(D68=1,\"single child\",\"single children\")","v":"single children"},null,"of which we are actively family finding for",null,null,null,{"$f":"COUNTIFS(HData!$BT$3:$BT$48828,TRUE,HData!$BR$3:$BR$48828,1,HData!$Z$3:$Z$48828,\"<>2\",HData!$Z$3:$Z$48828,\"<>3\",HData!$Z$3:$Z$48828,\"<>4\")","v":0},{"$f":"IF(K68=1,\"single child\",\"single children\")","v":"single children"}]
[null,null,null,{"$f":"COUNTIFS(HData!$BT$3:$BT$48828,TRUE,HData!$BR$3:$BR$48828,2)/2","v":0},{"$f":"IF(D69=1,\"sibling group of 2\",\"sibling groups of 2\")","v":"sibling groups of 2"},null,null,{"$f":"COUNTIFS(HData!$BS$3:$BS$48828,TRUE,HData!$Q$3:$Q$48828,\"<>\",HData!$Q$3:$Q$48828,\">0\",HData!$Q$3:$Q$48828,\"<=\"&RDate)","v":0},null,null,{"$f":"COUNTIFS(HData!$BT$3:$BT$48828,TRUE,HData!$BR$3:$BR$48828,2,HData!$Z$3:$Z$48828,\"<>2\",HData!$Z$3:$Z$48828,\"<>3\",HData!$Z$3:$Z$48828,\"<>4\")/2","v":0},{"$f":"IF(K69=1,\"sibling group of 2\",\"sibling groups of 2\")","v":"sibling groups of 2"}]
[null,null,null,{"$f":"COUNTIFS(HData!$BT$3:$BT$48828,TRUE,HData!$BR$3:$BR$48828,3)/3","v":0},{"$f":"IF(D70=1,\"sibling group of 3\",\"sibling groups of 3\")","v":"sibling groups of 3"},null,null,null,null,null,{"$f":"COUNTIFS(HData!$BT$3:$BT$48828,TRUE,HData!$BR$3:$BR$48828,3,HData!$Z$3:$Z$48828,\"<>2\",HData!$Z$3:$Z$48828,\"<>3\",HData!$Z$3:$Z$48828,\"<>4\")/3","v":0},{"$f":"IF(K70=1,\"sibling group of 3\",\"sibling groups of 3\")","v":"sibling groups of 3"}]
[null,null,"Therefore",{"$f":"SUM(D68:D70)","v":0},{"$f":"IF(D71=1,\"family is needed\",\"families are needed\")","v":"families are needed"},null,null,null,null,"so",{"$f":"SUM(K68:K70)","v":0},{"$f":"IF(K71=1,\"family is needed\",\"families are needed\")","v":"families are needed"}]
[]
[]
[null,"Average days waiting since becoming looked after (BLA) for all children waiting to be placed by characteristic"]
[]
[null,null,null,null,null,null,{"$f":"\"Age as at \"&TEXT(RDate,\"d mmmm yyyy\")","v":"Age as at 30 June 2026"}]
[null,null,null,null,null,"Characteristics",0,1,2,3,4,5,">5"]
[null,null,null,null,null,"White | single child | no disability",{"$f":"Analysis!B153","v":""},{"$f":"Analysis!C153","v":""},{"$f":"Analysis!D153","v":""},{"$f":"Analysis!E153","v":""},{"$f":"Analysis!F153","v":""},{"$f":"Analysis!G153","v":""},{"$f":"Analysis!H153","v":""}]
[null,null,null,null,null,"BME | single child | no disability",{"$f":"Analysis!B154","v":""},{"$f":"Analysis!C154","v":""},{"$f":"Analysis!D154","v":""},{"$f":"Analysis!E154","v":""},{"$f":"Analysis!F154","v":""},{"$f":"Analysis!G154","v":""},{"$f":"Analysis!H154","v":""}]
[null,null,null,null,null,"White | single child | with disability",{"$f":"Analysis!B155","v":""},{"$f":"Analysis!C155","v":""},{"$f":"Analysis!D155","v":""},{"$f":"Analysis!E155","v":""},{"$f":"Analysis!F155","v":""},{"$f":"Analysis!G155","v":""},{"$f":"Analysis!H155","v":""}]
[null,null,null,null,null,"BME | single child | with disability",{"$f":"Analysis!B156","v":""},{"$f":"Analysis!C156","v":""},{"$f":"Analysis!D156","v":""},{"$f":"Analysis!E156","v":""},{"$f":"Analysis!F156","v":""},{"$f":"Analysis!G156","v":""},{"$f":"Analysis!H156","v":""}]
[null,null,null,null,null,"White | sibling group of 2 | no disability",{"$f":"Analysis!B157","v":""},{"$f":"Analysis!C157","v":""},{"$f":"Analysis!D157","v":""},{"$f":"Analysis!E157","v":""},{"$f":"Analysis!F157","v":""},{"$f":"Analysis!G157","v":""},{"$f":"Analysis!H157","v":""}]
[null,null,null,null,null,"BME | sibling group of 2 | no disability",{"$f":"Analysis!B158","v":""},{"$f":"Analysis!C158","v":""},{"$f":"Analysis!D158","v":""},{"$f":"Analysis!E158","v":""},{"$f":"Analysis!F158","v":""},{"$f":"Analysis!G158","v":""},{"$f":"Analysis!H158","v":""}]
[null,null,null,null,null,"White | sibling group of 2 | with disability",{"$f":"Analysis!B159","v":""},{"$f":"Analysis!C159","v":""},{"$f":"Analysis!D159","v":""},{"$f":"Analysis!E159","v":""},{"$f":"Analysis!F159","v":""},{"$f":"Analysis!G159","v":""},{"$f":"Analysis!H159","v":""}]
[null,null,null,null,null,"BME | sibling group of 2 | with disability",{"$f":"Analysis!B160","v":""},{"$f":"Analysis!C160","v":""},{"$f":"Analysis!D160","v":""},{"$f":"Analysis!E160","v":""},{"$f":"Analysis!F160","v":""},{"$f":"Analysis!G160","v":""},{"$f":"Analysis!H160","v":""}]
[null,null,null,null,null,"White | sibling group of 3 | no disability",{"$f":"Analysis!B161","v":""},{"$f":"Analysis!C161","v":""},{"$f":"Analysis!D161","v":""},{"$f":"Analysis!E161","v":""},{"$f":"Analysis!F161","v":""},{"$f":"Analysis!G161","v":""},{"$f":"Analysis!H161","v":""}]
[null,null,null,null,null,"BME | sibling group of 3 | no disability",{"$f":"Analysis!B162","v":""},{"$f":"Analysis!C162","v":""},{"$f":"Analysis!D162","v":""},{"$f":"Analysis!E162","v":""},{"$f":"Analysis!F162","v":""},{"$f":"Analysis!G162","v":""},{"$f":"Analysis!H162","v":""}]
[null,null,null,null,null,"White | sibling group of 3 | with disability",{"$f":"Analysis!B163","v":""},{"$f":"Analysis!C163","v":""},{"$f":"Analysis!D163","v":""},{"$f":"Analysis!E163","v":""},{"$f":"Analysis!F163","v":""},{"$f":"Analysis!G163","v":""},{"$f":"Analysis!H163","v":""}]
[null,null,null,null,null,"BME | sibling group of 3 | with disability",{"$f":"Analysis!B164","v":""},{"$f":"Analysis!C164","v":""},{"$f":"Analysis!D164","v":""},{"$f":"Analysis!E164","v":""},{"$f":"Analysis!F164","v":""},{"$f":"Analysis!G164","v":""},{"$f":"Analysis!H164","v":""}]
[{"$f":"Analysis!$D$3&\" - Child's Journey as at \"&TEXT(RDate,\"d mmmm yyyy\")&\" (page 4 of 20)\"","v":"England - Child's Journey as at 30 June 2026 (page 4 of 20)"}]
[]
["Children waiting to be placed","Characteristics of all children waiting to be placed"]
[]
[null,null,null,null,null,null,{"$f":"\"Age as at \"&TEXT(RDate,\"d mmmm yyyy\")","v":"Age as at 30 June 2026"}]
[null,null,null,null,null,"Characteristics",0,1,2,3,4,5,">5"]
[null,null,null,null,null,"White | single child | no disability",{"$f":"Analysis!B125","v":0},{"$f":"Analysis!C125","v":0},{"$f":"Analysis!D125","v":0},{"$f":"Analysis!E125","v":0},{"$f":"Analysis!F125","v":0},{"$f":"Analysis!G125","v":0},{"$f":"Analysis!H125","v":0}]
[null,null,null,null,null,"BME | single child | no disability",{"$f":"Analysis!B126","v":0},{"$f":"Analysis!C126","v":0},{"$f":"Analysis!D126","v":0},{"$f":"Analysis!E126","v":0},{"$f":"Analysis!F126","v":0},{"$f":"Analysis!G126","v":0},{"$f":"Analysis!H126","v":0}]
[null,null,null,null,null,"White | single child | with disability",{"$f":"Analysis!B127","v":0},{"$f":"Analysis!C127","v":0},{"$f":"Analysis!D127","v":0},{"$f":"Analysis!E127","v":0},{"$f":"Analysis!F127","v":0},{"$f":"Analysis!G127","v":0},{"$f":"Analysis!H127","v":0}]
[null,null,null,null,null,"BME | single child | with disability",{"$f":"Analysis!B128","v":0},{"$f":"Analysis!C128","v":0},{"$f":"Analysis!D128","v":0},{"$f":"Analysis!E128","v":0},{"$f":"Analysis!F128","v":0},{"$f":"Analysis!G128","v":0},{"$f":"Analysis!H128","v":0}]
[null,null,null,null,null,"White | sibling group of 2 | no disability",{"$f":"Analysis!B129","v":0},{"$f":"Analysis!C129","v":0},{"$f":"Analysis!D129","v":0},{"$f":"Analysis!E129","v":0},{"$f":"Analysis!F129","v":0},{"$f":"Analysis!G129","v":0},{"$f":"Analysis!H129","v":0}]
[null,null,null,null,null,"BME | sibling group of 2 | no disability",{"$f":"Analysis!B130","v":0},{"$f":"Analysis!C130","v":0},{"$f":"Analysis!D130","v":0},{"$f":"Analysis!E130","v":0},{"$f":"Analysis!F130","v":0},{"$f":"Analysis!G130","v":0},{"$f":"Analysis!H130","v":0}]
[null,null,null,null,null,"White | sibling group of 2 | with disability",{"$f":"Analysis!B131","v":0},{"$f":"Analysis!C131","v":0},{"$f":"Analysis!D131","v":0},{"$f":"Analysis!E131","v":0},{"$f":"Analysis!F131","v":0},{"$f":"Analysis!G131","v":0},{"$f":"Analysis!H131","v":0}]
[null,null,null,null,null,"BME | sibling group of 2 | with disability",{"$f":"Analysis!B132","v":0},{"$f":"Analysis!C132","v":0},{"$f":"Analysis!D132","v":0},{"$f":"Analysis!E132","v":0},{"$f":"Analysis!F132","v":0},{"$f":"Analysis!G132","v":0},{"$f":"Analysis!H132","v":0}]
[null,null,null,null,null,"White | sibling group of 3 | no disability",{"$f":"Analysis!B133","v":0},{"$f":"Analysis!C133","v":0},{"$f":"Analysis!D133","v":0},{"$f":"Analysis!E133","v":0},{"$f":"Analysis!F133","v":0},{"$f":"Analysis!G133","v":0},{"$f":"Analysis!H133","v":0}]
[null,null,null,null,null,"BME | sibling group of 3 | no disability",{"$f":"Analysis!B134","v":0},{"$f":"Analysis!C134","v":0},{"$f":"Analysis!D134","v":0},{"$f":"Analysis!E134","v":0},{"$f":"Analysis!F134","v":0},{"$f":"Analysis!G134","v":0},{"$f":"Analysis!H134","v":0}]
[null,null,null,null,null,"White | sibling group of 3 | with disability",{"$f":"Analysis!B135","v":0},{"$f":"Analysis!C135","v":0},{"$f":"Analysis!D135","v":0},{"$f":"Analysis!E135","v":0},{"$f":"Analysis!F135","v":0},{"$f":"Analysis!G135","v":0},{"$f":"Analysis!H135","v":0}]
[null,null,null,null,null,"BME | sibling group of 3 | with disability",{"$f":"Analysis!B136","v":0},{"$f":"Analysis!C136","v":0},{"$f":"Analysis!D136","v":0},{"$f":"Analysis!E136","v":0},{"$f":"Analysis!F136","v":0},{"$f":"Analysis!G136","v":0},{"$f":"Analysis!H136","v":0}]
[]
[null,"Characteristics of children waiting to be placed and in care at least 18 months"]
[]
[null,null,null,null,null,null,{"$f":"\"Age as at \"&TEXT(RDate,\"d mmmm yyyy\")","v":"Age as at 30 June 2026"}]
[null,null,null,null,null,"Characteristics",0,1,2,3,4,5,">5"]
[null,null,null,null,null,"White | single child | no disability",{"$f":"Analysis!B167","v":0},{"$f":"Analysis!C167","v":0},{"$f":"Analysis!D167","v":0},{"$f":"Analysis!E167","v":0},{"$f":"Analysis!F167","v":0},{"$f":"Analysis!G167","v":0},{"$f":"Analysis!H167","v":0}]
[null,null,null,null,null,"BME | single child | no disability",{"$f":"Analysis!B168","v":0},{"$f":"Analysis!C168","v":0},{"$f":"Analysis!D168","v":0},{"$f":"Analysis!E168","v":0},{"$f":"Analysis!F168","v":0},{"$f":"Analysis!G168","v":0},{"$f":"Analysis!H168","v":0}]
[null,null,null,null,null,"White | single child | with disability",{"$f":"Analysis!B169","v":0},{"$f":"Analysis!C169","v":0},{"$f":"Analysis!D169","v":0},{"$f":"Analysis!E169","v":0},{"$f":"Analysis!F169","v":0},{"$f":"Analysis!G169","v":0},{"$f":"Analysis!H169","v":0}]
[null,null,null,null,null,"BME | single child | with disability",{"$f":"Analysis!B170","v":0},{"$f":"Analysis!C170","v":0},{"$f":"Analysis!D170","v":0},{"$f":"Analysis!E170","v":0},{"$f":"Analysis!F170","v":0},{"$f":"Analysis!G170","v":0},{"$f":"Analysis!H170","v":0}]
[null,null,null,null,null,"White | sibling group of 2 | no disability",{"$f":"Analysis!B171","v":0},{"$f":"Analysis!C171","v":0},{"$f":"Analysis!D171","v":0},{"$f":"Analysis!E171","v":0},{"$f":"Analysis!F171","v":0},{"$f":"Analysis!G171","v":0},{"$f":"Analysis!H171","v":0}]
[null,null,null,null,null,"BME | sibling group of 2 | no disability",{"$f":"Analysis!B172","v":0},{"$f":"Analysis!C172","v":0},{"$f":"Analysis!D172","v":0},{"$f":"Analysis!E172","v":0},{"$f":"Analysis!F172","v":0},{"$f":"Analysis!G172","v":0},{"$f":"Analysis!H172","v":0}]
[null,null,null,null,null,"White | sibling group of 2 | with disability",{"$f":"Analysis!B173","v":0},{"$f":"Analysis!C173","v":0},{"$f":"Analysis!D173","v":0},{"$f":"Analysis!E173","v":0},{"$f":"Analysis!F173","v":0},{"$f":"Analysis!G173","v":0},{"$f":"Analysis!H173","v":0}]
[null,null,null,null,null,"BME | sibling group of 2 | with disability",{"$f":"Analysis!B174","v":0},{"$f":"Analysis!C174","v":0},{"$f":"Analysis!D174","v":0},{"$f":"Analysis!E174","v":0},{"$f":"Analysis!F174","v":0},{"$f":"Analysis!G174","v":0},{"$f":"Analysis!H174","v":0}]
[null,null,null,null,null,"White | sibling group of 3 | no disability",{"$f":"Analysis!B175","v":0},{"$f":"Analysis!C175","v":0},{"$f":"Analysis!D175","v":0},{"$f":"Analysis!E175","v":0},{"$f":"Analysis!F175","v":0},{"$f":"Analysis!G175","v":0},{"$f":"Analysis!H175","v":0}]
[null,null,null,null,null,"BME | sibling group of 3 | no disability",{"$f":"Analysis!B176","v":0},{"$f":"Analysis!C176","v":0},{"$f":"Analysis!D176","v":0},{"$f":"Analysis!E176","v":0},{"$f":"Analysis!F176","v":0},{"$f":"Analysis!G176","v":0},{"$f":"Analysis!H176","v":0}]
[null,null,null,null,null,"White | sibling group of 3 | with disability",{"$f":"Analysis!B177","v":0},{"$f":"Analysis!C177","v":0},{"$f":"Analysis!D177","v":0},{"$f":"Analysis!E177","v":0},{"$f":"Analysis!F177","v":0},{"$f":"Analysis!G177","v":0},{"$f":"Analysis!H177","v":0}]
[null,null,null,null,null,"BME | sibling group of 3 | with disability",{"$f":"Analysis!B178","v":0},{"$f":"Analysis!C178","v":0},{"$f":"Analysis!D178","v":0},{"$f":"Analysis!E178","v":0},{"$f":"Analysis!F178","v":0},{"$f":"Analysis!G178","v":0},{"$f":"Analysis!H178","v":0}]
[]
[]
[{"$f":"Analysis!$D$3&\" - Child's Journey as at \"&TEXT(RDate,\"d mmmm yyyy\")&\" (page 5 of 20)\"","v":"England - Child's Journey as at 30 June 2026 (page 5 of 20)"}]
[]
["Children waiting to be placed","Characteristics of children waiting to be placed, currently family finding / no FF code only"]
[]
[null,null,null,null,null,null,{"$f":"\"Age as at \"&TEXT(RDate,\"d mmmm yyyy\")","v":"Age as at 30 June 2026"}]
[null,null,null,null,null,"Characteristics",0,1,2,3,4,5,">5"]
[null,null,null,null,null,"White | single child | no disability",{"$f":"Analysis!B139","v":0},{"$f":"Analysis!C139","v":0},{"$f":"Analysis!D139","v":0},{"$f":"Analysis!E139","v":0},{"$f":"Analysis!F139","v":0},{"$f":"Analysis!G139","v":0},{"$f":"Analysis!H139","v":0}]
[null,null,null,null,null,"BME | single child | no disability",{"$f":"Analysis!B140","v":0},{"$f":"Analysis!C140","v":0},{"$f":"Analysis!D140","v":0},{"$f":"Analysis!E140","v":0},{"$f":"Analysis!F140","v":0},{"$f":"Analysis!G140","v":0},{"$f":"Analysis!H140","v":0}]
[null,null,null,null,null,"White | single child | with disability",{"$f":"Analysis!B141","v":0},{"$f":"Analysis!C141","v":0},{"$f":"Analysis!D141","v":0},{"$f":"Analysis!E141","v":0},{"$f":"Analysis!F141","v":0},{"$f":"Analysis!G141","v":0},{"$f":"Analysis!H141","v":0}]
[null,null,null,null,null,"BME | single child | with disability",{"$f":"Analysis!B142","v":0},{"$f":"Analysis!C142","v":0},{"$f":"Analysis!D142","v":0},{"$f":"Analysis!E142","v":0},{"$f":"Analysis!F142","v":0},{"$f":"Analysis!G142","v":0},{"$f":"Analysis!H142","v":0}]
[null,null,null,null,null,"White | sibling group of 2 | no disability",{"$f":"Analysis!B143","v":0},{"$f":"Analysis!C143","v":0},{"$f":"Analysis!D143","v":0},{"$f":"Analysis!E143","v":0},{"$f":"Analysis!F143","v":0},{"$f":"Analysis!G143","v":0},{"$f":"Analysis!H143","v":0}]
[null,null,null,null,null,"BME | sibling group of 2 | no disability",{"$f":"Analysis!B144","v":0},{"$f":"Analysis!C144","v":0},{"$f":"Analysis!D144","v":0},{"$f":"Analysis!E144","v":0},{"$f":"Analysis!F144","v":0},{"$f":"Analysis!G144","v":0},{"$f":"Analysis!H144","v":0}]
[null,null,null,null,null,"White | sibling group of 2 | with disability",{"$f":"Analysis!B145","v":0},{"$f":"Analysis!C145","v":0},{"$f":"Analysis!D145","v":0},{"$f":"Analysis!E145","v":0},{"$f":"Analysis!F145","v":0},{"$f":"Analysis!G145","v":0},{"$f":"Analysis!H145","v":0}]
[null,null,null,null,null,"BME | sibling group of 2 | with disability",{"$f":"Analysis!B146","v":0},{"$f":"Analysis!C146","v":0},{"$f":"Analysis!D146","v":0},{"$f":"Analysis!E146","v":0},{"$f":"Analysis!F146","v":0},{"$f":"Analysis!G146","v":0},{"$f":"Analysis!H146","v":0}]
[null,null,null,null,null,"White | sibling group of 3 | no disability",{"$f":"Analysis!B147","v":0},{"$f":"Analysis!C147","v":0},{"$f":"Analysis!D147","v":0},{"$f":"Analysis!E147","v":0},{"$f":"Analysis!F147","v":0},{"$f":"Analysis!G147","v":0},{"$f":"Analysis!H147","v":0}]
[null,null,null,null,null,"BME | sibling group of 3 | no disability",{"$f":"Analysis!B148","v":0},{"$f":"Analysis!C148","v":0},{"$f":"Analysis!D148","v":0},{"$f":"Analysis!E148","v":0},{"$f":"Analysis!F148","v":0},{"$f":"Analysis!G148","v":0},{"$f":"Analysis!H148","v":0}]
[null,null,null,null,null,"White | sibling group of 3 | with disability",{"$f":"Analysis!B149","v":0},{"$f":"Analysis!C149","v":0},{"$f":"Analysis!D149","v":0},{"$f":"Analysis!E149","v":0},{"$f":"Analysis!F149","v":0},{"$f":"Analysis!G149","v":0},{"$f":"Analysis!H149","v":0}]
[null,null,null,null,null,"BME | sibling group of 3 | with disability",{"$f":"Analysis!B150","v":0},{"$f":"Analysis!C150","v":0},{"$f":"Analysis!D150","v":0},{"$f":"Analysis!E150","v":0},{"$f":"Analysis!F150","v":0},{"$f":"Analysis!G150","v":0},{"$f":"Analysis!H150","v":0}]
[]
[null,"Characteristics of children waiting to be placed and in care at least 18 months, currently family finding / no FF code only"]
[]
[null,null,null,null,null,null,{"$f":"\"Age as at \"&TEXT(RDate,\"d mmmm yyyy\")","v":"Age as at 30 June 2026"}]
[null,null,null,null,null,"Characteristics",0,1,2,3,4,5,">5"]
[null,null,null,null,null,"White | single child | no disability",{"$f":"Analysis!B181","v":0},{"$f":"Analysis!C181","v":0},{"$f":"Analysis!D181","v":0},{"$f":"Analysis!E181","v":0},{"$f":"Analysis!F181","v":0},{"$f":"Analysis!G181","v":0},{"$f":"Analysis!H181","v":0}]
[null,null,null,null,null,"BME | single child | no disability",{"$f":"Analysis!B182","v":0},{"$f":"Analysis!C182","v":0},{"$f":"Analysis!D182","v":0},{"$f":"Analysis!E182","v":0},{"$f":"Analysis!F182","v":0},{"$f":"Analysis!G182","v":0},{"$f":"Analysis!H182","v":0}]
[null,null,null,null,null,"White | single child | with disability",{"$f":"Analysis!B183","v":0},{"$f":"Analysis!C183","v":0},{"$f":"Analysis!D183","v":0},{"$f":"Analysis!E183","v":0},{"$f":"Analysis!F183","v":0},{"$f":"Analysis!G183","v":0},{"$f":"Analysis!H183","v":0}]
[null,null,null,null,null,"BME | single child | with disability",{"$f":"Analysis!B184","v":0},{"$f":"Analysis!C184","v":0},{"$f":"Analysis!D184","v":0},{"$f":"Analysis!E184","v":0},{"$f":"Analysis!F184","v":0},{"$f":"Analysis!G184","v":0},{"$f":"Analysis!H184","v":0}]
[null,null,null,null,null,"White | sibling group of 2 | no disability",{"$f":"Analysis!B185","v":0},{"$f":"Analysis!C185","v":0},{"$f":"Analysis!D185","v":0},{"$f":"Analysis!E185","v":0},{"$f":"Analysis!F185","v":0},{"$f":"Analysis!G185","v":0},{"$f":"Analysis!H185","v":0}]
[null,null,null,null,null,"BME | sibling group of 2 | no disability",{"$f":"Analysis!B186","v":0},{"$f":"Analysis!C186","v":0},{"$f":"Analysis!D186","v":0},{"$f":"Analysis!E186","v":0},{"$f":"Analysis!F186","v":0},{"$f":"Analysis!G186","v":0},{"$f":"Analysis!H186","v":0}]
[null,null,null,null,null,"White | sibling group of 2 | with disability",{"$f":"Analysis!B187","v":0},{"$f":"Analysis!C187","v":0},{"$f":"Analysis!D187","v":0},{"$f":"Analysis!E187","v":0},{"$f":"Analysis!F187","v":0},{"$f":"Analysis!G187","v":0},{"$f":"Analysis!H187","v":0}]
[null,null,null,null,null,"BME | sibling group of 2 | with disability",{"$f":"Analysis!B188","v":0},{"$f":"Analysis!C188","v":0},{"$f":"Analysis!D188","v":0},{"$f":"Analysis!E188","v":0},{"$f":"Analysis!F188","v":0},{"$f":"Analysis!G188","v":0},{"$f":"Analysis!H188","v":0}]
[null,null,null,null,null,"White | sibling group of 3 | no disability",{"$f":"Analysis!B189","v":0},{"$f":"Analysis!C189","v":0},{"$f":"Analysis!D189","v":0},{"$f":"Analysis!E189","v":0},{"$f":"Analysis!F189","v":0},{"$f":"Analysis!G189","v":0},{"$f":"Analysis!H189","v":0}]
[null,null,null,null,null,"BME | sibling group of 3 | no disability",{"$f":"Analysis!B190","v":0},{"$f":"Analysis!C190","v":0},{"$f":"Analysis!D190","v":0},{"$f":"Analysis!E190","v":0},{"$f":"Analysis!F190","v":0},{"$f":"Analysis!G190","v":0},{"$f":"Analysis!H190","v":0}]
[null,null,null,null,null,"White | sibling group of 3 | with disability",{"$f":"Analysis!B191","v":0},{"$f":"Analysis!C191","v":0},{"$f":"Analysis!D191","v":0},{"$f":"Analysis!E191","v":0},{"$f":"Analysis!F191","v":0},{"$f":"Analysis!G191","v":0},{"$f":"Analysis!H191","v":0}]
[null,null,null,null,null,"BME | sibling group of 3 | with disability",{"$f":"Analysis!B192","v":0},{"$f":"Analysis!C192","v":0},{"$f":"Analysis!D192","v":0},{"$f":"Analysis!E192","v":0},{"$f":"Analysis!F192","v":0},{"$f":"Analysis!G192","v":0},{"$f":"Analysis!H192","v":0}]
[]
[]
[{"$f":"Analysis!$D$3&\" - Child's Journey as at \"&TEXT(RDate,\"d mmmm yyyy\")&\" (page 6 of 20)\"","v":"England - Child's Journey as at 30 June 2026 (page 6 of 20)"}]
[]
["Adoptions"]
[null,null,"Number of AOs by year",null,null,null,{"$f":"LOOKUP(2,1/(Lists!$AA$7:$AJ$7<>\"\"),Lists!$AA$7:$AJ$7)","v":10},null,"% children leaving care via adoption"]
[null,null,null,null,null,null,{"$f":"INDEX(Lists!$A$4:$AR$4,1,LOOKUP(2,1/(Lists!$AA$7:$AJ$7<>\"\"),COLUMN(Lists!$AA$7:$AJ$7)))","v":"2021/22"},null,{"$f":"\"(National average in \"&G168&\" was \"&G167&\"%)\"","v":"(National average in 2021/22 was 10%)"}]
[]
[null,null,{"$f":"Analysis!D$2","v":"2023/24"},{"$f":"Analysis!E$2","v":"2024/25"},{"$f":"Analysis!F$2","v":"2025/26"},{"$f":"Analysis!$G$2&IF(AND(DAY(RDate)=31,MONTH(RDate)=3),\"\",\"*\")","v":"2026/27*"},{"$f":"IF(AND(DAY(RDate)=31,MONTH(RDate)=3),\"\",\"(* = YTD)\")","v":"(* = YTD)"},null,{"$f":"C170","v":"2023/24"},{"$f":"D170","v":"2024/25"},{"$f":"E170","v":"2025/26"},{"$f":"F170","v":"2026/27*"}]
[null,null,{"$f":"HLOOKUP(C170,Analysis!$B$33:$I$34,2,FALSE)","v":0},{"$f":"HLOOKUP(D170,Analysis!$B$33:$I$34,2,FALSE)","v":0},{"$f":"HLOOKUP(E170,Analysis!$B$33:$I$34,2,FALSE)","v":0},{"$f":"HLOOKUP(F170,Analysis!$B$33:$I$34,2,FALSE)","v":0},null,null,{"$f":"HLOOKUP(I170,Analysis!$B$33:$I$48,16,FALSE)","v":0},{"$f":"HLOOKUP(J170,Analysis!$B$33:$I$48,16,FALSE)","v":0},{"$f":"HLOOKUP(K170,Analysis!$B$33:$I$48,16,FALSE)","v":0},{"$f":"HLOOKUP(L170,Analysis!$B$33:$I$48,16,FALSE)","v":0}]
[]
[null,"Number of AOs (12-month rolling total)"]
[]
[]
[null,{"$f":"TEXT(EDATE(P176,-12),\"mmm-yy\")&\" to \"&TEXT(P176-1,\"mmm-yy\")","v":"Oct-23 to Sep-24"},null,null,null,null,null,{"$f":"TEXT(EDATE(AA176,-12),\"mmm-yy\")&\" to \"&TEXT(AA176-1,\"mmm-yy\")","v":"Sep-24 to Aug-25"},null,null,null,null,null,{"$f":"TEXT(EDATE(AK176,-12),\"mmm-yy\")&\" to \"&TEXT(AK176-1,\"mmm-yy\")","v":"Jul-25 to Jun-26"},null,{"$f":"EDATE(Q176,-1)","v":45566},45597,45627,45658,45689,45717,45748,{"$f":"EDATE(X176,-1)","v":45778},{"$f":"EDATE(Y176,-1)","v":45809},{"$f":"EDATE(Z176,-1)","v":45839},{"$f":"EDATE(AA176,-1)","v":45870},{"$f":"EDATE(AB176,-1)","v":45901},45931,45962,45992,46023,46054,46082,46113,46143,{"$f":"EDATE(AK176,-1)","v":46174},{"$f":"RDate+1","v":46204}]
[null,null,null,null,null,null,null,null,null,null,null,null,null,null,null,{"$f":"HLOOKUP(P176,Analysis!$B$70:$AX$81,2,FALSE)","v":0},{"$f":"HLOOKUP(Q176,Analysis!$B$70:$AX$81,2,FALSE)","v":0},{"$f":"HLOOKUP(R176,Analysis!$B$70:$AX$81,2,FALSE)","v":0},{"$f":"HLOOKUP(S176,Analysis!$B$70:$AX$81,2,FALSE)","v":0},{"$f":"HLOOKUP(T176,Analysis!$B$70:$AX$81,2,FALSE)","v":0},{"$f":"HLOOKUP(U176,Analysis!$B$70:$AX$81,2,FALSE)","v":0},{"$f":"HLOOKUP(V176,Analysis!$B$70:$AX$81,2,FALSE)","v":0},{"$f":"HLOOKUP(W176,Analysis!$B$70:$AX$81,2,FALSE)","v":0},{"$f":"HLOOKUP(X176,Analysis!$B$70:$AX$81,2,FALSE)","v":0},{"$f":"HLOOKUP(Y176,Analysis!$B$70:$AX$81,2,FALSE)","v":0},{"$f":"HLOOKUP(Z176,Analysis!$B$70:$AX$81,2,FALSE)","v":0},{"$f":"HLOOKUP(AA176,Analysis!$B$70:$AX$81,2,FALSE)","v":0},{"$f":"HLOOKUP(AB176,Analysis!$B$70:$AX$81,2,FALSE)","v":0},{"$f":"HLOOKUP(AC176,Analysis!$B$70:$AX$81,2,FALSE)","v":0},{"$f":"HLOOKUP(AD176,Analysis!$B$70:$AX$81,2,FALSE)","v":0},{"$f":"HLOOKUP(AE176,Analysis!$B$70:$AX$81,2,FALSE)","v":0},{"$f":"HLOOKUP(AF176,Analysis!$B$70:$AX$81,2,FALSE)","v":0},{"$f":"HLOOKUP(AG176,Analysis!$B$70:$AX$81,2,FALSE)","v":0},{"$f":"HLOOKUP(AH176,Analysis!$B$70:$AX$81,2,FALSE)","v":0},{"$f":"HLOOKUP(AI176,Analysis!$B$70:$AX$81,2,FALSE)","v":0},{"$f":"HLOOKUP(AJ176,Analysis!$B$70:$AX$81,2,FALSE)","v":0},{"$f":"HLOOKUP(AK176,Analysis!$B$70:$AX$81,2,FALSE)","v":0}]
[null,"Number of AOs per month"]
[]
[]
[]
[]
[]
[]
[null,null,{"$f":"EDATE(D185,-1)","v":"2025-07-01"},"2025-08-01","2025-09-01","2025-10-01","2025-11-01","2025-12-01","2026-01-01","2026-02-01","2026-03-01","2026-04-01","2026-05-01",{"$f":"DATE(YEAR(RDate),MONTH(RDate),1)","v":"2026-06-01"}]
[null,null,{"$f":"HLOOKUP(C185,Analysis!$B$6:$AX$10,2,FALSE)","v":0},{"$f":"HLOOKUP(D185,Analysis!$B$6:$AX$10,2,FALSE)","v":0},{"$f":"HLOOKUP(E185,Analysis!$B$6:$AX$10,2,FALSE)","v":0},{"$f":"HLOOKUP(F185,Analysis!$B$6:$AX$10,2,FALSE)","v":0},{"$f":"HLOOKUP(G185,Analysis!$B$6:$AX$10,2,FALSE)","v":0},{"$f":"HLOOKUP(H185,Analysis!$B$6:$AX$10,2,FALSE)","v":0},{"$f":"HLOOKUP(I185,Analysis!$B$6:$AX$10,2,FALSE)","v":0},{"$f":"HLOOKUP(J185,Analysis!$B$6:$AX$10,2,FALSE)","v":0},{"$f":"HLOOKUP(K185,Analysis!$B$6:$AX$10,2,FALSE)","v":0},{"$f":"HLOOKUP(L185,Analysis!$B$6:$AX$10,2,FALSE)","v":0},{"$f":"HLOOKUP(M185,Analysis!$B$6:$AX$10,2,FALSE)","v":0},{"$f":"HLOOKUP(N185,Analysis!$B$6:$AX$10,2,FALSE)","v":0}]
[null,null,null,{"$f":"IF(MONTH(E185)=3,\"Q4:\",IF(MONTH(E185)=12,\"Q3:\",IF(MONTH(E185)=9,\"Q2:\",\"Q1:\")))","v":"Q2:"},{"$f":"SUM(C186:E186)","v":0},null,{"$f":"IF(MONTH(H185)=3,\"Q4:\",IF(MONTH(H185)=12,\"Q3:\",IF(MONTH(H185)=9,\"Q2:\",\"Q1:\")))","v":"Q3:"},{"$f":"SUM(F186:H186)","v":0},null,{"$f":"IF(MONTH(K185)=3,\"Q4:\",IF(MONTH(K185)=12,\"Q3:\",IF(MONTH(K185)=9,\"Q2:\",\"Q1:\")))","v":"Q4:"},{"$f":"SUM(I186:K186)","v":0},null,{"$f":"IF(MONTH(N185)=3,\"Q4:\",IF(MONTH(N185)=12,\"Q3:\",IF(MONTH(N185)=9,\"Q2:\",\"Q1:\")))","v":"Q1:"},{"$f":"SUM(L186:N186)","v":0}]
[]
[]
[]
[{"$f":"Analysis!$D$3&\" - Child's Journey as at \"&TEXT(RDate,\"d mmmm yyyy\")&\" (page 7 of 20)\"","v":"England - Child's Journey as at 30 June 2026 (page 7 of 20)"}]
[null,{"$f":"EDATE(C192,-1)","v":"2025-07-01"},{"$f":"EDATE(D192,-1)","v":"2025-08-01"},"2025-09-01","2025-10-01","2025-11-01","2025-12-01","2026-01-01","2026-02-01","2026-03-01","2026-04-01","2026-05-01",{"$f":"EDATE(N192,-1)","v":"2026-06-01"},{"$f":"RDate+1","v":"2026-07-01"}]
[null,"Average days from placement to AO (12-month rolling average for children ADOPTED)"]
["Within target",{"$f":"IF(B196<=B198,B196,NA())","v":{"$error":"#N/A"}},{"$error":"#N/A"},{"$error":"#N/A"},{"$error":"#N/A"},{"$error":"#N/A"},{"$error":"#N/A"},{"$error":"#N/A"},{"$error":"#N/A"},{"$error":"#N/A"},{"$error":"#N/A"},{"$error":"#N/A"},{"$error":"#N/A"},{"$error":"#N/A"}]
["Exceeding target",{"$f":"IF(B196>B198,B196,NA())","v":""},"","","","","","","","","","","",""]
[null,{"$f":"HLOOKUP(B192,Analysis!$B$70:$AX$81,12,FALSE)","v":""},{"$f":"HLOOKUP(C192,Analysis!$B$70:$AX$81,12,FALSE)","v":""},{"$f":"HLOOKUP(D192,Analysis!$B$70:$AX$81,12,FALSE)","v":""},{"$f":"HLOOKUP(E192,Analysis!$B$70:$AX$81,12,FALSE)","v":""},{"$f":"HLOOKUP(F192,Analysis!$B$70:$AX$81,12,FALSE)","v":""},{"$f":"HLOOKUP(G192,Analysis!$B$70:$AX$81,12,FALSE)","v":""},{"$f":"HLOOKUP(H192,Analysis!$B$70:$AX$81,12,FALSE)","v":""},{"$f":"HLOOKUP(I192,Analysis!$B$70:$AX$81,12,FALSE)","v":""},{"$f":"HLOOKUP(J192,Analysis!$B$70:$AX$81,12,FALSE)","v":""},{"$f":"HLOOKUP(K192,Analysis!$B$70:$AX$81,12,FALSE)","v":""},{"$f":"HLOOKUP(L192,Analysis!$B$70:$AX$81,12,FALSE)","v":""},{"$f":"HLOOKUP(M192,Analysis!$B$70:$AX$81,12,FALSE)","v":""},{"$f":"HLOOKUP(N192,Analysis!$B$70:$AX$81,12,FALSE)","v":""}]
[]
[{"$f":"\"National average is \"&B198&\" days\"","v":"National average is 274 days"},{"$f":"Analysis!B359","v":274},{"$f":"$B$198","v":274},274,274,274,274,274,274,274,274,274,274,274]
[]
[]
[]
[null,null,{"$f":"TEXT(EDATE(B192,-12),\"mmm-yy\")&\" to \"&TEXT(B192-1,\"mmm-yy\")","v":"Jul-24 to Jun-25"},null,null,null,null,null,null,null,null,null,{"$f":"TEXT(EDATE(N192,-12),\"mmm-yy\")&\" to \"&TEXT(N192-1,\"mmm-yy\")","v":"Jul-25 to Jun-26"}]
[]
[]
[null,null,null,null,null,{"$f":"IF(C208=1,\"1 child currently placed but not yet adopted\",C208&\" children currently placed but not yet adopted\")","v":"0 children currently placed but not yet adopted"}]
[null,null,null,null,null,null,null,null,{"$f":"IF(ISERROR(J206),\"\",\"placed for an average of \"&TEXT(J206,\"0.0\")&\" days \")","v":"placed for an average of  days "},{"$f":"Analysis!J116","v":""}]
[null,null,"\nTime since being placed"]
[null,{"$f":"MAX(C208,H63,E433,B63)","v":0},{"$f":"SUM(C210:G210)","v":0}]
["Adoptions",null,{"$f":"C210&\" - \"&Analysis!I114","v":"0 - Less than 6 months"},{"$f":"D210&\" - \"&Analysis!I113","v":"0 - 6-9 months"},{"$f":"E210&\" - \"&Analysis!I112","v":"0 - 9-12 months"},{"$f":"F210&\" - \"&Analysis!I111","v":"0 - 1-2 years"},{"$f":"G210&\" - \"&Analysis!I110","v":"0 - Over 2 years"}]
[null,{"$f":"B208-C208","v":0},{"$f":"Analysis!J114","v":0},{"$f":"Analysis!J113","v":0},{"$f":"Analysis!J112","v":0},{"$f":"Analysis!J111","v":0},{"$f":"Analysis!J110","v":0}]
[]
[]
[]
[]
[]
[null,null,null,null,"Adoption Scorecard figures"]
[null,null,null,null,null,{"$f":"C170","v":"2023/24"},{"$f":"D170","v":"2024/25"},{"$f":"E170","v":"2025/26"},{"$f":"F170","v":"2026/27*"},{"$f":"LEFT(F217,4)&\"-\"&LEFT(F217,4)*1+3","v":"2023-2026"},{"$f":"LEFT(G217,4)&\"-\"&LEFT(G217,4)*1+3&IF(AND(DAY(RDate)=31,MONTH(RDate)=3),\"\",\"*\")","v":"2024-2027*"}]
[]
[]
[]
[]
[]
[]
[null,null,null,null,"A10:",{"$f":"HLOOKUP(F$217,Analysis!$B$33:$I$59,26,FALSE)","v":""},{"$f":"HLOOKUP(G$217,Analysis!$B$33:$I$59,26,FALSE)","v":""},{"$f":"HLOOKUP(H$217,Analysis!$B$33:$I$59,26,FALSE)","v":""},{"$f":"HLOOKUP(I$217,Analysis!$B$33:$I$59,26,FALSE)","v":""},{"$f":"HLOOKUP(J217,Analysis!$B$97:$J$103,6,FALSE)","v":""},{"$f":"HLOOKUP(K217,Analysis!$B$97:$J$103,6,FALSE)","v":""}]
[null,null,null,null,"A2:",{"$f":"HLOOKUP(F$217,Analysis!$B$33:$I$59,25,FALSE)","v":""},{"$f":"HLOOKUP(G$217,Analysis!$B$33:$I$59,25,FALSE)","v":""},{"$f":"HLOOKUP(H$217,Analysis!$B$33:$I$59,25,FALSE)","v":""},{"$f":"HLOOKUP(I$217,Analysis!$B$33:$I$59,25,FALSE)","v":""},{"$f":"HLOOKUP(J217,Analysis!$B$97:$J$103,4,FALSE)","v":""},{"$f":"HLOOKUP(K217,Analysis!$B$97:$J$103,4,FALSE)","v":""}]
[null,null,null,null,"A20:",{"$f":"HLOOKUP(F$217,Analysis!$B$33:$I$59,27,FALSE)","v":""},{"$f":"HLOOKUP(G$217,Analysis!$B$33:$I$59,27,FALSE)","v":""},{"$f":"HLOOKUP(H$217,Analysis!$B$33:$I$59,27,FALSE)","v":""},{"$f":"HLOOKUP(I$217,Analysis!$B$33:$I$59,27,FALSE)","v":""},{"$f":"HLOOKUP(J217,Analysis!$B$97:$J$103,7,FALSE)","v":""},{"$f":"HLOOKUP(K217,Analysis!$B$97:$J$103,7,FALSE)","v":""}]
[]
[{"$f":"Analysis!$D$3&\" - Child's Journey as at \"&TEXT(RDate,\"d mmmm yyyy\")&\" (page 8 of 20)\"","v":"England - Child's Journey as at 30 June 2026 (page 8 of 20)"}]
[]
["Placements"]
[null,"Number of adoptive placements by year",null,null,null,null,"Early permanency placements by year"]
[]
[]
[null,{"$f":"C170","v":"2023/24"},{"$f":"D170","v":"2024/25"},{"$f":"E170","v":"2025/26"},{"$f":"F170","v":"2026/27*"},null,{"$f":"C170","v":"2023/24"},{"$f":"D170","v":"2024/25"},{"$f":"E170","v":"2025/26"},{"$f":"F170","v":"2026/27*"}]
[null,{"$f":"HLOOKUP(B234,Analysis!$B$33:$I$35,3,FALSE)","v":0},{"$f":"HLOOKUP(C234,Analysis!$B$33:$I$35,3,FALSE)","v":0},{"$f":"HLOOKUP(D234,Analysis!$B$33:$I$35,3,FALSE)","v":0},{"$f":"HLOOKUP(E234,Analysis!$B$33:$I$35,3,FALSE)","v":0},null,{"$f":"HLOOKUP(G234,Analysis!$B$33:$I$42,10,FALSE)","v":0},{"$f":"HLOOKUP(H234,Analysis!$B$33:$I$42,10,FALSE)","v":0},{"$f":"HLOOKUP(I234,Analysis!$B$33:$I$42,10,FALSE)","v":0},{"$f":"HLOOKUP(J234,Analysis!$B$33:$I$42,10,FALSE)","v":0}]
[]
[null,"Number of placements (12-month rolling total)"]
[]
[null,null,null,null,null,null,null,null,null,null,null,null,null,null,null,{"$f":"EDATE(Q239,-1)","v":45566},45597,45627,45658,45689,45717,45748,45778,45809,45839,{"$f":"EDATE(AA239,-1)","v":45870},{"$f":"EDATE(AB239,-1)","v":45901},45931,45962,45992,46023,46054,46082,46113,46143,{"$f":"EDATE(AK239,-1)","v":46174},{"$f":"RDate+1","v":46204}]
[null,{"$f":"TEXT(EDATE(P239,-12),\"mmm-yy\")&\" to \"&TEXT(P239-1,\"mmm-yy\")","v":"Oct-23 to Sep-24"},null,null,null,null,null,{"$f":"TEXT(EDATE(AA239,-12),\"mmm-yy\")&\" to \"&TEXT(AA239-1,\"mmm-yy\")","v":"Sep-24 to Aug-25"},null,null,null,null,null,{"$f":"TEXT(EDATE(AK239,-12),\"mmm-yy\")&\" to \"&TEXT(AK239-1,\"mmm-yy\")","v":"Jul-25 to Jun-26"},null,{"$f":"HLOOKUP(P239,Analysis!$B$70:$AX$81,3,FALSE)","v":0},{"$f":"HLOOKUP(Q239,Analysis!$B$70:$AX$81,3,FALSE)","v":0},{"$f":"HLOOKUP(R239,Analysis!$B$70:$AX$81,3,FALSE)","v":0},{"$f":"HLOOKUP(S239,Analysis!$B$70:$AX$81,3,FALSE)","v":0},{"$f":"HLOOKUP(T239,Analysis!$B$70:$AX$81,3,FALSE)","v":0},{"$f":"HLOOKUP(U239,Analysis!$B$70:$AX$81,3,FALSE)","v":0},{"$f":"HLOOKUP(V239,Analysis!$B$70:$AX$81,3,FALSE)","v":0},{"$f":"HLOOKUP(W239,Analysis!$B$70:$AX$81,3,FALSE)","v":0},{"$f":"HLOOKUP(X239,Analysis!$B$70:$AX$81,3,FALSE)","v":0},{"$f":"HLOOKUP(Y239,Analysis!$B$70:$AX$81,3,FALSE)","v":0},{"$f":"HLOOKUP(Z239,Analysis!$B$70:$AX$81,3,FALSE)","v":0},{"$f":"HLOOKUP(AA239,Analysis!$B$70:$AX$81,3,FALSE)","v":0},{"$f":"HLOOKUP(AB239,Analysis!$B$70:$AX$81,3,FALSE)","v":0},{"$f":"HLOOKUP(AC239,Analysis!$B$70:$AX$81,3,FALSE)","v":0},{"$f":"HLOOKUP(AD239,Analysis!$B$70:$AX$81,3,FALSE)","v":0},{"$f":"HLOOKUP(AE239,Analysis!$B$70:$AX$81,3,FALSE)","v":0},{"$f":"HLOOKUP(AF239,Analysis!$B$70:$AX$81,3,FALSE)","v":0},{"$f":"HLOOKUP(AG239,Analysis!$B$70:$AX$81,3,FALSE)","v":0},{"$f":"HLOOKUP(AH239,Analysis!$B$70:$AX$81,3,FALSE)","v":0},{"$f":"HLOOKUP(AI239,Analysis!$B$70:$AX$81,3,FALSE)","v":0},{"$f":"HLOOKUP(AJ239,Analysis!$B$70:$AX$81,3,FALSE)","v":0},{"$f":"HLOOKUP(AK239,Analysis!$B$70:$AX$81,3,FALSE)","v":0}]
[]
[null,"Number of placements per month"]
[]
[]
[]
[]
[]
[]
[null,null,{"$f":"EDATE(D249,-1)","v":"2025-07-01"},"2025-08-01","2025-09-01","2025-10-01","2025-11-01","2025-12-01","2026-01-01","2026-02-01","2026-03-01","2026-04-01","2026-05-01",{"$f":"DATE(YEAR(RDate),MONTH(RDate),1)","v":"2026-06-01"}]
[null,null,{"$f":"HLOOKUP(C249,Analysis!$B$6:$AX$10,3,FALSE)","v":0},{"$f":"HLOOKUP(D249,Analysis!$B$6:$AX$10,3,FALSE)","v":0},{"$f":"HLOOKUP(E249,Analysis!$B$6:$AX$10,3,FALSE)","v":0},{"$f":"HLOOKUP(F249,Analysis!$B$6:$AX$10,3,FALSE)","v":0},{"$f":"HLOOKUP(G249,Analysis!$B$6:$AX$10,3,FALSE)","v":0},{"$f":"HLOOKUP(H249,Analysis!$B$6:$AX$10,3,FALSE)","v":0},{"$f":"HLOOKUP(I249,Analysis!$B$6:$AX$10,3,FALSE)","v":0},{"$f":"HLOOKUP(J249,Analysis!$B$6:$AX$10,3,FALSE)","v":0},{"$f":"HLOOKUP(K249,Analysis!$B$6:$AX$10,3,FALSE)","v":0},{"$f":"HLOOKUP(L249,Analysis!$B$6:$AX$10,3,FALSE)","v":0},{"$f":"HLOOKUP(M249,Analysis!$B$6:$AX$10,3,FALSE)","v":0},{"$f":"HLOOKUP(N249,Analysis!$B$6:$AX$10,3,FALSE)","v":0}]
[null,null,null,{"$f":"IF(MONTH(E249)=3,\"Q4:\",IF(MONTH(E249)=12,\"Q3:\",IF(MONTH(E249)=9,\"Q2:\",\"Q1:\")))","v":"Q2:"},{"$f":"SUM(C250:E250)","v":0},null,{"$f":"IF(MONTH(H249)=3,\"Q4:\",IF(MONTH(H249)=12,\"Q3:\",IF(MONTH(H249)=9,\"Q2:\",\"Q1:\")))","v":"Q3:"},{"$f":"SUM(F250:H250)","v":0},null,{"$f":"IF(MONTH(K249)=3,\"Q4:\",IF(MONTH(K249)=12,\"Q3:\",IF(MONTH(K249)=9,\"Q2:\",\"Q1:\")))","v":"Q4:"},{"$f":"SUM(I250:K250)","v":0},null,{"$f":"IF(MONTH(N249)=3,\"Q4:\",IF(MONTH(N249)=12,\"Q3:\",IF(MONTH(N249)=9,\"Q2:\",\"Q1:\")))","v":"Q1:"},{"$f":"SUM(L250:N250)","v":0},null,null,{"$f":"C170","v":"2023/24"},null,null,{"$f":"D170","v":"2024/25"},null,null,{"$f":"E170","v":"2025/26"},null,null,{"$f":"F170","v":"2026/27*"}]
[]
[]
[]
[{"$f":"Analysis!$D$3&\" - Child's Journey as at \"&TEXT(RDate,\"d mmmm yyyy\")&\" (page 9 of 20)\"","v":"England - Child's Journey as at 30 June 2026 (page 9 of 20)"}]
[]
[null,"Average days between a child entering care and moving in with its adoptive family (12-month rolling average for children PLACED)"]
[]
["Exceeding target",{"$f":"IF(B261>B263,B261,NA())","v":""},"","","","","","","","","","","",""]
["Within target",{"$f":"IF(B261<=B263,B261,NA())","v":{"$error":"#N/A"}},{"$error":"#N/A"},{"$error":"#N/A"},{"$error":"#N/A"},{"$error":"#N/A"},{"$error":"#N/A"},{"$error":"#N/A"},{"$error":"#N/A"},{"$error":"#N/A"},{"$error":"#N/A"},{"$error":"#N/A"},{"$error":"#N/A"},{"$error":"#N/A"}]
[null,{"$f":"HLOOKUP(B$192,Analysis!$B$70:$AX$81,11,FALSE)","v":""},{"$f":"HLOOKUP(C$192,Analysis!$B$70:$AX$81,11,FALSE)","v":""},{"$f":"HLOOKUP(D$192,Analysis!$B$70:$AX$81,11,FALSE)","v":""},{"$f":"HLOOKUP(E$192,Analysis!$B$70:$AX$81,11,FALSE)","v":""},{"$f":"HLOOKUP(F$192,Analysis!$B$70:$AX$81,11,FALSE)","v":""},{"$f":"HLOOKUP(G$192,Analysis!$B$70:$AX$81,11,FALSE)","v":""},{"$f":"HLOOKUP(H$192,Analysis!$B$70:$AX$81,11,FALSE)","v":""},{"$f":"HLOOKUP(I$192,Analysis!$B$70:$AX$81,11,FALSE)","v":""},{"$f":"HLOOKUP(J$192,Analysis!$B$70:$AX$81,11,FALSE)","v":""},{"$f":"HLOOKUP(K$192,Analysis!$B$70:$AX$81,11,FALSE)","v":""},{"$f":"HLOOKUP(L$192,Analysis!$B$70:$AX$81,11,FALSE)","v":""},{"$f":"HLOOKUP(M$192,Analysis!$B$70:$AX$81,11,FALSE)","v":""},{"$f":"HLOOKUP(N$192,Analysis!$B$70:$AX$81,11,FALSE)","v":""}]
[]
[{"$f":"\"Adoption scorecard target is \"&B263&\" days\"","v":"Adoption scorecard target is 426 days"},{"$f":"Analysis!B360","v":426},{"$f":"$B$263","v":426},426,426,426,426,426,426,426,426,426,426,426]
[]
[]
[null,null,{"$f":"C202","v":"Jul-24 to Jun-25"},null,null,null,null,null,null,null,null,null,{"$f":"M202","v":"Jul-25 to Jun-26"}]
[]
[]
[null,{"$f":"\"Cumulative % children PLACED between \"&TEXT(Analysis!$C$2,\"d mmmm yyyy\")&\" & \"&TEXT(RDate,\"d mmmm yyyy\")&\" by months from entering care to adoptive placement\"","v":"Cumulative % children PLACED between 1 July 2023 & 30 June 2026 by months from entering care to adoptive placement"}]
[]
[]
[]
[]
["Placements"]
[]
[]
[]
[]
[null,null,null,null,null,null,null,"(Adoption scorecard target is 14 months)"]
[]
[]
[]
[]
[]
[]
[]
[]
[]
[]
[]
[]
[{"$f":"Analysis!$D$3&\" - Child's Journey as at \"&TEXT(RDate,\"d mmmm yyyy\")&\" (page 10 of 20)\"","v":"England - Child's Journey as at 30 June 2026 (page 10 of 20)"}]
[null,null,null,null,null,null,null,null,null,null,null,null,null,null,null,"POs granted",{"$f":"HLOOKUP(Q$251,Analysis!$B$33:$I$40,8,FALSE)","v":0},0,0,{"$f":"HLOOKUP(T$251,Analysis!$B$33:$I$40,8,FALSE)","v":0},0,0,{"$f":"HLOOKUP(W$251,Analysis!$B$33:$I$40,8,FALSE)","v":0},0,0,{"$f":"HLOOKUP(Z$251,Analysis!$B$33:$I$40,8,FALSE)","v":0},0]
["Placement Orders and Matches",{"$f":"\"Number of POs by year and status as at \"&TEXT(RDate,\"d mmmm yyyy\")","v":"Number of POs by year and status as at 30 June 2026"},null,null,null,null,null,null,null,null,null,null,null,null,null,"Change of plan",0,{"$f":"HLOOKUP(Q$251,Analysis!$B$33:$I$44,12,FALSE)","v":0},0,0,{"$f":"HLOOKUP(T$251,Analysis!$B$33:$I$44,12,FALSE)","v":0},0,0,{"$f":"HLOOKUP(W$251,Analysis!$B$33:$I$44,12,FALSE)","v":0},0,0,{"$f":"HLOOKUP(Z$251,Analysis!$B$33:$I$44,12,FALSE)","v":0}]
[null,null,null,null,null,null,null,null,null,null,null,null,null,null,null,"Placed",0,{"$f":"HLOOKUP(Q$251,Analysis!$B$33:$I$45,13,FALSE)","v":0},0,0,{"$f":"HLOOKUP(T$251,Analysis!$B$33:$I$45,13,FALSE)","v":0},0,0,{"$f":"HLOOKUP(W$251,Analysis!$B$33:$I$45,13,FALSE)","v":0},0,0,{"$f":"HLOOKUP(Z$251,Analysis!$B$33:$I$45,13,FALSE)","v":0}]
[null,null,null,null,null,null,null,null,null,null,null,null,null,null,null,"Waiting to be matched",0,{"$f":"HLOOKUP(Q$251,Analysis!$B$33:$I$47,15,FALSE)","v":0},0,0,{"$f":"HLOOKUP(T$251,Analysis!$B$33:$I$47,15,FALSE)","v":0},0,0,{"$f":"HLOOKUP(W$251,Analysis!$B$33:$I$47,15,FALSE)","v":0},0,0,{"$f":"HLOOKUP(Z$251,Analysis!$B$33:$I$47,15,FALSE)","v":0}]
[null,null,null,null,null,null,null,null,null,null,null,null,null,null,null,"Waiting to be placed",0,{"$f":"HLOOKUP(Q$251,Analysis!$B$33:$I$46,14,FALSE)","v":0},0,0,{"$f":"HLOOKUP(T$251,Analysis!$B$33:$I$46,14,FALSE)","v":0},0,0,{"$f":"HLOOKUP(W$251,Analysis!$B$33:$I$46,14,FALSE)","v":0},0,0,{"$f":"HLOOKUP(Z$251,Analysis!$B$33:$I$46,14,FALSE)","v":0}]
[null,null,null,null,null,null,null,null,null,null,null,null,null,null,null,"Private adoption",0,{"$f":"HLOOKUP(Q$251,Analysis!$B$33:$I$61,29,FALSE)","v":0},0,0,{"$f":"HLOOKUP(T$251,Analysis!$B$33:$I$61,29,FALSE)","v":0},0,0,{"$f":"HLOOKUP(W$251,Analysis!$B$33:$I$61,29,FALSE)","v":0},0,0,{"$f":"HLOOKUP(Z$251,Analysis!$B$33:$I$61,29,FALSE)","v":0}]
[null,null,{"$f":"B234","v":"2023/24"},null,{"$f":"C234","v":"2024/25"},null,{"$f":"D234","v":"2025/26"},null,{"$f":"F170","v":"2026/27*"},null,null,null,null,null,null,"Adopted",0,{"$f":"HLOOKUP(Q$251,Analysis!$B$33:$I$63,31,FALSE)","v":0},0,0,{"$f":"HLOOKUP(T$251,Analysis!$B$33:$I$63,31,FALSE)","v":0},0,0,{"$f":"HLOOKUP(W$251,Analysis!$B$33:$I$63,31,FALSE)","v":0},0,0,{"$f":"HLOOKUP(Z$251,Analysis!$B$33:$I$63,31,FALSE)","v":0}]
[null,"COP %:",{"$f":"IF(Q293>0,R294/Q293,\"\")","v":""},null,{"$f":"IF(T293>0,U294/T293,\"\")","v":""},null,{"$f":"IF(W293>0,X294/W293,\"\")","v":""},null,{"$f":"IF(Z293>0,AA294/Z293,\"\")","v":""}]
[null,"Average days from PO to change of plan (number of children, by year of PO)",null,null,null,"Average days waiting for match (by year of PO)"]
[null,null,null,null,null,"Placed/adopted (days from PO to match)",{"$f":"HLOOKUP(H$304,Analysis!$B$33:$I$55,23,FALSE)","v":""},{"$f":"HLOOKUP(I$304,Analysis!$B$33:$I$55,23,FALSE)","v":""},{"$f":"HLOOKUP(J$304,Analysis!$B$33:$I$55,23,FALSE)","v":""},{"$f":"HLOOKUP(K$304,Analysis!$B$33:$I$55,23,FALSE)","v":""}]
[null,null,null,null,null,{"$f":"\"Waiting (days from PO to \"&TEXT(RDate,\"dd/mm/yy\")&\")\"","v":"Waiting (days from PO to 30/06/26)"},{"$f":"HLOOKUP(H$304,Analysis!$B$33:$I$56,24,FALSE)","v":""},{"$f":"HLOOKUP(I$304,Analysis!$B$33:$I$56,24,FALSE)","v":""},{"$f":"HLOOKUP(J$304,Analysis!$B$33:$I$56,24,FALSE)","v":""},{"$f":"HLOOKUP(K$304,Analysis!$B$33:$I$56,24,FALSE)","v":""}]
[null,{"$f":"C299","v":"2023/24"},{"$f":"E299","v":"2024/25"},{"$f":"G299","v":"2025/26"},{"$f":"I299","v":"2026/27*"},null,null,{"$f":"G234","v":"2023/24"},{"$f":"H234","v":"2024/25"},{"$f":"I234","v":"2025/26"},{"$f":"J234","v":"2026/27*"}]
[null,{"$f":"HLOOKUP(B304,Analysis!$B$33:$I$54,22,FALSE)","v":""},{"$f":"HLOOKUP(C304,Analysis!$B$33:$I$54,22,FALSE)","v":""},{"$f":"HLOOKUP(D304,Analysis!$B$33:$I$54,22,FALSE)","v":""},{"$f":"HLOOKUP(E304,Analysis!$B$33:$I$54,22,FALSE)","v":""},null,"# placed / adopted",{"$f":"R295+R299","v":0},{"$f":"U295+U299","v":0},{"$f":"X295+X299","v":0},{"$f":"AA295+AA299","v":0}]
[null,{"$f":"\"(\"&R294&\")\"","v":"(0)"},{"$f":"\"(\"&U294&\")\"","v":"(0)"},{"$f":"\"(\"&X294&\")\"","v":"(0)"},{"$f":"\"(\"&AA294&\")\"","v":"(0)"},null,"# waiting",{"$f":"R296","v":0},{"$f":"U296","v":0},{"$f":"X296","v":0},{"$f":"AA296","v":0}]
[]
[null,{"$f":"\"Average days from PO to match by child characteristics for children MATCHED between \"&TEXT(Analysis!C2,\"d mmmm yyyy\")&\" & \"&TEXT(RDate,\"d mmmm yyyy\")","v":"Average days from PO to match by child characteristics for children MATCHED between 1 July 2023 & 30 June 2026"}]
[null,null,"Age when PO granted",null,null,"Ethnicity",null,"Sibling groups",null,null,"With disability"]
[]
[null,null,"<= 1yo","2 to 4 yo",">= 5yo","White","BME","1 child","2 children","3 children","No","Yes"]
[null,"Days:",{"$f":"Analysis!B121","v":""},{"$f":"Analysis!C121","v":""},{"$f":"Analysis!D121","v":""},{"$f":"Analysis!E121","v":""},{"$f":"Analysis!F121","v":""},{"$f":"Analysis!G121","v":""},{"$f":"Analysis!H121","v":""},{"$f":"Analysis!I121","v":""},{"$f":"Analysis!J121","v":""},{"$f":"Analysis!K121","v":""}]
[null,"# children:",{"$f":"Analysis!B120","v":0},{"$f":"Analysis!C120","v":0},{"$f":"Analysis!D120","v":0},{"$f":"Analysis!E120","v":0},{"$f":"Analysis!F120","v":0},{"$f":"Analysis!G120","v":0},{"$f":"Analysis!H120","v":0},{"$f":"Analysis!I120","v":0},{"$f":"Analysis!J120","v":0},{"$f":"Analysis!K120","v":0}]
[{"$f":"Analysis!$D$3&\" - Child's Journey as at \"&TEXT(RDate,\"d mmmm yyyy\")&\" (page 11 of 20)\"","v":"England - Child's Journey as at 30 June 2026 (page 11 of 20)"}]
[]
[null,"Average days from PO to adoptive match approved (12-month rolling average for children MATCHED)"]
[]
[null,{"$f":"HLOOKUP(B$192,Analysis!$B$70:$AX$81,10,FALSE)","v":""},{"$f":"HLOOKUP(C$192,Analysis!$B$70:$AX$81,10,FALSE)","v":""},{"$f":"HLOOKUP(D$192,Analysis!$B$70:$AX$81,10,FALSE)","v":""},{"$f":"HLOOKUP(E$192,Analysis!$B$70:$AX$81,10,FALSE)","v":""},{"$f":"HLOOKUP(F$192,Analysis!$B$70:$AX$81,10,FALSE)","v":""},{"$f":"HLOOKUP(G$192,Analysis!$B$70:$AX$81,10,FALSE)","v":""},{"$f":"HLOOKUP(H$192,Analysis!$B$70:$AX$81,10,FALSE)","v":""},{"$f":"HLOOKUP(I$192,Analysis!$B$70:$AX$81,10,FALSE)","v":""},{"$f":"HLOOKUP(J$192,Analysis!$B$70:$AX$81,10,FALSE)","v":""},{"$f":"HLOOKUP(K$192,Analysis!$B$70:$AX$81,10,FALSE)","v":""},{"$f":"HLOOKUP(L$192,Analysis!$B$70:$AX$81,10,FALSE)","v":""},{"$f":"HLOOKUP(M$192,Analysis!$B$70:$AX$81,10,FALSE)","v":""},{"$f":"HLOOKUP(N$192,Analysis!$B$70:$AX$81,10,FALSE)","v":""}]
["Within target",{"$f":"IF(B318<=B321,B318,NA())","v":{"$error":"#N/A"}},{"$error":"#N/A"},{"$error":"#N/A"},{"$error":"#N/A"},{"$error":"#N/A"},{"$error":"#N/A"},{"$error":"#N/A"},{"$error":"#N/A"},{"$error":"#N/A"},{"$error":"#N/A"},{"$error":"#N/A"},{"$error":"#N/A"},{"$error":"#N/A"}]
["Exceeding target",{"$f":"IF(B318>B321,B318,NA())","v":""},"","","","","","","","","","","",""]
[{"$f":"\"Adoption scorecard target is \"&B321&\" days\"","v":"Adoption scorecard target is 121 days"},{"$f":"Analysis!B361","v":121},{"$f":"$B$321","v":121},121,121,121,121,121,121,121,121,121,121,121]
[]
[]
[]
[]
[null,null,{"$f":"C266","v":"Jul-24 to Jun-25"},null,null,null,null,null,null,null,null,null,{"$f":"M266","v":"Jul-25 to Jun-26"}]
[]
[]
[null,{"$f":"\"Cumulative % children MATCHED between \"&TEXT(Analysis!$C$2,\"d mmmm yyyy\")&\" & \"&TEXT(RDate,\"d mmmm yyyy\")&\" by months from PO to adoptive match approved\"","v":"Cumulative % children MATCHED between 1 July 2023 & 30 June 2026 by months from PO to adoptive match approved"}]
[]
[]
["Placement Order and Matches"]
[]
[]
[]
[]
[]
[]
[]
[null,null,"(Adoption scorecard target is 4 months)"]
[]
[]
[]
[]
[]
[]
[]
[]
[]
[]
[{"$f":"Analysis!$D$3&\" - Child's Journey as at \"&TEXT(RDate,\"d mmmm yyyy\")&\" (page 12 of 20)\"","v":"England - Child's Journey as at 30 June 2026 (page 12 of 20)"}]
[]
[null,"Number of POs (12-month rolling total)"]
[null,null,null,null,null,null,null,null,null,null,null,null,null,null,null,{"$f":"EDATE(Q354,-1)","v":45566},45597,45627,45658,45689,45717,45748,45778,45809,45839,{"$f":"EDATE(AA354,-1)","v":45870},45901,45931,45962,45992,46023,46054,46082,46113,46143,{"$f":"EDATE(AK354,-1)","v":46174},{"$f":"RDate+1","v":46204}]
[null,null,null,null,null,null,null,null,null,null,null,null,null,null,null,{"$f":"HLOOKUP(P354,Analysis!$B$70:$AX$81,6,FALSE)","v":0},{"$f":"HLOOKUP(Q354,Analysis!$B$70:$AX$81,6,FALSE)","v":0},{"$f":"HLOOKUP(R354,Analysis!$B$70:$AX$81,6,FALSE)","v":0},{"$f":"HLOOKUP(S354,Analysis!$B$70:$AX$81,6,FALSE)","v":0},{"$f":"HLOOKUP(T354,Analysis!$B$70:$AX$81,6,FALSE)","v":0},{"$f":"HLOOKUP(U354,Analysis!$B$70:$AX$81,6,FALSE)","v":0},{"$f":"HLOOKUP(V354,Analysis!$B$70:$AX$81,6,FALSE)","v":0},{"$f":"HLOOKUP(W354,Analysis!$B$70:$AX$81,6,FALSE)","v":0},{"$f":"HLOOKUP(X354,Analysis!$B$70:$AX$81,6,FALSE)","v":0},{"$f":"HLOOKUP(Y354,Analysis!$B$70:$AX$81,6,FALSE)","v":0},{"$f":"HLOOKUP(Z354,Analysis!$B$70:$AX$81,6,FALSE)","v":0},{"$f":"HLOOKUP(AA354,Analysis!$B$70:$AX$81,6,FALSE)","v":0},{"$f":"HLOOKUP(AB354,Analysis!$B$70:$AX$81,6,FALSE)","v":0},{"$f":"HLOOKUP(AC354,Analysis!$B$70:$AX$81,6,FALSE)","v":0},{"$f":"HLOOKUP(AD354,Analysis!$B$70:$AX$81,6,FALSE)","v":0},{"$f":"HLOOKUP(AE354,Analysis!$B$70:$AX$81,6,FALSE)","v":0},{"$f":"HLOOKUP(AF354,Analysis!$B$70:$AX$81,6,FALSE)","v":0},{"$f":"HLOOKUP(AG354,Analysis!$B$70:$AX$81,6,FALSE)","v":0},{"$f":"HLOOKUP(AH354,Analysis!$B$70:$AX$81,6,FALSE)","v":0},{"$f":"HLOOKUP(AI354,Analysis!$B$70:$AX$81,6,FALSE)","v":0},{"$f":"HLOOKUP(AJ354,Analysis!$B$70:$AX$81,6,FALSE)","v":0},{"$f":"HLOOKUP(AK354,Analysis!$B$70:$AX$81,6,FALSE)","v":0}]
[]
[]
[]
[]
[null,{"$f":"TEXT(EDATE(P354,-12),\"mmm-yy\")&\" to \"&TEXT(P354-1,\"mmm-yy\")","v":"Oct-23 to Sep-24"},null,null,null,null,null,{"$f":"TEXT(EDATE(AA354,-12),\"mmm-yy\")&\" to \"&TEXT(AA354-1,\"mmm-yy\")","v":"Sep-24 to Aug-25"},null,null,null,null,null,{"$f":"TEXT(EDATE(AK354,-12),\"mmm-yy\")&\" to \"&TEXT(AK354-1,\"mmm-yy\")","v":"Jul-25 to Jun-26"}]
[]
[null,"Number of POs per month"]
[]
[]
[]
[]
[]
[]
["Placement Order and Matches",null,{"$f":"EDATE(D369,-1)","v":"2025-07-01"},"2025-08-01","2025-09-01","2025-10-01","2025-11-01","2025-12-01","2026-01-01","2026-02-01","2026-03-01","2026-04-01","2026-05-01",{"$f":"DATE(YEAR(RDate),MONTH(RDate),1)","v":"2026-06-01"}]
[null,null,{"$f":"HLOOKUP(C369,Analysis!$B$6:$AX$10,5,FALSE)","v":0},{"$f":"HLOOKUP(D369,Analysis!$B$6:$AX$10,5,FALSE)","v":0},{"$f":"HLOOKUP(E369,Analysis!$B$6:$AX$10,5,FALSE)","v":0},{"$f":"HLOOKUP(F369,Analysis!$B$6:$AX$10,5,FALSE)","v":0},{"$f":"HLOOKUP(G369,Analysis!$B$6:$AX$10,5,FALSE)","v":0},{"$f":"HLOOKUP(H369,Analysis!$B$6:$AX$10,5,FALSE)","v":0},{"$f":"HLOOKUP(I369,Analysis!$B$6:$AX$10,5,FALSE)","v":0},{"$f":"HLOOKUP(J369,Analysis!$B$6:$AX$10,5,FALSE)","v":0},{"$f":"HLOOKUP(K369,Analysis!$B$6:$AX$10,5,FALSE)","v":0},{"$f":"HLOOKUP(L369,Analysis!$B$6:$AX$10,5,FALSE)","v":0},{"$f":"HLOOKUP(M369,Analysis!$B$6:$AX$10,5,FALSE)","v":0},{"$f":"HLOOKUP(N369,Analysis!$B$6:$AX$10,5,FALSE)","v":0}]
[null,null,null,{"$f":"IF(MONTH(E369)=3,\"Q4:\",IF(MONTH(E369)=12,\"Q3:\",IF(MONTH(E369)=9,\"Q2:\",\"Q1:\")))","v":"Q2:"},{"$f":"SUM(C370:E370)","v":0},null,{"$f":"IF(MONTH(H369)=3,\"Q4:\",IF(MONTH(H369)=12,\"Q3:\",IF(MONTH(H369)=9,\"Q2:\",\"Q1:\")))","v":"Q3:"},{"$f":"SUM(F370:H370)","v":0},null,{"$f":"IF(MONTH(K369)=3,\"Q4:\",IF(MONTH(K369)=12,\"Q3:\",IF(MONTH(K369)=9,\"Q2:\",\"Q1:\")))","v":"Q4:"},{"$f":"SUM(I370:K370)","v":0},null,{"$f":"IF(MONTH(N369)=3,\"Q4:\",IF(MONTH(N369)=12,\"Q3:\",IF(MONTH(N369)=9,\"Q2:\",\"Q1:\")))","v":"Q1:"},{"$f":"SUM(L370:N370)","v":0}]
[]
[null,"Average days from ADM BID to PO (12-month rolling average for children for whom a PO is GRANTED)"]
["Within target",{"$f":"IF(B376<=B377,B376,NA())","v":{"$error":"#N/A"}},{"$error":"#N/A"},{"$error":"#N/A"},{"$error":"#N/A"},{"$error":"#N/A"},{"$error":"#N/A"},{"$error":"#N/A"},{"$error":"#N/A"},{"$error":"#N/A"},{"$error":"#N/A"},{"$error":"#N/A"},{"$error":"#N/A"},{"$error":"#N/A"}]
["Exceeding target",{"$f":"IF(B376>B377,B376,NA())","v":""},"","","","","","","","","","","",""]
[null,{"$f":"HLOOKUP(B$192,Analysis!$B$70:$AX$81,9,FALSE)","v":""},{"$f":"HLOOKUP(C$192,Analysis!$B$70:$AX$81,9,FALSE)","v":""},{"$f":"HLOOKUP(D$192,Analysis!$B$70:$AX$81,9,FALSE)","v":""},{"$f":"HLOOKUP(E$192,Analysis!$B$70:$AX$81,9,FALSE)","v":""},{"$f":"HLOOKUP(F$192,Analysis!$B$70:$AX$81,9,FALSE)","v":""},{"$f":"HLOOKUP(G$192,Analysis!$B$70:$AX$81,9,FALSE)","v":""},{"$f":"HLOOKUP(H$192,Analysis!$B$70:$AX$81,9,FALSE)","v":""},{"$f":"HLOOKUP(I$192,Analysis!$B$70:$AX$81,9,FALSE)","v":""},{"$f":"HLOOKUP(J$192,Analysis!$B$70:$AX$81,9,FALSE)","v":""},{"$f":"HLOOKUP(K$192,Analysis!$B$70:$AX$81,9,FALSE)","v":""},{"$f":"HLOOKUP(L$192,Analysis!$B$70:$AX$81,9,FALSE)","v":""},{"$f":"HLOOKUP(M$192,Analysis!$B$70:$AX$81,9,FALSE)","v":""},{"$f":"HLOOKUP(N$192,Analysis!$B$70:$AX$81,9,FALSE)","v":""}]
[{"$f":"\"Nominal target is \"&B377&\" days\"","v":"Nominal target is 91 days"},{"$f":"Analysis!B362","v":91},{"$f":"$B$377","v":91},91,91,91,91,91,91,91,91,91,91,91]
[]
[]
[]
[]
[null,null,{"$f":"C326","v":"Jul-24 to Jun-25"},null,null,null,null,null,null,null,null,null,{"$f":"M326","v":"Jul-25 to Jun-26"}]
[]
[]
[]
[]
[]
[{"$f":"Analysis!$D$3&\" - Child's Journey as at \"&TEXT(RDate,\"d mmmm yyyy\")&\" (page 13 of 20)\"","v":"England - Child's Journey as at 30 June 2026 (page 13 of 20)"}]
[null,null,null,null,null,null,null,null,null,null,null,null,null,null,null,null,{"$f":"Q251","v":"2023/24"},null,null,{"$f":"T251","v":"2024/25"},null,null,{"$f":"W251","v":"2025/26"},null,null,{"$f":"Z251","v":"2026/27*"}]
["ADM Best Interest Decisions",null,null,null,null,null,null,null,null,null,null,null,null,null,null,"ADM BIDs made",{"$f":"HLOOKUP(Q$251,Analysis!$B$33:$I$41,9,FALSE)","v":0},0,0,{"$f":"HLOOKUP(T$251,Analysis!$B$33:$I$41,9,FALSE)","v":0},0,0,{"$f":"HLOOKUP(W$251,Analysis!$B$33:$I$41,9,FALSE)","v":0},0,0,{"$f":"HLOOKUP(Z$251,Analysis!$B$33:$I$41,9,FALSE)","v":0},0]
[null,"Number of ADM BIDs by year and current status",null,null,null,null,null,null,null,null,null,null,null,null,null,"No PO, plan changed",0,{"$f":"HLOOKUP(Q$251,Analysis!$B$33:$I$67,32,FALSE)","v":0},0,0,{"$f":"HLOOKUP(T$251,Analysis!$B$33:$I$67,32,FALSE)","v":0},0,0,{"$f":"HLOOKUP(W$251,Analysis!$B$33:$I$67,32,FALSE)","v":0},0,0,{"$f":"HLOOKUP(Z$251,Analysis!$B$33:$I$67,32,FALSE)","v":0}]
[null,null,null,null,null,null,null,null,null,null,null,null,null,null,null,"PO granted, plan changed",0,{"$f":"HLOOKUP(Q$251,Analysis!$B$33:$I$67,33,FALSE)","v":0},0,0,{"$f":"HLOOKUP(T$251,Analysis!$B$33:$I$67,33,FALSE)","v":0},0,0,{"$f":"HLOOKUP(W$251,Analysis!$B$33:$I$67,33,FALSE)","v":0},0,0,{"$f":"HLOOKUP(Z$251,Analysis!$B$33:$I$67,33,FALSE)","v":0}]
[null,null,null,null,null,null,null,null,null,null,null,null,null,null,null,"PO granted, no change of plan",0,{"$f":"HLOOKUP(Q$251,Analysis!$B$33:$I$67,34,FALSE)","v":0},0,0,{"$f":"HLOOKUP(T$251,Analysis!$B$33:$I$67,34,FALSE)","v":0},0,0,{"$f":"HLOOKUP(W$251,Analysis!$B$33:$I$67,34,FALSE)","v":0},0,0,{"$f":"HLOOKUP(Z$251,Analysis!$B$33:$I$67,34,FALSE)","v":0}]
[null,null,null,null,null,null,null,null,null,null,null,null,null,null,null,"Awaiting PO",0,{"$f":"HLOOKUP(Q$251,Analysis!$B$33:$I$67,35,FALSE)","v":0},0,0,{"$f":"HLOOKUP(T$251,Analysis!$B$33:$I$67,35,FALSE)","v":0},0,0,{"$f":"HLOOKUP(W$251,Analysis!$B$33:$I$67,35,FALSE)","v":0},0,0,{"$f":"HLOOKUP(Z$251,Analysis!$B$33:$I$67,35,FALSE)","v":0}]
[]
[null,null,{"$f":"C299","v":"2023/24"},null,{"$f":"E299","v":"2024/25"},null,{"$f":"G299","v":"2025/26"},null,{"$f":"I299","v":"2026/27*"}]
[null,"COP %:",{"$f":"IF(Q390>0,SUM(R391:R392)/Q390,\"\")","v":""},null,{"$f":"IF(T390>0,SUM(U391:U392)/T390,\"\")","v":""},null,{"$f":"IF(W390>0,SUM(X391:X392)/W390,\"\")","v":""},null,{"$f":"IF(Z390>0,SUM(AA391:AA392)/Z390,\"\")","v":""}]
[]
[null,"Number of BIDs (12-month rolling total)"]
[]
[]
[null,{"$f":"TEXT(EDATE(P402,-12),\"mmm-yy\")&\" to \"&TEXT(P402-1,\"mmm-yy\")","v":"Oct-23 to Sep-24"},null,null,null,null,null,{"$f":"TEXT(EDATE(AA402,-12),\"mmm-yy\")&\" to \"&TEXT(AA402-1,\"mmm-yy\")","v":"Sep-24 to Aug-25"},null,null,null,null,null,{"$f":"TEXT(EDATE(AK402,-12),\"mmm-yy\")&\" to \"&TEXT(AK402-1,\"mmm-yy\")","v":"Jul-25 to Jun-26"},null,{"$f":"EDATE(Q402,-1)","v":45566},45597,45627,45658,45689,45717,45748,45778,45809,45839,{"$f":"EDATE(AA402,-1)","v":45870},{"$f":"EDATE(AB402,-1)","v":45901},45931,45962,45992,46023,46054,46082,46113,46143,{"$f":"EDATE(AK402,-1)","v":46174},{"$f":"RDate+1","v":46204}]
[null,null,null,null,null,null,null,null,null,null,null,null,null,null,null,{"$f":"HLOOKUP(P402,Analysis!$B$70:$AX$81,7,FALSE)","v":0},{"$f":"HLOOKUP(Q402,Analysis!$B$70:$AX$81,7,FALSE)","v":0},{"$f":"HLOOKUP(R402,Analysis!$B$70:$AX$81,7,FALSE)","v":0},{"$f":"HLOOKUP(S402,Analysis!$B$70:$AX$81,7,FALSE)","v":0},{"$f":"HLOOKUP(T402,Analysis!$B$70:$AX$81,7,FALSE)","v":0},{"$f":"HLOOKUP(U402,Analysis!$B$70:$AX$81,7,FALSE)","v":0},{"$f":"HLOOKUP(V402,Analysis!$B$70:$AX$81,7,FALSE)","v":0},{"$f":"HLOOKUP(W402,Analysis!$B$70:$AX$81,7,FALSE)","v":0},{"$f":"HLOOKUP(X402,Analysis!$B$70:$AX$81,7,FALSE)","v":0},{"$f":"HLOOKUP(Y402,Analysis!$B$70:$AX$81,7,FALSE)","v":0},{"$f":"HLOOKUP(Z402,Analysis!$B$70:$AX$81,7,FALSE)","v":0},{"$f":"HLOOKUP(AA402,Analysis!$B$70:$AX$81,7,FALSE)","v":0},{"$f":"HLOOKUP(AB402,Analysis!$B$70:$AX$81,7,FALSE)","v":0},{"$f":"HLOOKUP(AC402,Analysis!$B$70:$AX$81,7,FALSE)","v":0},{"$f":"HLOOKUP(AD402,Analysis!$B$70:$AX$81,7,FALSE)","v":0},{"$f":"HLOOKUP(AE402,Analysis!$B$70:$AX$81,7,FALSE)","v":0},{"$f":"HLOOKUP(AF402,Analysis!$B$70:$AX$81,7,FALSE)","v":0},{"$f":"HLOOKUP(AG402,Analysis!$B$70:$AX$81,7,FALSE)","v":0},{"$f":"HLOOKUP(AH402,Analysis!$B$70:$AX$81,7,FALSE)","v":0},{"$f":"HLOOKUP(AI402,Analysis!$B$70:$AX$81,7,FALSE)","v":0},{"$f":"HLOOKUP(AJ402,Analysis!$B$70:$AX$81,7,FALSE)","v":0},{"$f":"HLOOKUP(AK402,Analysis!$B$70:$AX$81,7,FALSE)","v":0}]
[null,"Number of BIDs per month"]
[]
[]
[]
[]
[]
[]
[null,null,{"$f":"EDATE(D411,-1)","v":"2025-07-01"},"2025-08-01","2025-09-01","2025-10-01","2025-11-01","2025-12-01","2026-01-01","2026-02-01","2026-03-01","2026-04-01","2026-05-01",{"$f":"DATE(YEAR(RDate),MONTH(RDate),1)","v":"2026-06-01"}]
[null,null,{"$f":"HLOOKUP(C411,Analysis!$B$6:$AX$11,6,FALSE)","v":0},{"$f":"HLOOKUP(D411,Analysis!$B$6:$AX$11,6,FALSE)","v":0},{"$f":"HLOOKUP(E411,Analysis!$B$6:$AX$11,6,FALSE)","v":0},{"$f":"HLOOKUP(F411,Analysis!$B$6:$AX$11,6,FALSE)","v":0},{"$f":"HLOOKUP(G411,Analysis!$B$6:$AX$11,6,FALSE)","v":0},{"$f":"HLOOKUP(H411,Analysis!$B$6:$AX$11,6,FALSE)","v":0},{"$f":"HLOOKUP(I411,Analysis!$B$6:$AX$11,6,FALSE)","v":0},{"$f":"HLOOKUP(J411,Analysis!$B$6:$AX$11,6,FALSE)","v":0},{"$f":"HLOOKUP(K411,Analysis!$B$6:$AX$11,6,FALSE)","v":0},{"$f":"HLOOKUP(L411,Analysis!$B$6:$AX$11,6,FALSE)","v":0},{"$f":"HLOOKUP(M411,Analysis!$B$6:$AX$11,6,FALSE)","v":0},{"$f":"HLOOKUP(N411,Analysis!$B$6:$AX$11,6,FALSE)","v":0}]
[null,null,null,{"$f":"IF(MONTH(E411)=3,\"Q4:\",IF(MONTH(E411)=12,\"Q3:\",IF(MONTH(E411)=9,\"Q2:\",\"Q1:\")))","v":"Q2:"},{"$f":"SUM(C412:E412)","v":0},null,{"$f":"IF(MONTH(H411)=3,\"Q4:\",IF(MONTH(H411)=12,\"Q3:\",IF(MONTH(H411)=9,\"Q2:\",\"Q1:\")))","v":"Q3:"},{"$f":"SUM(F412:H412)","v":0},null,{"$f":"IF(MONTH(K411)=3,\"Q4:\",IF(MONTH(K411)=12,\"Q3:\",IF(MONTH(K411)=9,\"Q2:\",\"Q1:\")))","v":"Q4:"},{"$f":"SUM(I412:K412)","v":0},null,{"$f":"IF(MONTH(N411)=3,\"Q4:\",IF(MONTH(N411)=12,\"Q3:\",IF(MONTH(N411)=9,\"Q2:\",\"Q1:\")))","v":"Q1:"},{"$f":"SUM(L412:N412)","v":0}]
[]
[{"$f":"Analysis!$D$3&\" - Child's Journey as at \"&TEXT(RDate,\"d mmmm yyyy\")&\" (page 14 of 20)\"","v":"England - Child's Journey as at 30 June 2026 (page 14 of 20)"}]
[]
[null,"Average days from BLA to ADM BID (12-month rolling average for children for whom ADOPTION PLAN IS APPROVED)"]
[{"$f":"\"NMS target is \"&B418&\" days\"","v":"NMS target is 182 days"},{"$f":"Analysis!B363","v":182},{"$f":"$B$418","v":182},182,182,182,182,182,182,182,182,182,182,182]
["Within target",{"$f":"IF(B421<=B418,B421,NA())","v":{"$error":"#N/A"}},{"$error":"#N/A"},{"$error":"#N/A"},{"$error":"#N/A"},{"$error":"#N/A"},{"$error":"#N/A"},{"$error":"#N/A"},{"$error":"#N/A"},{"$error":"#N/A"},{"$error":"#N/A"},{"$error":"#N/A"},{"$error":"#N/A"},{"$error":"#N/A"}]
["Exceeding target",{"$f":"IF(B421>B418,B421,NA())","v":""},"","","","","","","","","","","",""]
[null,{"$f":"HLOOKUP(B$192,Analysis!$B$70:$AX$81,8,FALSE)","v":""},{"$f":"HLOOKUP(C$192,Analysis!$B$70:$AX$81,8,FALSE)","v":""},{"$f":"HLOOKUP(D$192,Analysis!$B$70:$AX$81,8,FALSE)","v":""},{"$f":"HLOOKUP(E$192,Analysis!$B$70:$AX$81,8,FALSE)","v":""},{"$f":"HLOOKUP(F$192,Analysis!$B$70:$AX$81,8,FALSE)","v":""},{"$f":"HLOOKUP(G$192,Analysis!$B$70:$AX$81,8,FALSE)","v":""},{"$f":"HLOOKUP(H$192,Analysis!$B$70:$AX$81,8,FALSE)","v":""},{"$f":"HLOOKUP(I$192,Analysis!$B$70:$AX$81,8,FALSE)","v":""},{"$f":"HLOOKUP(J$192,Analysis!$B$70:$AX$81,8,FALSE)","v":""},{"$f":"HLOOKUP(K$192,Analysis!$B$70:$AX$81,8,FALSE)","v":""},{"$f":"HLOOKUP(L$192,Analysis!$B$70:$AX$81,8,FALSE)","v":""},{"$f":"HLOOKUP(M$192,Analysis!$B$70:$AX$81,8,FALSE)","v":""},{"$f":"HLOOKUP(N$192,Analysis!$B$70:$AX$81,8,FALSE)","v":""}]
[]
[]
[]
[]
[null,{"$f":"C266","v":"Jul-24 to Jun-25"},null,null,null,null,null,null,null,null,null,null,{"$f":"M266","v":"Jul-25 to Jun-26"}]
[]
[null,null,null,null,null,null,{"$f":"IF(E432=1,\"1 child with a SHOPA BID but no PO yet\",E432&\" children with a BID but no PO yet\")","v":"0 children with a BID but no PO yet"}]
[null,null,null,null,null,null,null,null,null,{"$f":"IF(ISERROR(K429),\"\",\"waiting an average of \"&TEXT(K429,\"0.0\")&\" days \")","v":"waiting an average of  days "},{"$f":"Analysis!N116","v":""}]
[null,null,null,null,null,null,"Time since ADM (SHOPA) BID"]
[]
[null,null,null,null,{"$f":"E433","v":0},{"$f":"F433&\" - Less than two months\"","v":"0 - Less than two months"},{"$f":"G433&\" - 2-4 months\"","v":"0 - 2-4 months"},{"$f":"H433&\" - 4-6 months\"","v":"0 - 4-6 months"},{"$f":"I433&\" - 6-14 months\"","v":"0 - 6-14 months"},{"$f":"J433&\" - Over 14 months\"","v":"0 - Over 14 months"}]
["ADM Best Interest Decisions",null,null,null,{"$f":"SUM(F433:J433)","v":0},{"$f":"Analysis!N114","v":0},{"$f":"Analysis!N113","v":0},{"$f":"Analysis!N112","v":0},{"$f":"Analysis!N111","v":0},{"$f":"Analysis!N110","v":0},{"$f":"$B$208-E433","v":0}]
[]
[]
[]
[]
[null,null,null,null,"% children entering care under the age of 5 for whom adoption is the plan"]
[null,null,null,null,"(12-month rolling average)"]
[]
[]
[]
[]
[null,null,null,null,{"$f":"EDATE(F444,-3)","v":45658},45748,45839,45931,46023,{"$f":"EDATE(K444,-3)","v":46113},{"$f":"RDate+1","v":46204}]
[null,null,null,null,{"$f":"HLOOKUP(E444,Analysis!$B$91:$AH$94,4,FALSE)","v":""},{"$f":"HLOOKUP(F444,Analysis!$B$91:$AH$94,4,FALSE)","v":""},{"$f":"HLOOKUP(G444,Analysis!$B$91:$AH$94,4,FALSE)","v":""},{"$f":"HLOOKUP(H444,Analysis!$B$91:$AH$94,4,FALSE)","v":""},{"$f":"HLOOKUP(I444,Analysis!$B$91:$AH$94,4,FALSE)","v":""},{"$f":"HLOOKUP(J444,Analysis!$B$91:$AH$94,4,FALSE)","v":""},{"$f":"HLOOKUP(K444,Analysis!$B$91:$AH$94,4,FALSE)","v":""}]
[null,null,null,null,{"$f":"TEXT(EDATE(E444,-12),\"mmm-yy\")&\" to \"&TEXT(E444-1,\"mmm-yy\")","v":"Jan-24 to Dec-24"},null,null,null,null,null,{"$f":"M426","v":"Jul-25 to Jun-26"}]
[]
[]
[]
[]
[]
[{"$f":"Analysis!$D$3&\" - Child's Journey as at \"&TEXT(RDate,\"d mmmm yyyy\")&\" (page 15 of 20)\"","v":"England - Child's Journey as at 30 June 2026 (page 15 of 20)"}]
[]
["Breakdown of A2 Performance (PO to match)",{"$f":"\"Characteristics of children matched between \"&TEXT(SDate,\"d mmmm yyyy\")&\" and \"&TEXT(RDate,\"d mmmm yyyy\")","v":"Characteristics of children matched between 1 July 2023 and 30 June 2026"}]
[null,null,null,null,null,null,"Age when Placement Order was granted"]
[null,null,null,null,null,"Characteristics",0,1,2,3,4,5,">5"]
[null,null,null,null,null,"White | single child | no disability",{"$f":"Analysis!B196","v":0},{"$f":"Analysis!C196","v":0},{"$f":"Analysis!D196","v":0},{"$f":"Analysis!E196","v":0},{"$f":"Analysis!F196","v":0},{"$f":"Analysis!G196","v":0},{"$f":"Analysis!H196","v":0}]
[null,null,null,null,null,"BME | single child | no disability",{"$f":"Analysis!B197","v":0},{"$f":"Analysis!C197","v":0},{"$f":"Analysis!D197","v":0},{"$f":"Analysis!E197","v":0},{"$f":"Analysis!F197","v":0},{"$f":"Analysis!G197","v":0},{"$f":"Analysis!H197","v":0}]
[null,null,null,null,null,"White | single child | with disability",{"$f":"Analysis!B198","v":0},{"$f":"Analysis!C198","v":0},{"$f":"Analysis!D198","v":0},{"$f":"Analysis!E198","v":0},{"$f":"Analysis!F198","v":0},{"$f":"Analysis!G198","v":0},{"$f":"Analysis!H198","v":0}]
[null,null,null,null,null,"BME | single child | with disability",{"$f":"Analysis!B199","v":0},{"$f":"Analysis!C199","v":0},{"$f":"Analysis!D199","v":0},{"$f":"Analysis!E199","v":0},{"$f":"Analysis!F199","v":0},{"$f":"Analysis!G199","v":0},{"$f":"Analysis!H199","v":0}]
[null,null,null,null,null,"White | sibling group of 2 | no disability",{"$f":"Analysis!B200","v":0},{"$f":"Analysis!C200","v":0},{"$f":"Analysis!D200","v":0},{"$f":"Analysis!E200","v":0},{"$f":"Analysis!F200","v":0},{"$f":"Analysis!G200","v":0},{"$f":"Analysis!H200","v":0}]
[null,null,null,null,null,"BME | sibling group of 2 | no disability",{"$f":"Analysis!B201","v":0},{"$f":"Analysis!C201","v":0},{"$f":"Analysis!D201","v":0},{"$f":"Analysis!E201","v":0},{"$f":"Analysis!F201","v":0},{"$f":"Analysis!G201","v":0},{"$f":"Analysis!H201","v":0}]
[null,null,null,null,null,"White | sibling group of 2 | with disability",{"$f":"Analysis!B202","v":0},{"$f":"Analysis!C202","v":0},{"$f":"Analysis!D202","v":0},{"$f":"Analysis!E202","v":0},{"$f":"Analysis!F202","v":0},{"$f":"Analysis!G202","v":0},{"$f":"Analysis!H202","v":0}]
[null,null,null,null,null,"BME | sibling group of 2 | with disability",{"$f":"Analysis!B203","v":0},{"$f":"Analysis!C203","v":0},{"$f":"Analysis!D203","v":0},{"$f":"Analysis!E203","v":0},{"$f":"Analysis!F203","v":0},{"$f":"Analysis!G203","v":0},{"$f":"Analysis!H203","v":0}]
[null,null,null,null,null,"White | sibling group of 3 | no disability",{"$f":"Analysis!B204","v":0},{"$f":"Analysis!C204","v":0},{"$f":"Analysis!D204","v":0},{"$f":"Analysis!E204","v":0},{"$f":"Analysis!F204","v":0},{"$f":"Analysis!G204","v":0},{"$f":"Analysis!H204","v":0}]
[null,null,null,null,null,"BME | sibling group of 3 | no disability",{"$f":"Analysis!B205","v":0},{"$f":"Analysis!C205","v":0},{"$f":"Analysis!D205","v":0},{"$f":"Analysis!E205","v":0},{"$f":"Analysis!F205","v":0},{"$f":"Analysis!G205","v":0},{"$f":"Analysis!H205","v":0}]
[null,null,null,null,null,"White | sibling group of 3 | with disability",{"$f":"Analysis!B206","v":0},{"$f":"Analysis!C206","v":0},{"$f":"Analysis!D206","v":0},{"$f":"Analysis!E206","v":0},{"$f":"Analysis!F206","v":0},{"$f":"Analysis!G206","v":0},{"$f":"Analysis!H206","v":0}]
[null,null,null,null,null,"BME | sibling group of 3 | with disability",{"$f":"Analysis!B207","v":0},{"$f":"Analysis!C207","v":0},{"$f":"Analysis!D207","v":0},{"$f":"Analysis!E207","v":0},{"$f":"Analysis!F207","v":0},{"$f":"Analysis!G207","v":0},{"$f":"Analysis!H207","v":0}]
[]
["Breakdown of A10 Performance (BLA to placement, adjusted for foster carer adoptions)"]
[null,{"$f":"\"Characteristics of children placed between \"&TEXT(SDate,\"d mmmm yyyy\")&\" and \"&TEXT(RDate,\"d mmmm yyyy\")","v":"Characteristics of children placed between 1 July 2023 and 30 June 2026"}]
[null,null,null,null,null,null,"Age when Placement Order was granted"]
[null,null,null,null,null,"Characteristics",0,1,2,3,4,5,">5"]
[null,null,null,null,null,"White | single child | no disability",{"$f":"Analysis!B239","v":0},{"$f":"Analysis!C239","v":0},{"$f":"Analysis!D239","v":0},{"$f":"Analysis!E239","v":0},{"$f":"Analysis!F239","v":0},{"$f":"Analysis!G239","v":0},{"$f":"Analysis!H239","v":0}]
[null,null,null,null,null,"BME | single child | no disability",{"$f":"Analysis!B240","v":0},{"$f":"Analysis!C240","v":0},{"$f":"Analysis!D240","v":0},{"$f":"Analysis!E240","v":0},{"$f":"Analysis!F240","v":0},{"$f":"Analysis!G240","v":0},{"$f":"Analysis!H240","v":0}]
[null,null,null,null,null,"White | single child | with disability",{"$f":"Analysis!B241","v":0},{"$f":"Analysis!C241","v":0},{"$f":"Analysis!D241","v":0},{"$f":"Analysis!E241","v":0},{"$f":"Analysis!F241","v":0},{"$f":"Analysis!G241","v":0},{"$f":"Analysis!H241","v":0}]
[null,null,null,null,null,"BME | single child | with disability",{"$f":"Analysis!B242","v":0},{"$f":"Analysis!C242","v":0},{"$f":"Analysis!D242","v":0},{"$f":"Analysis!E242","v":0},{"$f":"Analysis!F242","v":0},{"$f":"Analysis!G242","v":0},{"$f":"Analysis!H242","v":0}]
[null,null,null,null,null,"White | sibling group of 2 | no disability",{"$f":"Analysis!B243","v":0},{"$f":"Analysis!C243","v":0},{"$f":"Analysis!D243","v":0},{"$f":"Analysis!E243","v":0},{"$f":"Analysis!F243","v":0},{"$f":"Analysis!G243","v":0},{"$f":"Analysis!H243","v":0}]
[null,null,null,null,null,"BME | sibling group of 2 | no disability",{"$f":"Analysis!B244","v":0},{"$f":"Analysis!C244","v":0},{"$f":"Analysis!D244","v":0},{"$f":"Analysis!E244","v":0},{"$f":"Analysis!F244","v":0},{"$f":"Analysis!G244","v":0},{"$f":"Analysis!H244","v":0}]
[null,null,null,null,null,"White | sibling group of 2 | with disability",{"$f":"Analysis!B245","v":0},{"$f":"Analysis!C245","v":0},{"$f":"Analysis!D245","v":0},{"$f":"Analysis!E245","v":0},{"$f":"Analysis!F245","v":0},{"$f":"Analysis!G245","v":0},{"$f":"Analysis!H245","v":0}]
[null,null,null,null,null,"BME | sibling group of 2 | with disability",{"$f":"Analysis!B246","v":0},{"$f":"Analysis!C246","v":0},{"$f":"Analysis!D246","v":0},{"$f":"Analysis!E246","v":0},{"$f":"Analysis!F246","v":0},{"$f":"Analysis!G246","v":0},{"$f":"Analysis!H246","v":0}]
[null,null,null,null,null,"White | sibling group of 3 | no disability",{"$f":"Analysis!B247","v":0},{"$f":"Analysis!C247","v":0},{"$f":"Analysis!D247","v":0},{"$f":"Analysis!E247","v":0},{"$f":"Analysis!F247","v":0},{"$f":"Analysis!G247","v":0},{"$f":"Analysis!H247","v":0}]
[null,null,null,null,null,"BME | sibling group of 3 | no disability",{"$f":"Analysis!B248","v":0},{"$f":"Analysis!C248","v":0},{"$f":"Analysis!D248","v":0},{"$f":"Analysis!E248","v":0},{"$f":"Analysis!F248","v":0},{"$f":"Analysis!G248","v":0},{"$f":"Analysis!H248","v":0}]
[null,null,null,null,null,"White | sibling group of 3 | with disability",{"$f":"Analysis!B249","v":0},{"$f":"Analysis!C249","v":0},{"$f":"Analysis!D249","v":0},{"$f":"Analysis!E249","v":0},{"$f":"Analysis!F249","v":0},{"$f":"Analysis!G249","v":0},{"$f":"Analysis!H249","v":0}]
[null,null,null,null,null,"BME | sibling group of 3 | with disability",{"$f":"Analysis!B250","v":0},{"$f":"Analysis!C250","v":0},{"$f":"Analysis!D250","v":0},{"$f":"Analysis!E250","v":0},{"$f":"Analysis!F250","v":0},{"$f":"Analysis!G250","v":0},{"$f":"Analysis!H250","v":0}]
[]
[{"$f":"Analysis!$D$3&\" - Child's Journey as at \"&TEXT(RDate,\"d mmmm yyyy\")&\" (page 16 of 20)\"","v":"England - Child's Journey as at 30 June 2026 (page 16 of 20)"}]
[]
["Breakdown of A2 Performance (PO to match)",{"$f":"\"Average days from PO to match by characteristic, for children matched between \"&TEXT(SDate,\"d mmmm yyyy\")&\" and \"&TEXT(RDate,\"d mmmm yyyy\")","v":"Average days from PO to match by characteristic, for children matched between 1 July 2023 and 30 June 2026"}]
[]
[null,null,null,null,null,null,"Age when Placement Order was granted"]
[null,null,null,null,null,"Characteristics",0,1,2,3,4,5,">5"]
[null,null,null,null,null,"White | single child | no disability",{"$f":"Analysis!B210","v":""},{"$f":"Analysis!C210","v":""},{"$f":"Analysis!D210","v":""},{"$f":"Analysis!E210","v":""},{"$f":"Analysis!F210","v":""},{"$f":"Analysis!G210","v":""},{"$f":"Analysis!H210","v":""}]
[null,null,null,null,null,"BME | single child | no disability",{"$f":"Analysis!B211","v":""},{"$f":"Analysis!C211","v":""},{"$f":"Analysis!D211","v":""},{"$f":"Analysis!E211","v":""},{"$f":"Analysis!F211","v":""},{"$f":"Analysis!G211","v":""},{"$f":"Analysis!H211","v":""}]
[null,null,null,null,null,"White | single child | with disability",{"$f":"Analysis!B212","v":""},{"$f":"Analysis!C212","v":""},{"$f":"Analysis!D212","v":""},{"$f":"Analysis!E212","v":""},{"$f":"Analysis!F212","v":""},{"$f":"Analysis!G212","v":""},{"$f":"Analysis!H212","v":""}]
[null,null,null,null,null,"BME | single child | with disability",{"$f":"Analysis!B213","v":""},{"$f":"Analysis!C213","v":""},{"$f":"Analysis!D213","v":""},{"$f":"Analysis!E213","v":""},{"$f":"Analysis!F213","v":""},{"$f":"Analysis!G213","v":""},{"$f":"Analysis!H213","v":""}]
[null,null,null,null,null,"White | sibling group of 2 | no disability",{"$f":"Analysis!B214","v":""},{"$f":"Analysis!C214","v":""},{"$f":"Analysis!D214","v":""},{"$f":"Analysis!E214","v":""},{"$f":"Analysis!F214","v":""},{"$f":"Analysis!G214","v":""},{"$f":"Analysis!H214","v":""}]
[null,null,null,null,null,"BME | sibling group of 2 | no disability",{"$f":"Analysis!B215","v":""},{"$f":"Analysis!C215","v":""},{"$f":"Analysis!D215","v":""},{"$f":"Analysis!E215","v":""},{"$f":"Analysis!F215","v":""},{"$f":"Analysis!G215","v":""},{"$f":"Analysis!H215","v":""}]
[null,null,null,null,null,"White | sibling group of 2 | with disability",{"$f":"Analysis!B216","v":""},{"$f":"Analysis!C216","v":""},{"$f":"Analysis!D216","v":""},{"$f":"Analysis!E216","v":""},{"$f":"Analysis!F216","v":""},{"$f":"Analysis!G216","v":""},{"$f":"Analysis!H216","v":""}]
[null,null,null,null,null,"BME | sibling group of 2 | with disability",{"$f":"Analysis!B217","v":""},{"$f":"Analysis!C217","v":""},{"$f":"Analysis!D217","v":""},{"$f":"Analysis!E217","v":""},{"$f":"Analysis!F217","v":""},{"$f":"Analysis!G217","v":""},{"$f":"Analysis!H217","v":""}]
[null,null,null,null,null,"White | sibling group of 3 | no disability",{"$f":"Analysis!B218","v":""},{"$f":"Analysis!C218","v":""},{"$f":"Analysis!D218","v":""},{"$f":"Analysis!E218","v":""},{"$f":"Analysis!F218","v":""},{"$f":"Analysis!G218","v":""},{"$f":"Analysis!H218","v":""}]
[null,null,null,null,null,"BME | sibling group of 3 | no disability",{"$f":"Analysis!B219","v":""},{"$f":"Analysis!C219","v":""},{"$f":"Analysis!D219","v":""},{"$f":"Analysis!E219","v":""},{"$f":"Analysis!F219","v":""},{"$f":"Analysis!G219","v":""},{"$f":"Analysis!H219","v":""}]
[null,null,null,null,null,"White | sibling group of 3 | with disability",{"$f":"Analysis!B220","v":""},{"$f":"Analysis!C220","v":""},{"$f":"Analysis!D220","v":""},{"$f":"Analysis!E220","v":""},{"$f":"Analysis!F220","v":""},{"$f":"Analysis!G220","v":""},{"$f":"Analysis!H220","v":""}]
[null,null,null,null,null,"BME | sibling group of 3 | with disability",{"$f":"Analysis!B221","v":""},{"$f":"Analysis!C221","v":""},{"$f":"Analysis!D221","v":""},{"$f":"Analysis!E221","v":""},{"$f":"Analysis!F221","v":""},{"$f":"Analysis!G221","v":""},{"$f":"Analysis!H221","v":""}]
[]
["Breakdown of A10 Performance (BLA to placement, adjusted for foster carer adoptions)"]
[null,{"$f":"\"Average days from BLA to placement by characteristic, for children placed between \"&TEXT(SDate,\"d mmmm yyyy\")&\" and \"&TEXT(RDate,\"d mmmm yyyy\")","v":"Average days from BLA to placement by characteristic, for children placed between 1 July 2023 and 30 June 2026"}]
[]
[null,null,null,null,null,null,"Age when Placement Order was granted"]
[null,null,null,null,null,"Characteristics",0,1,2,3,4,5,">5"]
[null,null,null,null,null,"White | single child | no disability",{"$f":"Analysis!B253","v":""},{"$f":"Analysis!C253","v":""},{"$f":"Analysis!D253","v":""},{"$f":"Analysis!E253","v":""},{"$f":"Analysis!F253","v":""},{"$f":"Analysis!G253","v":""},{"$f":"Analysis!H253","v":""}]
[null,null,null,null,null,"BME | single child | no disability",{"$f":"Analysis!B254","v":""},{"$f":"Analysis!C254","v":""},{"$f":"Analysis!D254","v":""},{"$f":"Analysis!E254","v":""},{"$f":"Analysis!F254","v":""},{"$f":"Analysis!G254","v":""},{"$f":"Analysis!H254","v":""}]
[null,null,null,null,null,"White | single child | with disability",{"$f":"Analysis!B255","v":""},{"$f":"Analysis!C255","v":""},{"$f":"Analysis!D255","v":""},{"$f":"Analysis!E255","v":""},{"$f":"Analysis!F255","v":""},{"$f":"Analysis!G255","v":""},{"$f":"Analysis!H255","v":""}]
[null,null,null,null,null,"BME | single child | with disability",{"$f":"Analysis!B256","v":""},{"$f":"Analysis!C256","v":""},{"$f":"Analysis!D256","v":""},{"$f":"Analysis!E256","v":""},{"$f":"Analysis!F256","v":""},{"$f":"Analysis!G256","v":""},{"$f":"Analysis!H256","v":""}]
[null,null,null,null,null,"White | sibling group of 2 | no disability",{"$f":"Analysis!B257","v":""},{"$f":"Analysis!C257","v":""},{"$f":"Analysis!D257","v":""},{"$f":"Analysis!E257","v":""},{"$f":"Analysis!F257","v":""},{"$f":"Analysis!G257","v":""},{"$f":"Analysis!H257","v":""}]
[null,null,null,null,null,"BME | sibling group of 2 | no disability",{"$f":"Analysis!B258","v":""},{"$f":"Analysis!C258","v":""},{"$f":"Analysis!D258","v":""},{"$f":"Analysis!E258","v":""},{"$f":"Analysis!F258","v":""},{"$f":"Analysis!G258","v":""},{"$f":"Analysis!H258","v":""}]
[null,null,null,null,null,"White | sibling group of 2 | with disability",{"$f":"Analysis!B259","v":""},{"$f":"Analysis!C259","v":""},{"$f":"Analysis!D259","v":""},{"$f":"Analysis!E259","v":""},{"$f":"Analysis!F259","v":""},{"$f":"Analysis!G259","v":""},{"$f":"Analysis!H259","v":""}]
[null,null,null,null,null,"BME | sibling group of 2 | with disability",{"$f":"Analysis!B260","v":""},{"$f":"Analysis!C260","v":""},{"$f":"Analysis!D260","v":""},{"$f":"Analysis!E260","v":""},{"$f":"Analysis!F260","v":""},{"$f":"Analysis!G260","v":""},{"$f":"Analysis!H260","v":""}]
[null,null,null,null,null,"White | sibling group of 3 | no disability",{"$f":"Analysis!B261","v":""},{"$f":"Analysis!C261","v":""},{"$f":"Analysis!D261","v":""},{"$f":"Analysis!E261","v":""},{"$f":"Analysis!F261","v":""},{"$f":"Analysis!G261","v":""},{"$f":"Analysis!H261","v":""}]
[null,null,null,null,null,"BME | sibling group of 3 | no disability",{"$f":"Analysis!B262","v":""},{"$f":"Analysis!C262","v":""},{"$f":"Analysis!D262","v":""},{"$f":"Analysis!E262","v":""},{"$f":"Analysis!F262","v":""},{"$f":"Analysis!G262","v":""},{"$f":"Analysis!H262","v":""}]
[null,null,null,null,null,"White | sibling group of 3 | with disability",{"$f":"Analysis!B263","v":""},{"$f":"Analysis!C263","v":""},{"$f":"Analysis!D263","v":""},{"$f":"Analysis!E263","v":""},{"$f":"Analysis!F263","v":""},{"$f":"Analysis!G263","v":""},{"$f":"Analysis!H263","v":""}]
[null,null,null,null,null,"BME | sibling group of 3 | with disability",{"$f":"Analysis!B264","v":""},{"$f":"Analysis!C264","v":""},{"$f":"Analysis!D264","v":""},{"$f":"Analysis!E264","v":""},{"$f":"Analysis!F264","v":""},{"$f":"Analysis!G264","v":""},{"$f":"Analysis!H264","v":""}]
[]
[{"$f":"Analysis!$D$3&\" - Child's Journey as at \"&TEXT(RDate,\"d mmmm yyyy\")&\" (page 17 of 20)\"","v":"England - Child's Journey as at 30 June 2026 (page 17 of 20)"}]
[]
["Breakdown of A2 Performance (PO to match)",null,"Proportion of children matched more than 4 months after their Placement Order"]
[]
[null,null,null,null,null,null,"Age when Placement Order was granted"]
[null,null,null,null,null,"Characteristics",0,1,2,3,4,5,">5"]
[null,null,null,null,null,"White | single child | no disability",{"$f":"Analysis!B224","v":""},{"$f":"Analysis!C224","v":""},{"$f":"Analysis!D224","v":""},{"$f":"Analysis!E224","v":""},{"$f":"Analysis!F224","v":""},{"$f":"Analysis!G224","v":""},{"$f":"Analysis!H224","v":""}]
[null,null,null,null,null,"BME | single child | no disability",{"$f":"Analysis!B225","v":""},{"$f":"Analysis!C225","v":""},{"$f":"Analysis!D225","v":""},{"$f":"Analysis!E225","v":""},{"$f":"Analysis!F225","v":""},{"$f":"Analysis!G225","v":""},{"$f":"Analysis!H225","v":""}]
[null,null,null,null,null,"White | single child | with disability",{"$f":"Analysis!B226","v":""},{"$f":"Analysis!C226","v":""},{"$f":"Analysis!D226","v":""},{"$f":"Analysis!E226","v":""},{"$f":"Analysis!F226","v":""},{"$f":"Analysis!G226","v":""},{"$f":"Analysis!H226","v":""}]
[null,null,null,null,null,"BME | single child | with disability",{"$f":"Analysis!B227","v":""},{"$f":"Analysis!C227","v":""},{"$f":"Analysis!D227","v":""},{"$f":"Analysis!E227","v":""},{"$f":"Analysis!F227","v":""},{"$f":"Analysis!G227","v":""},{"$f":"Analysis!H227","v":""}]
[null,null,null,null,null,"White | sibling group of 2 | no disability",{"$f":"Analysis!B228","v":""},{"$f":"Analysis!C228","v":""},{"$f":"Analysis!D228","v":""},{"$f":"Analysis!E228","v":""},{"$f":"Analysis!F228","v":""},{"$f":"Analysis!G228","v":""},{"$f":"Analysis!H228","v":""}]
[null,null,null,null,null,"BME | sibling group of 2 | no disability",{"$f":"Analysis!B229","v":""},{"$f":"Analysis!C229","v":""},{"$f":"Analysis!D229","v":""},{"$f":"Analysis!E229","v":""},{"$f":"Analysis!F229","v":""},{"$f":"Analysis!G229","v":""},{"$f":"Analysis!H229","v":""}]
[null,null,null,null,null,"White | sibling group of 2 | with disability",{"$f":"Analysis!B230","v":""},{"$f":"Analysis!C230","v":""},{"$f":"Analysis!D230","v":""},{"$f":"Analysis!E230","v":""},{"$f":"Analysis!F230","v":""},{"$f":"Analysis!G230","v":""},{"$f":"Analysis!H230","v":""}]
[null,null,null,null,null,"BME | sibling group of 2 | with disability",{"$f":"Analysis!B231","v":""},{"$f":"Analysis!C231","v":""},{"$f":"Analysis!D231","v":""},{"$f":"Analysis!E231","v":""},{"$f":"Analysis!F231","v":""},{"$f":"Analysis!G231","v":""},{"$f":"Analysis!H231","v":""}]
[null,null,null,null,null,"White | sibling group of 3 | no disability",{"$f":"Analysis!B232","v":""},{"$f":"Analysis!C232","v":""},{"$f":"Analysis!D232","v":""},{"$f":"Analysis!E232","v":""},{"$f":"Analysis!F232","v":""},{"$f":"Analysis!G232","v":""},{"$f":"Analysis!H232","v":""}]
[null,null,null,null,null,"BME | sibling group of 3 | no disability",{"$f":"Analysis!B233","v":""},{"$f":"Analysis!C233","v":""},{"$f":"Analysis!D233","v":""},{"$f":"Analysis!E233","v":""},{"$f":"Analysis!F233","v":""},{"$f":"Analysis!G233","v":""},{"$f":"Analysis!H233","v":""}]
[null,null,null,null,null,"White | sibling group of 3 | with disability",{"$f":"Analysis!B234","v":""},{"$f":"Analysis!C234","v":""},{"$f":"Analysis!D234","v":""},{"$f":"Analysis!E234","v":""},{"$f":"Analysis!F234","v":""},{"$f":"Analysis!G234","v":""},{"$f":"Analysis!H234","v":""}]
[null,null,null,null,null,"BME | sibling group of 3 | with disability",{"$f":"Analysis!B235","v":""},{"$f":"Analysis!C235","v":""},{"$f":"Analysis!D235","v":""},{"$f":"Analysis!E235","v":""},{"$f":"Analysis!F235","v":""},{"$f":"Analysis!G235","v":""},{"$f":"Analysis!H235","v":""}]
[]
["Breakdown of A10 Performance (BLA to placement, adjusted for foster carer adoptions)"]
[null,null,"Proportion of children placed more than 14 months after entering care"]
[]
[null,null,null,null,null,null,"Age when Placement Order was granted"]
[null,null,null,null,null,"Characteristics",0,1,2,3,4,5,">5"]
[null,null,null,null,null,"White | single child | no disability",{"$f":"Analysis!B267","v":""},{"$f":"Analysis!C267","v":""},{"$f":"Analysis!D267","v":""},{"$f":"Analysis!E267","v":""},{"$f":"Analysis!F267","v":""},{"$f":"Analysis!G267","v":""},{"$f":"Analysis!H267","v":""}]
[null,null,null,null,null,"BME | single child | no disability",{"$f":"Analysis!B268","v":""},{"$f":"Analysis!C268","v":""},{"$f":"Analysis!D268","v":""},{"$f":"Analysis!E268","v":""},{"$f":"Analysis!F268","v":""},{"$f":"Analysis!G268","v":""},{"$f":"Analysis!H268","v":""}]
[null,null,null,null,null,"White | single child | with disability",{"$f":"Analysis!B269","v":""},{"$f":"Analysis!C269","v":""},{"$f":"Analysis!D269","v":""},{"$f":"Analysis!E269","v":""},{"$f":"Analysis!F269","v":""},{"$f":"Analysis!G269","v":""},{"$f":"Analysis!H269","v":""}]
[null,null,null,null,null,"BME | single child | with disability",{"$f":"Analysis!B270","v":""},{"$f":"Analysis!C270","v":""},{"$f":"Analysis!D270","v":""},{"$f":"Analysis!E270","v":""},{"$f":"Analysis!F270","v":""},{"$f":"Analysis!G270","v":""},{"$f":"Analysis!H270","v":""}]
[null,null,null,null,null,"White | sibling group of 2 | no disability",{"$f":"Analysis!B271","v":""},{"$f":"Analysis!C271","v":""},{"$f":"Analysis!D271","v":""},{"$f":"Analysis!E271","v":""},{"$f":"Analysis!F271","v":""},{"$f":"Analysis!G271","v":""},{"$f":"Analysis!H271","v":""}]
[null,null,null,null,null,"BME | sibling group of 2 | no disability",{"$f":"Analysis!B272","v":""},{"$f":"Analysis!C272","v":""},{"$f":"Analysis!D272","v":""},{"$f":"Analysis!E272","v":""},{"$f":"Analysis!F272","v":""},{"$f":"Analysis!G272","v":""},{"$f":"Analysis!H272","v":""}]
[null,null,null,null,null,"White | sibling group of 2 | with disability",{"$f":"Analysis!B273","v":""},{"$f":"Analysis!C273","v":""},{"$f":"Analysis!D273","v":""},{"$f":"Analysis!E273","v":""},{"$f":"Analysis!F273","v":""},{"$f":"Analysis!G273","v":""},{"$f":"Analysis!H273","v":""}]
[null,null,null,null,null,"BME | sibling group of 2 | with disability",{"$f":"Analysis!B274","v":""},{"$f":"Analysis!C274","v":""},{"$f":"Analysis!D274","v":""},{"$f":"Analysis!E274","v":""},{"$f":"Analysis!F274","v":""},{"$f":"Analysis!G274","v":""},{"$f":"Analysis!H274","v":""}]
[null,null,null,null,null,"White | sibling group of 3 | no disability",{"$f":"Analysis!B275","v":""},{"$f":"Analysis!C275","v":""},{"$f":"Analysis!D275","v":""},{"$f":"Analysis!E275","v":""},{"$f":"Analysis!F275","v":""},{"$f":"Analysis!G275","v":""},{"$f":"Analysis!H275","v":""}]
[null,null,null,null,null,"BME | sibling group of 3 | no disability",{"$f":"Analysis!B276","v":""},{"$f":"Analysis!C276","v":""},{"$f":"Analysis!D276","v":""},{"$f":"Analysis!E276","v":""},{"$f":"Analysis!F276","v":""},{"$f":"Analysis!G276","v":""},{"$f":"Analysis!H276","v":""}]
[null,null,null,null,null,"White | sibling group of 3 | with disability",{"$f":"Analysis!B277","v":""},{"$f":"Analysis!C277","v":""},{"$f":"Analysis!D277","v":""},{"$f":"Analysis!E277","v":""},{"$f":"Analysis!F277","v":""},{"$f":"Analysis!G277","v":""},{"$f":"Analysis!H277","v":""}]
[null,null,null,null,null,"BME | sibling group of 3 | with disability",{"$f":"Analysis!B278","v":""},{"$f":"Analysis!C278","v":""},{"$f":"Analysis!D278","v":""},{"$f":"Analysis!E278","v":""},{"$f":"Analysis!F278","v":""},{"$f":"Analysis!G278","v":""},{"$f":"Analysis!H278","v":""}]
[]
[{"$f":"Analysis!$D$3&\" - Child's Journey as at \"&TEXT(RDate,\"d mmmm yyyy\")&\" (page 18 of 20)\"","v":"England - Child's Journey as at 30 June 2026 (page 18 of 20)"}]
[]
["Breakdown of Children granted a PO",{"$f":"\"Characteristics of children granted a PO between \"&TEXT(SDate,\"d mmmm yyyy\")&\" and \"&TEXT(RDate,\"d mmmm yyyy\")","v":"Characteristics of children granted a PO between 1 July 2023 and 30 June 2026"}]
[]
[null,null,null,null,null,null,"Age when Placement Order was granted"]
[null,null,null,null,null,"Characteristics",0,1,2,3,4,5,">5"]
[null,null,null,null,null,"White | single child | no disability",{"$f":"Analysis!B281","v":0},{"$f":"Analysis!C281","v":0},{"$f":"Analysis!D281","v":0},{"$f":"Analysis!E281","v":0},{"$f":"Analysis!F281","v":0},{"$f":"Analysis!G281","v":0},{"$f":"Analysis!H281","v":0}]
[null,null,null,null,null,"BME | single child | no disability",{"$f":"Analysis!B282","v":0},{"$f":"Analysis!C282","v":0},{"$f":"Analysis!D282","v":0},{"$f":"Analysis!E282","v":0},{"$f":"Analysis!F282","v":0},{"$f":"Analysis!G282","v":0},{"$f":"Analysis!H282","v":0}]
[null,null,null,null,null,"White | single child | with disability",{"$f":"Analysis!B283","v":0},{"$f":"Analysis!C283","v":0},{"$f":"Analysis!D283","v":0},{"$f":"Analysis!E283","v":0},{"$f":"Analysis!F283","v":0},{"$f":"Analysis!G283","v":0},{"$f":"Analysis!H283","v":0}]
[null,null,null,null,null,"BME | single child | with disability",{"$f":"Analysis!B284","v":0},{"$f":"Analysis!C284","v":0},{"$f":"Analysis!D284","v":0},{"$f":"Analysis!E284","v":0},{"$f":"Analysis!F284","v":0},{"$f":"Analysis!G284","v":0},{"$f":"Analysis!H284","v":0}]
[null,null,null,null,null,"White | sibling group of 2 | no disability",{"$f":"Analysis!B285","v":0},{"$f":"Analysis!C285","v":0},{"$f":"Analysis!D285","v":0},{"$f":"Analysis!E285","v":0},{"$f":"Analysis!F285","v":0},{"$f":"Analysis!G285","v":0},{"$f":"Analysis!H285","v":0}]
[null,null,null,null,null,"BME | sibling group of 2 | no disability",{"$f":"Analysis!B286","v":0},{"$f":"Analysis!C286","v":0},{"$f":"Analysis!D286","v":0},{"$f":"Analysis!E286","v":0},{"$f":"Analysis!F286","v":0},{"$f":"Analysis!G286","v":0},{"$f":"Analysis!H286","v":0}]
[null,null,null,null,null,"White | sibling group of 2 | with disability",{"$f":"Analysis!B287","v":0},{"$f":"Analysis!C287","v":0},{"$f":"Analysis!D287","v":0},{"$f":"Analysis!E287","v":0},{"$f":"Analysis!F287","v":0},{"$f":"Analysis!G287","v":0},{"$f":"Analysis!H287","v":0}]
[null,null,null,null,null,"BME | sibling group of 2 | with disability",{"$f":"Analysis!B288","v":0},{"$f":"Analysis!C288","v":0},{"$f":"Analysis!D288","v":0},{"$f":"Analysis!E288","v":0},{"$f":"Analysis!F288","v":0},{"$f":"Analysis!G288","v":0},{"$f":"Analysis!H288","v":0}]
[null,null,null,null,null,"White | sibling group of 3 | no disability",{"$f":"Analysis!B289","v":0},{"$f":"Analysis!C289","v":0},{"$f":"Analysis!D289","v":0},{"$f":"Analysis!E289","v":0},{"$f":"Analysis!F289","v":0},{"$f":"Analysis!G289","v":0},{"$f":"Analysis!H289","v":0}]
[null,null,null,null,null,"BME | sibling group of 3 | no disability",{"$f":"Analysis!B290","v":0},{"$f":"Analysis!C290","v":0},{"$f":"Analysis!D290","v":0},{"$f":"Analysis!E290","v":0},{"$f":"Analysis!F290","v":0},{"$f":"Analysis!G290","v":0},{"$f":"Analysis!H290","v":0}]
[null,null,null,null,null,"White | sibling group of 3 | with disability",{"$f":"Analysis!B291","v":0},{"$f":"Analysis!C291","v":0},{"$f":"Analysis!D291","v":0},{"$f":"Analysis!E291","v":0},{"$f":"Analysis!F291","v":0},{"$f":"Analysis!G291","v":0},{"$f":"Analysis!H291","v":0}]
[null,null,null,null,null,"BME | sibling group of 3 | with disability",{"$f":"Analysis!B292","v":0},{"$f":"Analysis!C292","v":0},{"$f":"Analysis!D292","v":0},{"$f":"Analysis!E292","v":0},{"$f":"Analysis!F292","v":0},{"$f":"Analysis!G292","v":0},{"$f":"Analysis!H292","v":0}]
[]
["Breakdown of Children with a BID"]
[null,{"$f":"\"Characteristics of children for whom an ADM BID was made between \"&TEXT(SDate,\"d mmmm yyyy\")&\" and \"&TEXT(RDate,\"d mmmm yyyy\")","v":"Characteristics of children for whom an ADM BID was made between 1 July 2023 and 30 June 2026"}]
[]
[null,null,null,null,null,null,"Age when BID was made"]
[null,null,null,null,null,"Characteristics",0,1,2,3,4,5,">5"]
[null,null,null,null,null,"White | single child | no disability",{"$f":"Analysis!B323","v":0},{"$f":"Analysis!C323","v":0},{"$f":"Analysis!D323","v":0},{"$f":"Analysis!E323","v":0},{"$f":"Analysis!F323","v":0},{"$f":"Analysis!G323","v":0},{"$f":"Analysis!H323","v":0}]
[null,null,null,null,null,"BME | single child | no disability",{"$f":"Analysis!B324","v":0},{"$f":"Analysis!C324","v":0},{"$f":"Analysis!D324","v":0},{"$f":"Analysis!E324","v":0},{"$f":"Analysis!F324","v":0},{"$f":"Analysis!G324","v":0},{"$f":"Analysis!H324","v":0}]
[null,null,null,null,null,"White | single child | with disability",{"$f":"Analysis!B325","v":0},{"$f":"Analysis!C325","v":0},{"$f":"Analysis!D325","v":0},{"$f":"Analysis!E325","v":0},{"$f":"Analysis!F325","v":0},{"$f":"Analysis!G325","v":0},{"$f":"Analysis!H325","v":0}]
[null,null,null,null,null,"BME | single child | with disability",{"$f":"Analysis!B326","v":0},{"$f":"Analysis!C326","v":0},{"$f":"Analysis!D326","v":0},{"$f":"Analysis!E326","v":0},{"$f":"Analysis!F326","v":0},{"$f":"Analysis!G326","v":0},{"$f":"Analysis!H326","v":0}]
[null,null,null,null,null,"White | sibling group of 2 | no disability",{"$f":"Analysis!B327","v":0},{"$f":"Analysis!C327","v":0},{"$f":"Analysis!D327","v":0},{"$f":"Analysis!E327","v":0},{"$f":"Analysis!F327","v":0},{"$f":"Analysis!G327","v":0},{"$f":"Analysis!H327","v":0}]
[null,null,null,null,null,"BME | sibling group of 2 | no disability",{"$f":"Analysis!B328","v":0},{"$f":"Analysis!C328","v":0},{"$f":"Analysis!D328","v":0},{"$f":"Analysis!E328","v":0},{"$f":"Analysis!F328","v":0},{"$f":"Analysis!G328","v":0},{"$f":"Analysis!H328","v":0}]
[null,null,null,null,null,"White | sibling group of 2 | with disability",{"$f":"Analysis!B329","v":0},{"$f":"Analysis!C329","v":0},{"$f":"Analysis!D329","v":0},{"$f":"Analysis!E329","v":0},{"$f":"Analysis!F329","v":0},{"$f":"Analysis!G329","v":0},{"$f":"Analysis!H329","v":0}]
[null,null,null,null,null,"BME | sibling group of 2 | with disability",{"$f":"Analysis!B330","v":0},{"$f":"Analysis!C330","v":0},{"$f":"Analysis!D330","v":0},{"$f":"Analysis!E330","v":0},{"$f":"Analysis!F330","v":0},{"$f":"Analysis!G330","v":0},{"$f":"Analysis!H330","v":0}]
[null,null,null,null,null,"White | sibling group of 3 | no disability",{"$f":"Analysis!B331","v":0},{"$f":"Analysis!C331","v":0},{"$f":"Analysis!D331","v":0},{"$f":"Analysis!E331","v":0},{"$f":"Analysis!F331","v":0},{"$f":"Analysis!G331","v":0},{"$f":"Analysis!H331","v":0}]
[null,null,null,null,null,"BME | sibling group of 3 | no disability",{"$f":"Analysis!B332","v":0},{"$f":"Analysis!C332","v":0},{"$f":"Analysis!D332","v":0},{"$f":"Analysis!E332","v":0},{"$f":"Analysis!F332","v":0},{"$f":"Analysis!G332","v":0},{"$f":"Analysis!H332","v":0}]
[null,null,null,null,null,"White | sibling group of 3 | with disability",{"$f":"Analysis!B333","v":0},{"$f":"Analysis!C333","v":0},{"$f":"Analysis!D333","v":0},{"$f":"Analysis!E333","v":0},{"$f":"Analysis!F333","v":0},{"$f":"Analysis!G333","v":0},{"$f":"Analysis!H333","v":0}]
[null,null,null,null,null,"BME | sibling group of 3 | with disability",{"$f":"Analysis!B334","v":0},{"$f":"Analysis!C334","v":0},{"$f":"Analysis!D334","v":0},{"$f":"Analysis!E334","v":0},{"$f":"Analysis!F334","v":0},{"$f":"Analysis!G334","v":0},{"$f":"Analysis!H334","v":0}]
[]
[{"$f":"Analysis!$D$3&\" - Child's Journey as at \"&TEXT(RDate,\"d mmmm yyyy\")&\" (page 19 of 20)\"","v":"England - Child's Journey as at 30 June 2026 (page 19 of 20)"}]
[]
["Breakdown of Children granted a PO and Change of Plan",{"$f":"\"Characteristics of children granted a PO between \"&TEXT(SDate,\"d mmmm yyyy\")&\" and \"&TEXT(RDate,\"d mmmm yyyy\")&\" whose plan has changed from adoption\"","v":"Characteristics of children granted a PO between 1 July 2023 and 30 June 2026 whose plan has changed from adoption"}]
[]
[null,null,null,null,null,null,"Age when Placement Order was granted"]
[null,null,null,null,null,"Characteristics",0,1,2,3,4,5,">5"]
[null,null,null,null,null,"White | single child | no disability",{"$f":"Analysis!B295","v":0},{"$f":"Analysis!C295","v":0},{"$f":"Analysis!D295","v":0},{"$f":"Analysis!E295","v":0},{"$f":"Analysis!F295","v":0},{"$f":"Analysis!G295","v":0},{"$f":"Analysis!H295","v":0}]
[null,null,null,null,null,"BME | single child | no disability",{"$f":"Analysis!B296","v":0},{"$f":"Analysis!C296","v":0},{"$f":"Analysis!D296","v":0},{"$f":"Analysis!E296","v":0},{"$f":"Analysis!F296","v":0},{"$f":"Analysis!G296","v":0},{"$f":"Analysis!H296","v":0}]
[null,null,null,null,null,"White | single child | with disability",{"$f":"Analysis!B297","v":0},{"$f":"Analysis!C297","v":0},{"$f":"Analysis!D297","v":0},{"$f":"Analysis!E297","v":0},{"$f":"Analysis!F297","v":0},{"$f":"Analysis!G297","v":0},{"$f":"Analysis!H297","v":0}]
[null,null,null,null,null,"BME | single child | with disability",{"$f":"Analysis!B298","v":0},{"$f":"Analysis!C298","v":0},{"$f":"Analysis!D298","v":0},{"$f":"Analysis!E298","v":0},{"$f":"Analysis!F298","v":0},{"$f":"Analysis!G298","v":0},{"$f":"Analysis!H298","v":0}]
[null,null,null,null,null,"White | sibling group of 2 | no disability",{"$f":"Analysis!B299","v":0},{"$f":"Analysis!C299","v":0},{"$f":"Analysis!D299","v":0},{"$f":"Analysis!E299","v":0},{"$f":"Analysis!F299","v":0},{"$f":"Analysis!G299","v":0},{"$f":"Analysis!H299","v":0}]
[null,null,null,null,null,"BME | sibling group of 2 | no disability",{"$f":"Analysis!B300","v":0},{"$f":"Analysis!C300","v":0},{"$f":"Analysis!D300","v":0},{"$f":"Analysis!E300","v":0},{"$f":"Analysis!F300","v":0},{"$f":"Analysis!G300","v":0},{"$f":"Analysis!H300","v":0}]
[null,null,null,null,null,"White | sibling group of 2 | with disability",{"$f":"Analysis!B301","v":0},{"$f":"Analysis!C301","v":0},{"$f":"Analysis!D301","v":0},{"$f":"Analysis!E301","v":0},{"$f":"Analysis!F301","v":0},{"$f":"Analysis!G301","v":0},{"$f":"Analysis!H301","v":0}]
[null,null,null,null,null,"BME | sibling group of 2 | with disability",{"$f":"Analysis!B302","v":0},{"$f":"Analysis!C302","v":0},{"$f":"Analysis!D302","v":0},{"$f":"Analysis!E302","v":0},{"$f":"Analysis!F302","v":0},{"$f":"Analysis!G302","v":0},{"$f":"Analysis!H302","v":0}]
[null,null,null,null,null,"White | sibling group of 3 | no disability",{"$f":"Analysis!B303","v":0},{"$f":"Analysis!C303","v":0},{"$f":"Analysis!D303","v":0},{"$f":"Analysis!E303","v":0},{"$f":"Analysis!F303","v":0},{"$f":"Analysis!G303","v":0},{"$f":"Analysis!H303","v":0}]
[null,null,null,null,null,"BME | sibling group of 3 | no disability",{"$f":"Analysis!B304","v":0},{"$f":"Analysis!C304","v":0},{"$f":"Analysis!D304","v":0},{"$f":"Analysis!E304","v":0},{"$f":"Analysis!F304","v":0},{"$f":"Analysis!G304","v":0},{"$f":"Analysis!H304","v":0}]
[null,null,null,null,null,"White | sibling group of 3 | with disability",{"$f":"Analysis!B305","v":0},{"$f":"Analysis!C305","v":0},{"$f":"Analysis!D305","v":0},{"$f":"Analysis!E305","v":0},{"$f":"Analysis!F305","v":0},{"$f":"Analysis!G305","v":0},{"$f":"Analysis!H305","v":0}]
[null,null,null,null,null,"BME | sibling group of 3 | with disability",{"$f":"Analysis!B306","v":0},{"$f":"Analysis!C306","v":0},{"$f":"Analysis!D306","v":0},{"$f":"Analysis!E306","v":0},{"$f":"Analysis!F306","v":0},{"$f":"Analysis!G306","v":0},{"$f":"Analysis!H306","v":0}]
[]
[]
[null,{"$f":"\"Proportion of children granted a PO between \"&TEXT(SDate,\"d mmmm yyyy\")&\" and \"&TEXT(RDate,\"d mmmm yyyy\")&\" whose plan has changed from adoption\"","v":"Proportion of children granted a PO between 1 July 2023 and 30 June 2026 whose plan has changed from adoption"}]
[]
[null,null,null,null,null,null,"Age when Placement Order was granted"]
[null,null,null,null,null,"Characteristics",0,1,2,3,4,5,">5"]
[null,null,null,null,null,"White | single child | no disability",{"$f":"IF(G567>0,G604/G567,\"\")","v":""},"","","","","",""]
[null,null,null,null,null,"BME | single child | no disability","","","","","","",""]
[null,null,null,null,null,"White | single child | with disability","","","","","","",""]
[null,null,null,null,null,"BME | single child | with disability","","","","","","",""]
[null,null,null,null,null,"White | sibling group of 2 | no disability","","","","","","",""]
[null,null,null,null,null,"BME | sibling group of 2 | no disability","","","","","","",""]
[null,null,null,null,null,"White | sibling group of 2 | with disability","","","","","","",""]
[null,null,null,null,null,"BME | sibling group of 2 | with disability","","","","","","",""]
[null,null,null,null,null,"White | sibling group of 3 | no disability","","","","","","",""]
[null,null,null,null,null,"BME | sibling group of 3 | no disability","","","","","","",""]
[null,null,null,null,null,"White | sibling group of 3 | with disability","","","","","","",""]
[null,null,null,null,null,"BME | sibling group of 3 | with disability","","","","","","",""]
[]
[{"$f":"Analysis!$D$3&\" - Child's Journey as at \"&TEXT(RDate,\"d mmmm yyyy\")&\" (page 20 of 20)\"","v":"England - Child's Journey as at 30 June 2026 (page 20 of 20)"}]
[]
["Breakdown of Children with a BID and a Change of Plan without PO",{"$f":"\"Characteristics of children for whom an ADM BID was made between \"&TEXT(SDate,\"d mmmm yyyy\")&\" and \"&TEXT(RDate,\"d mmmm yyyy\")&\", and whose plan changed from adoption before a PO was granted\"","v":"Characteristics of children for whom an ADM BID was made between 1 July 2023 and 30 June 2026, and whose plan changed from adoption before a PO was granted"}]
[]
[]
[null,null,null,null,null,null,"Age when BID was made"]
[null,null,null,null,null,"Characteristics",0,1,2,3,4,5,">5"]
[null,null,null,null,null,"White | single child | no disability",{"$f":"Analysis!B337","v":0},{"$f":"Analysis!C337","v":0},{"$f":"Analysis!D337","v":0},{"$f":"Analysis!E337","v":0},{"$f":"Analysis!F337","v":0},{"$f":"Analysis!G337","v":0},{"$f":"Analysis!H337","v":0}]
[null,null,null,null,null,"BME | single child | no disability",{"$f":"Analysis!B338","v":0},{"$f":"Analysis!C338","v":0},{"$f":"Analysis!D338","v":0},{"$f":"Analysis!E338","v":0},{"$f":"Analysis!F338","v":0},{"$f":"Analysis!G338","v":0},{"$f":"Analysis!H338","v":0}]
[null,null,null,null,null,"White | single child | with disability",{"$f":"Analysis!B339","v":0},{"$f":"Analysis!C339","v":0},{"$f":"Analysis!D339","v":0},{"$f":"Analysis!E339","v":0},{"$f":"Analysis!F339","v":0},{"$f":"Analysis!G339","v":0},{"$f":"Analysis!H339","v":0}]
[null,null,null,null,null,"BME | single child | with disability",{"$f":"Analysis!B340","v":0},{"$f":"Analysis!C340","v":0},{"$f":"Analysis!D340","v":0},{"$f":"Analysis!E340","v":0},{"$f":"Analysis!F340","v":0},{"$f":"Analysis!G340","v":0},{"$f":"Analysis!H340","v":0}]
[null,null,null,null,null,"White | sibling group of 2 | no disability",{"$f":"Analysis!B341","v":0},{"$f":"Analysis!C341","v":0},{"$f":"Analysis!D341","v":0},{"$f":"Analysis!E341","v":0},{"$f":"Analysis!F341","v":0},{"$f":"Analysis!G341","v":0},{"$f":"Analysis!H341","v":0}]
[null,null,null,null,null,"BME | sibling group of 2 | no disability",{"$f":"Analysis!B342","v":0},{"$f":"Analysis!C342","v":0},{"$f":"Analysis!D342","v":0},{"$f":"Analysis!E342","v":0},{"$f":"Analysis!F342","v":0},{"$f":"Analysis!G342","v":0},{"$f":"Analysis!H342","v":0}]
[null,null,null,null,null,"White | sibling group of 2 | with disability",{"$f":"Analysis!B343","v":0},{"$f":"Analysis!C343","v":0},{"$f":"Analysis!D343","v":0},{"$f":"Analysis!E343","v":0},{"$f":"Analysis!F343","v":0},{"$f":"Analysis!G343","v":0},{"$f":"Analysis!H343","v":0}]
[null,null,null,null,null,"BME | sibling group of 2 | with disability",{"$f":"Analysis!B344","v":0},{"$f":"Analysis!C344","v":0},{"$f":"Analysis!D344","v":0},{"$f":"Analysis!E344","v":0},{"$f":"Analysis!F344","v":0},{"$f":"Analysis!G344","v":0},{"$f":"Analysis!H344","v":0}]
[null,null,null,null,null,"White | sibling group of 3 | no disability",{"$f":"Analysis!B345","v":0},{"$f":"Analysis!C345","v":0},{"$f":"Analysis!D345","v":0},{"$f":"Analysis!E345","v":0},{"$f":"Analysis!F345","v":0},{"$f":"Analysis!G345","v":0},{"$f":"Analysis!H345","v":0}]
[null,null,null,null,null,"BME | sibling group of 3 | no disability",{"$f":"Analysis!B346","v":0},{"$f":"Analysis!C346","v":0},{"$f":"Analysis!D346","v":0},{"$f":"Analysis!E346","v":0},{"$f":"Analysis!F346","v":0},{"$f":"Analysis!G346","v":0},{"$f":"Analysis!H346","v":0}]
[null,null,null,null,null,"White | sibling group of 3 | with disability",{"$f":"Analysis!B347","v":0},{"$f":"Analysis!C347","v":0},{"$f":"Analysis!D347","v":0},{"$f":"Analysis!E347","v":0},{"$f":"Analysis!F347","v":0},{"$f":"Analysis!G347","v":0},{"$f":"Analysis!H347","v":0}]
[null,null,null,null,null,"BME | sibling group of 3 | with disability",{"$f":"Analysis!B348","v":0},{"$f":"Analysis!C348","v":0},{"$f":"Analysis!D348","v":0},{"$f":"Analysis!E348","v":0},{"$f":"Analysis!F348","v":0},{"$f":"Analysis!G348","v":0},{"$f":"Analysis!H348","v":0}]
[]
[null,null,{"$f":"\"Proportion of children for whom an ADM BID was made between \"&TEXT(SDate,\"d mmmm yyyy\")&\" and \"&TEXT(RDate,\"d mmmm yyyy\")&\", and whose plan changed from adoption before a PO was granted\"","v":"Proportion of children for whom an ADM BID was made between 1 July 2023 and 30 June 2026, and whose plan changed from adoption before a PO was granted"}]
[]
[]
[null,null,null,null,null,null,"Age when BID was made"]
[null,null,null,null,null,"Characteristics",0,1,2,3,4,5,">5"]
[null,null,null,null,null,"White | single child | no disability",{"$f":"IF(G585>0,G642/G585,\"\")","v":""},"","","","","",""]
[null,null,null,null,null,"BME | single child | no disability","","","","","","",""]
[null,null,null,null,null,"White | single child | with disability","","","","","","",""]
[null,null,null,null,null,"BME | single child | with disability","","","","","","",""]
[null,null,null,null,null,"White | sibling group of 2 | no disability","","","","","","",""]
[null,null,null,null,null,"BME | sibling group of 2 | no disability","","","","","","",""]
[null,null,null,null,null,"White | sibling group of 2 | with disability","","","","","","",""]
[null,null,null,null,null,"BME | sibling group of 2 | with disability","","","","","","",""]
[null,null,null,null,null,"White | sibling group of 3 | no disability","","","","","","",""]
[null,null,null,null,null,"BME | sibling group of 3 | no disability","","","","","","",""]
[null,null,null,null,null,"White | sibling group of 3 | with disability","","","","","","",""]
[null,null,null,null,null,"BME | sibling group of 3 | with disability","","","","","","",""]

{"sheet":"Queries","index":8,"n_rows":1,"n_cols":3,"rows_kept":1,"cut":false,"hidden":false,"merged":[]}
["Child ID","Field","Query"]

{"sheet":"Glossary","index":9,"n_rows":53,"n_cols":3,"rows_kept":53,"cut":false,"hidden":false,"merged":[[34,1,34,2]]}
[]
[null,"A3   Gender"]
[null,0,"Not known (gender not recorded or unknown for unborn children)"]
[null,1,"Male"]
[null,2,"Female"]
[null,9,"Neither (indeterminate, i.e. unable to be classed as either male or female)"]
[]
[null,"A5   Ethnic origin"]
[null,"WBRI","White – British"]
[null,"WIRI","White – Irish"]
[null,"WIRT","White – Traveller of Irish heritage"]
[null,"WROM","White – Gypsy/Roma"]
[null,"WOTH","Any other White background"]
[null,"ABAN","Asian – Bangladeshi"]
[null,"AIND","Asian – Indian"]
[null,"APKN","Asian – Pakistani"]
[null,"AOTH","Any other Asian background"]
[null,"CHNE","Chinese"]
[null,"BAFR","Black African"]
[null,"BCRB","Black Caribbean"]
[null,"BOTH","Any other Black background"]
[null,"MWAS","Mixed – White and Asian"]
[null,"MWBA","Mixed – White and Black African"]
[null,"MWBC","Mixed – White and Black Caribbean"]
[null,"MOTH","Any other mixed background"]
[null,"OOTH","Any other ethnic group"]
[null,"REFU","Refused"]
[null,"NOBT","Information not yet obtained"]
[]
[null,"B8   Placement at adoption"]
[null,"A3","The child was placed for adoption with their current foster carer(s) with parental/guardian consent or with a FO where parental/guardian consent has been given"]
[null,"A4","The child was placed for adoption not with their current foster carer(s) with parental/guardian consent or with a FO where parental/guardian consent has been given"]
[null,"A5","The child was placed for adoption with their current foster carer(s) with a PO or with a FO where parental/guardian consent was dispensed with"]
[null,"A6","The child was placed for adoption not with their current foster carer(s) with a PO or with a FO where parental/guardian consent was dispensed with"]
[null,"If appropriate, then use the U codes below only for a child going through a private adoption"]
[null,"U1","The child was placed in a foster placement with relative(s) or friend(s) who are long-term fostering"]
[null,"U2","The child was placed in a foster placement with relative(s) or friend(s) who are also approved adopter(s), i.e. with FFA/CP foster carers"]
[null,"U3","The child was placed in a foster placement with relative(s) or friend(s) who are not long-term fostering or taking part in a FFA/CP arrangement"]
[null,"U4","The child was placed in a foster placement with other foster carer(s) who are long-term fostering"]
[null,"U5","The child was placed in a foster placement with other foster carer(s) who are also approved adopter(s), i.e. with FFA/CP foster carers"]
[null,"U6","The child was placed in a foster placement with other foster carer(s) who are not long-term fostering or taking part in a FFA/CP arrangement"]
[]
[null,"C1b   Reason why the child should no longer be placed for adoption"]
[null,"RD1","The child’s needs changed subsequent to the ADM decision"]
[null,"RD2","The court did not make a PO"]
[null,"RD3","No (prospective) adopter(s) can be found"]
[null,"RD4","Any other reason"]
[]
[null,"C3   Family-finding"]
[null,1,"Currently family-finding for the child"]
[null,2,"Not family-finding – PO currently being appealed/revoked"]
[null,3,"Not family-finding – family found but not yet formally matched at panel"]
[null,4,"Not family-finding – other reason"]

{"sheet":"URN","index":10,"n_rows":261,"n_cols":9,"rows_kept":261,"cut":false,"hidden":false,"merged":[]}
["New-style Ofsted URN","Old-style Ofsted URN","DfE Code","Adopter's Adoption Agency","Provision Type","Registration Date","Closure Date of Adopter Agency","Associated RAA","Provider Code"]
[1023087,"SC053472",301,"Barking and Dagenham","LA","2003-09-02","2019-09-30","Adopt London East",{"$f":"IF(OR($A2=Analysis!$B$3,AND(VLOOKUP(Analysis!$B$3,$A$2:$H$261,8,FALSE)<>\"\",VLOOKUP(Analysis!$B$3,$A$2:$H$261,8,FALSE)=$D2)),\"PR1\",IF(LEFT($E2,3)=\"VAA\",\"PR5\",\"PR2\"))","v":{"$error":"#N/A"}}]
[1023129,"SC054951",302,"Barnet","LA","2003-09-22","2019-09-30","Adopt London North",{"$f":"IF(OR($A3=Analysis!$B$3,AND(VLOOKUP(Analysis!$B$3,$A$2:$H$261,8,FALSE)<>\"\",VLOOKUP(Analysis!$B$3,$A$2:$H$261,8,FALSE)=$D3)),\"PR1\",IF(LEFT($E3,3)=\"VAA\",\"PR5\",\"PR2\"))","v":{"$error":"#N/A"}}]
[1022968,"SC050108",370,"Barnsley","LA","2007-03-31","2020-12-31","One Adoption South Yorkshire",{"$f":"IF(OR($A4=Analysis!$B$3,AND(VLOOKUP(Analysis!$B$3,$A$2:$H$261,8,FALSE)<>\"\",VLOOKUP(Analysis!$B$3,$A$2:$H$261,8,FALSE)=$D4)),\"PR1\",IF(LEFT($E4,3)=\"VAA\",\"PR5\",\"PR2\"))","v":{"$error":"#N/A"}}]
[1022969,"SC050122",800,"Bath and North East Somerset","LA","2003-07-16","2019-02-28","Adoption West",{"$f":"IF(OR($A5=Analysis!$B$3,AND(VLOOKUP(Analysis!$B$3,$A$2:$H$261,8,FALSE)<>\"\",VLOOKUP(Analysis!$B$3,$A$2:$H$261,8,FALSE)=$D5)),\"PR1\",IF(LEFT($E5,3)=\"VAA\",\"PR5\",\"PR2\"))","v":{"$error":"#N/A"}}]
[1026019,"SC454369",822,"Bedford","LA","2012-08-24","2020-10-13","Adopt East",{"$f":"IF(OR($A6=Analysis!$B$3,AND(VLOOKUP(Analysis!$B$3,$A$2:$H$261,8,FALSE)<>\"\",VLOOKUP(Analysis!$B$3,$A$2:$H$261,8,FALSE)=$D6)),\"PR1\",IF(LEFT($E6,3)=\"VAA\",\"PR5\",\"PR2\"))","v":{"$error":"#N/A"}}]
[1023088,"SC053480",303,"Bexley","LA","2003-09-02","2020-11-02","Adoption Partnership South East",{"$f":"IF(OR($A7=Analysis!$B$3,AND(VLOOKUP(Analysis!$B$3,$A$2:$H$261,8,FALSE)<>\"\",VLOOKUP(Analysis!$B$3,$A$2:$H$261,8,FALSE)=$D7)),\"PR1\",IF(LEFT($E7,3)=\"VAA\",\"PR5\",\"PR2\"))","v":{"$error":"#N/A"}}]
[1022947,"SC050034","213B","Bi-Borough","LA","2019-10-01","2020-01-09","Thomas Coram Foundation for Children (delivering Ambitious for Adoption RAA)",{"$f":"IF(OR($A8=Analysis!$B$3,AND(VLOOKUP(Analysis!$B$3,$A$2:$H$261,8,FALSE)<>\"\",VLOOKUP(Analysis!$B$3,$A$2:$H$261,8,FALSE)=$D8)),\"PR1\",IF(LEFT($E8,3)=\"VAA\",\"PR5\",\"PR2\"))","v":{"$error":"#N/A"}}]
[1273493,1273493,330,"Birmingham","LA","2018-03-19","2022-03-30","Adopt Birmingham",{"$f":"IF(OR($A9=Analysis!$B$3,AND(VLOOKUP(Analysis!$B$3,$A$2:$H$261,8,FALSE)<>\"\",VLOOKUP(Analysis!$B$3,$A$2:$H$261,8,FALSE)=$D9)),\"PR1\",IF(LEFT($E9,3)=\"VAA\",\"PR5\",\"PR2\"))","v":{"$error":"#N/A"}}]
[1273493,"SC053481",330,"Birmingham","LA","2003-09-02","2018-03-18","Adopt Birmingham",{"$f":"IF(OR($A10=Analysis!$B$3,AND(VLOOKUP(Analysis!$B$3,$A$2:$H$261,8,FALSE)<>\"\",VLOOKUP(Analysis!$B$3,$A$2:$H$261,8,FALSE)=$D10)),\"PR1\",IF(LEFT($E10,3)=\"VAA\",\"PR5\",\"PR2\"))","v":{"$error":"#N/A"}}]
[1022922,"SC049186",889,"Blackburn with Darwen","LA","2003-07-02","2017-10-31","Adoption Now",{"$f":"IF(OR($A11=Analysis!$B$3,AND(VLOOKUP(Analysis!$B$3,$A$2:$H$261,8,FALSE)<>\"\",VLOOKUP(Analysis!$B$3,$A$2:$H$261,8,FALSE)=$D11)),\"PR1\",IF(LEFT($E11,3)=\"VAA\",\"PR5\",\"PR2\"))","v":{"$error":"#N/A"}}]
[1023208,"SC056531",890,"Blackpool","LA","2003-10-22","2020-03-31","Adoption Lancashire & Blackpool",{"$f":"IF(OR($A12=Analysis!$B$3,AND(VLOOKUP(Analysis!$B$3,$A$2:$H$261,8,FALSE)<>\"\",VLOOKUP(Analysis!$B$3,$A$2:$H$261,8,FALSE)=$D12)),\"PR1\",IF(LEFT($E12,3)=\"VAA\",\"PR5\",\"PR2\"))","v":{"$error":"#N/A"}}]
[1023268,"SC057273",350,"Bolton","LA","2003-11-05","2017-10-31","Adoption Now",{"$f":"IF(OR($A13=Analysis!$B$3,AND(VLOOKUP(Analysis!$B$3,$A$2:$H$261,8,FALSE)<>\"\",VLOOKUP(Analysis!$B$3,$A$2:$H$261,8,FALSE)=$D13)),\"PR1\",IF(LEFT($E13,3)=\"VAA\",\"PR5\",\"PR2\"))","v":{"$error":"#N/A"}}]
[1023130,"SC054957",837,"Bournemouth","LA","1990-01-01","2017-06-30","Aspire",{"$f":"IF(OR($A14=Analysis!$B$3,AND(VLOOKUP(Analysis!$B$3,$A$2:$H$261,8,FALSE)<>\"\",VLOOKUP(Analysis!$B$3,$A$2:$H$261,8,FALSE)=$D14)),\"PR1\",IF(LEFT($E14,3)=\"VAA\",\"PR5\",\"PR2\"))","v":{"$error":"#N/A"}}]
[2533843,2533843,837,"Bournemouth, Christchurch, Poole","LA","2019-04-01","2019-04-01","Aspire",{"$f":"IF(OR($A15=Analysis!$B$3,AND(VLOOKUP(Analysis!$B$3,$A$2:$H$261,8,FALSE)<>\"\",VLOOKUP(Analysis!$B$3,$A$2:$H$261,8,FALSE)=$D15)),\"PR1\",IF(LEFT($E15,3)=\"VAA\",\"PR5\",\"PR2\"))","v":{"$error":"#N/A"}}]
[1023376,"SC059849",867,"Bracknell Forest","LA","2004-02-02","2017-11-30","Adopt Thames Valley",{"$f":"IF(OR($A16=Analysis!$B$3,AND(VLOOKUP(Analysis!$B$3,$A$2:$H$261,8,FALSE)<>\"\",VLOOKUP(Analysis!$B$3,$A$2:$H$261,8,FALSE)=$D16)),\"PR1\",IF(LEFT($E16,3)=\"VAA\",\"PR5\",\"PR2\"))","v":{"$error":"#N/A"}}]
[2730622,2730622,380,"Bradford","LA","2023-04-01","2017-03-31","One Adoption West Yorkshire",{"$f":"IF(OR($A17=Analysis!$B$3,AND(VLOOKUP(Analysis!$B$3,$A$2:$H$261,8,FALSE)<>\"\",VLOOKUP(Analysis!$B$3,$A$2:$H$261,8,FALSE)=$D17)),\"PR1\",IF(LEFT($E17,3)=\"VAA\",\"PR5\",\"PR2\"))","v":{"$error":"#N/A"}}]
[1023131,"SC054963",380,"Bradford","LA","2003-09-23","2017-03-31","One Adoption West Yorkshire",{"$f":"IF(OR($A18=Analysis!$B$3,AND(VLOOKUP(Analysis!$B$3,$A$2:$H$261,8,FALSE)<>\"\",VLOOKUP(Analysis!$B$3,$A$2:$H$261,8,FALSE)=$D18)),\"PR1\",IF(LEFT($E18,3)=\"VAA\",\"PR5\",\"PR2\"))","v":{"$error":"#N/A"}}]
[1023309,"SC058592",304,"Brent","LA","2003-12-01","2019-09-29","Adopt London West",{"$f":"IF(OR($A19=Analysis!$B$3,AND(VLOOKUP(Analysis!$B$3,$A$2:$H$261,8,FALSE)<>\"\",VLOOKUP(Analysis!$B$3,$A$2:$H$261,8,FALSE)=$D19)),\"PR1\",IF(LEFT($E19,3)=\"VAA\",\"PR5\",\"PR2\"))","v":{"$error":"#N/A"}}]
[1022963,"SC050073",846,"Brighton and Hove","LA","2003-07-15","2020-03-31","Adoption South East",{"$f":"IF(OR($A20=Analysis!$B$3,AND(VLOOKUP(Analysis!$B$3,$A$2:$H$261,8,FALSE)<>\"\",VLOOKUP(Analysis!$B$3,$A$2:$H$261,8,FALSE)=$D20)),\"PR1\",IF(LEFT($E20,3)=\"VAA\",\"PR5\",\"PR2\"))","v":{"$error":"#N/A"}}]
[1023132,"SC054985",801,"Bristol","LA","2003-09-23","2019-02-28","Adoption West",{"$f":"IF(OR($A21=Analysis!$B$3,AND(VLOOKUP(Analysis!$B$3,$A$2:$H$261,8,FALSE)<>\"\",VLOOKUP(Analysis!$B$3,$A$2:$H$261,8,FALSE)=$D21)),\"PR1\",IF(LEFT($E21,3)=\"VAA\",\"PR5\",\"PR2\"))","v":{"$error":"#N/A"}}]
[1023102,"SC054048",305,"Bromley","LA","2003-09-09","2019-04-30","Thomas Coram Foundation for Children (delivering Ambitious for Adoption RAA)",{"$f":"IF(OR($A22=Analysis!$B$3,AND(VLOOKUP(Analysis!$B$3,$A$2:$H$261,8,FALSE)<>\"\",VLOOKUP(Analysis!$B$3,$A$2:$H$261,8,FALSE)=$D22)),\"PR1\",IF(LEFT($E22,3)=\"VAA\",\"PR5\",\"PR2\"))","v":{"$error":"#N/A"}}]
[1023166,"SC055713",825,"Buckinghamshire","LA","2003-10-07","2023-03-31","Buckinghamshire Adoption",{"$f":"IF(OR($A23=Analysis!$B$3,AND(VLOOKUP(Analysis!$B$3,$A$2:$H$261,8,FALSE)<>\"\",VLOOKUP(Analysis!$B$3,$A$2:$H$261,8,FALSE)=$D23)),\"PR1\",IF(LEFT($E23,3)=\"VAA\",\"PR5\",\"PR2\"))","v":{"$error":"#N/A"}}]
[1022942,"SC049997",351,"Bury","LA","2003-07-14","2017-10-31","Adoption Now",{"$f":"IF(OR($A24=Analysis!$B$3,AND(VLOOKUP(Analysis!$B$3,$A$2:$H$261,8,FALSE)<>\"\",VLOOKUP(Analysis!$B$3,$A$2:$H$261,8,FALSE)=$D24)),\"PR1\",IF(LEFT($E24,3)=\"VAA\",\"PR5\",\"PR2\"))","v":{"$error":"#N/A"}}]
[1022943,"SC050029",381,"Calderdale","LA","2003-07-15","2017-03-31","One Adoption West Yorkshire",{"$f":"IF(OR($A25=Analysis!$B$3,AND(VLOOKUP(Analysis!$B$3,$A$2:$H$261,8,FALSE)<>\"\",VLOOKUP(Analysis!$B$3,$A$2:$H$261,8,FALSE)=$D25)),\"PR1\",IF(LEFT($E25,3)=\"VAA\",\"PR5\",\"PR2\"))","v":{"$error":"#N/A"}}]
[1022900,"SC048977",873,"Cambridgeshire","LA","2003-06-27","2020-11-30","Cambridgeshire and Peterborough Adoption",{"$f":"IF(OR($A26=Analysis!$B$3,AND(VLOOKUP(Analysis!$B$3,$A$2:$H$261,8,FALSE)<>\"\",VLOOKUP(Analysis!$B$3,$A$2:$H$261,8,FALSE)=$D26)),\"PR1\",IF(LEFT($E26,3)=\"VAA\",\"PR5\",\"PR2\"))","v":{"$error":"#N/A"}}]
[1022946,"SC050033",202,"Camden","LA","2003-07-15","2019-09-30","Adopt London North",{"$f":"IF(OR($A27=Analysis!$B$3,AND(VLOOKUP(Analysis!$B$3,$A$2:$H$261,8,FALSE)<>\"\",VLOOKUP(Analysis!$B$3,$A$2:$H$261,8,FALSE)=$D27)),\"PR1\",IF(LEFT($E27,3)=\"VAA\",\"PR5\",\"PR2\"))","v":{"$error":"#N/A"}}]
[1025048,"SC394407",823,"Central Bedfordshire","LA","2009-04-20","2019-03-31","Adoption Connects",{"$f":"IF(OR($A28=Analysis!$B$3,AND(VLOOKUP(Analysis!$B$3,$A$2:$H$261,8,FALSE)<>\"\",VLOOKUP(Analysis!$B$3,$A$2:$H$261,8,FALSE)=$D28)),\"PR1\",IF(LEFT($E28,3)=\"VAA\",\"PR5\",\"PR2\"))","v":{"$error":"#N/A"}}]
[1025028,"SC393773",895,"Cheshire East","LA","2009-04-02","2017-06-30","Adoption Counts",{"$f":"IF(OR($A29=Analysis!$B$3,AND(VLOOKUP(Analysis!$B$3,$A$2:$H$261,8,FALSE)<>\"\",VLOOKUP(Analysis!$B$3,$A$2:$H$261,8,FALSE)=$D29)),\"PR1\",IF(LEFT($E29,3)=\"VAA\",\"PR5\",\"PR2\"))","v":{"$error":"#N/A"}}]
[1025030,"SC393778",896,"Cheshire West and Chester","LA","2009-04-02","2017-08-31","Together for Adoption",{"$f":"IF(OR($A30=Analysis!$B$3,AND(VLOOKUP(Analysis!$B$3,$A$2:$H$261,8,FALSE)<>\"\",VLOOKUP(Analysis!$B$3,$A$2:$H$261,8,FALSE)=$D30)),\"PR1\",IF(LEFT($E30,3)=\"VAA\",\"PR5\",\"PR2\"))","v":{"$error":"#N/A"}}]
[1023379,"SC059857",201,"City of London","LA","2004-02-02","2019-04-30","Thomas Coram Foundation for Children (delivering Ambitious for Adoption RAA)",{"$f":"IF(OR($A31=Analysis!$B$3,AND(VLOOKUP(Analysis!$B$3,$A$2:$H$261,8,FALSE)<>\"\",VLOOKUP(Analysis!$B$3,$A$2:$H$261,8,FALSE)=$D31)),\"PR1\",IF(LEFT($E31,3)=\"VAA\",\"PR5\",\"PR2\"))","v":{"$error":"#N/A"}}]
[1023134,"SC054995",908,"Cornwall","LA","2003-09-23","2023-03-31","Adopt South West",{"$f":"IF(OR($A32=Analysis!$B$3,AND(VLOOKUP(Analysis!$B$3,$A$2:$H$261,8,FALSE)<>\"\",VLOOKUP(Analysis!$B$3,$A$2:$H$261,8,FALSE)=$D32)),\"PR1\",IF(LEFT($E32,3)=\"VAA\",\"PR5\",\"PR2\"))","v":{"$error":"#N/A"}}]
[1023135,"SC055002",331,"Coventry","LA","2003-09-23","2018-01-31","Adoption Central England",{"$f":"IF(OR($A33=Analysis!$B$3,AND(VLOOKUP(Analysis!$B$3,$A$2:$H$261,8,FALSE)<>\"\",VLOOKUP(Analysis!$B$3,$A$2:$H$261,8,FALSE)=$D33)),\"PR1\",IF(LEFT($E33,3)=\"VAA\",\"PR5\",\"PR2\"))","v":{"$error":"#N/A"}}]
[1023353,"SC059610",306,"Croydon","LA","2004-01-20","2019-08-31","Adopt London South",{"$f":"IF(OR($A34=Analysis!$B$3,AND(VLOOKUP(Analysis!$B$3,$A$2:$H$261,8,FALSE)<>\"\",VLOOKUP(Analysis!$B$3,$A$2:$H$261,8,FALSE)=$D34)),\"PR1\",IF(LEFT($E34,3)=\"VAA\",\"PR5\",\"PR2\"))","v":{"$error":"#N/A"}}]
[1023099,"SC054013",909,"Cumbria","LA","2003-09-09","2023-03-31","Adopt Coast to Coast",{"$f":"IF(OR($A35=Analysis!$B$3,AND(VLOOKUP(Analysis!$B$3,$A$2:$H$261,8,FALSE)<>\"\",VLOOKUP(Analysis!$B$3,$A$2:$H$261,8,FALSE)=$D35)),\"PR1\",IF(LEFT($E35,3)=\"VAA\",\"PR5\",\"PR2\"))","v":{"$error":"#N/A"}}]
[2733364,2733364,942,"Cumberland","LA","2023-04-01","2023-03-31","Cumbria Adoption",{"$f":"IF(OR($A36=Analysis!$B$3,AND(VLOOKUP(Analysis!$B$3,$A$2:$H$261,8,FALSE)<>\"\",VLOOKUP(Analysis!$B$3,$A$2:$H$261,8,FALSE)=$D36)),\"PR1\",IF(LEFT($E36,3)=\"VAA\",\"PR5\",\"PR2\"))","v":{"$error":"#N/A"}}]
[1024027,"SC067257",841,"Darlington","LA","2006-03-03","2018-04-30","Adoption Tees Valley",{"$f":"IF(OR($A37=Analysis!$B$3,AND(VLOOKUP(Analysis!$B$3,$A$2:$H$261,8,FALSE)<>\"\",VLOOKUP(Analysis!$B$3,$A$2:$H$261,8,FALSE)=$D37)),\"PR1\",IF(LEFT($E37,3)=\"VAA\",\"PR5\",\"PR2\"))","v":{"$error":"#N/A"}}]
[1023334,"SC059360",831,"Derby","LA","2004-01-09","2019-02-28","Adoption East Midlands",{"$f":"IF(OR($A38=Analysis!$B$3,AND(VLOOKUP(Analysis!$B$3,$A$2:$H$261,8,FALSE)<>\"\",VLOOKUP(Analysis!$B$3,$A$2:$H$261,8,FALSE)=$D38)),\"PR1\",IF(LEFT($E38,3)=\"VAA\",\"PR5\",\"PR2\"))","v":{"$error":"#N/A"}}]
[1023347,"SC059568",830,"Derbyshire","LA","2004-01-19","2019-02-28","Adoption East Midlands",{"$f":"IF(OR($A39=Analysis!$B$3,AND(VLOOKUP(Analysis!$B$3,$A$2:$H$261,8,FALSE)<>\"\",VLOOKUP(Analysis!$B$3,$A$2:$H$261,8,FALSE)=$D39)),\"PR1\",IF(LEFT($E39,3)=\"VAA\",\"PR5\",\"PR2\"))","v":{"$error":"#N/A"}}]
[1022944,"SC050030",878,"Devon","LA","2003-07-15","2018-09-30","Adopt South West",{"$f":"IF(OR($A40=Analysis!$B$3,AND(VLOOKUP(Analysis!$B$3,$A$2:$H$261,8,FALSE)<>\"\",VLOOKUP(Analysis!$B$3,$A$2:$H$261,8,FALSE)=$D40)),\"PR1\",IF(LEFT($E40,3)=\"VAA\",\"PR5\",\"PR2\"))","v":{"$error":"#N/A"}}]
["SC481450","SC481450",371,"Doncaster","LA (VAA)","2014-09-28","2020-12-31","One Adoption South Yorkshire",{"$f":"IF(OR($A41=Analysis!$B$3,AND(VLOOKUP(Analysis!$B$3,$A$2:$H$261,8,FALSE)<>\"\",VLOOKUP(Analysis!$B$3,$A$2:$H$261,8,FALSE)=$D41)),\"PR1\",IF(LEFT($E41,3)=\"VAA\",\"PR5\",\"PR2\"))","v":{"$error":"#N/A"}}]
["SC481450","SC055015",371,"Doncaster","LA","1990-01-01","2014-09-27","One Adoption South Yorkshire",{"$f":"IF(OR($A42=Analysis!$B$3,AND(VLOOKUP(Analysis!$B$3,$A$2:$H$261,8,FALSE)<>\"\",VLOOKUP(Analysis!$B$3,$A$2:$H$261,8,FALSE)=$D42)),\"PR1\",IF(LEFT($E42,3)=\"VAA\",\"PR5\",\"PR2\"))","v":{"$error":"#N/A"}}]
[1022945,"SC050031",835,"Dorset","LA","2003-07-15","2017-06-30","Aspire",{"$f":"IF(OR($A43=Analysis!$B$3,AND(VLOOKUP(Analysis!$B$3,$A$2:$H$261,8,FALSE)<>\"\",VLOOKUP(Analysis!$B$3,$A$2:$H$261,8,FALSE)=$D43)),\"PR1\",IF(LEFT($E43,3)=\"VAA\",\"PR5\",\"PR2\"))","v":{"$error":"#N/A"}}]
[1023137,"SC055017",332,"Dudley","LA","2003-09-23","2019-03-31","Adoption @ Heart",{"$f":"IF(OR($A44=Analysis!$B$3,AND(VLOOKUP(Analysis!$B$3,$A$2:$H$261,8,FALSE)<>\"\",VLOOKUP(Analysis!$B$3,$A$2:$H$261,8,FALSE)=$D44)),\"PR1\",IF(LEFT($E44,3)=\"VAA\",\"PR5\",\"PR2\"))","v":{"$error":"#N/A"}}]
[1023139,"SC055022",840,"Durham","LA","2003-09-23","2021-03-31","Adopt Coast to Coast",{"$f":"IF(OR($A45=Analysis!$B$3,AND(VLOOKUP(Analysis!$B$3,$A$2:$H$261,8,FALSE)<>\"\",VLOOKUP(Analysis!$B$3,$A$2:$H$261,8,FALSE)=$D45)),\"PR1\",IF(LEFT($E45,3)=\"VAA\",\"PR5\",\"PR2\"))","v":{"$error":"#N/A"}}]
[1023140,"SC055023",307,"Ealing","LA","2003-09-23","2019-09-29","Adopt London West",{"$f":"IF(OR($A46=Analysis!$B$3,AND(VLOOKUP(Analysis!$B$3,$A$2:$H$261,8,FALSE)<>\"\",VLOOKUP(Analysis!$B$3,$A$2:$H$261,8,FALSE)=$D46)),\"PR1\",IF(LEFT($E46,3)=\"VAA\",\"PR5\",\"PR2\"))","v":{"$error":"#N/A"}}]
[1023209,"SC056538",811,"East Riding of Yorkshire","LA","2003-10-22","2018-02-28","One Adoption North and Humber",{"$f":"IF(OR($A47=Analysis!$B$3,AND(VLOOKUP(Analysis!$B$3,$A$2:$H$261,8,FALSE)<>\"\",VLOOKUP(Analysis!$B$3,$A$2:$H$261,8,FALSE)=$D47)),\"PR1\",IF(LEFT($E47,3)=\"VAA\",\"PR5\",\"PR2\"))","v":{"$error":"#N/A"}}]
[1023009,"SC050780",845,"East Sussex","LA","2003-07-28","2020-03-31","Adoption South East",{"$f":"IF(OR($A48=Analysis!$B$3,AND(VLOOKUP(Analysis!$B$3,$A$2:$H$261,8,FALSE)<>\"\",VLOOKUP(Analysis!$B$3,$A$2:$H$261,8,FALSE)=$D48)),\"PR1\",IF(LEFT($E48,3)=\"VAA\",\"PR5\",\"PR2\"))","v":{"$error":"#N/A"}}]
[1023141,"SC055062",308,"Enfield","LA","2003-09-23","2019-09-30","Adopt London North",{"$f":"IF(OR($A49=Analysis!$B$3,AND(VLOOKUP(Analysis!$B$3,$A$2:$H$261,8,FALSE)<>\"\",VLOOKUP(Analysis!$B$3,$A$2:$H$261,8,FALSE)=$D49)),\"PR1\",IF(LEFT($E49,3)=\"VAA\",\"PR5\",\"PR2\"))","v":{"$error":"#N/A"}}]
[1023142,"SC055065",881,"Essex","LA","2003-09-23","2020-10-13","Adopt East",{"$f":"IF(OR($A50=Analysis!$B$3,AND(VLOOKUP(Analysis!$B$3,$A$2:$H$261,8,FALSE)<>\"\",VLOOKUP(Analysis!$B$3,$A$2:$H$261,8,FALSE)=$D50)),\"PR1\",IF(LEFT($E50,3)=\"VAA\",\"PR5\",\"PR2\"))","v":{"$error":"#N/A"}}]
[1023143,"SC055067",390,"Gateshead","LA","2003-09-23","2018-11-30","Adopt North East",{"$f":"IF(OR($A51=Analysis!$B$3,AND(VLOOKUP(Analysis!$B$3,$A$2:$H$261,8,FALSE)<>\"\",VLOOKUP(Analysis!$B$3,$A$2:$H$261,8,FALSE)=$D51)),\"PR1\",IF(LEFT($E51,3)=\"VAA\",\"PR5\",\"PR2\"))","v":{"$error":"#N/A"}}]
[1023156,"SC055643",916,"Gloucestershire","LA","2003-10-06","2019-02-28","Adoption West",{"$f":"IF(OR($A52=Analysis!$B$3,AND(VLOOKUP(Analysis!$B$3,$A$2:$H$261,8,FALSE)<>\"\",VLOOKUP(Analysis!$B$3,$A$2:$H$261,8,FALSE)=$D52)),\"PR1\",IF(LEFT($E52,3)=\"VAA\",\"PR5\",\"PR2\"))","v":{"$error":"#N/A"}}]
[1023308,"SC058590",203,"Greenwich","LA","2003-12-01","2022-03-31","Adopt London South",{"$f":"IF(OR($A53=Analysis!$B$3,AND(VLOOKUP(Analysis!$B$3,$A$2:$H$261,8,FALSE)<>\"\",VLOOKUP(Analysis!$B$3,$A$2:$H$261,8,FALSE)=$D53)),\"PR1\",IF(LEFT($E53,3)=\"VAA\",\"PR5\",\"PR2\"))","v":{"$error":"#N/A"}}]
[1023145,"SC055128",204,"Hackney","LA","2003-09-24","2019-09-30","Adopt London North",{"$f":"IF(OR($A54=Analysis!$B$3,AND(VLOOKUP(Analysis!$B$3,$A$2:$H$261,8,FALSE)<>\"\",VLOOKUP(Analysis!$B$3,$A$2:$H$261,8,FALSE)=$D54)),\"PR1\",IF(LEFT($E54,3)=\"VAA\",\"PR5\",\"PR2\"))","v":{"$error":"#N/A"}}]
[1022919,"SC049148",876,"Halton","LA","2003-07-01","2017-08-31","Together for Adoption",{"$f":"IF(OR($A55=Analysis!$B$3,AND(VLOOKUP(Analysis!$B$3,$A$2:$H$261,8,FALSE)<>\"\",VLOOKUP(Analysis!$B$3,$A$2:$H$261,8,FALSE)=$D55)),\"PR1\",IF(LEFT($E55,3)=\"VAA\",\"PR5\",\"PR2\"))","v":{"$error":"#N/A"}}]
[1022962,"SC050069",205,"Hammersmith and Fulham","LA","2019-10-01","2019-10-01","Adopt London West",{"$f":"IF(OR($A56=Analysis!$B$3,AND(VLOOKUP(Analysis!$B$3,$A$2:$H$261,8,FALSE)<>\"\",VLOOKUP(Analysis!$B$3,$A$2:$H$261,8,FALSE)=$D56)),\"PR1\",IF(LEFT($E56,3)=\"VAA\",\"PR5\",\"PR2\"))","v":{"$error":"#N/A"}}]
[1023152,"SC055359",850,"Hampshire","LA","2003-09-29","2019-03-31","Adopt South",{"$f":"IF(OR($A57=Analysis!$B$3,AND(VLOOKUP(Analysis!$B$3,$A$2:$H$261,8,FALSE)<>\"\",VLOOKUP(Analysis!$B$3,$A$2:$H$261,8,FALSE)=$D57)),\"PR1\",IF(LEFT($E57,3)=\"VAA\",\"PR5\",\"PR2\"))","v":{"$error":"#N/A"}}]
[1023150,"SC055355",309,"Haringey","LA","2003-09-29","2019-09-30","Adopt London North",{"$f":"IF(OR($A58=Analysis!$B$3,AND(VLOOKUP(Analysis!$B$3,$A$2:$H$261,8,FALSE)<>\"\",VLOOKUP(Analysis!$B$3,$A$2:$H$261,8,FALSE)=$D58)),\"PR1\",IF(LEFT($E58,3)=\"VAA\",\"PR5\",\"PR2\"))","v":{"$error":"#N/A"}}]
[1023350,"SC059588",310,"Harrow","LA","2004-01-19","2019-04-30","Thomas Coram Foundation for Children (delivering Ambitious for Adoption RAA)",{"$f":"IF(OR($A59=Analysis!$B$3,AND(VLOOKUP(Analysis!$B$3,$A$2:$H$261,8,FALSE)<>\"\",VLOOKUP(Analysis!$B$3,$A$2:$H$261,8,FALSE)=$D59)),\"PR1\",IF(LEFT($E59,3)=\"VAA\",\"PR5\",\"PR2\"))","v":{"$error":"#N/A"}}]
[1023158,"SC055687",805,"Hartlepool","LA","2003-10-06","2018-04-30","Adoption Tees Valley",{"$f":"IF(OR($A60=Analysis!$B$3,AND(VLOOKUP(Analysis!$B$3,$A$2:$H$261,8,FALSE)<>\"\",VLOOKUP(Analysis!$B$3,$A$2:$H$261,8,FALSE)=$D60)),\"PR1\",IF(LEFT($E60,3)=\"VAA\",\"PR5\",\"PR2\"))","v":{"$error":"#N/A"}}]
[1023159,"SC055691",311,"Havering","LA","2003-10-06","2019-09-30","Adopt London East",{"$f":"IF(OR($A61=Analysis!$B$3,AND(VLOOKUP(Analysis!$B$3,$A$2:$H$261,8,FALSE)<>\"\",VLOOKUP(Analysis!$B$3,$A$2:$H$261,8,FALSE)=$D61)),\"PR1\",IF(LEFT($E61,3)=\"VAA\",\"PR5\",\"PR2\"))","v":{"$error":"#N/A"}}]
[1023291,"SC057941",884,"Herefordshire","LA","2003-11-19","2018-01-31","Adoption Central England",{"$f":"IF(OR($A62=Analysis!$B$3,AND(VLOOKUP(Analysis!$B$3,$A$2:$H$261,8,FALSE)<>\"\",VLOOKUP(Analysis!$B$3,$A$2:$H$261,8,FALSE)=$D62)),\"PR1\",IF(LEFT($E62,3)=\"VAA\",\"PR5\",\"PR2\"))","v":{"$error":"#N/A"}}]
[1023160,"SC055695",919,"Hertfordshire","LA","2003-10-06","2020-10-13","Adopt East",{"$f":"IF(OR($A63=Analysis!$B$3,AND(VLOOKUP(Analysis!$B$3,$A$2:$H$261,8,FALSE)<>\"\",VLOOKUP(Analysis!$B$3,$A$2:$H$261,8,FALSE)=$D63)),\"PR1\",IF(LEFT($E63,3)=\"VAA\",\"PR5\",\"PR2\"))","v":{"$error":"#N/A"}}]
[1023161,"SC055697",312,"Hillingdon","LA","2003-10-06","2019-04-30","Thomas Coram Foundation for Children (delivering Ambitious for Adoption RAA)",{"$f":"IF(OR($A64=Analysis!$B$3,AND(VLOOKUP(Analysis!$B$3,$A$2:$H$261,8,FALSE)<>\"\",VLOOKUP(Analysis!$B$3,$A$2:$H$261,8,FALSE)=$D64)),\"PR1\",IF(LEFT($E64,3)=\"VAA\",\"PR5\",\"PR2\"))","v":{"$error":"#N/A"}}]
[1023162,"SC055699",313,"Hounslow","LA","2003-10-06","2019-09-29","Adopt London West",{"$f":"IF(OR($A65=Analysis!$B$3,AND(VLOOKUP(Analysis!$B$3,$A$2:$H$261,8,FALSE)<>\"\",VLOOKUP(Analysis!$B$3,$A$2:$H$261,8,FALSE)=$D65)),\"PR1\",IF(LEFT($E65,3)=\"VAA\",\"PR5\",\"PR2\"))","v":{"$error":"#N/A"}}]
["xxIOM","xxIOM",null,"Isle of Man ","LA outside England",null,"",null,"PR6"]
[1023163,"SC055702",921,"Isle of Wight","LA","2003-10-06","2019-03-31","Adopt South",{"$f":"IF(OR($A67=Analysis!$B$3,AND(VLOOKUP(Analysis!$B$3,$A$2:$H$261,8,FALSE)<>\"\",VLOOKUP(Analysis!$B$3,$A$2:$H$261,8,FALSE)=$D67)),\"PR1\",IF(LEFT($E67,3)=\"VAA\",\"PR5\",\"PR2\"))","v":{"$error":"#N/A"}}]
[1024025,"SC067253",420,"Isles of Scilly","LA","2006-03-03","2024-03-31","Adopt South West",{"$f":"IF(OR($A68=Analysis!$B$3,AND(VLOOKUP(Analysis!$B$3,$A$2:$H$261,8,FALSE)<>\"\",VLOOKUP(Analysis!$B$3,$A$2:$H$261,8,FALSE)=$D68)),\"PR1\",IF(LEFT($E68,3)=\"VAA\",\"PR5\",\"PR2\"))","v":{"$error":"#N/A"}}]
[1023164,"SC055709",206,"Islington","LA","2003-10-07","2019-09-30","Adopt London North",{"$f":"IF(OR($A69=Analysis!$B$3,AND(VLOOKUP(Analysis!$B$3,$A$2:$H$261,8,FALSE)<>\"\",VLOOKUP(Analysis!$B$3,$A$2:$H$261,8,FALSE)=$D69)),\"PR1\",IF(LEFT($E69,3)=\"VAA\",\"PR5\",\"PR2\"))","v":{"$error":"#N/A"}}]
[null,null,207,"Kensington and Chelsea","LA","1990-01-01","2011-05-31",null,{"$f":"IF(OR($A70=Analysis!$B$3,AND(VLOOKUP(Analysis!$B$3,$A$2:$H$261,8,FALSE)<>\"\",VLOOKUP(Analysis!$B$3,$A$2:$H$261,8,FALSE)=$D70)),\"PR1\",IF(LEFT($E70,3)=\"VAA\",\"PR5\",\"PR2\"))","v":{"$error":"#N/A"}}]
[1023168,"SC055722",886,"Kent","LA","2003-10-07","2020-11-02","Adoption Partnership South East",{"$f":"IF(OR($A71=Analysis!$B$3,AND(VLOOKUP(Analysis!$B$3,$A$2:$H$261,8,FALSE)<>\"\",VLOOKUP(Analysis!$B$3,$A$2:$H$261,8,FALSE)=$D71)),\"PR1\",IF(LEFT($E71,3)=\"VAA\",\"PR5\",\"PR2\"))","v":{"$error":"#N/A"}}]
[1023210,"SC056542",810,"Kingston upon Hull","LA","2003-10-22","2018-02-28","One Adoption North and Humber",{"$f":"IF(OR($A72=Analysis!$B$3,AND(VLOOKUP(Analysis!$B$3,$A$2:$H$261,8,FALSE)<>\"\",VLOOKUP(Analysis!$B$3,$A$2:$H$261,8,FALSE)=$D72)),\"PR1\",IF(LEFT($E72,3)=\"VAA\",\"PR5\",\"PR2\"))","v":{"$error":"#N/A"}}]
[1023211,"SC056549",314,"Kingston upon Thames","LA","2003-10-22","2019-08-31","Adopt London South",{"$f":"IF(OR($A73=Analysis!$B$3,AND(VLOOKUP(Analysis!$B$3,$A$2:$H$261,8,FALSE)<>\"\",VLOOKUP(Analysis!$B$3,$A$2:$H$261,8,FALSE)=$D73)),\"PR1\",IF(LEFT($E73,3)=\"VAA\",\"PR5\",\"PR2\"))","v":{"$error":"#N/A"}}]
[1023212,"SC056554",382,"Kirklees","LA","2003-10-22","2017-03-31","One Adoption West Yorkshire",{"$f":"IF(OR($A74=Analysis!$B$3,AND(VLOOKUP(Analysis!$B$3,$A$2:$H$261,8,FALSE)<>\"\",VLOOKUP(Analysis!$B$3,$A$2:$H$261,8,FALSE)=$D74)),\"PR1\",IF(LEFT($E74,3)=\"VAA\",\"PR5\",\"PR2\"))","v":{"$error":"#N/A"}}]
[1023213,"SC056558",340,"Knowsley","LA","2003-10-22","2018-03-31","Adoption in Merseyside",{"$f":"IF(OR($A75=Analysis!$B$3,AND(VLOOKUP(Analysis!$B$3,$A$2:$H$261,8,FALSE)<>\"\",VLOOKUP(Analysis!$B$3,$A$2:$H$261,8,FALSE)=$D75)),\"PR1\",IF(LEFT($E75,3)=\"VAA\",\"PR5\",\"PR2\"))","v":{"$error":"#N/A"}}]
[1023240,"SC056817",208,"Lambeth","LA","2003-10-28","2019-08-31","Adopt London South",{"$f":"IF(OR($A76=Analysis!$B$3,AND(VLOOKUP(Analysis!$B$3,$A$2:$H$261,8,FALSE)<>\"\",VLOOKUP(Analysis!$B$3,$A$2:$H$261,8,FALSE)=$D76)),\"PR1\",IF(LEFT($E76,3)=\"VAA\",\"PR5\",\"PR2\"))","v":{"$error":"#N/A"}}]
[1023214,"SC056564",888,"Lancashire","LA","2003-10-22","2020-03-31","Adoption Lancashire & Blackpool",{"$f":"IF(OR($A77=Analysis!$B$3,AND(VLOOKUP(Analysis!$B$3,$A$2:$H$261,8,FALSE)<>\"\",VLOOKUP(Analysis!$B$3,$A$2:$H$261,8,FALSE)=$D77)),\"PR1\",IF(LEFT($E77,3)=\"VAA\",\"PR5\",\"PR2\"))","v":{"$error":"#N/A"}}]
[1023215,"SC056566",383,"Leeds","LA","2003-10-22","2017-03-31","One Adoption West Yorkshire",{"$f":"IF(OR($A78=Analysis!$B$3,AND(VLOOKUP(Analysis!$B$3,$A$2:$H$261,8,FALSE)<>\"\",VLOOKUP(Analysis!$B$3,$A$2:$H$261,8,FALSE)=$D78)),\"PR1\",IF(LEFT($E78,3)=\"VAA\",\"PR5\",\"PR2\"))","v":{"$error":"#N/A"}}]
[1023256,"SC057149",856,"Leicester","LA","2003-11-03","2020-10-13","Family Adoption Links",{"$f":"IF(OR($A79=Analysis!$B$3,AND(VLOOKUP(Analysis!$B$3,$A$2:$H$261,8,FALSE)<>\"\",VLOOKUP(Analysis!$B$3,$A$2:$H$261,8,FALSE)=$D79)),\"PR1\",IF(LEFT($E79,3)=\"VAA\",\"PR5\",\"PR2\"))","v":{"$error":"#N/A"}}]
[1023257,"SC057151",855,"Leicestershire","LA","2003-11-03","2020-10-13","Family Adoption Links",{"$f":"IF(OR($A80=Analysis!$B$3,AND(VLOOKUP(Analysis!$B$3,$A$2:$H$261,8,FALSE)<>\"\",VLOOKUP(Analysis!$B$3,$A$2:$H$261,8,FALSE)=$D80)),\"PR1\",IF(LEFT($E80,3)=\"VAA\",\"PR5\",\"PR2\"))","v":{"$error":"#N/A"}}]
[1023243,"SC056854",209,"Lewisham","LA","2003-10-28","2019-08-31","Adopt London South",{"$f":"IF(OR($A81=Analysis!$B$3,AND(VLOOKUP(Analysis!$B$3,$A$2:$H$261,8,FALSE)<>\"\",VLOOKUP(Analysis!$B$3,$A$2:$H$261,8,FALSE)=$D81)),\"PR1\",IF(LEFT($E81,3)=\"VAA\",\"PR5\",\"PR2\"))","v":{"$error":"#N/A"}}]
[1023216,"SC056568",925,"Lincolnshire","LA","2003-10-22","2020-10-13","Family Adoption Links",{"$f":"IF(OR($A82=Analysis!$B$3,AND(VLOOKUP(Analysis!$B$3,$A$2:$H$261,8,FALSE)<>\"\",VLOOKUP(Analysis!$B$3,$A$2:$H$261,8,FALSE)=$D82)),\"PR1\",IF(LEFT($E82,3)=\"VAA\",\"PR5\",\"PR2\"))","v":{"$error":"#N/A"}}]
[1023220,"SC056748",341,"Liverpool","LA","2003-10-27","2018-03-31","Adoption in Merseyside",{"$f":"IF(OR($A83=Analysis!$B$3,AND(VLOOKUP(Analysis!$B$3,$A$2:$H$261,8,FALSE)<>\"\",VLOOKUP(Analysis!$B$3,$A$2:$H$261,8,FALSE)=$D83)),\"PR1\",IF(LEFT($E83,3)=\"VAA\",\"PR5\",\"PR2\"))","v":{"$error":"#N/A"}}]
[1023221,"SC056751",821,"Luton","LA","2003-10-27","2020-10-13","Adopt East",{"$f":"IF(OR($A84=Analysis!$B$3,AND(VLOOKUP(Analysis!$B$3,$A$2:$H$261,8,FALSE)<>\"\",VLOOKUP(Analysis!$B$3,$A$2:$H$261,8,FALSE)=$D84)),\"PR1\",IF(LEFT($E84,3)=\"VAA\",\"PR5\",\"PR2\"))","v":{"$error":"#N/A"}}]
[1023222,"SC056753",352,"Manchester","LA","2003-10-27","2017-06-30","Adoption Counts",{"$f":"IF(OR($A85=Analysis!$B$3,AND(VLOOKUP(Analysis!$B$3,$A$2:$H$261,8,FALSE)<>\"\",VLOOKUP(Analysis!$B$3,$A$2:$H$261,8,FALSE)=$D85)),\"PR1\",IF(LEFT($E85,3)=\"VAA\",\"PR5\",\"PR2\"))","v":{"$error":"#N/A"}}]
[1023348,"SC059573",887,"Medway","LA","2004-01-19","2020-11-02","Adoption Partnership South East",{"$f":"IF(OR($A86=Analysis!$B$3,AND(VLOOKUP(Analysis!$B$3,$A$2:$H$261,8,FALSE)<>\"\",VLOOKUP(Analysis!$B$3,$A$2:$H$261,8,FALSE)=$D86)),\"PR1\",IF(LEFT($E86,3)=\"VAA\",\"PR5\",\"PR2\"))","v":{"$error":"#N/A"}}]
[1023287,"SC057813",315,"Merton","LA","2003-11-17","2019-08-31","Adopt London South",{"$f":"IF(OR($A87=Analysis!$B$3,AND(VLOOKUP(Analysis!$B$3,$A$2:$H$261,8,FALSE)<>\"\",VLOOKUP(Analysis!$B$3,$A$2:$H$261,8,FALSE)=$D87)),\"PR1\",IF(LEFT($E87,3)=\"VAA\",\"PR5\",\"PR2\"))","v":{"$error":"#N/A"}}]
[1022948,"SC050035",806,"Middlesbrough","LA","2003-07-15","2018-04-30","Adoption Tees Valley",{"$f":"IF(OR($A88=Analysis!$B$3,AND(VLOOKUP(Analysis!$B$3,$A$2:$H$261,8,FALSE)<>\"\",VLOOKUP(Analysis!$B$3,$A$2:$H$261,8,FALSE)=$D88)),\"PR1\",IF(LEFT($E88,3)=\"VAA\",\"PR5\",\"PR2\"))","v":{"$error":"#N/A"}}]
[1023312,"SC058675",826,"Milton Keynes","LA","2003-12-02","2019-03-31","Adoption Connects",{"$f":"IF(OR($A89=Analysis!$B$3,AND(VLOOKUP(Analysis!$B$3,$A$2:$H$261,8,FALSE)<>\"\",VLOOKUP(Analysis!$B$3,$A$2:$H$261,8,FALSE)=$D89)),\"PR1\",IF(LEFT($E89,3)=\"VAA\",\"PR5\",\"PR2\"))","v":{"$error":"#N/A"}}]
[1022949,"SC050036",391,"Newcastle upon Tyne","LA","2003-07-15","2018-11-30","Adopt North East",{"$f":"IF(OR($A90=Analysis!$B$3,AND(VLOOKUP(Analysis!$B$3,$A$2:$H$261,8,FALSE)<>\"\",VLOOKUP(Analysis!$B$3,$A$2:$H$261,8,FALSE)=$D90)),\"PR1\",IF(LEFT($E90,3)=\"VAA\",\"PR5\",\"PR2\"))","v":{"$error":"#N/A"}}]
[1023223,"SC056754",316,"Newham","LA","2003-10-27","2019-09-30","Adopt London East",{"$f":"IF(OR($A91=Analysis!$B$3,AND(VLOOKUP(Analysis!$B$3,$A$2:$H$261,8,FALSE)<>\"\",VLOOKUP(Analysis!$B$3,$A$2:$H$261,8,FALSE)=$D91)),\"PR1\",IF(LEFT($E91,3)=\"VAA\",\"PR5\",\"PR2\"))","v":{"$error":"#N/A"}}]
[1023224,"SC056760",926,"Norfolk","LA","2003-10-27","2020-10-13","Adopt East",{"$f":"IF(OR($A92=Analysis!$B$3,AND(VLOOKUP(Analysis!$B$3,$A$2:$H$261,8,FALSE)<>\"\",VLOOKUP(Analysis!$B$3,$A$2:$H$261,8,FALSE)=$D92)),\"PR1\",IF(LEFT($E92,3)=\"VAA\",\"PR5\",\"PR2\"))","v":{"$error":"#N/A"}}]
[1023262,"SC057231",812,"North East Lincolnshire","LA","2003-11-04","2018-02-28","One Adoption North and Humber",{"$f":"IF(OR($A93=Analysis!$B$3,AND(VLOOKUP(Analysis!$B$3,$A$2:$H$261,8,FALSE)<>\"\",VLOOKUP(Analysis!$B$3,$A$2:$H$261,8,FALSE)=$D93)),\"PR1\",IF(LEFT($E93,3)=\"VAA\",\"PR5\",\"PR2\"))","v":{"$error":"#N/A"}}]
[1022950,"SC050040",813,"North Lincolnshire","LA","2003-07-15","2020-10-13","Family Adoption Links",{"$f":"IF(OR($A94=Analysis!$B$3,AND(VLOOKUP(Analysis!$B$3,$A$2:$H$261,8,FALSE)<>\"\",VLOOKUP(Analysis!$B$3,$A$2:$H$261,8,FALSE)=$D94)),\"PR1\",IF(LEFT($E94,3)=\"VAA\",\"PR5\",\"PR2\"))","v":{"$error":"#N/A"}}]
[1023226,"SC056766",802,"North Somerset","LA","2003-10-27","2019-02-28","Adoption West",{"$f":"IF(OR($A95=Analysis!$B$3,AND(VLOOKUP(Analysis!$B$3,$A$2:$H$261,8,FALSE)<>\"\",VLOOKUP(Analysis!$B$3,$A$2:$H$261,8,FALSE)=$D95)),\"PR1\",IF(LEFT($E95,3)=\"VAA\",\"PR5\",\"PR2\"))","v":{"$error":"#N/A"}}]
[1023227,"SC056767",392,"North Tyneside","LA","2003-10-27","2018-11-30","Adopt North East",{"$f":"IF(OR($A96=Analysis!$B$3,AND(VLOOKUP(Analysis!$B$3,$A$2:$H$261,8,FALSE)<>\"\",VLOOKUP(Analysis!$B$3,$A$2:$H$261,8,FALSE)=$D96)),\"PR1\",IF(LEFT($E96,3)=\"VAA\",\"PR5\",\"PR2\"))","v":{"$error":"#N/A"}}]
[1023228,"SC056771",815,"North Yorkshire","LA","2003-10-27","2018-02-28","One Adoption North and Humber",{"$f":"IF(OR($A97=Analysis!$B$3,AND(VLOOKUP(Analysis!$B$3,$A$2:$H$261,8,FALSE)<>\"\",VLOOKUP(Analysis!$B$3,$A$2:$H$261,8,FALSE)=$D97)),\"PR1\",IF(LEFT($E97,3)=\"VAA\",\"PR5\",\"PR2\"))","v":{"$error":"#N/A"}}]
[2605174,2605174,928,"Northamptonshire","LA (VAA)","2020-11-01","2022-03-30","Family Adoption Links",{"$f":"IF(OR($A98=Analysis!$B$3,AND(VLOOKUP(Analysis!$B$3,$A$2:$H$261,8,FALSE)<>\"\",VLOOKUP(Analysis!$B$3,$A$2:$H$261,8,FALSE)=$D98)),\"PR1\",IF(LEFT($E98,3)=\"VAA\",\"PR5\",\"PR2\"))","v":{"$error":"#N/A"}}]
[1023225,"SC056764",928,"Northamptonshire","LA","2003-10-27","2020-10-31","Family Adoption Links",{"$f":"IF(OR($A99=Analysis!$B$3,AND(VLOOKUP(Analysis!$B$3,$A$2:$H$261,8,FALSE)<>\"\",VLOOKUP(Analysis!$B$3,$A$2:$H$261,8,FALSE)=$D99)),\"PR1\",IF(LEFT($E99,3)=\"VAA\",\"PR5\",\"PR2\"))","v":{"$error":"#N/A"}}]
["xxNIRE","xxNIRE",null,"Northern Ireland","LA outside England",null,"",null,"PR6"]
[1022951,"SC050042",929,"Northumberland","LA","2003-07-15","2018-11-30","Adopt North East",{"$f":"IF(OR($A101=Analysis!$B$3,AND(VLOOKUP(Analysis!$B$3,$A$2:$H$261,8,FALSE)<>\"\",VLOOKUP(Analysis!$B$3,$A$2:$H$261,8,FALSE)=$D101)),\"PR1\",IF(LEFT($E101,3)=\"VAA\",\"PR5\",\"PR2\"))","v":{"$error":"#N/A"}}]
[1023108,"SC054186",892,"Nottingham","LA","2003-09-10","2019-02-28","Adoption East Midlands",{"$f":"IF(OR($A102=Analysis!$B$3,AND(VLOOKUP(Analysis!$B$3,$A$2:$H$261,8,FALSE)<>\"\",VLOOKUP(Analysis!$B$3,$A$2:$H$261,8,FALSE)=$D102)),\"PR1\",IF(LEFT($E102,3)=\"VAA\",\"PR5\",\"PR2\"))","v":{"$error":"#N/A"}}]
[1023229,"SC056772",891,"Nottinghamshire","LA","2003-10-27","2019-02-28","Adoption East Midlands",{"$f":"IF(OR($A103=Analysis!$B$3,AND(VLOOKUP(Analysis!$B$3,$A$2:$H$261,8,FALSE)<>\"\",VLOOKUP(Analysis!$B$3,$A$2:$H$261,8,FALSE)=$D103)),\"PR1\",IF(LEFT($E103,3)=\"VAA\",\"PR5\",\"PR2\"))","v":{"$error":"#N/A"}}]
[1022953,"SC050044",353,"Oldham","LA","2003-07-15","2017-10-31","Adoption Now",{"$f":"IF(OR($A104=Analysis!$B$3,AND(VLOOKUP(Analysis!$B$3,$A$2:$H$261,8,FALSE)<>\"\",VLOOKUP(Analysis!$B$3,$A$2:$H$261,8,FALSE)=$D104)),\"PR1\",IF(LEFT($E104,3)=\"VAA\",\"PR5\",\"PR2\"))","v":{"$error":"#N/A"}}]
["xxOTUK","xxOTUK",null,"Other UK","LA outside England",null,"2024-09-30",null,"PR6"]
["xxOUUK","xxOUUK",null,"Outside UK","LA outside England",null,"",null,"PR6"]
[1023230,"SC056777",931,"Oxfordshire","LA","2003-10-27","2017-11-30","Adopt Thames Valley",{"$f":"IF(OR($A107=Analysis!$B$3,AND(VLOOKUP(Analysis!$B$3,$A$2:$H$261,8,FALSE)<>\"\",VLOOKUP(Analysis!$B$3,$A$2:$H$261,8,FALSE)=$D107)),\"PR1\",IF(LEFT($E107,3)=\"VAA\",\"PR5\",\"PR2\"))","v":{"$error":"#N/A"}}]
[1023170,"SC055738",874,"Peterborough","LA","2003-10-07","2020-11-30","Cambridgeshire and Peterborough Adoption",{"$f":"IF(OR($A108=Analysis!$B$3,AND(VLOOKUP(Analysis!$B$3,$A$2:$H$261,8,FALSE)<>\"\",VLOOKUP(Analysis!$B$3,$A$2:$H$261,8,FALSE)=$D108)),\"PR1\",IF(LEFT($E108,3)=\"VAA\",\"PR5\",\"PR2\"))","v":{"$error":"#N/A"}}]
[1023231,"SC056793",879,"Plymouth","LA","2003-10-27","2018-09-30","Adopt South West",{"$f":"IF(OR($A109=Analysis!$B$3,AND(VLOOKUP(Analysis!$B$3,$A$2:$H$261,8,FALSE)<>\"\",VLOOKUP(Analysis!$B$3,$A$2:$H$261,8,FALSE)=$D109)),\"PR1\",IF(LEFT($E109,3)=\"VAA\",\"PR5\",\"PR2\"))","v":{"$error":"#N/A"}}]
[1022954,"SC050048",836,"Poole","LA","1990-01-01","2017-06-30",null,{"$f":"IF(OR($A110=Analysis!$B$3,AND(VLOOKUP(Analysis!$B$3,$A$2:$H$261,8,FALSE)<>\"\",VLOOKUP(Analysis!$B$3,$A$2:$H$261,8,FALSE)=$D110)),\"PR1\",IF(LEFT($E110,3)=\"VAA\",\"PR5\",\"PR2\"))","v":{"$error":"#N/A"}}]
[1022921,"SC049177",851,"Portsmouth","LA","2003-07-02","2019-03-31","Adopt South",{"$f":"IF(OR($A111=Analysis!$B$3,AND(VLOOKUP(Analysis!$B$3,$A$2:$H$261,8,FALSE)<>\"\",VLOOKUP(Analysis!$B$3,$A$2:$H$261,8,FALSE)=$D111)),\"PR1\",IF(LEFT($E111,3)=\"VAA\",\"PR5\",\"PR2\"))","v":{"$error":"#N/A"}}]
[2509643,2509643,870,"Reading","LA (VAA)","2018-11-29","2018-11-29","Adopt Thames Valley",{"$f":"IF(OR($A112=Analysis!$B$3,AND(VLOOKUP(Analysis!$B$3,$A$2:$H$261,8,FALSE)<>\"\",VLOOKUP(Analysis!$B$3,$A$2:$H$261,8,FALSE)=$D112)),\"PR1\",IF(LEFT($E112,3)=\"VAA\",\"PR5\",\"PR2\"))","v":{"$error":"#N/A"}}]
[2509643,"SC056833",870,"Reading","LA","2003-10-28","2017-11-30","Adopt Thames Valley",{"$f":"IF(OR($A113=Analysis!$B$3,AND(VLOOKUP(Analysis!$B$3,$A$2:$H$261,8,FALSE)<>\"\",VLOOKUP(Analysis!$B$3,$A$2:$H$261,8,FALSE)=$D113)),\"PR1\",IF(LEFT($E113,3)=\"VAA\",\"PR5\",\"PR2\"))","v":{"$error":"#N/A"}}]
[1023107,"SC054181",317,"Redbridge","LA","2003-09-10","2019-04-30","Thomas Coram Foundation for Children (delivering Ambitious for Adoption RAA)",{"$f":"IF(OR($A114=Analysis!$B$3,AND(VLOOKUP(Analysis!$B$3,$A$2:$H$261,8,FALSE)<>\"\",VLOOKUP(Analysis!$B$3,$A$2:$H$261,8,FALSE)=$D114)),\"PR1\",IF(LEFT($E114,3)=\"VAA\",\"PR5\",\"PR2\"))","v":{"$error":"#N/A"}}]
[1023109,"SC054192",807,"Redcar and Cleveland","LA","2003-09-10","2018-04-30","Adoption Tees Valley",{"$f":"IF(OR($A115=Analysis!$B$3,AND(VLOOKUP(Analysis!$B$3,$A$2:$H$261,8,FALSE)<>\"\",VLOOKUP(Analysis!$B$3,$A$2:$H$261,8,FALSE)=$D115)),\"PR1\",IF(LEFT($E115,3)=\"VAA\",\"PR5\",\"PR2\"))","v":{"$error":"#N/A"}}]
[1023232,"SC056797",318,"Richmond upon Thames","LA","2003-10-27","2019-08-31","Adopt London South",{"$f":"IF(OR($A116=Analysis!$B$3,AND(VLOOKUP(Analysis!$B$3,$A$2:$H$261,8,FALSE)<>\"\",VLOOKUP(Analysis!$B$3,$A$2:$H$261,8,FALSE)=$D116)),\"PR1\",IF(LEFT($E116,3)=\"VAA\",\"PR5\",\"PR2\"))","v":{"$error":"#N/A"}}]
[1023233,"SC056804",354,"Rochdale","LA","2003-10-27","2017-10-31","Adoption Now",{"$f":"IF(OR($A117=Analysis!$B$3,AND(VLOOKUP(Analysis!$B$3,$A$2:$H$261,8,FALSE)<>\"\",VLOOKUP(Analysis!$B$3,$A$2:$H$261,8,FALSE)=$D117)),\"PR1\",IF(LEFT($E117,3)=\"VAA\",\"PR5\",\"PR2\"))","v":{"$error":"#N/A"}}]
[1023234,"SC056805",372,"Rotherham","LA","2003-10-27","2020-12-31","One Adoption South Yorkshire",{"$f":"IF(OR($A118=Analysis!$B$3,AND(VLOOKUP(Analysis!$B$3,$A$2:$H$261,8,FALSE)<>\"\",VLOOKUP(Analysis!$B$3,$A$2:$H$261,8,FALSE)=$D118)),\"PR1\",IF(LEFT($E118,3)=\"VAA\",\"PR5\",\"PR2\"))","v":{"$error":"#N/A"}}]
[1023255,"SC057145",857,"Rutland","LA","2003-11-03","2020-10-13","Family Adoption Links",{"$f":"IF(OR($A119=Analysis!$B$3,AND(VLOOKUP(Analysis!$B$3,$A$2:$H$261,8,FALSE)<>\"\",VLOOKUP(Analysis!$B$3,$A$2:$H$261,8,FALSE)=$D119)),\"PR1\",IF(LEFT($E119,3)=\"VAA\",\"PR5\",\"PR2\"))","v":{"$error":"#N/A"}}]
[1023235,"SC056806",355,"Salford","LA","2003-10-27","2017-06-30","Adoption Counts",{"$f":"IF(OR($A120=Analysis!$B$3,AND(VLOOKUP(Analysis!$B$3,$A$2:$H$261,8,FALSE)<>\"\",VLOOKUP(Analysis!$B$3,$A$2:$H$261,8,FALSE)=$D120)),\"PR1\",IF(LEFT($E120,3)=\"VAA\",\"PR5\",\"PR2\"))","v":{"$error":"#N/A"}}]
[1264707,"SC059602",333,"Sandwell","LA (VAA)","2018-03-07","2019-03-31","Adoption @ Heart",{"$f":"IF(OR($A121=Analysis!$B$3,AND(VLOOKUP(Analysis!$B$3,$A$2:$H$261,8,FALSE)<>\"\",VLOOKUP(Analysis!$B$3,$A$2:$H$261,8,FALSE)=$D121)),\"PR1\",IF(LEFT($E121,3)=\"VAA\",\"PR5\",\"PR2\"))","v":{"$error":"#N/A"}}]
[1264707,"SC059602",333,"Sandwell","LA","2004-01-20","2018-03-06","Adoption @ Heart",{"$f":"IF(OR($A122=Analysis!$B$3,AND(VLOOKUP(Analysis!$B$3,$A$2:$H$261,8,FALSE)<>\"\",VLOOKUP(Analysis!$B$3,$A$2:$H$261,8,FALSE)=$D122)),\"PR1\",IF(LEFT($E122,3)=\"VAA\",\"PR5\",\"PR2\"))","v":{"$error":"#N/A"}}]
["xxSCOT","xxSCOT",null,"Scotland","LA outside England",null,"",null,"PR6"]
[1023236,"SC056808",343,"Sefton","LA","2003-10-27","2018-03-31","Adoption in Merseyside",{"$f":"IF(OR($A124=Analysis!$B$3,AND(VLOOKUP(Analysis!$B$3,$A$2:$H$261,8,FALSE)<>\"\",VLOOKUP(Analysis!$B$3,$A$2:$H$261,8,FALSE)=$D124)),\"PR1\",IF(LEFT($E124,3)=\"VAA\",\"PR5\",\"PR2\"))","v":{"$error":"#N/A"}}]
[1023296,"SC058208",373,"Sheffield","LA","2003-11-24","2020-12-31","One Adoption South Yorkshire",{"$f":"IF(OR($A125=Analysis!$B$3,AND(VLOOKUP(Analysis!$B$3,$A$2:$H$261,8,FALSE)<>\"\",VLOOKUP(Analysis!$B$3,$A$2:$H$261,8,FALSE)=$D125)),\"PR1\",IF(LEFT($E125,3)=\"VAA\",\"PR5\",\"PR2\"))","v":{"$error":"#N/A"}}]
[1023275,"SC057549",893,"Shropshire","LA","2003-11-10","2020-09-27","Together4Children",{"$f":"IF(OR($A126=Analysis!$B$3,AND(VLOOKUP(Analysis!$B$3,$A$2:$H$261,8,FALSE)<>\"\",VLOOKUP(Analysis!$B$3,$A$2:$H$261,8,FALSE)=$D126)),\"PR1\",IF(LEFT($E126,3)=\"VAA\",\"PR5\",\"PR2\"))","v":{"$error":"#N/A"}}]
[1183499,1183499,871,"Slough","LA (VAA)","2015-09-30","2021-03-31","Thomas Coram Foundation for Children (delivering Ambitious for Adoption RAA)",{"$f":"IF(OR($A127=Analysis!$B$3,AND(VLOOKUP(Analysis!$B$3,$A$2:$H$261,8,FALSE)<>\"\",VLOOKUP(Analysis!$B$3,$A$2:$H$261,8,FALSE)=$D127)),\"PR1\",IF(LEFT($E127,3)=\"VAA\",\"PR5\",\"PR2\"))","v":{"$error":"#N/A"}}]
[1183499,"SC056811",871,"Slough","LA","1990-01-01","2015-09-29","Thomas Coram Foundation for Children (delivering Ambitious for Adoption RAA)",{"$f":"IF(OR($A128=Analysis!$B$3,AND(VLOOKUP(Analysis!$B$3,$A$2:$H$261,8,FALSE)<>\"\",VLOOKUP(Analysis!$B$3,$A$2:$H$261,8,FALSE)=$D128)),\"PR1\",IF(LEFT($E128,3)=\"VAA\",\"PR5\",\"PR2\"))","v":{"$error":"#N/A"}}]
[1023239,"SC056812",334,"Solihull","LA","2003-10-27","2018-01-31","Adoption Central England",{"$f":"IF(OR($A129=Analysis!$B$3,AND(VLOOKUP(Analysis!$B$3,$A$2:$H$261,8,FALSE)<>\"\",VLOOKUP(Analysis!$B$3,$A$2:$H$261,8,FALSE)=$D129)),\"PR1\",IF(LEFT($E129,3)=\"VAA\",\"PR5\",\"PR2\"))","v":{"$error":"#N/A"}}]
[1023244,"SC056858",933,"Somerset","LA","2003-10-28","2018-09-30","Adopt South West",{"$f":"IF(OR($A130=Analysis!$B$3,AND(VLOOKUP(Analysis!$B$3,$A$2:$H$261,8,FALSE)<>\"\",VLOOKUP(Analysis!$B$3,$A$2:$H$261,8,FALSE)=$D130)),\"PR1\",IF(LEFT($E130,3)=\"VAA\",\"PR5\",\"PR2\"))","v":{"$error":"#N/A"}}]
[1023245,"SC056860",803,"South Gloucestershire","LA","2003-10-28","2019-02-28","Adoption West",{"$f":"IF(OR($A131=Analysis!$B$3,AND(VLOOKUP(Analysis!$B$3,$A$2:$H$261,8,FALSE)<>\"\",VLOOKUP(Analysis!$B$3,$A$2:$H$261,8,FALSE)=$D131)),\"PR1\",IF(LEFT($E131,3)=\"VAA\",\"PR5\",\"PR2\"))","v":{"$error":"#N/A"}}]
[1022956,"SC050051",393,"South Tyneside","LA","2003-07-15","2018-11-30","Adopt North East",{"$f":"IF(OR($A132=Analysis!$B$3,AND(VLOOKUP(Analysis!$B$3,$A$2:$H$261,8,FALSE)<>\"\",VLOOKUP(Analysis!$B$3,$A$2:$H$261,8,FALSE)=$D132)),\"PR1\",IF(LEFT($E132,3)=\"VAA\",\"PR5\",\"PR2\"))","v":{"$error":"#N/A"}}]
[1023246,"SC056862",852,"Southampton","LA","2003-10-28","2019-03-31","Adopt South",{"$f":"IF(OR($A133=Analysis!$B$3,AND(VLOOKUP(Analysis!$B$3,$A$2:$H$261,8,FALSE)<>\"\",VLOOKUP(Analysis!$B$3,$A$2:$H$261,8,FALSE)=$D133)),\"PR1\",IF(LEFT($E133,3)=\"VAA\",\"PR5\",\"PR2\"))","v":{"$error":"#N/A"}}]
[1023289,"SC057823",882,"Southend-on-Sea","LA","2003-11-17","2020-10-13","Adopt East",{"$f":"IF(OR($A134=Analysis!$B$3,AND(VLOOKUP(Analysis!$B$3,$A$2:$H$261,8,FALSE)<>\"\",VLOOKUP(Analysis!$B$3,$A$2:$H$261,8,FALSE)=$D134)),\"PR1\",IF(LEFT($E134,3)=\"VAA\",\"PR5\",\"PR2\"))","v":{"$error":"#N/A"}}]
[1023247,"SC056870",210,"Southwark","LA","2003-10-28","2019-08-31","Adopt London South",{"$f":"IF(OR($A135=Analysis!$B$3,AND(VLOOKUP(Analysis!$B$3,$A$2:$H$261,8,FALSE)<>\"\",VLOOKUP(Analysis!$B$3,$A$2:$H$261,8,FALSE)=$D135)),\"PR1\",IF(LEFT($E135,3)=\"VAA\",\"PR5\",\"PR2\"))","v":{"$error":"#N/A"}}]
[1023248,"SC056872",342,"St Helens","LA","2003-10-28","2017-08-31","Together for Adoption",{"$f":"IF(OR($A136=Analysis!$B$3,AND(VLOOKUP(Analysis!$B$3,$A$2:$H$261,8,FALSE)<>\"\",VLOOKUP(Analysis!$B$3,$A$2:$H$261,8,FALSE)=$D136)),\"PR1\",IF(LEFT($E136,3)=\"VAA\",\"PR5\",\"PR2\"))","v":{"$error":"#N/A"}}]
[1023105,"SC054164",860,"Staffordshire","LA","2003-09-10","2020-09-27","Together4Children",{"$f":"IF(OR($A137=Analysis!$B$3,AND(VLOOKUP(Analysis!$B$3,$A$2:$H$261,8,FALSE)<>\"\",VLOOKUP(Analysis!$B$3,$A$2:$H$261,8,FALSE)=$D137)),\"PR1\",IF(LEFT($E137,3)=\"VAA\",\"PR5\",\"PR2\"))","v":{"$error":"#N/A"}}]
[1023250,"SC056877",356,"Stockport","LA","2003-10-28","2017-06-30","Adoption Counts",{"$f":"IF(OR($A138=Analysis!$B$3,AND(VLOOKUP(Analysis!$B$3,$A$2:$H$261,8,FALSE)<>\"\",VLOOKUP(Analysis!$B$3,$A$2:$H$261,8,FALSE)=$D138)),\"PR1\",IF(LEFT($E138,3)=\"VAA\",\"PR5\",\"PR2\"))","v":{"$error":"#N/A"}}]
[1023249,"SC056876",808,"Stockton-on-Tees","LA","2003-10-28","2018-04-30","Adoption Tees Valley",{"$f":"IF(OR($A139=Analysis!$B$3,AND(VLOOKUP(Analysis!$B$3,$A$2:$H$261,8,FALSE)<>\"\",VLOOKUP(Analysis!$B$3,$A$2:$H$261,8,FALSE)=$D139)),\"PR1\",IF(LEFT($E139,3)=\"VAA\",\"PR5\",\"PR2\"))","v":{"$error":"#N/A"}}]
[1023351,"SC059591",861,"Stoke-on-Trent","LA","2004-01-19","2020-09-27","Together4Children",{"$f":"IF(OR($A140=Analysis!$B$3,AND(VLOOKUP(Analysis!$B$3,$A$2:$H$261,8,FALSE)<>\"\",VLOOKUP(Analysis!$B$3,$A$2:$H$261,8,FALSE)=$D140)),\"PR1\",IF(LEFT($E140,3)=\"VAA\",\"PR5\",\"PR2\"))","v":{"$error":"#N/A"}}]
[1023288,"SC057814",935,"Suffolk","LA","2003-11-17","2020-10-13","Adopt East",{"$f":"IF(OR($A141=Analysis!$B$3,AND(VLOOKUP(Analysis!$B$3,$A$2:$H$261,8,FALSE)<>\"\",VLOOKUP(Analysis!$B$3,$A$2:$H$261,8,FALSE)=$D141)),\"PR1\",IF(LEFT($E141,3)=\"VAA\",\"PR5\",\"PR2\"))","v":{"$error":"#N/A"}}]
[1254834,1254834,394,"Sunderland","LA (VAA)","2017-03-31","2021-03-31","Adopt Coast to Coast",{"$f":"IF(OR($A142=Analysis!$B$3,AND(VLOOKUP(Analysis!$B$3,$A$2:$H$261,8,FALSE)<>\"\",VLOOKUP(Analysis!$B$3,$A$2:$H$261,8,FALSE)=$D142)),\"PR1\",IF(LEFT($E142,3)=\"VAA\",\"PR5\",\"PR2\"))","v":{"$error":"#N/A"}}]
[1254834,"SC056878",394,"Sunderland","LA","2003-10-28","2017-03-30","Adopt Coast to Coast",{"$f":"IF(OR($A143=Analysis!$B$3,AND(VLOOKUP(Analysis!$B$3,$A$2:$H$261,8,FALSE)<>\"\",VLOOKUP(Analysis!$B$3,$A$2:$H$261,8,FALSE)=$D143)),\"PR1\",IF(LEFT($E143,3)=\"VAA\",\"PR5\",\"PR2\"))","v":{"$error":"#N/A"}}]
[1023242,"SC056851",936,"Surrey","LA","2003-10-28","2020-03-31","Adoption South East",{"$f":"IF(OR($A144=Analysis!$B$3,AND(VLOOKUP(Analysis!$B$3,$A$2:$H$261,8,FALSE)<>\"\",VLOOKUP(Analysis!$B$3,$A$2:$H$261,8,FALSE)=$D144)),\"PR1\",IF(LEFT($E144,3)=\"VAA\",\"PR5\",\"PR2\"))","v":{"$error":"#N/A"}}]
[1023103,"SC054069",319,"Sutton","LA","2003-09-09","2019-08-31","Adopt London South",{"$f":"IF(OR($A145=Analysis!$B$3,AND(VLOOKUP(Analysis!$B$3,$A$2:$H$261,8,FALSE)<>\"\",VLOOKUP(Analysis!$B$3,$A$2:$H$261,8,FALSE)=$D145)),\"PR1\",IF(LEFT($E145,3)=\"VAA\",\"PR5\",\"PR2\"))","v":{"$error":"#N/A"}}]
[1023252,"SC056881",866,"Swindon","LA","2003-10-28","2017-11-30","Adopt Thames Valley",{"$f":"IF(OR($A146=Analysis!$B$3,AND(VLOOKUP(Analysis!$B$3,$A$2:$H$261,8,FALSE)<>\"\",VLOOKUP(Analysis!$B$3,$A$2:$H$261,8,FALSE)=$D146)),\"PR1\",IF(LEFT($E146,3)=\"VAA\",\"PR5\",\"PR2\"))","v":{"$error":"#N/A"}}]
[1023104,"SC054157",357,"Tameside","LA","2003-09-10","2017-10-31","Adoption Now",{"$f":"IF(OR($A147=Analysis!$B$3,AND(VLOOKUP(Analysis!$B$3,$A$2:$H$261,8,FALSE)<>\"\",VLOOKUP(Analysis!$B$3,$A$2:$H$261,8,FALSE)=$D147)),\"PR1\",IF(LEFT($E147,3)=\"VAA\",\"PR5\",\"PR2\"))","v":{"$error":"#N/A"}}]
[1026017,"SC454367",894,"Telford and Wrekin","LA","2012-08-24","2020-09-27","Together4Children",{"$f":"IF(OR($A148=Analysis!$B$3,AND(VLOOKUP(Analysis!$B$3,$A$2:$H$261,8,FALSE)<>\"\",VLOOKUP(Analysis!$B$3,$A$2:$H$261,8,FALSE)=$D148)),\"PR1\",IF(LEFT($E148,3)=\"VAA\",\"PR5\",\"PR2\"))","v":{"$error":"#N/A"}}]
[1023259,"SC057173",883,"Thurrock","LA","2003-11-03","2020-10-13","Adopt East",{"$f":"IF(OR($A149=Analysis!$B$3,AND(VLOOKUP(Analysis!$B$3,$A$2:$H$261,8,FALSE)<>\"\",VLOOKUP(Analysis!$B$3,$A$2:$H$261,8,FALSE)=$D149)),\"PR1\",IF(LEFT($E149,3)=\"VAA\",\"PR5\",\"PR2\"))","v":{"$error":"#N/A"}}]
[1023260,"SC057174",880,"Torbay","LA","2003-11-03","2018-09-30","Adopt South West",{"$f":"IF(OR($A150=Analysis!$B$3,AND(VLOOKUP(Analysis!$B$3,$A$2:$H$261,8,FALSE)<>\"\",VLOOKUP(Analysis!$B$3,$A$2:$H$261,8,FALSE)=$D150)),\"PR1\",IF(LEFT($E150,3)=\"VAA\",\"PR5\",\"PR2\"))","v":{"$error":"#N/A"}}]
[1023487,"SC061617",211,"Tower Hamlets","LA","2004-06-02","2019-09-30","Adopt London East",{"$f":"IF(OR($A151=Analysis!$B$3,AND(VLOOKUP(Analysis!$B$3,$A$2:$H$261,8,FALSE)<>\"\",VLOOKUP(Analysis!$B$3,$A$2:$H$261,8,FALSE)=$D151)),\"PR1\",IF(LEFT($E151,3)=\"VAA\",\"PR5\",\"PR2\"))","v":{"$error":"#N/A"}}]
[1023261,"SC057183",358,"Trafford","LA","2003-11-03","2017-06-30","Adoption Counts",{"$f":"IF(OR($A152=Analysis!$B$3,AND(VLOOKUP(Analysis!$B$3,$A$2:$H$261,8,FALSE)<>\"\",VLOOKUP(Analysis!$B$3,$A$2:$H$261,8,FALSE)=$D152)),\"PR1\",IF(LEFT($E152,3)=\"VAA\",\"PR5\",\"PR2\"))","v":{"$error":"#N/A"}}]
[1022947,"SC050034","205T","Tri-Borough","LA","2011-06-01","2019-09-30",null,{"$f":"IF(OR($A153=Analysis!$B$3,AND(VLOOKUP(Analysis!$B$3,$A$2:$H$261,8,FALSE)<>\"\",VLOOKUP(Analysis!$B$3,$A$2:$H$261,8,FALSE)=$D153)),\"PR1\",IF(LEFT($E153,3)=\"VAA\",\"PR5\",\"PR2\"))","v":{"$error":"#N/A"}}]
[1023258,"SC057171",384,"Wakefield","LA","2003-11-03","2017-03-31","One Adoption West Yorkshire",{"$f":"IF(OR($A154=Analysis!$B$3,AND(VLOOKUP(Analysis!$B$3,$A$2:$H$261,8,FALSE)<>\"\",VLOOKUP(Analysis!$B$3,$A$2:$H$261,8,FALSE)=$D154)),\"PR1\",IF(LEFT($E154,3)=\"VAA\",\"PR5\",\"PR2\"))","v":{"$error":"#N/A"}}]
["xxWALE","xxWALE",null,"Wales","LA outside England",null,"",null,"PR6"]
[1023264,"SC057237",335,"Walsall","LA","2003-11-04","2019-03-31","Adoption @ Heart",{"$f":"IF(OR($A156=Analysis!$B$3,AND(VLOOKUP(Analysis!$B$3,$A$2:$H$261,8,FALSE)<>\"\",VLOOKUP(Analysis!$B$3,$A$2:$H$261,8,FALSE)=$D156)),\"PR1\",IF(LEFT($E156,3)=\"VAA\",\"PR5\",\"PR2\"))","v":{"$error":"#N/A"}}]
[1023175,"SC055898",320,"Waltham Forest","LA","2003-10-09","2019-04-30","Thomas Coram Foundation for Children (delivering Ambitious for Adoption RAA)",{"$f":"IF(OR($A157=Analysis!$B$3,AND(VLOOKUP(Analysis!$B$3,$A$2:$H$261,8,FALSE)<>\"\",VLOOKUP(Analysis!$B$3,$A$2:$H$261,8,FALSE)=$D157)),\"PR1\",IF(LEFT($E157,3)=\"VAA\",\"PR5\",\"PR2\"))","v":{"$error":"#N/A"}}]
[1023297,"SC058212",212,"Wandsworth","LA","2003-11-24","2019-08-31","Adopt London South",{"$f":"IF(OR($A158=Analysis!$B$3,AND(VLOOKUP(Analysis!$B$3,$A$2:$H$261,8,FALSE)<>\"\",VLOOKUP(Analysis!$B$3,$A$2:$H$261,8,FALSE)=$D158)),\"PR1\",IF(LEFT($E158,3)=\"VAA\",\"PR5\",\"PR2\"))","v":{"$error":"#N/A"}}]
[1022955,"SC050050",877,"Warrington","LA","2003-07-15","2017-08-31","Together for Adoption",{"$f":"IF(OR($A159=Analysis!$B$3,AND(VLOOKUP(Analysis!$B$3,$A$2:$H$261,8,FALSE)<>\"\",VLOOKUP(Analysis!$B$3,$A$2:$H$261,8,FALSE)=$D159)),\"PR1\",IF(LEFT($E159,3)=\"VAA\",\"PR5\",\"PR2\"))","v":{"$error":"#N/A"}}]
[1023106,"SC054166",937,"Warwickshire","LA","2003-09-10","2018-01-31","Adoption Central England",{"$f":"IF(OR($A160=Analysis!$B$3,AND(VLOOKUP(Analysis!$B$3,$A$2:$H$261,8,FALSE)<>\"\",VLOOKUP(Analysis!$B$3,$A$2:$H$261,8,FALSE)=$D160)),\"PR1\",IF(LEFT($E160,3)=\"VAA\",\"PR5\",\"PR2\"))","v":{"$error":"#N/A"}}]
[1023265,"SC057256",869,"West Berkshire","LA","2003-11-04","2017-11-30","Adopt Thames Valley",{"$f":"IF(OR($A161=Analysis!$B$3,AND(VLOOKUP(Analysis!$B$3,$A$2:$H$261,8,FALSE)<>\"\",VLOOKUP(Analysis!$B$3,$A$2:$H$261,8,FALSE)=$D161)),\"PR1\",IF(LEFT($E161,3)=\"VAA\",\"PR5\",\"PR2\"))","v":{"$error":"#N/A"}}]
[1022961,"SC050067",938,"West Sussex","LA","2003-07-15","2020-03-31","Adoption South East",{"$f":"IF(OR($A162=Analysis!$B$3,AND(VLOOKUP(Analysis!$B$3,$A$2:$H$261,8,FALSE)<>\"\",VLOOKUP(Analysis!$B$3,$A$2:$H$261,8,FALSE)=$D162)),\"PR1\",IF(LEFT($E162,3)=\"VAA\",\"PR5\",\"PR2\"))","v":{"$error":"#N/A"}}]
[1022947,"SC050034",213,"Westminster","LA","1990-01-01","2011-05-31",null,{"$f":"IF(OR($A163=Analysis!$B$3,AND(VLOOKUP(Analysis!$B$3,$A$2:$H$261,8,FALSE)<>\"\",VLOOKUP(Analysis!$B$3,$A$2:$H$261,8,FALSE)=$D163)),\"PR1\",IF(LEFT($E163,3)=\"VAA\",\"PR5\",\"PR2\"))","v":{"$error":"#N/A"}}]
[2733383,2733383,943,"Westmoreland and Furness","LA","2023-04-01","2023-03-31","Cumbria Adoption",{"$f":"IF(OR($A164=Analysis!$B$3,AND(VLOOKUP(Analysis!$B$3,$A$2:$H$261,8,FALSE)<>\"\",VLOOKUP(Analysis!$B$3,$A$2:$H$261,8,FALSE)=$D164)),\"PR1\",IF(LEFT($E164,3)=\"VAA\",\"PR5\",\"PR2\"))","v":{"$error":"#N/A"}}]
[1023267,"SC057269",359,"Wigan","LA","2003-11-04","2017-08-31","Together for Adoption",{"$f":"IF(OR($A165=Analysis!$B$3,AND(VLOOKUP(Analysis!$B$3,$A$2:$H$261,8,FALSE)<>\"\",VLOOKUP(Analysis!$B$3,$A$2:$H$261,8,FALSE)=$D165)),\"PR1\",IF(LEFT($E165,3)=\"VAA\",\"PR5\",\"PR2\"))","v":{"$error":"#N/A"}}]
[1022958,"SC050059",865,"Wiltshire","LA","2003-07-15","2019-02-28","Adoption West",{"$f":"IF(OR($A166=Analysis!$B$3,AND(VLOOKUP(Analysis!$B$3,$A$2:$H$261,8,FALSE)<>\"\",VLOOKUP(Analysis!$B$3,$A$2:$H$261,8,FALSE)=$D166)),\"PR1\",IF(LEFT($E166,3)=\"VAA\",\"PR5\",\"PR2\"))","v":{"$error":"#N/A"}}]
[1023271,"SC057310",868,"Windsor and Maidenhead","LA","2003-11-05","2017-11-30","Adopt Thames Valley",{"$f":"IF(OR($A167=Analysis!$B$3,AND(VLOOKUP(Analysis!$B$3,$A$2:$H$261,8,FALSE)<>\"\",VLOOKUP(Analysis!$B$3,$A$2:$H$261,8,FALSE)=$D167)),\"PR1\",IF(LEFT($E167,3)=\"VAA\",\"PR5\",\"PR2\"))","v":{"$error":"#N/A"}}]
[1023382,"SC059886",344,"Wirral","LA","2004-02-03","2018-03-31","Adoption in Merseyside",{"$f":"IF(OR($A168=Analysis!$B$3,AND(VLOOKUP(Analysis!$B$3,$A$2:$H$261,8,FALSE)<>\"\",VLOOKUP(Analysis!$B$3,$A$2:$H$261,8,FALSE)=$D168)),\"PR1\",IF(LEFT($E168,3)=\"VAA\",\"PR5\",\"PR2\"))","v":{"$error":"#N/A"}}]
[1022959,"SC050063",872,"Wokingham","LA","2003-07-15","2017-11-30","Adopt Thames Valley",{"$f":"IF(OR($A169=Analysis!$B$3,AND(VLOOKUP(Analysis!$B$3,$A$2:$H$261,8,FALSE)<>\"\",VLOOKUP(Analysis!$B$3,$A$2:$H$261,8,FALSE)=$D169)),\"PR1\",IF(LEFT($E169,3)=\"VAA\",\"PR5\",\"PR2\"))","v":{"$error":"#N/A"}}]
[1023298,"SC058214",336,"Wolverhampton","LA","2003-11-24","2019-03-31","Adoption @ Heart",{"$f":"IF(OR($A170=Analysis!$B$3,AND(VLOOKUP(Analysis!$B$3,$A$2:$H$261,8,FALSE)<>\"\",VLOOKUP(Analysis!$B$3,$A$2:$H$261,8,FALSE)=$D170)),\"PR1\",IF(LEFT($E170,3)=\"VAA\",\"PR5\",\"PR2\"))","v":{"$error":"#N/A"}}]
[1023272,"SC057349",885,"Worcestershire","LA","2003-11-05","2018-01-31","Adoption Central England",{"$f":"IF(OR($A171=Analysis!$B$3,AND(VLOOKUP(Analysis!$B$3,$A$2:$H$261,8,FALSE)<>\"\",VLOOKUP(Analysis!$B$3,$A$2:$H$261,8,FALSE)=$D171)),\"PR1\",IF(LEFT($E171,3)=\"VAA\",\"PR5\",\"PR2\"))","v":{"$error":"#N/A"}}]
[1022960,"SC050064",816,"York","LA","2003-07-15","2018-02-28","One Adoption North and Humber",{"$f":"IF(OR($A172=Analysis!$B$3,AND(VLOOKUP(Analysis!$B$3,$A$2:$H$261,8,FALSE)<>\"\",VLOOKUP(Analysis!$B$3,$A$2:$H$261,8,FALSE)=$D172)),\"PR1\",IF(LEFT($E172,3)=\"VAA\",\"PR5\",\"PR2\"))","v":{"$error":"#N/A"}}]
["RAA31","RAA31","RAA31","Adopt Coast to Coast","RAA","2021-04-01",null,null,{"$f":"IF(OR($A173=Analysis!$B$3,AND(VLOOKUP(Analysis!$B$3,$A$2:$H$261,8,FALSE)<>\"\",VLOOKUP(Analysis!$B$3,$A$2:$H$261,8,FALSE)=$D173)),\"PR1\",IF(LEFT($E173,3)=\"VAA\",\"PR5\",\"PR2\"))","v":{"$error":"#N/A"}}]
["RAA26","RAA26","RAA26","Adopt East","RAA","2020-10-14","",null,{"$f":"IF(OR($A174=Analysis!$B$3,AND(VLOOKUP(Analysis!$B$3,$A$2:$H$261,8,FALSE)<>\"\",VLOOKUP(Analysis!$B$3,$A$2:$H$261,8,FALSE)=$D174)),\"PR1\",IF(LEFT($E174,3)=\"VAA\",\"PR5\",\"PR2\"))","v":{"$error":"#N/A"}}]
["RAA20","RAA20","RAA20","Adopt London East","RAA","2019-10-01","",null,{"$f":"IF(OR($A175=Analysis!$B$3,AND(VLOOKUP(Analysis!$B$3,$A$2:$H$261,8,FALSE)<>\"\",VLOOKUP(Analysis!$B$3,$A$2:$H$261,8,FALSE)=$D175)),\"PR1\",IF(LEFT($E175,3)=\"VAA\",\"PR5\",\"PR2\"))","v":{"$error":"#N/A"}}]
["RAA22","RAA22","RAA22","Adopt London North","RAA","2019-10-01","",null,{"$f":"IF(OR($A176=Analysis!$B$3,AND(VLOOKUP(Analysis!$B$3,$A$2:$H$261,8,FALSE)<>\"\",VLOOKUP(Analysis!$B$3,$A$2:$H$261,8,FALSE)=$D176)),\"PR1\",IF(LEFT($E176,3)=\"VAA\",\"PR5\",\"PR2\"))","v":{"$error":"#N/A"}}]
["RAA19","RAA19","RAA19","Adopt London South","RAA","2019-09-01","",null,{"$f":"IF(OR($A177=Analysis!$B$3,AND(VLOOKUP(Analysis!$B$3,$A$2:$H$261,8,FALSE)<>\"\",VLOOKUP(Analysis!$B$3,$A$2:$H$261,8,FALSE)=$D177)),\"PR1\",IF(LEFT($E177,3)=\"VAA\",\"PR5\",\"PR2\"))","v":{"$error":"#N/A"}}]
["RAA21","RAA21","RAA21","Adopt London West","RAA","2019-09-30","",null,{"$f":"IF(OR($A178=Analysis!$B$3,AND(VLOOKUP(Analysis!$B$3,$A$2:$H$261,8,FALSE)<>\"\",VLOOKUP(Analysis!$B$3,$A$2:$H$261,8,FALSE)=$D178)),\"PR1\",IF(LEFT($E178,3)=\"VAA\",\"PR5\",\"PR2\"))","v":{"$error":"#N/A"}}]
["RAA12","RAA12","RAA12","Adopt North East","RAA","2018-12-01","",null,{"$f":"IF(OR($A179=Analysis!$B$3,AND(VLOOKUP(Analysis!$B$3,$A$2:$H$261,8,FALSE)<>\"\",VLOOKUP(Analysis!$B$3,$A$2:$H$261,8,FALSE)=$D179)),\"PR1\",IF(LEFT($E179,3)=\"VAA\",\"PR5\",\"PR2\"))","v":{"$error":"#N/A"}}]
["RAA14","RAA14","RAA14","Adopt South","RAA","2019-04-01","",null,{"$f":"IF(OR($A180=Analysis!$B$3,AND(VLOOKUP(Analysis!$B$3,$A$2:$H$261,8,FALSE)<>\"\",VLOOKUP(Analysis!$B$3,$A$2:$H$261,8,FALSE)=$D180)),\"PR1\",IF(LEFT($E180,3)=\"VAA\",\"PR5\",\"PR2\"))","v":{"$error":"#N/A"}}]
["RAA11","RAA11","RAA11","Adopt South West","RAA","2018-10-01","",null,{"$f":"IF(OR($A181=Analysis!$B$3,AND(VLOOKUP(Analysis!$B$3,$A$2:$H$261,8,FALSE)<>\"\",VLOOKUP(Analysis!$B$3,$A$2:$H$261,8,FALSE)=$D181)),\"PR1\",IF(LEFT($E181,3)=\"VAA\",\"PR5\",\"PR2\"))","v":{"$error":"#N/A"}}]
["RAA6","RAA6","RAA6","Adopt Thames Valley","RAA","2017-12-01","",null,{"$f":"IF(OR($A182=Analysis!$B$3,AND(VLOOKUP(Analysis!$B$3,$A$2:$H$261,8,FALSE)<>\"\",VLOOKUP(Analysis!$B$3,$A$2:$H$261,8,FALSE)=$D182)),\"PR1\",IF(LEFT($E182,3)=\"VAA\",\"PR5\",\"PR2\"))","v":{"$error":"#N/A"}}]
["RAA15","RAA15","RAA15","Adoption @ Heart","RAA","2019-04-01","",null,{"$f":"IF(OR($A183=Analysis!$B$3,AND(VLOOKUP(Analysis!$B$3,$A$2:$H$261,8,FALSE)<>\"\",VLOOKUP(Analysis!$B$3,$A$2:$H$261,8,FALSE)=$D183)),\"PR1\",IF(LEFT($E183,3)=\"VAA\",\"PR5\",\"PR2\"))","v":{"$error":"#N/A"}}]
["RAA8","RAA8","RAA8","Adoption Central England","RAA","2018-02-01","",null,{"$f":"IF(OR($A184=Analysis!$B$3,AND(VLOOKUP(Analysis!$B$3,$A$2:$H$261,8,FALSE)<>\"\",VLOOKUP(Analysis!$B$3,$A$2:$H$261,8,FALSE)=$D184)),\"PR1\",IF(LEFT($E184,3)=\"VAA\",\"PR5\",\"PR2\"))","v":{"$error":"#N/A"}}]
["RAA16","RAA16","RAA16","Adoption Connects","RAA","2019-04-01","",null,{"$f":"IF(OR($A185=Analysis!$B$3,AND(VLOOKUP(Analysis!$B$3,$A$2:$H$261,8,FALSE)<>\"\",VLOOKUP(Analysis!$B$3,$A$2:$H$261,8,FALSE)=$D185)),\"PR1\",IF(LEFT($E185,3)=\"VAA\",\"PR5\",\"PR2\"))","v":{"$error":"#N/A"}}]
["RAA3","RAA3","RAA3","Adoption Counts","RAA","2017-07-01","",null,{"$f":"IF(OR($A186=Analysis!$B$3,AND(VLOOKUP(Analysis!$B$3,$A$2:$H$261,8,FALSE)<>\"\",VLOOKUP(Analysis!$B$3,$A$2:$H$261,8,FALSE)=$D186)),\"PR1\",IF(LEFT($E186,3)=\"VAA\",\"PR5\",\"PR2\"))","v":{"$error":"#N/A"}}]
["RAA34","RAA34","RAA34"," Adoption Cumbria","RAA","2023-04-01",null,null,{"$f":"IF(OR($A187=Analysis!$B$3,AND(VLOOKUP(Analysis!$B$3,$A$2:$H$261,8,FALSE)<>\"\",VLOOKUP(Analysis!$B$3,$A$2:$H$261,8,FALSE)=$D187)),\"PR1\",IF(LEFT($E187,3)=\"VAA\",\"PR5\",\"PR2\"))","v":{"$error":"#N/A"}}]
["RAA17","RAA17","RAA17","Adoption East Midlands","RAA","2019-03-01","",null,{"$f":"IF(OR($A188=Analysis!$B$3,AND(VLOOKUP(Analysis!$B$3,$A$2:$H$261,8,FALSE)<>\"\",VLOOKUP(Analysis!$B$3,$A$2:$H$261,8,FALSE)=$D188)),\"PR1\",IF(LEFT($E188,3)=\"VAA\",\"PR5\",\"PR2\"))","v":{"$error":"#N/A"}}]
["RAA9","RAA9","RAA9","Adoption in Merseyside","RAA","2018-04-01","",null,{"$f":"IF(OR($A189=Analysis!$B$3,AND(VLOOKUP(Analysis!$B$3,$A$2:$H$261,8,FALSE)<>\"\",VLOOKUP(Analysis!$B$3,$A$2:$H$261,8,FALSE)=$D189)),\"PR1\",IF(LEFT($E189,3)=\"VAA\",\"PR5\",\"PR2\"))","v":{"$error":"#N/A"}}]
["RAA24","RAA24","RAA24","Adoption Lancashire & Blackpool","RAA","2020-04-01","",null,{"$f":"IF(OR($A190=Analysis!$B$3,AND(VLOOKUP(Analysis!$B$3,$A$2:$H$261,8,FALSE)<>\"\",VLOOKUP(Analysis!$B$3,$A$2:$H$261,8,FALSE)=$D190)),\"PR1\",IF(LEFT($E190,3)=\"VAA\",\"PR5\",\"PR2\"))","v":{"$error":"#N/A"}}]
["RAA5","RAA5","RAA5","Adoption Now","RAA","2017-11-01","",null,{"$f":"IF(OR($A191=Analysis!$B$3,AND(VLOOKUP(Analysis!$B$3,$A$2:$H$261,8,FALSE)<>\"\",VLOOKUP(Analysis!$B$3,$A$2:$H$261,8,FALSE)=$D191)),\"PR1\",IF(LEFT($E191,3)=\"VAA\",\"PR5\",\"PR2\"))","v":{"$error":"#N/A"}}]
["RAA28","RAA28","RAA28","Adoption Partnership South East","RAA","2020-11-03","",null,{"$f":"IF(OR($A192=Analysis!$B$3,AND(VLOOKUP(Analysis!$B$3,$A$2:$H$261,8,FALSE)<>\"\",VLOOKUP(Analysis!$B$3,$A$2:$H$261,8,FALSE)=$D192)),\"PR1\",IF(LEFT($E192,3)=\"VAA\",\"PR5\",\"PR2\"))","v":{"$error":"#N/A"}}]
["RAA23","RAA23","RAA23","Adoption South East","RAA","2020-04-01","",null,{"$f":"IF(OR($A193=Analysis!$B$3,AND(VLOOKUP(Analysis!$B$3,$A$2:$H$261,8,FALSE)<>\"\",VLOOKUP(Analysis!$B$3,$A$2:$H$261,8,FALSE)=$D193)),\"PR1\",IF(LEFT($E193,3)=\"VAA\",\"PR5\",\"PR2\"))","v":{"$error":"#N/A"}}]
["RAA10","RAA10","RAA10","Adoption Tees Valley","RAA","2018-05-01","",null,{"$f":"IF(OR($A194=Analysis!$B$3,AND(VLOOKUP(Analysis!$B$3,$A$2:$H$261,8,FALSE)<>\"\",VLOOKUP(Analysis!$B$3,$A$2:$H$261,8,FALSE)=$D194)),\"PR1\",IF(LEFT($E194,3)=\"VAA\",\"PR5\",\"PR2\"))","v":{"$error":"#N/A"}}]
[2499314,2499314,"RAA13","Adoption West","RAA (VAA)","2019-03-01","",null,{"$f":"IF(OR($A195=Analysis!$B$3,AND(VLOOKUP(Analysis!$B$3,$A$2:$H$261,8,FALSE)<>\"\",VLOOKUP(Analysis!$B$3,$A$2:$H$261,8,FALSE)=$D195)),\"PR1\",IF(LEFT($E195,3)=\"VAA\",\"PR5\",\"PR2\"))","v":{"$error":"#N/A"}}]
["RAA2","RAA2","RAA2","Aspire","RAA","2017-07-01",null,null,{"$f":"IF(OR($A196=Analysis!$B$3,AND(VLOOKUP(Analysis!$B$3,$A$2:$H$261,8,FALSE)<>\"\",VLOOKUP(Analysis!$B$3,$A$2:$H$261,8,FALSE)=$D196)),\"PR1\",IF(LEFT($E196,3)=\"VAA\",\"PR5\",\"PR2\"))","v":{"$error":"#N/A"}}]
["RAA32","RAA32","RAA32","Adopt Birmingham","RAA","2022-03-31",null,null,{"$f":"IF(OR($A197=Analysis!$B$3,AND(VLOOKUP(Analysis!$B$3,$A$2:$H$261,8,FALSE)<>\"\",VLOOKUP(Analysis!$B$3,$A$2:$H$261,8,FALSE)=$D197)),\"PR1\",IF(LEFT($E197,3)=\"VAA\",\"PR5\",\"PR2\"))","v":{"$error":"#N/A"}}]
["RAA33","RAA33","RAA33","Buckinghamshire Adoption","RAA","2023-04-01",null,null,{"$f":"IF(OR($A198=Analysis!$B$3,AND(VLOOKUP(Analysis!$B$3,$A$2:$H$261,8,FALSE)<>\"\",VLOOKUP(Analysis!$B$3,$A$2:$H$261,8,FALSE)=$D198)),\"PR1\",IF(LEFT($E198,3)=\"VAA\",\"PR5\",\"PR2\"))","v":{"$error":"#N/A"}}]
["RAA29","RAA29","RAA29","Cambridgeshire and Peterborough Adoption","RAA","2020-12-01",null,null,{"$f":"IF(OR($A199=Analysis!$B$3,AND(VLOOKUP(Analysis!$B$3,$A$2:$H$261,8,FALSE)<>\"\",VLOOKUP(Analysis!$B$3,$A$2:$H$261,8,FALSE)=$D199)),\"PR1\",IF(LEFT($E199,3)=\"VAA\",\"PR5\",\"PR2\"))","v":{"$error":"#N/A"}}]
["RAA27","RAA27","RAA27","Family Adoption Links","RAA","2020-10-14",null,null,{"$f":"IF(OR($A200=Analysis!$B$3,AND(VLOOKUP(Analysis!$B$3,$A$2:$H$261,8,FALSE)<>\"\",VLOOKUP(Analysis!$B$3,$A$2:$H$261,8,FALSE)=$D200)),\"PR1\",IF(LEFT($E200,3)=\"VAA\",\"PR5\",\"PR2\"))","v":{"$error":"#N/A"}}]
["RAA7","RAA7","RAA7","One Adoption North and Humber","RAA","2018-03-01",null,null,{"$f":"IF(OR($A201=Analysis!$B$3,AND(VLOOKUP(Analysis!$B$3,$A$2:$H$261,8,FALSE)<>\"\",VLOOKUP(Analysis!$B$3,$A$2:$H$261,8,FALSE)=$D201)),\"PR1\",IF(LEFT($E201,3)=\"VAA\",\"PR5\",\"PR2\"))","v":{"$error":"#N/A"}}]
["RAA30","RAA30","RAA30","One Adoption South Yorkshire","RAA","2021-01-01",null,null,{"$f":"IF(OR($A202=Analysis!$B$3,AND(VLOOKUP(Analysis!$B$3,$A$2:$H$261,8,FALSE)<>\"\",VLOOKUP(Analysis!$B$3,$A$2:$H$261,8,FALSE)=$D202)),\"PR1\",IF(LEFT($E202,3)=\"VAA\",\"PR5\",\"PR2\"))","v":{"$error":"#N/A"}}]
["RAA1","RAA1","RAA1","One Adoption West Yorkshire","RAA","2017-04-01",null,null,{"$f":"IF(OR($A203=Analysis!$B$3,AND(VLOOKUP(Analysis!$B$3,$A$2:$H$261,8,FALSE)<>\"\",VLOOKUP(Analysis!$B$3,$A$2:$H$261,8,FALSE)=$D203)),\"PR1\",IF(LEFT($E203,3)=\"VAA\",\"PR5\",\"PR2\"))","v":{"$error":"#N/A"}}]
["RAA4","RAA4","RAA4","Together for Adoption","RAA","2017-09-01",null,null,{"$f":"IF(OR($A204=Analysis!$B$3,AND(VLOOKUP(Analysis!$B$3,$A$2:$H$261,8,FALSE)<>\"\",VLOOKUP(Analysis!$B$3,$A$2:$H$261,8,FALSE)=$D204)),\"PR1\",IF(LEFT($E204,3)=\"VAA\",\"PR5\",\"PR2\"))","v":{"$error":"#N/A"}}]
["RAA25","RAA25","RAA25","Together4Children","RAA","2020-09-28",null,null,{"$f":"IF(OR($A205=Analysis!$B$3,AND(VLOOKUP(Analysis!$B$3,$A$2:$H$261,8,FALSE)<>\"\",VLOOKUP(Analysis!$B$3,$A$2:$H$261,8,FALSE)=$D205)),\"PR1\",IF(LEFT($E205,3)=\"VAA\",\"PR5\",\"PR2\"))","v":{"$error":"#N/A"}}]
[1023040,"SC051814","VAA1-4","Action for Children London","VAA","2003-08-11","2023-03-31",null,{"$f":"IF(OR($A206=Analysis!$B$3,AND(VLOOKUP(Analysis!$B$3,$A$2:$H$261,8,FALSE)<>\"\",VLOOKUP(Analysis!$B$3,$A$2:$H$261,8,FALSE)=$D206)),\"PR1\",IF(LEFT($E206,3)=\"VAA\",\"PR5\",\"PR2\"))","v":{"$error":"#N/A"}}]
[1023029,"SC051421","VAA1-2","Action for Children Midlands","VAA","2003-08-05","2023-03-31",null,{"$f":"IF(OR($A207=Analysis!$B$3,AND(VLOOKUP(Analysis!$B$3,$A$2:$H$261,8,FALSE)<>\"\",VLOOKUP(Analysis!$B$3,$A$2:$H$261,8,FALSE)=$D207)),\"PR1\",IF(LEFT($E207,3)=\"VAA\",\"PR5\",\"PR2\"))","v":{"$error":"#N/A"}}]
["SC051423","SC051423","VAA1-5","Action for Children North","VAA","2003-08-05","2015-03-04",null,{"$f":"IF(OR($A208=Analysis!$B$3,AND(VLOOKUP(Analysis!$B$3,$A$2:$H$261,8,FALSE)<>\"\",VLOOKUP(Analysis!$B$3,$A$2:$H$261,8,FALSE)=$D208)),\"PR1\",IF(LEFT($E208,3)=\"VAA\",\"PR5\",\"PR2\"))","v":{"$error":"#N/A"}}]
[1023041,"SC051816","VAA1-3","Action for Children South West","VAA","2003-08-11","2023-03-31",null,{"$f":"IF(OR($A209=Analysis!$B$3,AND(VLOOKUP(Analysis!$B$3,$A$2:$H$261,8,FALSE)<>\"\",VLOOKUP(Analysis!$B$3,$A$2:$H$261,8,FALSE)=$D209)),\"PR1\",IF(LEFT($E209,3)=\"VAA\",\"PR5\",\"PR2\"))","v":{"$error":"#N/A"}}]
[1022884,"SC048470","VAA2","Adopt Together ","VAA","2003-06-18","2021-12-31",null,{"$f":"IF(OR($A210=Analysis!$B$3,AND(VLOOKUP(Analysis!$B$3,$A$2:$H$261,8,FALSE)<>\"\",VLOOKUP(Analysis!$B$3,$A$2:$H$261,8,FALSE)=$D210)),\"PR1\",IF(LEFT($E210,3)=\"VAA\",\"PR5\",\"PR2\"))","v":{"$error":"#N/A"}}]
[1026531,"SC476482","VAA3","Adopters for Adoption","VAA","2014-03-20",null,null,{"$f":"IF(OR($A211=Analysis!$B$3,AND(VLOOKUP(Analysis!$B$3,$A$2:$H$261,8,FALSE)<>\"\",VLOOKUP(Analysis!$B$3,$A$2:$H$261,8,FALSE)=$D211)),\"PR1\",IF(LEFT($E211,3)=\"VAA\",\"PR5\",\"PR2\"))","v":{"$error":"#N/A"}}]
[1025054,"SC394569","VAA4","Adoption Focus","VAA","2009-05-12",null,null,{"$f":"IF(OR($A212=Analysis!$B$3,AND(VLOOKUP(Analysis!$B$3,$A$2:$H$261,8,FALSE)<>\"\",VLOOKUP(Analysis!$B$3,$A$2:$H$261,8,FALSE)=$D212)),\"PR1\",IF(LEFT($E212,3)=\"VAA\",\"PR5\",\"PR2\"))","v":{"$error":"#N/A"}}]
[2730622,2730622,null,"Adoption for Bradford, Bradford Children's and Families Trust","VAA","2023"]
[1022870,"SC048349","VAA5","Adoption Matters ","VAA","2003-04-30",null,null,{"$f":"IF(OR($A214=Analysis!$B$3,AND(VLOOKUP(Analysis!$B$3,$A$2:$H$261,8,FALSE)<>\"\",VLOOKUP(Analysis!$B$3,$A$2:$H$261,8,FALSE)=$D214)),\"PR1\",IF(LEFT($E214,3)=\"VAA\",\"PR5\",\"PR2\"))","v":{"$error":"#N/A"}}]
[1024870,"SC384160","VAA6","Adoptionplus","VAA","2008-09-05","2025-05-14",null,{"$f":"IF(OR($A215=Analysis!$B$3,AND(VLOOKUP(Analysis!$B$3,$A$2:$H$261,8,FALSE)<>\"\",VLOOKUP(Analysis!$B$3,$A$2:$H$261,8,FALSE)=$D215)),\"PR1\",IF(LEFT($E215,3)=\"VAA\",\"PR5\",\"PR2\"))","v":{"$error":"#N/A"}}]
["SC048367","SC048367","VAA8","After Adoption","VAA","2003-06-17","2019-03-31",null,{"$f":"IF(OR($A216=Analysis!$B$3,AND(VLOOKUP(Analysis!$B$3,$A$2:$H$261,8,FALSE)<>\"\",VLOOKUP(Analysis!$B$3,$A$2:$H$261,8,FALSE)=$D216)),\"PR1\",IF(LEFT($E216,3)=\"VAA\",\"PR5\",\"PR2\"))","v":{"$error":"#N/A"}}]
["SC067760","SC067760","VAA8-2","After Adoption London","VAA","2006-05-22","2015-12-31",null,{"$f":"IF(OR($A217=Analysis!$B$3,AND(VLOOKUP(Analysis!$B$3,$A$2:$H$261,8,FALSE)<>\"\",VLOOKUP(Analysis!$B$3,$A$2:$H$261,8,FALSE)=$D217)),\"PR1\",IF(LEFT($E217,3)=\"VAA\",\"PR5\",\"PR2\"))","v":{"$error":"#N/A"}}]
["SC067761","SC067761","VAA8-3","After Adoption Merseyside","VAA","2006-05-22","2018-05-24",null,{"$f":"IF(OR($A218=Analysis!$B$3,AND(VLOOKUP(Analysis!$B$3,$A$2:$H$261,8,FALSE)<>\"\",VLOOKUP(Analysis!$B$3,$A$2:$H$261,8,FALSE)=$D218)),\"PR1\",IF(LEFT($E218,3)=\"VAA\",\"PR5\",\"PR2\"))","v":{"$error":"#N/A"}}]
["SC067762","SC067762","VAA8-4","After Adoption North East","VAA","2006-05-22","2019-03-31",null,{"$f":"IF(OR($A219=Analysis!$B$3,AND(VLOOKUP(Analysis!$B$3,$A$2:$H$261,8,FALSE)<>\"\",VLOOKUP(Analysis!$B$3,$A$2:$H$261,8,FALSE)=$D219)),\"PR1\",IF(LEFT($E219,3)=\"VAA\",\"PR5\",\"PR2\"))","v":{"$error":"#N/A"}}]
["SC436441","SC436441","VAA8-5","After Adoption South Wales","VAA","2011-12-16","2018-01-29",null,{"$f":"IF(OR($A220=Analysis!$B$3,AND(VLOOKUP(Analysis!$B$3,$A$2:$H$261,8,FALSE)<>\"\",VLOOKUP(Analysis!$B$3,$A$2:$H$261,8,FALSE)=$D220)),\"PR1\",IF(LEFT($E220,3)=\"VAA\",\"PR5\",\"PR2\"))","v":{"$error":"#N/A"}}]
[2490642,2490642,"VAA8-6","After Adoption South West","VAA","2018-07-03","2019-04-05",null,{"$f":"IF(OR($A221=Analysis!$B$3,AND(VLOOKUP(Analysis!$B$3,$A$2:$H$261,8,FALSE)<>\"\",VLOOKUP(Analysis!$B$3,$A$2:$H$261,8,FALSE)=$D221)),\"PR1\",IF(LEFT($E221,3)=\"VAA\",\"PR5\",\"PR2\"))","v":{"$error":"#N/A"}}]
["SC445207","SC445207","VAA8-7","After Adoption West Midlands","VAA","2012-03-13","2019-04-05",null,{"$f":"IF(OR($A222=Analysis!$B$3,AND(VLOOKUP(Analysis!$B$3,$A$2:$H$261,8,FALSE)<>\"\",VLOOKUP(Analysis!$B$3,$A$2:$H$261,8,FALSE)=$D222)),\"PR1\",IF(LEFT($E222,3)=\"VAA\",\"PR5\",\"PR2\"))","v":{"$error":"#N/A"}}]
[1026477,"SC474819","VAA9","ARC Adoption","VAA","2014-03-11",null,null,{"$f":"IF(OR($A223=Analysis!$B$3,AND(VLOOKUP(Analysis!$B$3,$A$2:$H$261,8,FALSE)<>\"\",VLOOKUP(Analysis!$B$3,$A$2:$H$261,8,FALSE)=$D223)),\"PR1\",IF(LEFT($E223,3)=\"VAA\",\"PR5\",\"PR2\"))","v":{"$error":"#N/A"}}]
[1025753,"SC434885","VAA11-5","Barnardo's Adoption Midlands and South West","VAA","2021-04-01",null,null,{"$f":"IF(OR($A224=Analysis!$B$3,AND(VLOOKUP(Analysis!$B$3,$A$2:$H$261,8,FALSE)<>\"\",VLOOKUP(Analysis!$B$3,$A$2:$H$261,8,FALSE)=$D224)),\"PR1\",IF(LEFT($E224,3)=\"VAA\",\"PR5\",\"PR2\"))","v":{"$error":"#N/A"}}]
[1023046,"SC051838","VAA11-1","Barnardo's London, East & South East","VAA","2003-08-11",null,null,{"$f":"IF(OR($A225=Analysis!$B$3,AND(VLOOKUP(Analysis!$B$3,$A$2:$H$261,8,FALSE)<>\"\",VLOOKUP(Analysis!$B$3,$A$2:$H$261,8,FALSE)=$D225)),\"PR1\",IF(LEFT($E225,3)=\"VAA\",\"PR5\",\"PR2\"))","v":{"$error":"#N/A"}}]
[1023043,"SC051829","VAA11-2","Barnardo's Midlands","VAA","2003-08-11","2021-03-31",null,{"$f":"IF(OR($A226=Analysis!$B$3,AND(VLOOKUP(Analysis!$B$3,$A$2:$H$261,8,FALSE)<>\"\",VLOOKUP(Analysis!$B$3,$A$2:$H$261,8,FALSE)=$D226)),\"PR1\",IF(LEFT($E226,3)=\"VAA\",\"PR5\",\"PR2\"))","v":{"$error":"#N/A"}}]
[1023044,"SC051835","VAA11-3","Barnardo's North East","VAA","2003-08-11","2023-03-31",null,{"$f":"IF(OR($A227=Analysis!$B$3,AND(VLOOKUP(Analysis!$B$3,$A$2:$H$261,8,FALSE)<>\"\",VLOOKUP(Analysis!$B$3,$A$2:$H$261,8,FALSE)=$D227)),\"PR1\",IF(LEFT($E227,3)=\"VAA\",\"PR5\",\"PR2\"))","v":{"$error":"#N/A"}}]
["SC417425","SC417425","VAA11-4","Barnardo's North Wales","VAA","2010-08-12","2016-03-01",null,{"$f":"IF(OR($A228=Analysis!$B$3,AND(VLOOKUP(Analysis!$B$3,$A$2:$H$261,8,FALSE)<>\"\",VLOOKUP(Analysis!$B$3,$A$2:$H$261,8,FALSE)=$D228)),\"PR1\",IF(LEFT($E228,3)=\"VAA\",\"PR5\",\"PR2\"))","v":{"$error":"#N/A"}}]
["Barnardo's Scotland","Barnardo's Scotland","Barnardo's Scotland","Barnardo's Scotland","VAA outside England",null,null,null,"PR6"]
[1025753,"SC434885","VAA11-5","Barnardo's South West","VAA","2011-12-29","2021-03-31",null,{"$f":"IF(OR($A230=Analysis!$B$3,AND(VLOOKUP(Analysis!$B$3,$A$2:$H$261,8,FALSE)<>\"\",VLOOKUP(Analysis!$B$3,$A$2:$H$261,8,FALSE)=$D230)),\"PR1\",IF(LEFT($E230,3)=\"VAA\",\"PR5\",\"PR2\"))","v":{"$error":"#N/A"}}]
["Barnardo's Wales","Barnardo's Wales","Barnardo's Wales","Barnardo's Wales","VAA outside England",null,null,null,"PR6"]
[1023045,"SC051836","VAA11-6","Barnardo's Adoption North England","VAA","2003-08-11",null,null,{"$f":"IF(OR($A232=Analysis!$B$3,AND(VLOOKUP(Analysis!$B$3,$A$2:$H$261,8,FALSE)<>\"\",VLOOKUP(Analysis!$B$3,$A$2:$H$261,8,FALSE)=$D232)),\"PR1\",IF(LEFT($E232,3)=\"VAA\",\"PR5\",\"PR2\"))","v":{"$error":"#N/A"}}]
["SC048456","SC048456","VAA12","Cabrini Children's Society","VAA","2003-06-18","2015-02-25",null,{"$f":"IF(OR($A233=Analysis!$B$3,AND(VLOOKUP(Analysis!$B$3,$A$2:$H$261,8,FALSE)<>\"\",VLOOKUP(Analysis!$B$3,$A$2:$H$261,8,FALSE)=$D233)),\"PR1\",IF(LEFT($E233,3)=\"VAA\",\"PR5\",\"PR2\"))","v":{"$error":"#N/A"}}]
[2762721,2762721,null,"CAFIS Barnardo's","VAA","2023"]
[1022880,"SC048438","VAA13","Caritas Care","VAA","2003-06-18",null,null,{"$f":"IF(OR($A235=Analysis!$B$3,AND(VLOOKUP(Analysis!$B$3,$A$2:$H$261,8,FALSE)<>\"\",VLOOKUP(Analysis!$B$3,$A$2:$H$261,8,FALSE)=$D235)),\"PR1\",IF(LEFT($E235,3)=\"VAA\",\"PR5\",\"PR2\"))","v":{"$error":"#N/A"}}]
[1022883,"SC048462","VAA14","CCS Adoption Ltd","VAA","2003-06-18",null,null,{"$f":"IF(OR($A236=Analysis!$B$3,AND(VLOOKUP(Analysis!$B$3,$A$2:$H$261,8,FALSE)<>\"\",VLOOKUP(Analysis!$B$3,$A$2:$H$261,8,FALSE)=$D236)),\"PR1\",IF(LEFT($E236,3)=\"VAA\",\"PR5\",\"PR2\"))","v":{"$error":"#N/A"}}]
[1024818,"SC381260","VAA15-1","Coram Adoption East Midlands","VAA","2003-08-01","2020-02-28",null,{"$f":"IF(OR($A237=Analysis!$B$3,AND(VLOOKUP(Analysis!$B$3,$A$2:$H$261,8,FALSE)<>\"\",VLOOKUP(Analysis!$B$3,$A$2:$H$261,8,FALSE)=$D237)),\"PR1\",IF(LEFT($E237,3)=\"VAA\",\"PR5\",\"PR2\"))","v":{"$error":"#N/A"}}]
[1026539,"SC476782","VAA16","Coram Cambridgeshire Adoption","VAA","2014-03-24","2019-08-31",null,{"$f":"IF(OR($A238=Analysis!$B$3,AND(VLOOKUP(Analysis!$B$3,$A$2:$H$261,8,FALSE)<>\"\",VLOOKUP(Analysis!$B$3,$A$2:$H$261,8,FALSE)=$D238)),\"PR1\",IF(LEFT($E238,3)=\"VAA\",\"PR5\",\"PR2\"))","v":{"$error":"#N/A"}}]
[1232473,1232473,null,"Cornerstone North East Fostering and Adoption Service","VAA","2023"]
["SC049020","SC049020","VAA17","D F W Adoption","VAA","2003-06-30","2019-02-28",null,{"$f":"IF(OR($A240=Analysis!$B$3,AND(VLOOKUP(Analysis!$B$3,$A$2:$H$261,8,FALSE)<>\"\",VLOOKUP(Analysis!$B$3,$A$2:$H$261,8,FALSE)=$D240)),\"PR1\",IF(LEFT($E240,3)=\"VAA\",\"PR5\",\"PR2\"))","v":{"$error":"#N/A"}}]
[1026764,"SC484605","VAA12","Diagrama Adoption","VAA","2015-02-11",null,null,{"$f":"IF(OR($A241=Analysis!$B$3,AND(VLOOKUP(Analysis!$B$3,$A$2:$H$261,8,FALSE)<>\"\",VLOOKUP(Analysis!$B$3,$A$2:$H$261,8,FALSE)=$D241)),\"PR1\",IF(LEFT($E241,3)=\"VAA\",\"PR5\",\"PR2\"))","v":{"$error":"#N/A"}}]
[1022904,"SC049026","VAA18","Families for Children","VAA","2003-06-30","2022-08-31",null,{"$f":"IF(OR($A242=Analysis!$B$3,AND(VLOOKUP(Analysis!$B$3,$A$2:$H$261,8,FALSE)<>\"\",VLOOKUP(Analysis!$B$3,$A$2:$H$261,8,FALSE)=$D242)),\"PR1\",IF(LEFT($E242,3)=\"VAA\",\"PR5\",\"PR2\"))","v":{"$error":"#N/A"}}]
["SC049102","SC049102","VAA19","Family Care","VAA","2003-07-01","2018-09-03",null,{"$f":"IF(OR($A243=Analysis!$B$3,AND(VLOOKUP(Analysis!$B$3,$A$2:$H$261,8,FALSE)<>\"\",VLOOKUP(Analysis!$B$3,$A$2:$H$261,8,FALSE)=$D243)),\"PR1\",IF(LEFT($E243,3)=\"VAA\",\"PR5\",\"PR2\"))","v":{"$error":"#N/A"}}]
["Family Care Belfast","Family Care Belfast","Family Care Belfast","Family Care Belfast","VAA outside England",null,null,null,"PR6"]
[1026255,"SC462984","VAA21","Family Futures","VAA","2013-05-13",null,null,{"$f":"IF(OR($A245=Analysis!$B$3,AND(VLOOKUP(Analysis!$B$3,$A$2:$H$261,8,FALSE)<>\"\",VLOOKUP(Analysis!$B$3,$A$2:$H$261,8,FALSE)=$D245)),\"PR1\",IF(LEFT($E245,3)=\"VAA\",\"PR5\",\"PR2\"))","v":{"$error":"#N/A"}}]
[1024893,"SC386048","VAA22","Intercountry Adoption Centre","VAA","2008-11-07",null,null,{"$f":"IF(OR($A246=Analysis!$B$3,AND(VLOOKUP(Analysis!$B$3,$A$2:$H$261,8,FALSE)<>\"\",VLOOKUP(Analysis!$B$3,$A$2:$H$261,8,FALSE)=$D246)),\"PR1\",IF(LEFT($E246,3)=\"VAA\",\"PR5\",\"PR2\"))","v":{"$error":"#N/A"}}]
["Isle of Man Adoption Agencies","Isle of Man Adoption Agencies","Isle of Man Adoption Agencies","Isle of Man Adoption Agencies","VAA outside England",null,null,null,"PR6"]
[1026861,"SC489014","VAA35","Jigsaw Adoption","VAA","2015-08-11",null,null,{"$f":"IF(OR($A248=Analysis!$B$3,AND(VLOOKUP(Analysis!$B$3,$A$2:$H$261,8,FALSE)<>\"\",VLOOKUP(Analysis!$B$3,$A$2:$H$261,8,FALSE)=$D248)),\"PR1\",IF(LEFT($E248,3)=\"VAA\",\"PR5\",\"PR2\"))","v":{"$error":"#N/A"}}]
[1022911,"SC049079","VAA24","Nugent","VAA","2003-07-01","2025-11-30",null,{"$f":"IF(OR($A249=Analysis!$B$3,AND(VLOOKUP(Analysis!$B$3,$A$2:$H$261,8,FALSE)<>\"\",VLOOKUP(Analysis!$B$3,$A$2:$H$261,8,FALSE)=$D249)),\"PR1\",IF(LEFT($E249,3)=\"VAA\",\"PR5\",\"PR2\"))","v":{"$error":"#N/A"}}]
[1026436,"SC472828","VAA23","Our Family Adoption","VAA","2014-01-20","2019-12-10",null,{"$f":"IF(OR($A250=Analysis!$B$3,AND(VLOOKUP(Analysis!$B$3,$A$2:$H$261,8,FALSE)<>\"\",VLOOKUP(Analysis!$B$3,$A$2:$H$261,8,FALSE)=$D250)),\"PR1\",IF(LEFT($E250,3)=\"VAA\",\"PR5\",\"PR2\"))","v":{"$error":"#N/A"}}]
[1022912,"SC049093","VAA25","Parents and Children Together","VAA","2003-07-01",null,null,{"$f":"IF(OR($A251=Analysis!$B$3,AND(VLOOKUP(Analysis!$B$3,$A$2:$H$261,8,FALSE)<>\"\",VLOOKUP(Analysis!$B$3,$A$2:$H$261,8,FALSE)=$D251)),\"PR1\",IF(LEFT($E251,3)=\"VAA\",\"PR5\",\"PR2\"))","v":{"$error":"#N/A"}}]
["Scottish Adoption","Scottish Adoption","Scottish Adoption","Scottish Adoption","VAA outside England",null,null,null,"PR6"]
[1022916,"SC049105","VAA27","SSAFA","VAA","2003-07-01","2024-12-31",null,{"$f":"IF(OR($A253=Analysis!$B$3,AND(VLOOKUP(Analysis!$B$3,$A$2:$H$261,8,FALSE)<>\"\",VLOOKUP(Analysis!$B$3,$A$2:$H$261,8,FALSE)=$D253)),\"PR1\",IF(LEFT($E253,3)=\"VAA\",\"PR5\",\"PR2\"))","v":{"$error":"#N/A"}}]
["St Andrew's Children's Society","St Andrew's Children's Society","St Andrew's Children's Society","St Andrew's Children's Society","VAA outside England",null,null,null,"PR6"]
["St David's Children's Society","St David's Children's Society","St David's Children's Society","St David's Children's Society","VAA outside England",null,null,null,"PR6"]
[1022917,"SC049107","VAA30","St Francis Children's Society","VAA","2003-07-01","2023-12-31",null,{"$f":"IF(OR($A256=Analysis!$B$3,AND(VLOOKUP(Analysis!$B$3,$A$2:$H$261,8,FALSE)<>\"\",VLOOKUP(Analysis!$B$3,$A$2:$H$261,8,FALSE)=$D256)),\"PR1\",IF(LEFT($E256,3)=\"VAA\",\"PR5\",\"PR2\"))","v":{"$error":"#N/A"}}]
["St Margaret's Children's Society","St Margaret's Children's Society","St Margaret's Children's Society","St Margaret's Children's Society","VAA outside England",null,null,null,"PR6"]
[1023544,"SC062252","VAA32","TACT Fostering & Adoption","VAA","2004-11-10","2020-04-28",null,{"$f":"IF(OR($A258=Analysis!$B$3,AND(VLOOKUP(Analysis!$B$3,$A$2:$H$261,8,FALSE)<>\"\",VLOOKUP(Analysis!$B$3,$A$2:$H$261,8,FALSE)=$D258)),\"PR1\",IF(LEFT($E258,3)=\"VAA\",\"PR5\",\"PR2\"))","v":{"$error":"#N/A"}}]
["The Children's Centre","The Children's Centre","The Children's Centre","The Children's Centre","VAA outside England",null,null,null,"PR6"]
[1022887,"SC048496","VAA15","Thomas Coram Foundation for Children (delivering Ambitious for Adoption RAA)","VAA","2003-06-18",null,null,{"$f":"IF(OR($A260=Analysis!$B$3,AND(VLOOKUP(Analysis!$B$3,$A$2:$H$261,8,FALSE)<>\"\",VLOOKUP(Analysis!$B$3,$A$2:$H$261,8,FALSE)=$D260)),\"PR1\",IF(LEFT($E260,3)=\"VAA\",\"PR5\",\"PR2\"))","v":{"$error":"#N/A"}}]
[1022901,"SC049010","VAA34","Yorkshire Adoption Agency","VAA","2003-06-30",null,null,{"$f":"IF(OR($A261=Analysis!$B$3,AND(VLOOKUP(Analysis!$B$3,$A$2:$H$261,8,FALSE)<>\"\",VLOOKUP(Analysis!$B$3,$A$2:$H$261,8,FALSE)=$D261)),\"PR1\",IF(LEFT($E261,3)=\"VAA\",\"PR5\",\"PR2\"))","v":{"$error":"#N/A"}}]

{"sheet":"Analysis","index":11,"n_rows":363,"n_cols":50,"rows_kept":363,"cut":false,"hidden":false,"merged":[]}
["Quarter",{"$f":"Instructions!G5","v":"2026/27 Q1"},{"$f":"_xlfn.IFNA(INDEX(Agencies,MATCH($C$3,Lists!$AR$2:$AR$153,0)),\"England\")","v":"England"},"v2",null,null,null,null,"HData Template","HData Return"]
["Report date",{"$f":"INDEX(Lists!$V$2:$V$57,MATCH(B1,Qtrs,0))","v":"2026-06-30"},{"$f":"EDATE(RDate,-36)+1","v":"2023-07-01"},{"$f":"IF(RDate<>\"\",IF(MONTH(RDate)>=4,YEAR(RDate)-3&\"/\"&RIGHT(YEAR(RDate)-2,2),YEAR(RDate)-4&\"/\"&RIGHT(YEAR(RDate)-3,2)),\"\")","v":"2023/24"},{"$f":"IF(RDate<>\"\",IF(MONTH(RDate)>=4,YEAR(RDate)-2&\"/\"&RIGHT(YEAR(RDate)-1,2),YEAR(RDate)-3&\"/\"&RIGHT(YEAR(RDate)-2,2)),\"\")","v":"2024/25"},{"$f":"IF(RDate<>\"\",IF(MONTH(RDate)>=4,YEAR(RDate)-1&\"/\"&RIGHT(YEAR(RDate),2),YEAR(RDate)-2&\"/\"&RIGHT(YEAR(RDate)-1,2)),\"\")","v":"2025/26"},{"$f":"IF(RDate<>\"\",IF(MONTH(RDate)>=4,YEAR(RDate)&\"/\"&RIGHT(YEAR(RDate)+1,2),YEAR(RDate)-1&\"/\"&RIGHT(YEAR(RDate),2)),\"\")","v":"2026/27"},null,null,null,{"$f":"IF(AND(J2>0,I2>0,J2<I2),\"Data has gone missing from this return\",\"\")","v":""}]
["Agency",{"$f":"INDEX(Lists!$AP$2:$AP$153,MATCH($C$3,Lists!$AR$2:$AR$153,0))","v":{"$error":"#N/A"}},null,{"$f":"C1","v":"England"}]
["Agency ID",{"$f":"DATE(YEAR(RDate),4,1)","v":"2026-04-01"},{"$f":"EDATE(B4,3)","v":"2026-07-01"},{"$f":"EDATE(RDate,-12)+1","v":"2025-07-01"}]
[]
["MONTHLY",{"$f":"DATE(IF(MONTH(RDate)=3,YEAR(RDate)-4,YEAR(RDate)-3),4,1)","v":"2023-04-01"},{"$f":"EDATE(B6,1)","v":"2023-05-01"},{"$f":"EDATE(C6,1)","v":"2023-06-01"},"2023-07-01","2023-08-01","2023-09-01","2023-10-01","2023-11-01","2023-12-01","2024-01-01","2024-02-01","2024-03-01","2024-04-01","2024-05-01","2024-06-01","2024-07-01","2024-08-01","2024-09-01","2024-10-01","2024-11-01","2024-12-01","2025-01-01","2025-02-01","2025-03-01","2025-04-01","2025-05-01","2025-06-01","2025-07-01","2025-08-01",{"$f":"EDATE(AD6,1)","v":"2025-09-01"},"2025-10-01","2025-11-01","2025-12-01","2026-01-01","2026-02-01","2026-03-01","2026-04-01","2026-05-01","2026-06-01","2026-07-01","2026-08-01","2026-09-01","2026-10-01","2026-11-01",{"$f":"EDATE(AS6,1)","v":"2026-12-01"},"2027-01-01","2027-02-01","2027-03-01","2027-04-01"]
["AO",{"$f":"COUNTIFS(HData!$T$3:$T$48828,\">=\"&B$6,HData!$T$3:$T$48828,\"<\"&C$6)","v":0},{"$f":"COUNTIFS(HData!$T$3:$T$48828,\">=\"&C$6,HData!$T$3:$T$48828,\"<\"&D$6)","v":0},{"$f":"COUNTIFS(HData!$T$3:$T$48828,\">=\"&D$6,HData!$T$3:$T$48828,\"<\"&E$6)","v":0},{"$f":"COUNTIFS(HData!$T$3:$T$48828,\">=\"&E$6,HData!$T$3:$T$48828,\"<\"&F$6)","v":0},{"$f":"COUNTIFS(HData!$T$3:$T$48828,\">=\"&F$6,HData!$T$3:$T$48828,\"<\"&G$6)","v":0},{"$f":"COUNTIFS(HData!$T$3:$T$48828,\">=\"&G$6,HData!$T$3:$T$48828,\"<\"&H$6)","v":0},{"$f":"COUNTIFS(HData!$T$3:$T$48828,\">=\"&H$6,HData!$T$3:$T$48828,\"<\"&I$6)","v":0},{"$f":"COUNTIFS(HData!$T$3:$T$48828,\">=\"&I$6,HData!$T$3:$T$48828,\"<\"&J$6)","v":0},{"$f":"COUNTIFS(HData!$T$3:$T$48828,\">=\"&J$6,HData!$T$3:$T$48828,\"<\"&K$6)","v":0},{"$f":"COUNTIFS(HData!$T$3:$T$48828,\">=\"&K$6,HData!$T$3:$T$48828,\"<\"&L$6)","v":0},{"$f":"COUNTIFS(HData!$T$3:$T$48828,\">=\"&L$6,HData!$T$3:$T$48828,\"<\"&M$6)","v":0},{"$f":"COUNTIFS(HData!$T$3:$T$48828,\">=\"&M$6,HData!$T$3:$T$48828,\"<\"&N$6)","v":0},{"$f":"COUNTIFS(HData!$T$3:$T$48828,\">=\"&N$6,HData!$T$3:$T$48828,\"<\"&O$6)","v":0},{"$f":"COUNTIFS(HData!$T$3:$T$48828,\">=\"&O$6,HData!$T$3:$T$48828,\"<\"&P$6)","v":0},{"$f":"COUNTIFS(HData!$T$3:$T$48828,\">=\"&P$6,HData!$T$3:$T$48828,\"<\"&Q$6)","v":0},{"$f":"COUNTIFS(HData!$T$3:$T$48828,\">=\"&Q$6,HData!$T$3:$T$48828,\"<\"&R$6)","v":0},{"$f":"COUNTIFS(HData!$T$3:$T$48828,\">=\"&R$6,HData!$T$3:$T$48828,\"<\"&S$6)","v":0},{"$f":"COUNTIFS(HData!$T$3:$T$48828,\">=\"&S$6,HData!$T$3:$T$48828,\"<\"&T$6)","v":0},{"$f":"COUNTIFS(HData!$T$3:$T$48828,\">=\"&T$6,HData!$T$3:$T$48828,\"<\"&U$6)","v":0},{"$f":"COUNTIFS(HData!$T$3:$T$48828,\">=\"&U$6,HData!$T$3:$T$48828,\"<\"&V$6)","v":0},{"$f":"COUNTIFS(HData!$T$3:$T$48828,\">=\"&V$6,HData!$T$3:$T$48828,\"<\"&W$6)","v":0},{"$f":"COUNTIFS(HData!$T$3:$T$48828,\">=\"&W$6,HData!$T$3:$T$48828,\"<\"&X$6)","v":0},{"$f":"COUNTIFS(HData!$T$3:$T$48828,\">=\"&X$6,HData!$T$3:$T$48828,\"<\"&Y$6)","v":0},{"$f":"COUNTIFS(HData!$T$3:$T$48828,\">=\"&Y$6,HData!$T$3:$T$48828,\"<\"&Z$6)","v":0},{"$f":"COUNTIFS(HData!$T$3:$T$48828,\">=\"&Z$6,HData!$T$3:$T$48828,\"<\"&AA$6)","v":0},{"$f":"COUNTIFS(HData!$T$3:$T$48828,\">=\"&AA$6,HData!$T$3:$T$48828,\"<\"&AB$6)","v":0},{"$f":"COUNTIFS(HData!$T$3:$T$48828,\">=\"&AB$6,HData!$T$3:$T$48828,\"<\"&AC$6)","v":0},{"$f":"COUNTIFS(HData!$T$3:$T$48828,\">=\"&AC$6,HData!$T$3:$T$48828,\"<\"&AD$6)","v":0},{"$f":"COUNTIFS(HData!$T$3:$T$48828,\">=\"&AD$6,HData!$T$3:$T$48828,\"<\"&AE$6)","v":0},{"$f":"COUNTIFS(HData!$T$3:$T$48828,\">=\"&AE$6,HData!$T$3:$T$48828,\"<\"&AF$6)","v":0},{"$f":"COUNTIFS(HData!$T$3:$T$48828,\">=\"&AF$6,HData!$T$3:$T$48828,\"<\"&AG$6)","v":0},{"$f":"COUNTIFS(HData!$T$3:$T$48828,\">=\"&AG$6,HData!$T$3:$T$48828,\"<\"&AH$6)","v":0},{"$f":"COUNTIFS(HData!$T$3:$T$48828,\">=\"&AH$6,HData!$T$3:$T$48828,\"<\"&AI$6)","v":0},{"$f":"COUNTIFS(HData!$T$3:$T$48828,\">=\"&AI$6,HData!$T$3:$T$48828,\"<\"&AJ$6)","v":0},{"$f":"COUNTIFS(HData!$T$3:$T$48828,\">=\"&AJ$6,HData!$T$3:$T$48828,\"<\"&AK$6)","v":0},{"$f":"COUNTIFS(HData!$T$3:$T$48828,\">=\"&AK$6,HData!$T$3:$T$48828,\"<\"&AL$6)","v":0},{"$f":"COUNTIFS(HData!$T$3:$T$48828,\">=\"&AL$6,HData!$T$3:$T$48828,\"<\"&AM$6)","v":0},{"$f":"COUNTIFS(HData!$T$3:$T$48828,\">=\"&AM$6,HData!$T$3:$T$48828,\"<\"&AN$6)","v":0},{"$f":"COUNTIFS(HData!$T$3:$T$48828,\">=\"&AN$6,HData!$T$3:$T$48828,\"<\"&AO$6)","v":0},{"$f":"COUNTIFS(HData!$T$3:$T$48828,\">=\"&AO$6,HData!$T$3:$T$48828,\"<\"&AP$6)","v":0},{"$f":"COUNTIFS(HData!$T$3:$T$48828,\">=\"&AP$6,HData!$T$3:$T$48828,\"<\"&AQ$6)","v":0},{"$f":"COUNTIFS(HData!$T$3:$T$48828,\">=\"&AQ$6,HData!$T$3:$T$48828,\"<\"&AR$6)","v":0},{"$f":"COUNTIFS(HData!$T$3:$T$48828,\">=\"&AR$6,HData!$T$3:$T$48828,\"<\"&AS$6)","v":0},{"$f":"COUNTIFS(HData!$T$3:$T$48828,\">=\"&AS$6,HData!$T$3:$T$48828,\"<\"&AT$6)","v":0},{"$f":"COUNTIFS(HData!$T$3:$T$48828,\">=\"&AT$6,HData!$T$3:$T$48828,\"<\"&AU$6)","v":0},{"$f":"COUNTIFS(HData!$T$3:$T$48828,\">=\"&AU$6,HData!$T$3:$T$48828,\"<\"&AV$6)","v":0},{"$f":"COUNTIFS(HData!$T$3:$T$48828,\">=\"&AV$6,HData!$T$3:$T$48828,\"<\"&AW$6)","v":0},{"$f":"COUNTIFS(HData!$T$3:$T$48828,\">=\"&AW$6,HData!$T$3:$T$48828,\"<\"&AX$6)","v":0}]
["Placements",{"$f":"COUNTIFS(HData!$R$3:$R$48828,\">=\"&B$6,HData!$R$3:$R$48828,\"<\"&C$6)","v":0},{"$f":"COUNTIFS(HData!$R$3:$R$48828,\">=\"&C$6,HData!$R$3:$R$48828,\"<\"&D$6)","v":0},{"$f":"COUNTIFS(HData!$R$3:$R$48828,\">=\"&D$6,HData!$R$3:$R$48828,\"<\"&E$6)","v":0},{"$f":"COUNTIFS(HData!$R$3:$R$48828,\">=\"&E$6,HData!$R$3:$R$48828,\"<\"&F$6)","v":0},{"$f":"COUNTIFS(HData!$R$3:$R$48828,\">=\"&F$6,HData!$R$3:$R$48828,\"<\"&G$6)","v":0},{"$f":"COUNTIFS(HData!$R$3:$R$48828,\">=\"&G$6,HData!$R$3:$R$48828,\"<\"&H$6)","v":0},{"$f":"COUNTIFS(HData!$R$3:$R$48828,\">=\"&H$6,HData!$R$3:$R$48828,\"<\"&I$6)","v":0},{"$f":"COUNTIFS(HData!$R$3:$R$48828,\">=\"&I$6,HData!$R$3:$R$48828,\"<\"&J$6)","v":0},{"$f":"COUNTIFS(HData!$R$3:$R$48828,\">=\"&J$6,HData!$R$3:$R$48828,\"<\"&K$6)","v":0},{"$f":"COUNTIFS(HData!$R$3:$R$48828,\">=\"&K$6,HData!$R$3:$R$48828,\"<\"&L$6)","v":0},{"$f":"COUNTIFS(HData!$R$3:$R$48828,\">=\"&L$6,HData!$R$3:$R$48828,\"<\"&M$6)","v":0},{"$f":"COUNTIFS(HData!$R$3:$R$48828,\">=\"&M$6,HData!$R$3:$R$48828,\"<\"&N$6)","v":0},{"$f":"COUNTIFS(HData!$R$3:$R$48828,\">=\"&N$6,HData!$R$3:$R$48828,\"<\"&O$6)","v":0},{"$f":"COUNTIFS(HData!$R$3:$R$48828,\">=\"&O$6,HData!$R$3:$R$48828,\"<\"&P$6)","v":0},{"$f":"COUNTIFS(HData!$R$3:$R$48828,\">=\"&P$6,HData!$R$3:$R$48828,\"<\"&Q$6)","v":0},{"$f":"COUNTIFS(HData!$R$3:$R$48828,\">=\"&Q$6,HData!$R$3:$R$48828,\"<\"&R$6)","v":0},{"$f":"COUNTIFS(HData!$R$3:$R$48828,\">=\"&R$6,HData!$R$3:$R$48828,\"<\"&S$6)","v":0},{"$f":"COUNTIFS(HData!$R$3:$R$48828,\">=\"&S$6,HData!$R$3:$R$48828,\"<\"&T$6)","v":0},{"$f":"COUNTIFS(HData!$R$3:$R$48828,\">=\"&T$6,HData!$R$3:$R$48828,\"<\"&U$6)","v":0},{"$f":"COUNTIFS(HData!$R$3:$R$48828,\">=\"&U$6,HData!$R$3:$R$48828,\"<\"&V$6)","v":0},{"$f":"COUNTIFS(HData!$R$3:$R$48828,\">=\"&V$6,HData!$R$3:$R$48828,\"<\"&W$6)","v":0},{"$f":"COUNTIFS(HData!$R$3:$R$48828,\">=\"&W$6,HData!$R$3:$R$48828,\"<\"&X$6)","v":0},{"$f":"COUNTIFS(HData!$R$3:$R$48828,\">=\"&X$6,HData!$R$3:$R$48828,\"<\"&Y$6)","v":0},{"$f":"COUNTIFS(HData!$R$3:$R$48828,\">=\"&Y$6,HData!$R$3:$R$48828,\"<\"&Z$6)","v":0},{"$f":"COUNTIFS(HData!$R$3:$R$48828,\">=\"&Z$6,HData!$R$3:$R$48828,\"<\"&AA$6)","v":0},{"$f":"COUNTIFS(HData!$R$3:$R$48828,\">=\"&AA$6,HData!$R$3:$R$48828,\"<\"&AB$6)","v":0},{"$f":"COUNTIFS(HData!$R$3:$R$48828,\">=\"&AB$6,HData!$R$3:$R$48828,\"<\"&AC$6)","v":0},{"$f":"COUNTIFS(HData!$R$3:$R$48828,\">=\"&AC$6,HData!$R$3:$R$48828,\"<\"&AD$6)","v":0},{"$f":"COUNTIFS(HData!$R$3:$R$48828,\">=\"&AD$6,HData!$R$3:$R$48828,\"<\"&AE$6)","v":0},{"$f":"COUNTIFS(HData!$R$3:$R$48828,\">=\"&AE$6,HData!$R$3:$R$48828,\"<\"&AF$6)","v":0},{"$f":"COUNTIFS(HData!$R$3:$R$48828,\">=\"&AF$6,HData!$R$3:$R$48828,\"<\"&AG$6)","v":0},{"$f":"COUNTIFS(HData!$R$3:$R$48828,\">=\"&AG$6,HData!$R$3:$R$48828,\"<\"&AH$6)","v":0},{"$f":"COUNTIFS(HData!$R$3:$R$48828,\">=\"&AH$6,HData!$R$3:$R$48828,\"<\"&AI$6)","v":0},{"$f":"COUNTIFS(HData!$R$3:$R$48828,\">=\"&AI$6,HData!$R$3:$R$48828,\"<\"&AJ$6)","v":0},{"$f":"COUNTIFS(HData!$R$3:$R$48828,\">=\"&AJ$6,HData!$R$3:$R$48828,\"<\"&AK$6)","v":0},{"$f":"COUNTIFS(HData!$R$3:$R$48828,\">=\"&AK$6,HData!$R$3:$R$48828,\"<\"&AL$6)","v":0},{"$f":"COUNTIFS(HData!$R$3:$R$48828,\">=\"&AL$6,HData!$R$3:$R$48828,\"<\"&AM$6)","v":0},{"$f":"COUNTIFS(HData!$R$3:$R$48828,\">=\"&AM$6,HData!$R$3:$R$48828,\"<\"&AN$6)","v":0},{"$f":"COUNTIFS(HData!$R$3:$R$48828,\">=\"&AN$6,HData!$R$3:$R$48828,\"<\"&AO$6)","v":0},{"$f":"COUNTIFS(HData!$R$3:$R$48828,\">=\"&AO$6,HData!$R$3:$R$48828,\"<\"&AP$6)","v":0},{"$f":"COUNTIFS(HData!$R$3:$R$48828,\">=\"&AP$6,HData!$R$3:$R$48828,\"<\"&AQ$6)","v":0},{"$f":"COUNTIFS(HData!$R$3:$R$48828,\">=\"&AQ$6,HData!$R$3:$R$48828,\"<\"&AR$6)","v":0},{"$f":"COUNTIFS(HData!$R$3:$R$48828,\">=\"&AR$6,HData!$R$3:$R$48828,\"<\"&AS$6)","v":0},{"$f":"COUNTIFS(HData!$R$3:$R$48828,\">=\"&AS$6,HData!$R$3:$R$48828,\"<\"&AT$6)","v":0},{"$f":"COUNTIFS(HData!$R$3:$R$48828,\">=\"&AT$6,HData!$R$3:$R$48828,\"<\"&AU$6)","v":0},{"$f":"COUNTIFS(HData!$R$3:$R$48828,\">=\"&AU$6,HData!$R$3:$R$48828,\"<\"&AV$6)","v":0},{"$f":"COUNTIFS(HData!$R$3:$R$48828,\">=\"&AV$6,HData!$R$3:$R$48828,\"<\"&AW$6)","v":0},{"$f":"COUNTIFS(HData!$R$3:$R$48828,\">=\"&AW$6,HData!$R$3:$R$48828,\"<\"&AX$6)","v":0}]
["Matches",{"$f":"COUNTIFS(HData!$P$3:$P$48828,\">=\"&B$6,HData!$P$3:$P$48828,\"<\"&C$6)","v":0},{"$f":"COUNTIFS(HData!$P$3:$P$48828,\">=\"&C$6,HData!$P$3:$P$48828,\"<\"&D$6)","v":0},{"$f":"COUNTIFS(HData!$P$3:$P$48828,\">=\"&D$6,HData!$P$3:$P$48828,\"<\"&E$6)","v":0},{"$f":"COUNTIFS(HData!$P$3:$P$48828,\">=\"&E$6,HData!$P$3:$P$48828,\"<\"&F$6)","v":0},{"$f":"COUNTIFS(HData!$P$3:$P$48828,\">=\"&F$6,HData!$P$3:$P$48828,\"<\"&G$6)","v":0},{"$f":"COUNTIFS(HData!$P$3:$P$48828,\">=\"&G$6,HData!$P$3:$P$48828,\"<\"&H$6)","v":0},{"$f":"COUNTIFS(HData!$P$3:$P$48828,\">=\"&H$6,HData!$P$3:$P$48828,\"<\"&I$6)","v":0},{"$f":"COUNTIFS(HData!$P$3:$P$48828,\">=\"&I$6,HData!$P$3:$P$48828,\"<\"&J$6)","v":0},{"$f":"COUNTIFS(HData!$P$3:$P$48828,\">=\"&J$6,HData!$P$3:$P$48828,\"<\"&K$6)","v":0},{"$f":"COUNTIFS(HData!$P$3:$P$48828,\">=\"&K$6,HData!$P$3:$P$48828,\"<\"&L$6)","v":0},{"$f":"COUNTIFS(HData!$P$3:$P$48828,\">=\"&L$6,HData!$P$3:$P$48828,\"<\"&M$6)","v":0},{"$f":"COUNTIFS(HData!$P$3:$P$48828,\">=\"&M$6,HData!$P$3:$P$48828,\"<\"&N$6)","v":0},{"$f":"COUNTIFS(HData!$P$3:$P$48828,\">=\"&N$6,HData!$P$3:$P$48828,\"<\"&O$6)","v":0},{"$f":"COUNTIFS(HData!$P$3:$P$48828,\">=\"&O$6,HData!$P$3:$P$48828,\"<\"&P$6)","v":0},{"$f":"COUNTIFS(HData!$P$3:$P$48828,\">=\"&P$6,HData!$P$3:$P$48828,\"<\"&Q$6)","v":0},{"$f":"COUNTIFS(HData!$P$3:$P$48828,\">=\"&Q$6,HData!$P$3:$P$48828,\"<\"&R$6)","v":0},{"$f":"COUNTIFS(HData!$P$3:$P$48828,\">=\"&R$6,HData!$P$3:$P$48828,\"<\"&S$6)","v":0},{"$f":"COUNTIFS(HData!$P$3:$P$48828,\">=\"&S$6,HData!$P$3:$P$48828,\"<\"&T$6)","v":0},{"$f":"COUNTIFS(HData!$P$3:$P$48828,\">=\"&T$6,HData!$P$3:$P$48828,\"<\"&U$6)","v":0},{"$f":"COUNTIFS(HData!$P$3:$P$48828,\">=\"&U$6,HData!$P$3:$P$48828,\"<\"&V$6)","v":0},{"$f":"COUNTIFS(HData!$P$3:$P$48828,\">=\"&V$6,HData!$P$3:$P$48828,\"<\"&W$6)","v":0},{"$f":"COUNTIFS(HData!$P$3:$P$48828,\">=\"&W$6,HData!$P$3:$P$48828,\"<\"&X$6)","v":0},{"$f":"COUNTIFS(HData!$P$3:$P$48828,\">=\"&X$6,HData!$P$3:$P$48828,\"<\"&Y$6)","v":0},{"$f":"COUNTIFS(HData!$P$3:$P$48828,\">=\"&Y$6,HData!$P$3:$P$48828,\"<\"&Z$6)","v":0},{"$f":"COUNTIFS(HData!$P$3:$P$48828,\">=\"&Z$6,HData!$P$3:$P$48828,\"<\"&AA$6)","v":0},{"$f":"COUNTIFS(HData!$P$3:$P$48828,\">=\"&AA$6,HData!$P$3:$P$48828,\"<\"&AB$6)","v":0},{"$f":"COUNTIFS(HData!$P$3:$P$48828,\">=\"&AB$6,HData!$P$3:$P$48828,\"<\"&AC$6)","v":0},{"$f":"COUNTIFS(HData!$P$3:$P$48828,\">=\"&AC$6,HData!$P$3:$P$48828,\"<\"&AD$6)","v":0},{"$f":"COUNTIFS(HData!$P$3:$P$48828,\">=\"&AD$6,HData!$P$3:$P$48828,\"<\"&AE$6)","v":0},{"$f":"COUNTIFS(HData!$P$3:$P$48828,\">=\"&AE$6,HData!$P$3:$P$48828,\"<\"&AF$6)","v":0},{"$f":"COUNTIFS(HData!$P$3:$P$48828,\">=\"&AF$6,HData!$P$3:$P$48828,\"<\"&AG$6)","v":0},{"$f":"COUNTIFS(HData!$P$3:$P$48828,\">=\"&AG$6,HData!$P$3:$P$48828,\"<\"&AH$6)","v":0},{"$f":"COUNTIFS(HData!$P$3:$P$48828,\">=\"&AH$6,HData!$P$3:$P$48828,\"<\"&AI$6)","v":0},{"$f":"COUNTIFS(HData!$P$3:$P$48828,\">=\"&AI$6,HData!$P$3:$P$48828,\"<\"&AJ$6)","v":0},{"$f":"COUNTIFS(HData!$P$3:$P$48828,\">=\"&AJ$6,HData!$P$3:$P$48828,\"<\"&AK$6)","v":0},{"$f":"COUNTIFS(HData!$P$3:$P$48828,\">=\"&AK$6,HData!$P$3:$P$48828,\"<\"&AL$6)","v":0},{"$f":"COUNTIFS(HData!$P$3:$P$48828,\">=\"&AL$6,HData!$P$3:$P$48828,\"<\"&AM$6)","v":0},{"$f":"COUNTIFS(HData!$P$3:$P$48828,\">=\"&AM$6,HData!$P$3:$P$48828,\"<\"&AN$6)","v":0},{"$f":"COUNTIFS(HData!$P$3:$P$48828,\">=\"&AN$6,HData!$P$3:$P$48828,\"<\"&AO$6)","v":0},{"$f":"COUNTIFS(HData!$P$3:$P$48828,\">=\"&AO$6,HData!$P$3:$P$48828,\"<\"&AP$6)","v":0},{"$f":"COUNTIFS(HData!$P$3:$P$48828,\">=\"&AP$6,HData!$P$3:$P$48828,\"<\"&AQ$6)","v":0},{"$f":"COUNTIFS(HData!$P$3:$P$48828,\">=\"&AQ$6,HData!$P$3:$P$48828,\"<\"&AR$6)","v":0},{"$f":"COUNTIFS(HData!$P$3:$P$48828,\">=\"&AR$6,HData!$P$3:$P$48828,\"<\"&AS$6)","v":0},{"$f":"COUNTIFS(HData!$P$3:$P$48828,\">=\"&AS$6,HData!$P$3:$P$48828,\"<\"&AT$6)","v":0},{"$f":"COUNTIFS(HData!$P$3:$P$48828,\">=\"&AT$6,HData!$P$3:$P$48828,\"<\"&AU$6)","v":0},{"$f":"COUNTIFS(HData!$P$3:$P$48828,\">=\"&AU$6,HData!$P$3:$P$48828,\"<\"&AV$6)","v":0},{"$f":"COUNTIFS(HData!$P$3:$P$48828,\">=\"&AV$6,HData!$P$3:$P$48828,\"<\"&AW$6)","v":0},{"$f":"COUNTIFS(HData!$P$3:$P$48828,\">=\"&AW$6,HData!$P$3:$P$48828,\"<\"&AX$6)","v":0}]
["PO",{"$f":"COUNTIFS(HData!$O$3:$O$48828,\">=\"&B$6,HData!$O$3:$O$48828,\"<\"&C$6,HData!$AB$3:$AB$48828,TRUE)","v":0},{"$f":"COUNTIFS(HData!$O$3:$O$48828,\">=\"&C$6,HData!$O$3:$O$48828,\"<\"&D$6,HData!$AB$3:$AB$48828,TRUE)","v":0},{"$f":"COUNTIFS(HData!$O$3:$O$48828,\">=\"&D$6,HData!$O$3:$O$48828,\"<\"&E$6,HData!$AB$3:$AB$48828,TRUE)","v":0},{"$f":"COUNTIFS(HData!$O$3:$O$48828,\">=\"&E$6,HData!$O$3:$O$48828,\"<\"&F$6,HData!$AB$3:$AB$48828,TRUE)","v":0},{"$f":"COUNTIFS(HData!$O$3:$O$48828,\">=\"&F$6,HData!$O$3:$O$48828,\"<\"&G$6,HData!$AB$3:$AB$48828,TRUE)","v":0},{"$f":"COUNTIFS(HData!$O$3:$O$48828,\">=\"&G$6,HData!$O$3:$O$48828,\"<\"&H$6,HData!$AB$3:$AB$48828,TRUE)","v":0},{"$f":"COUNTIFS(HData!$O$3:$O$48828,\">=\"&H$6,HData!$O$3:$O$48828,\"<\"&I$6,HData!$AB$3:$AB$48828,TRUE)","v":0},{"$f":"COUNTIFS(HData!$O$3:$O$48828,\">=\"&I$6,HData!$O$3:$O$48828,\"<\"&J$6,HData!$AB$3:$AB$48828,TRUE)","v":0},{"$f":"COUNTIFS(HData!$O$3:$O$48828,\">=\"&J$6,HData!$O$3:$O$48828,\"<\"&K$6,HData!$AB$3:$AB$48828,TRUE)","v":0},{"$f":"COUNTIFS(HData!$O$3:$O$48828,\">=\"&K$6,HData!$O$3:$O$48828,\"<\"&L$6,HData!$AB$3:$AB$48828,TRUE)","v":0},{"$f":"COUNTIFS(HData!$O$3:$O$48828,\">=\"&L$6,HData!$O$3:$O$48828,\"<\"&M$6,HData!$AB$3:$AB$48828,TRUE)","v":0},{"$f":"COUNTIFS(HData!$O$3:$O$48828,\">=\"&M$6,HData!$O$3:$O$48828,\"<\"&N$6,HData!$AB$3:$AB$48828,TRUE)","v":0},{"$f":"COUNTIFS(HData!$O$3:$O$48828,\">=\"&N$6,HData!$O$3:$O$48828,\"<\"&O$6,HData!$AB$3:$AB$48828,TRUE)","v":0},{"$f":"COUNTIFS(HData!$O$3:$O$48828,\">=\"&O$6,HData!$O$3:$O$48828,\"<\"&P$6,HData!$AB$3:$AB$48828,TRUE)","v":0},{"$f":"COUNTIFS(HData!$O$3:$O$48828,\">=\"&P$6,HData!$O$3:$O$48828,\"<\"&Q$6,HData!$AB$3:$AB$48828,TRUE)","v":0},{"$f":"COUNTIFS(HData!$O$3:$O$48828,\">=\"&Q$6,HData!$O$3:$O$48828,\"<\"&R$6,HData!$AB$3:$AB$48828,TRUE)","v":0},{"$f":"COUNTIFS(HData!$O$3:$O$48828,\">=\"&R$6,HData!$O$3:$O$48828,\"<\"&S$6,HData!$AB$3:$AB$48828,TRUE)","v":0},{"$f":"COUNTIFS(HData!$O$3:$O$48828,\">=\"&S$6,HData!$O$3:$O$48828,\"<\"&T$6,HData!$AB$3:$AB$48828,TRUE)","v":0},{"$f":"COUNTIFS(HData!$O$3:$O$48828,\">=\"&T$6,HData!$O$3:$O$48828,\"<\"&U$6,HData!$AB$3:$AB$48828,TRUE)","v":0},{"$f":"COUNTIFS(HData!$O$3:$O$48828,\">=\"&U$6,HData!$O$3:$O$48828,\"<\"&V$6,HData!$AB$3:$AB$48828,TRUE)","v":0},{"$f":"COUNTIFS(HData!$O$3:$O$48828,\">=\"&V$6,HData!$O$3:$O$48828,\"<\"&W$6,HData!$AB$3:$AB$48828,TRUE)","v":0},{"$f":"COUNTIFS(HData!$O$3:$O$48828,\">=\"&W$6,HData!$O$3:$O$48828,\"<\"&X$6,HData!$AB$3:$AB$48828,TRUE)","v":0},{"$f":"COUNTIFS(HData!$O$3:$O$48828,\">=\"&X$6,HData!$O$3:$O$48828,\"<\"&Y$6,HData!$AB$3:$AB$48828,TRUE)","v":0},{"$f":"COUNTIFS(HData!$O$3:$O$48828,\">=\"&Y$6,HData!$O$3:$O$48828,\"<\"&Z$6,HData!$AB$3:$AB$48828,TRUE)","v":0},{"$f":"COUNTIFS(HData!$O$3:$O$48828,\">=\"&Z$6,HData!$O$3:$O$48828,\"<\"&AA$6,HData!$AB$3:$AB$48828,TRUE)","v":0},{"$f":"COUNTIFS(HData!$O$3:$O$48828,\">=\"&AA$6,HData!$O$3:$O$48828,\"<\"&AB$6,HData!$AB$3:$AB$48828,TRUE)","v":0},{"$f":"COUNTIFS(HData!$O$3:$O$48828,\">=\"&AB$6,HData!$O$3:$O$48828,\"<\"&AC$6,HData!$AB$3:$AB$48828,TRUE)","v":0},{"$f":"COUNTIFS(HData!$O$3:$O$48828,\">=\"&AC$6,HData!$O$3:$O$48828,\"<\"&AD$6,HData!$AB$3:$AB$48828,TRUE)","v":0},{"$f":"COUNTIFS(HData!$O$3:$O$48828,\">=\"&AD$6,HData!$O$3:$O$48828,\"<\"&AE$6,HData!$AB$3:$AB$48828,TRUE)","v":0},{"$f":"COUNTIFS(HData!$O$3:$O$48828,\">=\"&AE$6,HData!$O$3:$O$48828,\"<\"&AF$6,HData!$AB$3:$AB$48828,TRUE)","v":0},{"$f":"COUNTIFS(HData!$O$3:$O$48828,\">=\"&AF$6,HData!$O$3:$O$48828,\"<\"&AG$6,HData!$AB$3:$AB$48828,TRUE)","v":0},{"$f":"COUNTIFS(HData!$O$3:$O$48828,\">=\"&AG$6,HData!$O$3:$O$48828,\"<\"&AH$6,HData!$AB$3:$AB$48828,TRUE)","v":0},{"$f":"COUNTIFS(HData!$O$3:$O$48828,\">=\"&AH$6,HData!$O$3:$O$48828,\"<\"&AI$6,HData!$AB$3:$AB$48828,TRUE)","v":0},{"$f":"COUNTIFS(HData!$O$3:$O$48828,\">=\"&AI$6,HData!$O$3:$O$48828,\"<\"&AJ$6,HData!$AB$3:$AB$48828,TRUE)","v":0},{"$f":"COUNTIFS(HData!$O$3:$O$48828,\">=\"&AJ$6,HData!$O$3:$O$48828,\"<\"&AK$6,HData!$AB$3:$AB$48828,TRUE)","v":0},{"$f":"COUNTIFS(HData!$O$3:$O$48828,\">=\"&AK$6,HData!$O$3:$O$48828,\"<\"&AL$6,HData!$AB$3:$AB$48828,TRUE)","v":0},{"$f":"COUNTIFS(HData!$O$3:$O$48828,\">=\"&AL$6,HData!$O$3:$O$48828,\"<\"&AM$6,HData!$AB$3:$AB$48828,TRUE)","v":0},{"$f":"COUNTIFS(HData!$O$3:$O$48828,\">=\"&AM$6,HData!$O$3:$O$48828,\"<\"&AN$6,HData!$AB$3:$AB$48828,TRUE)","v":0},{"$f":"COUNTIFS(HData!$O$3:$O$48828,\">=\"&AN$6,HData!$O$3:$O$48828,\"<\"&AO$6,HData!$AB$3:$AB$48828,TRUE)","v":0},{"$f":"COUNTIFS(HData!$O$3:$O$48828,\">=\"&AO$6,HData!$O$3:$O$48828,\"<\"&AP$6,HData!$AB$3:$AB$48828,TRUE)","v":0},{"$f":"COUNTIFS(HData!$O$3:$O$48828,\">=\"&AP$6,HData!$O$3:$O$48828,\"<\"&AQ$6,HData!$AB$3:$AB$48828,TRUE)","v":0},{"$f":"COUNTIFS(HData!$O$3:$O$48828,\">=\"&AQ$6,HData!$O$3:$O$48828,\"<\"&AR$6,HData!$AB$3:$AB$48828,TRUE)","v":0},{"$f":"COUNTIFS(HData!$O$3:$O$48828,\">=\"&AR$6,HData!$O$3:$O$48828,\"<\"&AS$6,HData!$AB$3:$AB$48828,TRUE)","v":0},{"$f":"COUNTIFS(HData!$O$3:$O$48828,\">=\"&AS$6,HData!$O$3:$O$48828,\"<\"&AT$6,HData!$AB$3:$AB$48828,TRUE)","v":0},{"$f":"COUNTIFS(HData!$O$3:$O$48828,\">=\"&AT$6,HData!$O$3:$O$48828,\"<\"&AU$6,HData!$AB$3:$AB$48828,TRUE)","v":0},{"$f":"COUNTIFS(HData!$O$3:$O$48828,\">=\"&AU$6,HData!$O$3:$O$48828,\"<\"&AV$6,HData!$AB$3:$AB$48828,TRUE)","v":0},{"$f":"COUNTIFS(HData!$O$3:$O$48828,\">=\"&AV$6,HData!$O$3:$O$48828,\"<\"&AW$6,HData!$AB$3:$AB$48828,TRUE)","v":0},{"$f":"COUNTIFS(HData!$O$3:$O$48828,\">=\"&AW$6,HData!$O$3:$O$48828,\"<\"&AX$6,HData!$AB$3:$AB$48828,TRUE)","v":0}]
["ADM BI",{"$f":"COUNTIFS(HData!$N$3:$N$48828,\">=\"&B$6,HData!$N$3:$N$48828,\"<\"&C$6,HData!$AB$3:$AB$48828,TRUE)","v":0},{"$f":"COUNTIFS(HData!$N$3:$N$48828,\">=\"&C$6,HData!$N$3:$N$48828,\"<\"&D$6,HData!$AB$3:$AB$48828,TRUE)","v":0},{"$f":"COUNTIFS(HData!$N$3:$N$48828,\">=\"&D$6,HData!$N$3:$N$48828,\"<\"&E$6,HData!$AB$3:$AB$48828,TRUE)","v":0},{"$f":"COUNTIFS(HData!$N$3:$N$48828,\">=\"&E$6,HData!$N$3:$N$48828,\"<\"&F$6,HData!$AB$3:$AB$48828,TRUE)","v":0},{"$f":"COUNTIFS(HData!$N$3:$N$48828,\">=\"&F$6,HData!$N$3:$N$48828,\"<\"&G$6,HData!$AB$3:$AB$48828,TRUE)","v":0},{"$f":"COUNTIFS(HData!$N$3:$N$48828,\">=\"&G$6,HData!$N$3:$N$48828,\"<\"&H$6,HData!$AB$3:$AB$48828,TRUE)","v":0},{"$f":"COUNTIFS(HData!$N$3:$N$48828,\">=\"&H$6,HData!$N$3:$N$48828,\"<\"&I$6,HData!$AB$3:$AB$48828,TRUE)","v":0},{"$f":"COUNTIFS(HData!$N$3:$N$48828,\">=\"&I$6,HData!$N$3:$N$48828,\"<\"&J$6,HData!$AB$3:$AB$48828,TRUE)","v":0},{"$f":"COUNTIFS(HData!$N$3:$N$48828,\">=\"&J$6,HData!$N$3:$N$48828,\"<\"&K$6,HData!$AB$3:$AB$48828,TRUE)","v":0},{"$f":"COUNTIFS(HData!$N$3:$N$48828,\">=\"&K$6,HData!$N$3:$N$48828,\"<\"&L$6,HData!$AB$3:$AB$48828,TRUE)","v":0},{"$f":"COUNTIFS(HData!$N$3:$N$48828,\">=\"&L$6,HData!$N$3:$N$48828,\"<\"&M$6,HData!$AB$3:$AB$48828,TRUE)","v":0},{"$f":"COUNTIFS(HData!$N$3:$N$48828,\">=\"&M$6,HData!$N$3:$N$48828,\"<\"&N$6,HData!$AB$3:$AB$48828,TRUE)","v":0},{"$f":"COUNTIFS(HData!$N$3:$N$48828,\">=\"&N$6,HData!$N$3:$N$48828,\"<\"&O$6,HData!$AB$3:$AB$48828,TRUE)","v":0},{"$f":"COUNTIFS(HData!$N$3:$N$48828,\">=\"&O$6,HData!$N$3:$N$48828,\"<\"&P$6,HData!$AB$3:$AB$48828,TRUE)","v":0},{"$f":"COUNTIFS(HData!$N$3:$N$48828,\">=\"&P$6,HData!$N$3:$N$48828,\"<\"&Q$6,HData!$AB$3:$AB$48828,TRUE)","v":0},{"$f":"COUNTIFS(HData!$N$3:$N$48828,\">=\"&Q$6,HData!$N$3:$N$48828,\"<\"&R$6,HData!$AB$3:$AB$48828,TRUE)","v":0},{"$f":"COUNTIFS(HData!$N$3:$N$48828,\">=\"&R$6,HData!$N$3:$N$48828,\"<\"&S$6,HData!$AB$3:$AB$48828,TRUE)","v":0},{"$f":"COUNTIFS(HData!$N$3:$N$48828,\">=\"&S$6,HData!$N$3:$N$48828,\"<\"&T$6,HData!$AB$3:$AB$48828,TRUE)","v":0},{"$f":"COUNTIFS(HData!$N$3:$N$48828,\">=\"&T$6,HData!$N$3:$N$48828,\"<\"&U$6,HData!$AB$3:$AB$48828,TRUE)","v":0},{"$f":"COUNTIFS(HData!$N$3:$N$48828,\">=\"&U$6,HData!$N$3:$N$48828,\"<\"&V$6,HData!$AB$3:$AB$48828,TRUE)","v":0},{"$f":"COUNTIFS(HData!$N$3:$N$48828,\">=\"&V$6,HData!$N$3:$N$48828,\"<\"&W$6,HData!$AB$3:$AB$48828,TRUE)","v":0},{"$f":"COUNTIFS(HData!$N$3:$N$48828,\">=\"&W$6,HData!$N$3:$N$48828,\"<\"&X$6,HData!$AB$3:$AB$48828,TRUE)","v":0},{"$f":"COUNTIFS(HData!$N$3:$N$48828,\">=\"&X$6,HData!$N$3:$N$48828,\"<\"&Y$6,HData!$AB$3:$AB$48828,TRUE)","v":0},{"$f":"COUNTIFS(HData!$N$3:$N$48828,\">=\"&Y$6,HData!$N$3:$N$48828,\"<\"&Z$6,HData!$AB$3:$AB$48828,TRUE)","v":0},{"$f":"COUNTIFS(HData!$N$3:$N$48828,\">=\"&Z$6,HData!$N$3:$N$48828,\"<\"&AA$6,HData!$AB$3:$AB$48828,TRUE)","v":0},{"$f":"COUNTIFS(HData!$N$3:$N$48828,\">=\"&AA$6,HData!$N$3:$N$48828,\"<\"&AB$6,HData!$AB$3:$AB$48828,TRUE)","v":0},{"$f":"COUNTIFS(HData!$N$3:$N$48828,\">=\"&AB$6,HData!$N$3:$N$48828,\"<\"&AC$6,HData!$AB$3:$AB$48828,TRUE)","v":0},{"$f":"COUNTIFS(HData!$N$3:$N$48828,\">=\"&AC$6,HData!$N$3:$N$48828,\"<\"&AD$6,HData!$AB$3:$AB$48828,TRUE)","v":0},{"$f":"COUNTIFS(HData!$N$3:$N$48828,\">=\"&AD$6,HData!$N$3:$N$48828,\"<\"&AE$6,HData!$AB$3:$AB$48828,TRUE)","v":0},{"$f":"COUNTIFS(HData!$N$3:$N$48828,\">=\"&AE$6,HData!$N$3:$N$48828,\"<\"&AF$6,HData!$AB$3:$AB$48828,TRUE)","v":0},{"$f":"COUNTIFS(HData!$N$3:$N$48828,\">=\"&AF$6,HData!$N$3:$N$48828,\"<\"&AG$6,HData!$AB$3:$AB$48828,TRUE)","v":0},{"$f":"COUNTIFS(HData!$N$3:$N$48828,\">=\"&AG$6,HData!$N$3:$N$48828,\"<\"&AH$6,HData!$AB$3:$AB$48828,TRUE)","v":0},{"$f":"COUNTIFS(HData!$N$3:$N$48828,\">=\"&AH$6,HData!$N$3:$N$48828,\"<\"&AI$6,HData!$AB$3:$AB$48828,TRUE)","v":0},{"$f":"COUNTIFS(HData!$N$3:$N$48828,\">=\"&AI$6,HData!$N$3:$N$48828,\"<\"&AJ$6,HData!$AB$3:$AB$48828,TRUE)","v":0},{"$f":"COUNTIFS(HData!$N$3:$N$48828,\">=\"&AJ$6,HData!$N$3:$N$48828,\"<\"&AK$6,HData!$AB$3:$AB$48828,TRUE)","v":0},{"$f":"COUNTIFS(HData!$N$3:$N$48828,\">=\"&AK$6,HData!$N$3:$N$48828,\"<\"&AL$6,HData!$AB$3:$AB$48828,TRUE)","v":0},{"$f":"COUNTIFS(HData!$N$3:$N$48828,\">=\"&AL$6,HData!$N$3:$N$48828,\"<\"&AM$6,HData!$AB$3:$AB$48828,TRUE)","v":0},{"$f":"COUNTIFS(HData!$N$3:$N$48828,\">=\"&AM$6,HData!$N$3:$N$48828,\"<\"&AN$6,HData!$AB$3:$AB$48828,TRUE)","v":0},{"$f":"COUNTIFS(HData!$N$3:$N$48828,\">=\"&AN$6,HData!$N$3:$N$48828,\"<\"&AO$6,HData!$AB$3:$AB$48828,TRUE)","v":0},{"$f":"COUNTIFS(HData!$N$3:$N$48828,\">=\"&AO$6,HData!$N$3:$N$48828,\"<\"&AP$6,HData!$AB$3:$AB$48828,TRUE)","v":0},{"$f":"COUNTIFS(HData!$N$3:$N$48828,\">=\"&AP$6,HData!$N$3:$N$48828,\"<\"&AQ$6,HData!$AB$3:$AB$48828,TRUE)","v":0},{"$f":"COUNTIFS(HData!$N$3:$N$48828,\">=\"&AQ$6,HData!$N$3:$N$48828,\"<\"&AR$6,HData!$AB$3:$AB$48828,TRUE)","v":0},{"$f":"COUNTIFS(HData!$N$3:$N$48828,\">=\"&AR$6,HData!$N$3:$N$48828,\"<\"&AS$6,HData!$AB$3:$AB$48828,TRUE)","v":0},{"$f":"COUNTIFS(HData!$N$3:$N$48828,\">=\"&AS$6,HData!$N$3:$N$48828,\"<\"&AT$6,HData!$AB$3:$AB$48828,TRUE)","v":0},{"$f":"COUNTIFS(HData!$N$3:$N$48828,\">=\"&AT$6,HData!$N$3:$N$48828,\"<\"&AU$6,HData!$AB$3:$AB$48828,TRUE)","v":0},{"$f":"COUNTIFS(HData!$N$3:$N$48828,\">=\"&AU$6,HData!$N$3:$N$48828,\"<\"&AV$6,HData!$AB$3:$AB$48828,TRUE)","v":0},{"$f":"COUNTIFS(HData!$N$3:$N$48828,\">=\"&AV$6,HData!$N$3:$N$48828,\"<\"&AW$6,HData!$AB$3:$AB$48828,TRUE)","v":0},{"$f":"COUNTIFS(HData!$N$3:$N$48828,\">=\"&AW$6,HData!$N$3:$N$48828,\"<\"&AX$6,HData!$AB$3:$AB$48828,TRUE)","v":0}]
["Change of plan",{"$f":"COUNTIFS(HData!$W$3:$W$48828,\">=\"&B$6,HData!$W$3:$W$48828,\"<\"&C$6,HData!$N$3:$N$48828,\"<>\")","v":0},{"$f":"COUNTIFS(HData!$W$3:$W$48828,\">=\"&C$6,HData!$W$3:$W$48828,\"<\"&D$6,HData!$N$3:$N$48828,\"<>\")","v":0},{"$f":"COUNTIFS(HData!$W$3:$W$48828,\">=\"&D$6,HData!$W$3:$W$48828,\"<\"&E$6,HData!$N$3:$N$48828,\"<>\")","v":0},{"$f":"COUNTIFS(HData!$W$3:$W$48828,\">=\"&E$6,HData!$W$3:$W$48828,\"<\"&F$6,HData!$N$3:$N$48828,\"<>\")","v":0},{"$f":"COUNTIFS(HData!$W$3:$W$48828,\">=\"&F$6,HData!$W$3:$W$48828,\"<\"&G$6,HData!$N$3:$N$48828,\"<>\")","v":0},{"$f":"COUNTIFS(HData!$W$3:$W$48828,\">=\"&G$6,HData!$W$3:$W$48828,\"<\"&H$6,HData!$N$3:$N$48828,\"<>\")","v":0},{"$f":"COUNTIFS(HData!$W$3:$W$48828,\">=\"&H$6,HData!$W$3:$W$48828,\"<\"&I$6,HData!$N$3:$N$48828,\"<>\")","v":0},{"$f":"COUNTIFS(HData!$W$3:$W$48828,\">=\"&I$6,HData!$W$3:$W$48828,\"<\"&J$6,HData!$N$3:$N$48828,\"<>\")","v":0},{"$f":"COUNTIFS(HData!$W$3:$W$48828,\">=\"&J$6,HData!$W$3:$W$48828,\"<\"&K$6,HData!$N$3:$N$48828,\"<>\")","v":0},{"$f":"COUNTIFS(HData!$W$3:$W$48828,\">=\"&K$6,HData!$W$3:$W$48828,\"<\"&L$6,HData!$N$3:$N$48828,\"<>\")","v":0},{"$f":"COUNTIFS(HData!$W$3:$W$48828,\">=\"&L$6,HData!$W$3:$W$48828,\"<\"&M$6,HData!$N$3:$N$48828,\"<>\")","v":0},{"$f":"COUNTIFS(HData!$W$3:$W$48828,\">=\"&M$6,HData!$W$3:$W$48828,\"<\"&N$6,HData!$N$3:$N$48828,\"<>\")","v":0},{"$f":"COUNTIFS(HData!$W$3:$W$48828,\">=\"&N$6,HData!$W$3:$W$48828,\"<\"&O$6,HData!$N$3:$N$48828,\"<>\")","v":0},{"$f":"COUNTIFS(HData!$W$3:$W$48828,\">=\"&O$6,HData!$W$3:$W$48828,\"<\"&P$6,HData!$N$3:$N$48828,\"<>\")","v":0},{"$f":"COUNTIFS(HData!$W$3:$W$48828,\">=\"&P$6,HData!$W$3:$W$48828,\"<\"&Q$6,HData!$N$3:$N$48828,\"<>\")","v":0},{"$f":"COUNTIFS(HData!$W$3:$W$48828,\">=\"&Q$6,HData!$W$3:$W$48828,\"<\"&R$6,HData!$N$3:$N$48828,\"<>\")","v":0},{"$f":"COUNTIFS(HData!$W$3:$W$48828,\">=\"&R$6,HData!$W$3:$W$48828,\"<\"&S$6,HData!$N$3:$N$48828,\"<>\")","v":0},{"$f":"COUNTIFS(HData!$W$3:$W$48828,\">=\"&S$6,HData!$W$3:$W$48828,\"<\"&T$6,HData!$N$3:$N$48828,\"<>\")","v":0},{"$f":"COUNTIFS(HData!$W$3:$W$48828,\">=\"&T$6,HData!$W$3:$W$48828,\"<\"&U$6,HData!$N$3:$N$48828,\"<>\")","v":0},{"$f":"COUNTIFS(HData!$W$3:$W$48828,\">=\"&U$6,HData!$W$3:$W$48828,\"<\"&V$6,HData!$N$3:$N$48828,\"<>\")","v":0},{"$f":"COUNTIFS(HData!$W$3:$W$48828,\">=\"&V$6,HData!$W$3:$W$48828,\"<\"&W$6,HData!$N$3:$N$48828,\"<>\")","v":0},{"$f":"COUNTIFS(HData!$W$3:$W$48828,\">=\"&W$6,HData!$W$3:$W$48828,\"<\"&X$6,HData!$N$3:$N$48828,\"<>\")","v":0},{"$f":"COUNTIFS(HData!$W$3:$W$48828,\">=\"&X$6,HData!$W$3:$W$48828,\"<\"&Y$6,HData!$N$3:$N$48828,\"<>\")","v":0},{"$f":"COUNTIFS(HData!$W$3:$W$48828,\">=\"&Y$6,HData!$W$3:$W$48828,\"<\"&Z$6,HData!$N$3:$N$48828,\"<>\")","v":0},{"$f":"COUNTIFS(HData!$W$3:$W$48828,\">=\"&Z$6,HData!$W$3:$W$48828,\"<\"&AA$6,HData!$N$3:$N$48828,\"<>\")","v":0},{"$f":"COUNTIFS(HData!$W$3:$W$48828,\">=\"&AA$6,HData!$W$3:$W$48828,\"<\"&AB$6,HData!$N$3:$N$48828,\"<>\")","v":0},{"$f":"COUNTIFS(HData!$W$3:$W$48828,\">=\"&AB$6,HData!$W$3:$W$48828,\"<\"&AC$6,HData!$N$3:$N$48828,\"<>\")","v":0},{"$f":"COUNTIFS(HData!$W$3:$W$48828,\">=\"&AC$6,HData!$W$3:$W$48828,\"<\"&AD$6,HData!$N$3:$N$48828,\"<>\")","v":0},{"$f":"COUNTIFS(HData!$W$3:$W$48828,\">=\"&AD$6,HData!$W$3:$W$48828,\"<\"&AE$6,HData!$N$3:$N$48828,\"<>\")","v":0},{"$f":"COUNTIFS(HData!$W$3:$W$48828,\">=\"&AE$6,HData!$W$3:$W$48828,\"<\"&AF$6,HData!$N$3:$N$48828,\"<>\")","v":0},{"$f":"COUNTIFS(HData!$W$3:$W$48828,\">=\"&AF$6,HData!$W$3:$W$48828,\"<\"&AG$6,HData!$N$3:$N$48828,\"<>\")","v":0},{"$f":"COUNTIFS(HData!$W$3:$W$48828,\">=\"&AG$6,HData!$W$3:$W$48828,\"<\"&AH$6,HData!$N$3:$N$48828,\"<>\")","v":0},{"$f":"COUNTIFS(HData!$W$3:$W$48828,\">=\"&AH$6,HData!$W$3:$W$48828,\"<\"&AI$6,HData!$N$3:$N$48828,\"<>\")","v":0},{"$f":"COUNTIFS(HData!$W$3:$W$48828,\">=\"&AI$6,HData!$W$3:$W$48828,\"<\"&AJ$6,HData!$N$3:$N$48828,\"<>\")","v":0},{"$f":"COUNTIFS(HData!$W$3:$W$48828,\">=\"&AJ$6,HData!$W$3:$W$48828,\"<\"&AK$6,HData!$N$3:$N$48828,\"<>\")","v":0},{"$f":"COUNTIFS(HData!$W$3:$W$48828,\">=\"&AK$6,HData!$W$3:$W$48828,\"<\"&AL$6,HData!$N$3:$N$48828,\"<>\")","v":0},{"$f":"COUNTIFS(HData!$W$3:$W$48828,\">=\"&AL$6,HData!$W$3:$W$48828,\"<\"&AM$6,HData!$N$3:$N$48828,\"<>\")","v":0},{"$f":"COUNTIFS(HData!$W$3:$W$48828,\">=\"&AM$6,HData!$W$3:$W$48828,\"<\"&AN$6,HData!$N$3:$N$48828,\"<>\")","v":0},{"$f":"COUNTIFS(HData!$W$3:$W$48828,\">=\"&AN$6,HData!$W$3:$W$48828,\"<\"&AO$6,HData!$N$3:$N$48828,\"<>\")","v":0},{"$f":"COUNTIFS(HData!$W$3:$W$48828,\">=\"&AO$6,HData!$W$3:$W$48828,\"<\"&AP$6,HData!$N$3:$N$48828,\"<>\")","v":0},{"$f":"COUNTIFS(HData!$W$3:$W$48828,\">=\"&AP$6,HData!$W$3:$W$48828,\"<\"&AQ$6,HData!$N$3:$N$48828,\"<>\")","v":0},{"$f":"COUNTIFS(HData!$W$3:$W$48828,\">=\"&AQ$6,HData!$W$3:$W$48828,\"<\"&AR$6,HData!$N$3:$N$48828,\"<>\")","v":0},{"$f":"COUNTIFS(HData!$W$3:$W$48828,\">=\"&AR$6,HData!$W$3:$W$48828,\"<\"&AS$6,HData!$N$3:$N$48828,\"<>\")","v":0},{"$f":"COUNTIFS(HData!$W$3:$W$48828,\">=\"&AS$6,HData!$W$3:$W$48828,\"<\"&AT$6,HData!$N$3:$N$48828,\"<>\")","v":0},{"$f":"COUNTIFS(HData!$W$3:$W$48828,\">=\"&AT$6,HData!$W$3:$W$48828,\"<\"&AU$6,HData!$N$3:$N$48828,\"<>\")","v":0},{"$f":"COUNTIFS(HData!$W$3:$W$48828,\">=\"&AU$6,HData!$W$3:$W$48828,\"<\"&AV$6,HData!$N$3:$N$48828,\"<>\")","v":0},{"$f":"COUNTIFS(HData!$W$3:$W$48828,\">=\"&AV$6,HData!$W$3:$W$48828,\"<\"&AW$6,HData!$N$3:$N$48828,\"<>\")","v":0},{"$f":"COUNTIFS(HData!$W$3:$W$48828,\">=\"&AW$6,HData!$W$3:$W$48828,\"<\"&AX$6,HData!$N$3:$N$48828,\"<>\")","v":0}]
["Children waiting at end of",{"$f":"COUNTIFS(HData!$O$3:$O$48828,\"<>\",HData!$O$3:$O$48828,\"<\"&C6,HData!$R$3:$R$48828,\"\",HData!$W$3:$W$48828,\"\",HData!$AB$3:$AB$48828,TRUE)+COUNTIFS(HData!$O$3:$O$48828,\"<>\",HData!$O$3:$O$48828,\"<\"&C6,HData!$R$3:$R$48828,\"\",HData!$W$3:$W$48828,\">=\"&C6,HData!$AB$3:$AB$48828,TRUE)+COUNTIFS(HData!$O$3:$O$48828,\"<>\",HData!$O$3:$O$48828,\"<\"&C6,HData!$R$3:$R$48828,\">=\"&C6,HData!$AB$3:$AB$48828,TRUE)+COUNTIFS(HData!$O$3:$O$48828,\"<>\",HData!$O$3:$O$48828,\"<\"&C6,HData!$R$3:$R$48828,\"<\"&C6,HData!$R$3:$R$48828,\"<>\",HData!$Y$3:$Y$48828,\"<\"&C6,HData!$Y$3:$Y$48828,\"<>\",HData!$W$3:$W$48828,\"\",HData!$AB$3:$AB$48828,TRUE)+COUNTIFS(HData!$O$3:$O$48828,\"<>\",HData!$O$3:$O$48828,\"<\"&C6,HData!$R$3:$R$48828,\"<\"&C6,HData!$R$3:$R$48828,\"<>\",HData!$Y$3:$Y$48828,\"<\"&C6,HData!$Y$3:$Y$48828,\"<>\",HData!$W$3:$W$48828,\">=\"&C6,HData!$AB$3:$AB$48828,TRUE)","v":0},{"$f":"COUNTIFS(HData!$O$3:$O$48828,\"<>\",HData!$O$3:$O$48828,\"<\"&D6,HData!$R$3:$R$48828,\"\",HData!$W$3:$W$48828,\"\",HData!$AB$3:$AB$48828,TRUE)+COUNTIFS(HData!$O$3:$O$48828,\"<>\",HData!$O$3:$O$48828,\"<\"&D6,HData!$R$3:$R$48828,\"\",HData!$W$3:$W$48828,\">=\"&D6,HData!$AB$3:$AB$48828,TRUE)+COUNTIFS(HData!$O$3:$O$48828,\"<>\",HData!$O$3:$O$48828,\"<\"&D6,HData!$R$3:$R$48828,\">=\"&D6,HData!$AB$3:$AB$48828,TRUE)+COUNTIFS(HData!$O$3:$O$48828,\"<>\",HData!$O$3:$O$48828,\"<\"&D6,HData!$R$3:$R$48828,\"<\"&D6,HData!$R$3:$R$48828,\"<>\",HData!$Y$3:$Y$48828,\"<\"&D6,HData!$Y$3:$Y$48828,\"<>\",HData!$W$3:$W$48828,\"\",HData!$AB$3:$AB$48828,TRUE)+COUNTIFS(HData!$O$3:$O$48828,\"<>\",HData!$O$3:$O$48828,\"<\"&D6,HData!$R$3:$R$48828,\"<\"&D6,HData!$R$3:$R$48828,\"<>\",HData!$Y$3:$Y$48828,\"<\"&D6,HData!$Y$3:$Y$48828,\"<>\",HData!$W$3:$W$48828,\">=\"&D6,HData!$AB$3:$AB$48828,TRUE)","v":0},{"$f":"COUNTIFS(HData!$O$3:$O$48828,\"<>\",HData!$O$3:$O$48828,\"<\"&E6,HData!$R$3:$R$48828,\"\",HData!$W$3:$W$48828,\"\",HData!$AB$3:$AB$48828,TRUE)+COUNTIFS(HData!$O$3:$O$48828,\"<>\",HData!$O$3:$O$48828,\"<\"&E6,HData!$R$3:$R$48828,\"\",HData!$W$3:$W$48828,\">=\"&E6,HData!$AB$3:$AB$48828,TRUE)+COUNTIFS(HData!$O$3:$O$48828,\"<>\",HData!$O$3:$O$48828,\"<\"&E6,HData!$R$3:$R$48828,\">=\"&E6,HData!$AB$3:$AB$48828,TRUE)+COUNTIFS(HData!$O$3:$O$48828,\"<>\",HData!$O$3:$O$48828,\"<\"&E6,HData!$R$3:$R$48828,\"<\"&E6,HData!$R$3:$R$48828,\"<>\",HData!$Y$3:$Y$48828,\"<\"&E6,HData!$Y$3:$Y$48828,\"<>\",HData!$W$3:$W$48828,\"\",HData!$AB$3:$AB$48828,TRUE)+COUNTIFS(HData!$O$3:$O$48828,\"<>\",HData!$O$3:$O$48828,\"<\"&E6,HData!$R$3:$R$48828,\"<\"&E6,HData!$R$3:$R$48828,\"<>\",HData!$Y$3:$Y$48828,\"<\"&E6,HData!$Y$3:$Y$48828,\"<>\",HData!$W$3:$W$48828,\">=\"&E6,HData!$AB$3:$AB$48828,TRUE)","v":0},{"$f":"COUNTIFS(HData!$O$3:$O$48828,\"<>\",HData!$O$3:$O$48828,\"<\"&F6,HData!$R$3:$R$48828,\"\",HData!$W$3:$W$48828,\"\",HData!$AB$3:$AB$48828,TRUE)+COUNTIFS(HData!$O$3:$O$48828,\"<>\",HData!$O$3:$O$48828,\"<\"&F6,HData!$R$3:$R$48828,\"\",HData!$W$3:$W$48828,\">=\"&F6,HData!$AB$3:$AB$48828,TRUE)+COUNTIFS(HData!$O$3:$O$48828,\"<>\",HData!$O$3:$O$48828,\"<\"&F6,HData!$R$3:$R$48828,\">=\"&F6,HData!$AB$3:$AB$48828,TRUE)+COUNTIFS(HData!$O$3:$O$48828,\"<>\",HData!$O$3:$O$48828,\"<\"&F6,HData!$R$3:$R$48828,\"<\"&F6,HData!$R$3:$R$48828,\"<>\",HData!$Y$3:$Y$48828,\"<\"&F6,HData!$Y$3:$Y$48828,\"<>\",HData!$W$3:$W$48828,\"\",HData!$AB$3:$AB$48828,TRUE)+COUNTIFS(HData!$O$3:$O$48828,\"<>\",HData!$O$3:$O$48828,\"<\"&F6,HData!$R$3:$R$48828,\"<\"&F6,HData!$R$3:$R$48828,\"<>\",HData!$Y$3:$Y$48828,\"<\"&F6,HData!$Y$3:$Y$48828,\"<>\",HData!$W$3:$W$48828,\">=\"&F6,HData!$AB$3:$AB$48828,TRUE)","v":0},{"$f":"COUNTIFS(HData!$O$3:$O$48828,\"<>\",HData!$O$3:$O$48828,\"<\"&G6,HData!$R$3:$R$48828,\"\",HData!$W$3:$W$48828,\"\",HData!$AB$3:$AB$48828,TRUE)+COUNTIFS(HData!$O$3:$O$48828,\"<>\",HData!$O$3:$O$48828,\"<\"&G6,HData!$R$3:$R$48828,\"\",HData!$W$3:$W$48828,\">=\"&G6,HData!$AB$3:$AB$48828,TRUE)+COUNTIFS(HData!$O$3:$O$48828,\"<>\",HData!$O$3:$O$48828,\"<\"&G6,HData!$R$3:$R$48828,\">=\"&G6,HData!$AB$3:$AB$48828,TRUE)+COUNTIFS(HData!$O$3:$O$48828,\"<>\",HData!$O$3:$O$48828,\"<\"&G6,HData!$R$3:$R$48828,\"<\"&G6,HData!$R$3:$R$48828,\"<>\",HData!$Y$3:$Y$48828,\"<\"&G6,HData!$Y$3:$Y$48828,\"<>\",HData!$W$3:$W$48828,\"\",HData!$AB$3:$AB$48828,TRUE)+COUNTIFS(HData!$O$3:$O$48828,\"<>\",HData!$O$3:$O$48828,\"<\"&G6,HData!$R$3:$R$48828,\"<\"&G6,HData!$R$3:$R$48828,\"<>\",HData!$Y$3:$Y$48828,\"<\"&G6,HData!$Y$3:$Y$48828,\"<>\",HData!$W$3:$W$48828,\">=\"&G6,HData!$AB$3:$AB$48828,TRUE)","v":0},{"$f":"COUNTIFS(HData!$O$3:$O$48828,\"<>\",HData!$O$3:$O$48828,\"<\"&H6,HData!$R$3:$R$48828,\"\",HData!$W$3:$W$48828,\"\",HData!$AB$3:$AB$48828,TRUE)+COUNTIFS(HData!$O$3:$O$48828,\"<>\",HData!$O$3:$O$48828,\"<\"&H6,HData!$R$3:$R$48828,\"\",HData!$W$3:$W$48828,\">=\"&H6,HData!$AB$3:$AB$48828,TRUE)+COUNTIFS(HData!$O$3:$O$48828,\"<>\",HData!$O$3:$O$48828,\"<\"&H6,HData!$R$3:$R$48828,\">=\"&H6,HData!$AB$3:$AB$48828,TRUE)+COUNTIFS(HData!$O$3:$O$48828,\"<>\",HData!$O$3:$O$48828,\"<\"&H6,HData!$R$3:$R$48828,\"<\"&H6,HData!$R$3:$R$48828,\"<>\",HData!$Y$3:$Y$48828,\"<\"&H6,HData!$Y$3:$Y$48828,\"<>\",HData!$W$3:$W$48828,\"\",HData!$AB$3:$AB$48828,TRUE)+COUNTIFS(HData!$O$3:$O$48828,\"<>\",HData!$O$3:$O$48828,\"<\"&H6,HData!$R$3:$R$48828,\"<\"&H6,HData!$R$3:$R$48828,\"<>\",HData!$Y$3:$Y$48828,\"<\"&H6,HData!$Y$3:$Y$48828,\"<>\",HData!$W$3:$W$48828,\">=\"&H6,HData!$AB$3:$AB$48828,TRUE)","v":0},{"$f":"COUNTIFS(HData!$O$3:$O$48828,\"<>\",HData!$O$3:$O$48828,\"<\"&I6,HData!$R$3:$R$48828,\"\",HData!$W$3:$W$48828,\"\",HData!$AB$3:$AB$48828,TRUE)+COUNTIFS(HData!$O$3:$O$48828,\"<>\",HData!$O$3:$O$48828,\"<\"&I6,HData!$R$3:$R$48828,\"\",HData!$W$3:$W$48828,\">=\"&I6,HData!$AB$3:$AB$48828,TRUE)+COUNTIFS(HData!$O$3:$O$48828,\"<>\",HData!$O$3:$O$48828,\"<\"&I6,HData!$R$3:$R$48828,\">=\"&I6,HData!$AB$3:$AB$48828,TRUE)+COUNTIFS(HData!$O$3:$O$48828,\"<>\",HData!$O$3:$O$48828,\"<\"&I6,HData!$R$3:$R$48828,\"<\"&I6,HData!$R$3:$R$48828,\"<>\",HData!$Y$3:$Y$48828,\"<\"&I6,HData!$Y$3:$Y$48828,\"<>\",HData!$W$3:$W$48828,\"\",HData!$AB$3:$AB$48828,TRUE)+COUNTIFS(HData!$O$3:$O$48828,\"<>\",HData!$O$3:$O$48828,\"<\"&I6,HData!$R$3:$R$48828,\"<\"&I6,HData!$R$3:$R$48828,\"<>\",HData!$Y$3:$Y$48828,\"<\"&I6,HData!$Y$3:$Y$48828,\"<>\",HData!$W$3:$W$48828,\">=\"&I6,HData!$AB$3:$AB$48828,TRUE)","v":0},{"$f":"COUNTIFS(HData!$O$3:$O$48828,\"<>\",HData!$O$3:$O$48828,\"<\"&J6,HData!$R$3:$R$48828,\"\",HData!$W$3:$W$48828,\"\",HData!$AB$3:$AB$48828,TRUE)+COUNTIFS(HData!$O$3:$O$48828,\"<>\",HData!$O$3:$O$48828,\"<\"&J6,HData!$R$3:$R$48828,\"\",HData!$W$3:$W$48828,\">=\"&J6,HData!$AB$3:$AB$48828,TRUE)+COUNTIFS(HData!$O$3:$O$48828,\"<>\",HData!$O$3:$O$48828,\"<\"&J6,HData!$R$3:$R$48828,\">=\"&J6,HData!$AB$3:$AB$48828,TRUE)+COUNTIFS(HData!$O$3:$O$48828,\"<>\",HData!$O$3:$O$48828,\"<\"&J6,HData!$R$3:$R$48828,\"<\"&J6,HData!$R$3:$R$48828,\"<>\",HData!$Y$3:$Y$48828,\"<\"&J6,HData!$Y$3:$Y$48828,\"<>\",HData!$W$3:$W$48828,\"\",HData!$AB$3:$AB$48828,TRUE)+COUNTIFS(HData!$O$3:$O$48828,\"<>\",HData!$O$3:$O$48828,\"<\"&J6,HData!$R$3:$R$48828,\"<\"&J6,HData!$R$3:$R$48828,\"<>\",HData!$Y$3:$Y$48828,\"<\"&J6,HData!$Y$3:$Y$48828,\"<>\",HData!$W$3:$W$48828,\">=\"&J6,HData!$AB$3:$AB$48828,TRUE)","v":0},{"$f":"COUNTIFS(HData!$O$3:$O$48828,\"<>\",HData!$O$3:$O$48828,\"<\"&K6,HData!$R$3:$R$48828,\"\",HData!$W$3:$W$48828,\"\",HData!$AB$3:$AB$48828,TRUE)+COUNTIFS(HData!$O$3:$O$48828,\"<>\",HData!$O$3:$O$48828,\"<\"&K6,HData!$R$3:$R$48828,\"\",HData!$W$3:$W$48828,\">=\"&K6,HData!$AB$3:$AB$48828,TRUE)+COUNTIFS(HData!$O$3:$O$48828,\"<>\",HData!$O$3:$O$48828,\"<\"&K6,HData!$R$3:$R$48828,\">=\"&K6,HData!$AB$3:$AB$48828,TRUE)+COUNTIFS(HData!$O$3:$O$48828,\"<>\",HData!$O$3:$O$48828,\"<\"&K6,HData!$R$3:$R$48828,\"<\"&K6,HData!$R$3:$R$48828,\"<>\",HData!$Y$3:$Y$48828,\"<\"&K6,HData!$Y$3:$Y$48828,\"<>\",HData!$W$3:$W$48828,\"\",HData!$AB$3:$AB$48828,TRUE)+COUNTIFS(HData!$O$3:$O$48828,\"<>\",HData!$O$3:$O$48828,\"<\"&K6,HData!$R$3:$R$48828,\"<\"&K6,HData!$R$3:$R$48828,\"<>\",HData!$Y$3:$Y$48828,\"<\"&K6,HData!$Y$3:$Y$48828,\"<>\",HData!$W$3:$W$48828,\">=\"&K6,HData!$AB$3:$AB$48828,TRUE)","v":0},{"$f":"COUNTIFS(HData!$O$3:$O$48828,\"<>\",HData!$O$3:$O$48828,\"<\"&L6,HData!$R$3:$R$48828,\"\",HData!$W$3:$W$48828,\"\",HData!$AB$3:$AB$48828,TRUE)+COUNTIFS(HData!$O$3:$O$48828,\"<>\",HData!$O$3:$O$48828,\"<\"&L6,HData!$R$3:$R$48828,\"\",HData!$W$3:$W$48828,\">=\"&L6,HData!$AB$3:$AB$48828,TRUE)+COUNTIFS(HData!$O$3:$O$48828,\"<>\",HData!$O$3:$O$48828,\"<\"&L6,HData!$R$3:$R$48828,\">=\"&L6,HData!$AB$3:$AB$48828,TRUE)+COUNTIFS(HData!$O$3:$O$48828,\"<>\",HData!$O$3:$O$48828,\"<\"&L6,HData!$R$3:$R$48828,\"<\"&L6,HData!$R$3:$R$48828,\"<>\",HData!$Y$3:$Y$48828,\"<\"&L6,HData!$Y$3:$Y$48828,\"<>\",HData!$W$3:$W$48828,\"\",HData!$AB$3:$AB$48828,TRUE)+COUNTIFS(HData!$O$3:$O$48828,\"<>\",HData!$O$3:$O$48828,\"<\"&L6,HData!$R$3:$R$48828,\"<\"&L6,HData!$R$3:$R$48828,\"<>\",HData!$Y$3:$Y$48828,\"<\"&L6,HData!$Y$3:$Y$48828,\"<>\",HData!$W$3:$W$48828,\">=\"&L6,HData!$AB$3:$AB$48828,TRUE)","v":0},{"$f":"COUNTIFS(HData!$O$3:$O$48828,\"<>\",HData!$O$3:$O$48828,\"<\"&M6,HData!$R$3:$R$48828,\"\",HData!$W$3:$W$48828,\"\",HData!$AB$3:$AB$48828,TRUE)+COUNTIFS(HData!$O$3:$O$48828,\"<>\",HData!$O$3:$O$48828,\"<\"&M6,HData!$R$3:$R$48828,\"\",HData!$W$3:$W$48828,\">=\"&M6,HData!$AB$3:$AB$48828,TRUE)+COUNTIFS(HData!$O$3:$O$48828,\"<>\",HData!$O$3:$O$48828,\"<\"&M6,HData!$R$3:$R$48828,\">=\"&M6,HData!$AB$3:$AB$48828,TRUE)+COUNTIFS(HData!$O$3:$O$48828,\"<>\",HData!$O$3:$O$48828,\"<\"&M6,HData!$R$3:$R$48828,\"<\"&M6,HData!$R$3:$R$48828,\"<>\",HData!$Y$3:$Y$48828,\"<\"&M6,HData!$Y$3:$Y$48828,\"<>\",HData!$W$3:$W$48828,\"\",HData!$AB$3:$AB$48828,TRUE)+COUNTIFS(HData!$O$3:$O$48828,\"<>\",HData!$O$3:$O$48828,\"<\"&M6,HData!$R$3:$R$48828,\"<\"&M6,HData!$R$3:$R$48828,\"<>\",HData!$Y$3:$Y$48828,\"<\"&M6,HData!$Y$3:$Y$48828,\"<>\",HData!$W$3:$W$48828,\">=\"&M6,HData!$AB$3:$AB$48828,TRUE)","v":0},{"$f":"COUNTIFS(HData!$O$3:$O$48828,\"<>\",HData!$O$3:$O$48828,\"<\"&N6,HData!$R$3:$R$48828,\"\",HData!$W$3:$W$48828,\"\",HData!$AB$3:$AB$48828,TRUE)+COUNTIFS(HData!$O$3:$O$48828,\"<>\",HData!$O$3:$O$48828,\"<\"&N6,HData!$R$3:$R$48828,\"\",HData!$W$3:$W$48828,\">=\"&N6,HData!$AB$3:$AB$48828,TRUE)+COUNTIFS(HData!$O$3:$O$48828,\"<>\",HData!$O$3:$O$48828,\"<\"&N6,HData!$R$3:$R$48828,\">=\"&N6,HData!$AB$3:$AB$48828,TRUE)+COUNTIFS(HData!$O$3:$O$48828,\"<>\",HData!$O$3:$O$48828,\"<\"&N6,HData!$R$3:$R$48828,\"<\"&N6,HData!$R$3:$R$48828,\"<>\",HData!$Y$3:$Y$48828,\"<\"&N6,HData!$Y$3:$Y$48828,\"<>\",HData!$W$3:$W$48828,\"\",HData!$AB$3:$AB$48828,TRUE)+COUNTIFS(HData!$O$3:$O$48828,\"<>\",HData!$O$3:$O$48828,\"<\"&N6,HData!$R$3:$R$48828,\"<\"&N6,HData!$R$3:$R$48828,\"<>\",HData!$Y$3:$Y$48828,\"<\"&N6,HData!$Y$3:$Y$48828,\"<>\",HData!$W$3:$W$48828,\">=\"&N6,HData!$AB$3:$AB$48828,TRUE)","v":0},{"$f":"COUNTIFS(HData!$O$3:$O$48828,\"<>\",HData!$O$3:$O$48828,\"<\"&O6,HData!$R$3:$R$48828,\"\",HData!$W$3:$W$48828,\"\",HData!$AB$3:$AB$48828,TRUE)+COUNTIFS(HData!$O$3:$O$48828,\"<>\",HData!$O$3:$O$48828,\"<\"&O6,HData!$R$3:$R$48828,\"\",HData!$W$3:$W$48828,\">=\"&O6,HData!$AB$3:$AB$48828,TRUE)+COUNTIFS(HData!$O$3:$O$48828,\"<>\",HData!$O$3:$O$48828,\"<\"&O6,HData!$R$3:$R$48828,\">=\"&O6,HData!$AB$3:$AB$48828,TRUE)+COUNTIFS(HData!$O$3:$O$48828,\"<>\",HData!$O$3:$O$48828,\"<\"&O6,HData!$R$3:$R$48828,\"<\"&O6,HData!$R$3:$R$48828,\"<>\",HData!$Y$3:$Y$48828,\"<\"&O6,HData!$Y$3:$Y$48828,\"<>\",HData!$W$3:$W$48828,\"\",HData!$AB$3:$AB$48828,TRUE)+COUNTIFS(HData!$O$3:$O$48828,\"<>\",HData!$O$3:$O$48828,\"<\"&O6,HData!$R$3:$R$48828,\"<\"&O6,HData!$R$3:$R$48828,\"<>\",HData!$Y$3:$Y$48828,\"<\"&O6,HData!$Y$3:$Y$48828,\"<>\",HData!$W$3:$W$48828,\">=\"&O6,HData!$AB$3:$AB$48828,TRUE)","v":0},{"$f":"COUNTIFS(HData!$O$3:$O$48828,\"<>\",HData!$O$3:$O$48828,\"<\"&P6,HData!$R$3:$R$48828,\"\",HData!$W$3:$W$48828,\"\",HData!$AB$3:$AB$48828,TRUE)+COUNTIFS(HData!$O$3:$O$48828,\"<>\",HData!$O$3:$O$48828,\"<\"&P6,HData!$R$3:$R$48828,\"\",HData!$W$3:$W$48828,\">=\"&P6,HData!$AB$3:$AB$48828,TRUE)+COUNTIFS(HData!$O$3:$O$48828,\"<>\",HData!$O$3:$O$48828,\"<\"&P6,HData!$R$3:$R$48828,\">=\"&P6,HData!$AB$3:$AB$48828,TRUE)+COUNTIFS(HData!$O$3:$O$48828,\"<>\",HData!$O$3:$O$48828,\"<\"&P6,HData!$R$3:$R$48828,\"<\"&P6,HData!$R$3:$R$48828,\"<>\",HData!$Y$3:$Y$48828,\"<\"&P6,HData!$Y$3:$Y$48828,\"<>\",HData!$W$3:$W$48828,\"\",HData!$AB$3:$AB$48828,TRUE)+COUNTIFS(HData!$O$3:$O$48828,\"<>\",HData!$O$3:$O$48828,\"<\"&P6,HData!$R$3:$R$48828,\"<\"&P6,HData!$R$3:$R$48828,\"<>\",HData!$Y$3:$Y$48828,\"<\"&P6,HData!$Y$3:$Y$48828,\"<>\",HData!$W$3:$W$48828,\">=\"&P6,HData!$AB$3:$AB$48828,TRUE)","v":0},{"$f":"COUNTIFS(HData!$O$3:$O$48828,\"<>\",HData!$O$3:$O$48828,\"<\"&Q6,HData!$R$3:$R$48828,\"\",HData!$W$3:$W$48828,\"\",HData!$AB$3:$AB$48828,TRUE)+COUNTIFS(HData!$O$3:$O$48828,\"<>\",HData!$O$3:$O$48828,\"<\"&Q6,HData!$R$3:$R$48828,\"\",HData!$W$3:$W$48828,\">=\"&Q6,HData!$AB$3:$AB$48828,TRUE)+COUNTIFS(HData!$O$3:$O$48828,\"<>\",HData!$O$3:$O$48828,\"<\"&Q6,HData!$R$3:$R$48828,\">=\"&Q6,HData!$AB$3:$AB$48828,TRUE)+COUNTIFS(HData!$O$3:$O$48828,\"<>\",HData!$O$3:$O$48828,\"<\"&Q6,HData!$R$3:$R$48828,\"<\"&Q6,HData!$R$3:$R$48828,\"<>\",HData!$Y$3:$Y$48828,\"<\"&Q6,HData!$Y$3:$Y$48828,\"<>\",HData!$W$3:$W$48828,\"\",HData!$AB$3:$AB$48828,TRUE)+COUNTIFS(HData!$O$3:$O$48828,\"<>\",HData!$O$3:$O$48828,\"<\"&Q6,HData!$R$3:$R$48828,\"<\"&Q6,HData!$R$3:$R$48828,\"<>\",HData!$Y$3:$Y$48828,\"<\"&Q6,HData!$Y$3:$Y$48828,\"<>\",HData!$W$3:$W$48828,\">=\"&Q6,HData!$AB$3:$AB$48828,TRUE)","v":0},{"$f":"COUNTIFS(HData!$O$3:$O$48828,\"<>\",HData!$O$3:$O$48828,\"<\"&R6,HData!$R$3:$R$48828,\"\",HData!$W$3:$W$48828,\"\",HData!$AB$3:$AB$48828,TRUE)+COUNTIFS(HData!$O$3:$O$48828,\"<>\",HData!$O$3:$O$48828,\"<\"&R6,HData!$R$3:$R$48828,\"\",HData!$W$3:$W$48828,\">=\"&R6,HData!$AB$3:$AB$48828,TRUE)+COUNTIFS(HData!$O$3:$O$48828,\"<>\",HData!$O$3:$O$48828,\"<\"&R6,HData!$R$3:$R$48828,\">=\"&R6,HData!$AB$3:$AB$48828,TRUE)+COUNTIFS(HData!$O$3:$O$48828,\"<>\",HData!$O$3:$O$48828,\"<\"&R6,HData!$R$3:$R$48828,\"<\"&R6,HData!$R$3:$R$48828,\"<>\",HData!$Y$3:$Y$48828,\"<\"&R6,HData!$Y$3:$Y$48828,\"<>\",HData!$W$3:$W$48828,\"\",HData!$AB$3:$AB$48828,TRUE)+COUNTIFS(HData!$O$3:$O$48828,\"<>\",HData!$O$3:$O$48828,\"<\"&R6,HData!$R$3:$R$48828,\"<\"&R6,HData!$R$3:$R$48828,\"<>\",HData!$Y$3:$Y$48828,\"<\"&R6,HData!$Y$3:$Y$48828,\"<>\",HData!$W$3:$W$48828,\">=\"&R6,HData!$AB$3:$AB$48828,TRUE)","v":0},{"$f":"COUNTIFS(HData!$O$3:$O$48828,\"<>\",HData!$O$3:$O$48828,\"<\"&S6,HData!$R$3:$R$48828,\"\",HData!$W$3:$W$48828,\"\",HData!$AB$3:$AB$48828,TRUE)+COUNTIFS(HData!$O$3:$O$48828,\"<>\",HData!$O$3:$O$48828,\"<\"&S6,HData!$R$3:$R$48828,\"\",HData!$W$3:$W$48828,\">=\"&S6,HData!$AB$3:$AB$48828,TRUE)+COUNTIFS(HData!$O$3:$O$48828,\"<>\",HData!$O$3:$O$48828,\"<\"&S6,HData!$R$3:$R$48828,\">=\"&S6,HData!$AB$3:$AB$48828,TRUE)+COUNTIFS(HData!$O$3:$O$48828,\"<>\",HData!$O$3:$O$48828,\"<\"&S6,HData!$R$3:$R$48828,\"<\"&S6,HData!$R$3:$R$48828,\"<>\",HData!$Y$3:$Y$48828,\"<\"&S6,HData!$Y$3:$Y$48828,\"<>\",HData!$W$3:$W$48828,\"\",HData!$AB$3:$AB$48828,TRUE)+COUNTIFS(HData!$O$3:$O$48828,\"<>\",HData!$O$3:$O$48828,\"<\"&S6,HData!$R$3:$R$48828,\"<\"&S6,HData!$R$3:$R$48828,\"<>\",HData!$Y$3:$Y$48828,\"<\"&S6,HData!$Y$3:$Y$48828,\"<>\",HData!$W$3:$W$48828,\">=\"&S6,HData!$AB$3:$AB$48828,TRUE)","v":0},{"$f":"COUNTIFS(HData!$O$3:$O$48828,\"<>\",HData!$O$3:$O$48828,\"<\"&T6,HData!$R$3:$R$48828,\"\",HData!$W$3:$W$48828,\"\",HData!$AB$3:$AB$48828,TRUE)+COUNTIFS(HData!$O$3:$O$48828,\"<>\",HData!$O$3:$O$48828,\"<\"&T6,HData!$R$3:$R$48828,\"\",HData!$W$3:$W$48828,\">=\"&T6,HData!$AB$3:$AB$48828,TRUE)+COUNTIFS(HData!$O$3:$O$48828,\"<>\",HData!$O$3:$O$48828,\"<\"&T6,HData!$R$3:$R$48828,\">=\"&T6,HData!$AB$3:$AB$48828,TRUE)+COUNTIFS(HData!$O$3:$O$48828,\"<>\",HData!$O$3:$O$48828,\"<\"&T6,HData!$R$3:$R$48828,\"<\"&T6,HData!$R$3:$R$48828,\"<>\",HData!$Y$3:$Y$48828,\"<\"&T6,HData!$Y$3:$Y$48828,\"<>\",HData!$W$3:$W$48828,\"\",HData!$AB$3:$AB$48828,TRUE)+COUNTIFS(HData!$O$3:$O$48828,\"<>\",HData!$O$3:$O$48828,\"<\"&T6,HData!$R$3:$R$48828,\"<\"&T6,HData!$R$3:$R$48828,\"<>\",HData!$Y$3:$Y$48828,\"<\"&T6,HData!$Y$3:$Y$48828,\"<>\",HData!$W$3:$W$48828,\">=\"&T6,HData!$AB$3:$AB$48828,TRUE)","v":0},{"$f":"COUNTIFS(HData!$O$3:$O$48828,\"<>\",HData!$O$3:$O$48828,\"<\"&U6,HData!$R$3:$R$48828,\"\",HData!$W$3:$W$48828,\"\",HData!$AB$3:$AB$48828,TRUE)+COUNTIFS(HData!$O$3:$O$48828,\"<>\",HData!$O$3:$O$48828,\"<\"&U6,HData!$R$3:$R$48828,\"\",HData!$W$3:$W$48828,\">=\"&U6,HData!$AB$3:$AB$48828,TRUE)+COUNTIFS(HData!$O$3:$O$48828,\"<>\",HData!$O$3:$O$48828,\"<\"&U6,HData!$R$3:$R$48828,\">=\"&U6,HData!$AB$3:$AB$48828,TRUE)+COUNTIFS(HData!$O$3:$O$48828,\"<>\",HData!$O$3:$O$48828,\"<\"&U6,HData!$R$3:$R$48828,\"<\"&U6,HData!$R$3:$R$48828,\"<>\",HData!$Y$3:$Y$48828,\"<\"&U6,HData!$Y$3:$Y$48828,\"<>\",HData!$W$3:$W$48828,\"\",HData!$AB$3:$AB$48828,TRUE)+COUNTIFS(HData!$O$3:$O$48828,\"<>\",HData!$O$3:$O$48828,\"<\"&U6,HData!$R$3:$R$48828,\"<\"&U6,HData!$R$3:$R$48828,\"<>\",HData!$Y$3:$Y$48828,\"<\"&U6,HData!$Y$3:$Y$48828,\"<>\",HData!$W$3:$W$48828,\">=\"&U6,HData!$AB$3:$AB$48828,TRUE)","v":0},{"$f":"COUNTIFS(HData!$O$3:$O$48828,\"<>\",HData!$O$3:$O$48828,\"<\"&V6,HData!$R$3:$R$48828,\"\",HData!$W$3:$W$48828,\"\",HData!$AB$3:$AB$48828,TRUE)+COUNTIFS(HData!$O$3:$O$48828,\"<>\",HData!$O$3:$O$48828,\"<\"&V6,HData!$R$3:$R$48828,\"\",HData!$W$3:$W$48828,\">=\"&V6,HData!$AB$3:$AB$48828,TRUE)+COUNTIFS(HData!$O$3:$O$48828,\"<>\",HData!$O$3:$O$48828,\"<\"&V6,HData!$R$3:$R$48828,\">=\"&V6,HData!$AB$3:$AB$48828,TRUE)+COUNTIFS(HData!$O$3:$O$48828,\"<>\",HData!$O$3:$O$48828,\"<\"&V6,HData!$R$3:$R$48828,\"<\"&V6,HData!$R$3:$R$48828,\"<>\",HData!$Y$3:$Y$48828,\"<\"&V6,HData!$Y$3:$Y$48828,\"<>\",HData!$W$3:$W$48828,\"\",HData!$AB$3:$AB$48828,TRUE)+COUNTIFS(HData!$O$3:$O$48828,\"<>\",HData!$O$3:$O$48828,\"<\"&V6,HData!$R$3:$R$48828,\"<\"&V6,HData!$R$3:$R$48828,\"<>\",HData!$Y$3:$Y$48828,\"<\"&V6,HData!$Y$3:$Y$48828,\"<>\",HData!$W$3:$W$48828,\">=\"&V6,HData!$AB$3:$AB$48828,TRUE)","v":0},{"$f":"COUNTIFS(HData!$O$3:$O$48828,\"<>\",HData!$O$3:$O$48828,\"<\"&W6,HData!$R$3:$R$48828,\"\",HData!$W$3:$W$48828,\"\",HData!$AB$3:$AB$48828,TRUE)+COUNTIFS(HData!$O$3:$O$48828,\"<>\",HData!$O$3:$O$48828,\"<\"&W6,HData!$R$3:$R$48828,\"\",HData!$W$3:$W$48828,\">=\"&W6,HData!$AB$3:$AB$48828,TRUE)+COUNTIFS(HData!$O$3:$O$48828,\"<>\",HData!$O$3:$O$48828,\"<\"&W6,HData!$R$3:$R$48828,\">=\"&W6,HData!$AB$3:$AB$48828,TRUE)+COUNTIFS(HData!$O$3:$O$48828,\"<>\",HData!$O$3:$O$48828,\"<\"&W6,HData!$R$3:$R$48828,\"<\"&W6,HData!$R$3:$R$48828,\"<>\",HData!$Y$3:$Y$48828,\"<\"&W6,HData!$Y$3:$Y$48828,\"<>\",HData!$W$3:$W$48828,\"\",HData!$AB$3:$AB$48828,TRUE)+COUNTIFS(HData!$O$3:$O$48828,\"<>\",HData!$O$3:$O$48828,\"<\"&W6,HData!$R$3:$R$48828,\"<\"&W6,HData!$R$3:$R$48828,\"<>\",HData!$Y$3:$Y$48828,\"<\"&W6,HData!$Y$3:$Y$48828,\"<>\",HData!$W$3:$W$48828,\">=\"&W6,HData!$AB$3:$AB$48828,TRUE)","v":0},{"$f":"COUNTIFS(HData!$O$3:$O$48828,\"<>\",HData!$O$3:$O$48828,\"<\"&X6,HData!$R$3:$R$48828,\"\",HData!$W$3:$W$48828,\"\",HData!$AB$3:$AB$48828,TRUE)+COUNTIFS(HData!$O$3:$O$48828,\"<>\",HData!$O$3:$O$48828,\"<\"&X6,HData!$R$3:$R$48828,\"\",HData!$W$3:$W$48828,\">=\"&X6,HData!$AB$3:$AB$48828,TRUE)+COUNTIFS(HData!$O$3:$O$48828,\"<>\",HData!$O$3:$O$48828,\"<\"&X6,HData!$R$3:$R$48828,\">=\"&X6,HData!$AB$3:$AB$48828,TRUE)+COUNTIFS(HData!$O$3:$O$48828,\"<>\",HData!$O$3:$O$48828,\"<\"&X6,HData!$R$3:$R$48828,\"<\"&X6,HData!$R$3:$R$48828,\"<>\",HData!$Y$3:$Y$48828,\"<\"&X6,HData!$Y$3:$Y$48828,\"<>\",HData!$W$3:$W$48828,\"\",HData!$AB$3:$AB$48828,TRUE)+COUNTIFS(HData!$O$3:$O$48828,\"<>\",HData!$O$3:$O$48828,\"<\"&X6,HData!$R$3:$R$48828,\"<\"&X6,HData!$R$3:$R$48828,\"<>\",HData!$Y$3:$Y$48828,\"<\"&X6,HData!$Y$3:$Y$48828,\"<>\",HData!$W$3:$W$48828,\">=\"&X6,HData!$AB$3:$AB$48828,TRUE)","v":0},{"$f":"COUNTIFS(HData!$O$3:$O$48828,\"<>\",HData!$O$3:$O$48828,\"<\"&Y6,HData!$R$3:$R$48828,\"\",HData!$W$3:$W$48828,\"\",HData!$AB$3:$AB$48828,TRUE)+COUNTIFS(HData!$O$3:$O$48828,\"<>\",HData!$O$3:$O$48828,\"<\"&Y6,HData!$R$3:$R$48828,\"\",HData!$W$3:$W$48828,\">=\"&Y6,HData!$AB$3:$AB$48828,TRUE)+COUNTIFS(HData!$O$3:$O$48828,\"<>\",HData!$O$3:$O$48828,\"<\"&Y6,HData!$R$3:$R$48828,\">=\"&Y6,HData!$AB$3:$AB$48828,TRUE)+COUNTIFS(HData!$O$3:$O$48828,\"<>\",HData!$O$3:$O$48828,\"<\"&Y6,HData!$R$3:$R$48828,\"<\"&Y6,HData!$R$3:$R$48828,\"<>\",HData!$Y$3:$Y$48828,\"<\"&Y6,HData!$Y$3:$Y$48828,\"<>\",HData!$W$3:$W$48828,\"\",HData!$AB$3:$AB$48828,TRUE)+COUNTIFS(HData!$O$3:$O$48828,\"<>\",HData!$O$3:$O$48828,\"<\"&Y6,HData!$R$3:$R$48828,\"<\"&Y6,HData!$R$3:$R$48828,\"<>\",HData!$Y$3:$Y$48828,\"<\"&Y6,HData!$Y$3:$Y$48828,\"<>\",HData!$W$3:$W$48828,\">=\"&Y6,HData!$AB$3:$AB$48828,TRUE)","v":0},{"$f":"COUNTIFS(HData!$O$3:$O$48828,\"<>\",HData!$O$3:$O$48828,\"<\"&Z6,HData!$R$3:$R$48828,\"\",HData!$W$3:$W$48828,\"\",HData!$AB$3:$AB$48828,TRUE)+COUNTIFS(HData!$O$3:$O$48828,\"<>\",HData!$O$3:$O$48828,\"<\"&Z6,HData!$R$3:$R$48828,\"\",HData!$W$3:$W$48828,\">=\"&Z6,HData!$AB$3:$AB$48828,TRUE)+COUNTIFS(HData!$O$3:$O$48828,\"<>\",HData!$O$3:$O$48828,\"<\"&Z6,HData!$R$3:$R$48828,\">=\"&Z6,HData!$AB$3:$AB$48828,TRUE)+COUNTIFS(HData!$O$3:$O$48828,\"<>\",HData!$O$3:$O$48828,\"<\"&Z6,HData!$R$3:$R$48828,\"<\"&Z6,HData!$R$3:$R$48828,\"<>\",HData!$Y$3:$Y$48828,\"<\"&Z6,HData!$Y$3:$Y$48828,\"<>\",HData!$W$3:$W$48828,\"\",HData!$AB$3:$AB$48828,TRUE)+COUNTIFS(HData!$O$3:$O$48828,\"<>\",HData!$O$3:$O$48828,\"<\"&Z6,HData!$R$3:$R$48828,\"<\"&Z6,HData!$R$3:$R$48828,\"<>\",HData!$Y$3:$Y$48828,\"<\"&Z6,HData!$Y$3:$Y$48828,\"<>\",HData!$W$3:$W$48828,\">=\"&Z6,HData!$AB$3:$AB$48828,TRUE)","v":0},{"$f":"COUNTIFS(HData!$O$3:$O$48828,\"<>\",HData!$O$3:$O$48828,\"<\"&AA6,HData!$R$3:$R$48828,\"\",HData!$W$3:$W$48828,\"\",HData!$AB$3:$AB$48828,TRUE)+COUNTIFS(HData!$O$3:$O$48828,\"<>\",HData!$O$3:$O$48828,\"<\"&AA6,HData!$R$3:$R$48828,\"\",HData!$W$3:$W$48828,\">=\"&AA6,HData!$AB$3:$AB$48828,TRUE)+COUNTIFS(HData!$O$3:$O$48828,\"<>\",HData!$O$3:$O$48828,\"<\"&AA6,HData!$R$3:$R$48828,\">=\"&AA6,HData!$AB$3:$AB$48828,TRUE)+COUNTIFS(HData!$O$3:$O$48828,\"<>\",HData!$O$3:$O$48828,\"<\"&AA6,HData!$R$3:$R$48828,\"<\"&AA6,HData!$R$3:$R$48828,\"<>\",HData!$Y$3:$Y$48828,\"<\"&AA6,HData!$Y$3:$Y$48828,\"<>\",HData!$W$3:$W$48828,\"\",HData!$AB$3:$AB$48828,TRUE)+COUNTIFS(HData!$O$3:$O$48828,\"<>\",HData!$O$3:$O$48828,\"<\"&AA6,HData!$R$3:$R$48828,\"<\"&AA6,HData!$R$3:$R$48828,\"<>\",HData!$Y$3:$Y$48828,\"<\"&AA6,HData!$Y$3:$Y$48828,\"<>\",HData!$W$3:$W$48828,\">=\"&AA6,HData!$AB$3:$AB$48828,TRUE)","v":0},{"$f":"COUNTIFS(HData!$O$3:$O$48828,\"<>\",HData!$O$3:$O$48828,\"<\"&AB6,HData!$R$3:$R$48828,\"\",HData!$W$3:$W$48828,\"\",HData!$AB$3:$AB$48828,TRUE)+COUNTIFS(HData!$O$3:$O$48828,\"<>\",HData!$O$3:$O$48828,\"<\"&AB6,HData!$R$3:$R$48828,\"\",HData!$W$3:$W$48828,\">=\"&AB6,HData!$AB$3:$AB$48828,TRUE)+COUNTIFS(HData!$O$3:$O$48828,\"<>\",HData!$O$3:$O$48828,\"<\"&AB6,HData!$R$3:$R$48828,\">=\"&AB6,HData!$AB$3:$AB$48828,TRUE)+COUNTIFS(HData!$O$3:$O$48828,\"<>\",HData!$O$3:$O$48828,\"<\"&AB6,HData!$R$3:$R$48828,\"<\"&AB6,HData!$R$3:$R$48828,\"<>\",HData!$Y$3:$Y$48828,\"<\"&AB6,HData!$Y$3:$Y$48828,\"<>\",HData!$W$3:$W$48828,\"\",HData!$AB$3:$AB$48828,TRUE)+COUNTIFS(HData!$O$3:$O$48828,\"<>\",HData!$O$3:$O$48828,\"<\"&AB6,HData!$R$3:$R$48828,\"<\"&AB6,HData!$R$3:$R$48828,\"<>\",HData!$Y$3:$Y$48828,\"<\"&AB6,HData!$Y$3:$Y$48828,\"<>\",HData!$W$3:$W$48828,\">=\"&AB6,HData!$AB$3:$AB$48828,TRUE)","v":0},{"$f":"COUNTIFS(HData!$O$3:$O$48828,\"<>\",HData!$O$3:$O$48828,\"<\"&AC6,HData!$R$3:$R$48828,\"\",HData!$W$3:$W$48828,\"\",HData!$AB$3:$AB$48828,TRUE)+COUNTIFS(HData!$O$3:$O$48828,\"<>\",HData!$O$3:$O$48828,\"<\"&AC6,HData!$R$3:$R$48828,\"\",HData!$W$3:$W$48828,\">=\"&AC6,HData!$AB$3:$AB$48828,TRUE)+COUNTIFS(HData!$O$3:$O$48828,\"<>\",HData!$O$3:$O$48828,\"<\"&AC6,HData!$R$3:$R$48828,\">=\"&AC6,HData!$AB$3:$AB$48828,TRUE)+COUNTIFS(HData!$O$3:$O$48828,\"<>\",HData!$O$3:$O$48828,\"<\"&AC6,HData!$R$3:$R$48828,\"<\"&AC6,HData!$R$3:$R$48828,\"<>\",HData!$Y$3:$Y$48828,\"<\"&AC6,HData!$Y$3:$Y$48828,\"<>\",HData!$W$3:$W$48828,\"\",HData!$AB$3:$AB$48828,TRUE)+COUNTIFS(HData!$O$3:$O$48828,\"<>\",HData!$O$3:$O$48828,\"<\"&AC6,HData!$R$3:$R$48828,\"<\"&AC6,HData!$R$3:$R$48828,\"<>\",HData!$Y$3:$Y$48828,\"<\"&AC6,HData!$Y$3:$Y$48828,\"<>\",HData!$W$3:$W$48828,\">=\"&AC6,HData!$AB$3:$AB$48828,TRUE)","v":0},{"$f":"COUNTIFS(HData!$O$3:$O$48828,\"<>\",HData!$O$3:$O$48828,\"<\"&AD6,HData!$R$3:$R$48828,\"\",HData!$W$3:$W$48828,\"\",HData!$AB$3:$AB$48828,TRUE)+COUNTIFS(HData!$O$3:$O$48828,\"<>\",HData!$O$3:$O$48828,\"<\"&AD6,HData!$R$3:$R$48828,\"\",HData!$W$3:$W$48828,\">=\"&AD6,HData!$AB$3:$AB$48828,TRUE)+COUNTIFS(HData!$O$3:$O$48828,\"<>\",HData!$O$3:$O$48828,\"<\"&AD6,HData!$R$3:$R$48828,\">=\"&AD6,HData!$AB$3:$AB$48828,TRUE)+COUNTIFS(HData!$O$3:$O$48828,\"<>\",HData!$O$3:$O$48828,\"<\"&AD6,HData!$R$3:$R$48828,\"<\"&AD6,HData!$R$3:$R$48828,\"<>\",HData!$Y$3:$Y$48828,\"<\"&AD6,HData!$Y$3:$Y$48828,\"<>\",HData!$W$3:$W$48828,\"\",HData!$AB$3:$AB$48828,TRUE)+COUNTIFS(HData!$O$3:$O$48828,\"<>\",HData!$O$3:$O$48828,\"<\"&AD6,HData!$R$3:$R$48828,\"<\"&AD6,HData!$R$3:$R$48828,\"<>\",HData!$Y$3:$Y$48828,\"<\"&AD6,HData!$Y$3:$Y$48828,\"<>\",HData!$W$3:$W$48828,\">=\"&AD6,HData!$AB$3:$AB$48828,TRUE)","v":0},{"$f":"COUNTIFS(HData!$O$3:$O$48828,\"<>\",HData!$O$3:$O$48828,\"<\"&AE6,HData!$R$3:$R$48828,\"\",HData!$W$3:$W$48828,\"\",HData!$AB$3:$AB$48828,TRUE)+COUNTIFS(HData!$O$3:$O$48828,\"<>\",HData!$O$3:$O$48828,\"<\"&AE6,HData!$R$3:$R$48828,\"\",HData!$W$3:$W$48828,\">=\"&AE6,HData!$AB$3:$AB$48828,TRUE)+COUNTIFS(HData!$O$3:$O$48828,\"<>\",HData!$O$3:$O$48828,\"<\"&AE6,HData!$R$3:$R$48828,\">=\"&AE6,HData!$AB$3:$AB$48828,TRUE)+COUNTIFS(HData!$O$3:$O$48828,\"<>\",HData!$O$3:$O$48828,\"<\"&AE6,HData!$R$3:$R$48828,\"<\"&AE6,HData!$R$3:$R$48828,\"<>\",HData!$Y$3:$Y$48828,\"<\"&AE6,HData!$Y$3:$Y$48828,\"<>\",HData!$W$3:$W$48828,\"\",HData!$AB$3:$AB$48828,TRUE)+COUNTIFS(HData!$O$3:$O$48828,\"<>\",HData!$O$3:$O$48828,\"<\"&AE6,HData!$R$3:$R$48828,\"<\"&AE6,HData!$R$3:$R$48828,\"<>\",HData!$Y$3:$Y$48828,\"<\"&AE6,HData!$Y$3:$Y$48828,\"<>\",HData!$W$3:$W$48828,\">=\"&AE6,HData!$AB$3:$AB$48828,TRUE)","v":0},{"$f":"COUNTIFS(HData!$O$3:$O$48828,\"<>\",HData!$O$3:$O$48828,\"<\"&AF6,HData!$R$3:$R$48828,\"\",HData!$W$3:$W$48828,\"\",HData!$AB$3:$AB$48828,TRUE)+COUNTIFS(HData!$O$3:$O$48828,\"<>\",HData!$O$3:$O$48828,\"<\"&AF6,HData!$R$3:$R$48828,\"\",HData!$W$3:$W$48828,\">=\"&AF6,HData!$AB$3:$AB$48828,TRUE)+COUNTIFS(HData!$O$3:$O$48828,\"<>\",HData!$O$3:$O$48828,\"<\"&AF6,HData!$R$3:$R$48828,\">=\"&AF6,HData!$AB$3:$AB$48828,TRUE)+COUNTIFS(HData!$O$3:$O$48828,\"<>\",HData!$O$3:$O$48828,\"<\"&AF6,HData!$R$3:$R$48828,\"<\"&AF6,HData!$R$3:$R$48828,\"<>\",HData!$Y$3:$Y$48828,\"<\"&AF6,HData!$Y$3:$Y$48828,\"<>\",HData!$W$3:$W$48828,\"\",HData!$AB$3:$AB$48828,TRUE)+COUNTIFS(HData!$O$3:$O$48828,\"<>\",HData!$O$3:$O$48828,\"<\"&AF6,HData!$R$3:$R$48828,\"<\"&AF6,HData!$R$3:$R$48828,\"<>\",HData!$Y$3:$Y$48828,\"<\"&AF6,HData!$Y$3:$Y$48828,\"<>\",HData!$W$3:$W$48828,\">=\"&AF6,HData!$AB$3:$AB$48828,TRUE)","v":0},{"$f":"COUNTIFS(HData!$O$3:$O$48828,\"<>\",HData!$O$3:$O$48828,\"<\"&AG6,HData!$R$3:$R$48828,\"\",HData!$W$3:$W$48828,\"\",HData!$AB$3:$AB$48828,TRUE)+COUNTIFS(HData!$O$3:$O$48828,\"<>\",HData!$O$3:$O$48828,\"<\"&AG6,HData!$R$3:$R$48828,\"\",HData!$W$3:$W$48828,\">=\"&AG6,HData!$AB$3:$AB$48828,TRUE)+COUNTIFS(HData!$O$3:$O$48828,\"<>\",HData!$O$3:$O$48828,\"<\"&AG6,HData!$R$3:$R$48828,\">=\"&AG6,HData!$AB$3:$AB$48828,TRUE)+COUNTIFS(HData!$O$3:$O$48828,\"<>\",HData!$O$3:$O$48828,\"<\"&AG6,HData!$R$3:$R$48828,\"<\"&AG6,HData!$R$3:$R$48828,\"<>\",HData!$Y$3:$Y$48828,\"<\"&AG6,HData!$Y$3:$Y$48828,\"<>\",HData!$W$3:$W$48828,\"\",HData!$AB$3:$AB$48828,TRUE)+COUNTIFS(HData!$O$3:$O$48828,\"<>\",HData!$O$3:$O$48828,\"<\"&AG6,HData!$R$3:$R$48828,\"<\"&AG6,HData!$R$3:$R$48828,\"<>\",HData!$Y$3:$Y$48828,\"<\"&AG6,HData!$Y$3:$Y$48828,\"<>\",HData!$W$3:$W$48828,\">=\"&AG6,HData!$AB$3:$AB$48828,TRUE)","v":0},{"$f":"COUNTIFS(HData!$O$3:$O$48828,\"<>\",HData!$O$3:$O$48828,\"<\"&AH6,HData!$R$3:$R$48828,\"\",HData!$W$3:$W$48828,\"\",HData!$AB$3:$AB$48828,TRUE)+COUNTIFS(HData!$O$3:$O$48828,\"<>\",HData!$O$3:$O$48828,\"<\"&AH6,HData!$R$3:$R$48828,\"\",HData!$W$3:$W$48828,\">=\"&AH6,HData!$AB$3:$AB$48828,TRUE)+COUNTIFS(HData!$O$3:$O$48828,\"<>\",HData!$O$3:$O$48828,\"<\"&AH6,HData!$R$3:$R$48828,\">=\"&AH6,HData!$AB$3:$AB$48828,TRUE)+COUNTIFS(HData!$O$3:$O$48828,\"<>\",HData!$O$3:$O$48828,\"<\"&AH6,HData!$R$3:$R$48828,\"<\"&AH6,HData!$R$3:$R$48828,\"<>\",HData!$Y$3:$Y$48828,\"<\"&AH6,HData!$Y$3:$Y$48828,\"<>\",HData!$W$3:$W$48828,\"\",HData!$AB$3:$AB$48828,TRUE)+COUNTIFS(HData!$O$3:$O$48828,\"<>\",HData!$O$3:$O$48828,\"<\"&AH6,HData!$R$3:$R$48828,\"<\"&AH6,HData!$R$3:$R$48828,\"<>\",HData!$Y$3:$Y$48828,\"<\"&AH6,HData!$Y$3:$Y$48828,\"<>\",HData!$W$3:$W$48828,\">=\"&AH6,HData!$AB$3:$AB$48828,TRUE)","v":0},{"$f":"COUNTIFS(HData!$O$3:$O$48828,\"<>\",HData!$O$3:$O$48828,\"<\"&AI6,HData!$R$3:$R$48828,\"\",HData!$W$3:$W$48828,\"\",HData!$AB$3:$AB$48828,TRUE)+COUNTIFS(HData!$O$3:$O$48828,\"<>\",HData!$O$3:$O$48828,\"<\"&AI6,HData!$R$3:$R$48828,\"\",HData!$W$3:$W$48828,\">=\"&AI6,HData!$AB$3:$AB$48828,TRUE)+COUNTIFS(HData!$O$3:$O$48828,\"<>\",HData!$O$3:$O$48828,\"<\"&AI6,HData!$R$3:$R$48828,\">=\"&AI6,HData!$AB$3:$AB$48828,TRUE)+COUNTIFS(HData!$O$3:$O$48828,\"<>\",HData!$O$3:$O$48828,\"<\"&AI6,HData!$R$3:$R$48828,\"<\"&AI6,HData!$R$3:$R$48828,\"<>\",HData!$Y$3:$Y$48828,\"<\"&AI6,HData!$Y$3:$Y$48828,\"<>\",HData!$W$3:$W$48828,\"\",HData!$AB$3:$AB$48828,TRUE)+COUNTIFS(HData!$O$3:$O$48828,\"<>\",HData!$O$3:$O$48828,\"<\"&AI6,HData!$R$3:$R$48828,\"<\"&AI6,HData!$R$3:$R$48828,\"<>\",HData!$Y$3:$Y$48828,\"<\"&AI6,HData!$Y$3:$Y$48828,\"<>\",HData!$W$3:$W$48828,\">=\"&AI6,HData!$AB$3:$AB$48828,TRUE)","v":0},{"$f":"COUNTIFS(HData!$O$3:$O$48828,\"<>\",HData!$O$3:$O$48828,\"<\"&AJ6,HData!$R$3:$R$48828,\"\",HData!$W$3:$W$48828,\"\",HData!$AB$3:$AB$48828,TRUE)+COUNTIFS(HData!$O$3:$O$48828,\"<>\",HData!$O$3:$O$48828,\"<\"&AJ6,HData!$R$3:$R$48828,\"\",HData!$W$3:$W$48828,\">=\"&AJ6,HData!$AB$3:$AB$48828,TRUE)+COUNTIFS(HData!$O$3:$O$48828,\"<>\",HData!$O$3:$O$48828,\"<\"&AJ6,HData!$R$3:$R$48828,\">=\"&AJ6,HData!$AB$3:$AB$48828,TRUE)+COUNTIFS(HData!$O$3:$O$48828,\"<>\",HData!$O$3:$O$48828,\"<\"&AJ6,HData!$R$3:$R$48828,\"<\"&AJ6,HData!$R$3:$R$48828,\"<>\",HData!$Y$3:$Y$48828,\"<\"&AJ6,HData!$Y$3:$Y$48828,\"<>\",HData!$W$3:$W$48828,\"\",HData!$AB$3:$AB$48828,TRUE)+COUNTIFS(HData!$O$3:$O$48828,\"<>\",HData!$O$3:$O$48828,\"<\"&AJ6,HData!$R$3:$R$48828,\"<\"&AJ6,HData!$R$3:$R$48828,\"<>\",HData!$Y$3:$Y$48828,\"<\"&AJ6,HData!$Y$3:$Y$48828,\"<>\",HData!$W$3:$W$48828,\">=\"&AJ6,HData!$AB$3:$AB$48828,TRUE)","v":0},{"$f":"COUNTIFS(HData!$O$3:$O$48828,\"<>\",HData!$O$3:$O$48828,\"<\"&AK6,HData!$R$3:$R$48828,\"\",HData!$W$3:$W$48828,\"\",HData!$AB$3:$AB$48828,TRUE)+COUNTIFS(HData!$O$3:$O$48828,\"<>\",HData!$O$3:$O$48828,\"<\"&AK6,HData!$R$3:$R$48828,\"\",HData!$W$3:$W$48828,\">=\"&AK6,HData!$AB$3:$AB$48828,TRUE)+COUNTIFS(HData!$O$3:$O$48828,\"<>\",HData!$O$3:$O$48828,\"<\"&AK6,HData!$R$3:$R$48828,\">=\"&AK6,HData!$AB$3:$AB$48828,TRUE)+COUNTIFS(HData!$O$3:$O$48828,\"<>\",HData!$O$3:$O$48828,\"<\"&AK6,HData!$R$3:$R$48828,\"<\"&AK6,HData!$R$3:$R$48828,\"<>\",HData!$Y$3:$Y$48828,\"<\"&AK6,HData!$Y$3:$Y$48828,\"<>\",HData!$W$3:$W$48828,\"\",HData!$AB$3:$AB$48828,TRUE)+COUNTIFS(HData!$O$3:$O$48828,\"<>\",HData!$O$3:$O$48828,\"<\"&AK6,HData!$R$3:$R$48828,\"<\"&AK6,HData!$R$3:$R$48828,\"<>\",HData!$Y$3:$Y$48828,\"<\"&AK6,HData!$Y$3:$Y$48828,\"<>\",HData!$W$3:$W$48828,\">=\"&AK6,HData!$AB$3:$AB$48828,TRUE)","v":0},{"$f":"COUNTIFS(HData!$O$3:$O$48828,\"<>\",HData!$O$3:$O$48828,\"<\"&AL6,HData!$R$3:$R$48828,\"\",HData!$W$3:$W$48828,\"\",HData!$AB$3:$AB$48828,TRUE)+COUNTIFS(HData!$O$3:$O$48828,\"<>\",HData!$O$3:$O$48828,\"<\"&AL6,HData!$R$3:$R$48828,\"\",HData!$W$3:$W$48828,\">=\"&AL6,HData!$AB$3:$AB$48828,TRUE)+COUNTIFS(HData!$O$3:$O$48828,\"<>\",HData!$O$3:$O$48828,\"<\"&AL6,HData!$R$3:$R$48828,\">=\"&AL6,HData!$AB$3:$AB$48828,TRUE)+COUNTIFS(HData!$O$3:$O$48828,\"<>\",HData!$O$3:$O$48828,\"<\"&AL6,HData!$R$3:$R$48828,\"<\"&AL6,HData!$R$3:$R$48828,\"<>\",HData!$Y$3:$Y$48828,\"<\"&AL6,HData!$Y$3:$Y$48828,\"<>\",HData!$W$3:$W$48828,\"\",HData!$AB$3:$AB$48828,TRUE)+COUNTIFS(HData!$O$3:$O$48828,\"<>\",HData!$O$3:$O$48828,\"<\"&AL6,HData!$R$3:$R$48828,\"<\"&AL6,HData!$R$3:$R$48828,\"<>\",HData!$Y$3:$Y$48828,\"<\"&AL6,HData!$Y$3:$Y$48828,\"<>\",HData!$W$3:$W$48828,\">=\"&AL6,HData!$AB$3:$AB$48828,TRUE)","v":0},{"$f":"COUNTIFS(HData!$O$3:$O$48828,\"<>\",HData!$O$3:$O$48828,\"<\"&AM6,HData!$R$3:$R$48828,\"\",HData!$W$3:$W$48828,\"\",HData!$AB$3:$AB$48828,TRUE)+COUNTIFS(HData!$O$3:$O$48828,\"<>\",HData!$O$3:$O$48828,\"<\"&AM6,HData!$R$3:$R$48828,\"\",HData!$W$3:$W$48828,\">=\"&AM6,HData!$AB$3:$AB$48828,TRUE)+COUNTIFS(HData!$O$3:$O$48828,\"<>\",HData!$O$3:$O$48828,\"<\"&AM6,HData!$R$3:$R$48828,\">=\"&AM6,HData!$AB$3:$AB$48828,TRUE)+COUNTIFS(HData!$O$3:$O$48828,\"<>\",HData!$O$3:$O$48828,\"<\"&AM6,HData!$R$3:$R$48828,\"<\"&AM6,HData!$R$3:$R$48828,\"<>\",HData!$Y$3:$Y$48828,\"<\"&AM6,HData!$Y$3:$Y$48828,\"<>\",HData!$W$3:$W$48828,\"\",HData!$AB$3:$AB$48828,TRUE)+COUNTIFS(HData!$O$3:$O$48828,\"<>\",HData!$O$3:$O$48828,\"<\"&AM6,HData!$R$3:$R$48828,\"<\"&AM6,HData!$R$3:$R$48828,\"<>\",HData!$Y$3:$Y$48828,\"<\"&AM6,HData!$Y$3:$Y$48828,\"<>\",HData!$W$3:$W$48828,\">=\"&AM6,HData!$AB$3:$AB$48828,TRUE)","v":0},{"$f":"COUNTIFS(HData!$O$3:$O$48828,\"<>\",HData!$O$3:$O$48828,\"<\"&AN6,HData!$R$3:$R$48828,\"\",HData!$W$3:$W$48828,\"\",HData!$AB$3:$AB$48828,TRUE)+COUNTIFS(HData!$O$3:$O$48828,\"<>\",HData!$O$3:$O$48828,\"<\"&AN6,HData!$R$3:$R$48828,\"\",HData!$W$3:$W$48828,\">=\"&AN6,HData!$AB$3:$AB$48828,TRUE)+COUNTIFS(HData!$O$3:$O$48828,\"<>\",HData!$O$3:$O$48828,\"<\"&AN6,HData!$R$3:$R$48828,\">=\"&AN6,HData!$AB$3:$AB$48828,TRUE)+COUNTIFS(HData!$O$3:$O$48828,\"<>\",HData!$O$3:$O$48828,\"<\"&AN6,HData!$R$3:$R$48828,\"<\"&AN6,HData!$R$3:$R$48828,\"<>\",HData!$Y$3:$Y$48828,\"<\"&AN6,HData!$Y$3:$Y$48828,\"<>\",HData!$W$3:$W$48828,\"\",HData!$AB$3:$AB$48828,TRUE)+COUNTIFS(HData!$O$3:$O$48828,\"<>\",HData!$O$3:$O$48828,\"<\"&AN6,HData!$R$3:$R$48828,\"<\"&AN6,HData!$R$3:$R$48828,\"<>\",HData!$Y$3:$Y$48828,\"<\"&AN6,HData!$Y$3:$Y$48828,\"<>\",HData!$W$3:$W$48828,\">=\"&AN6,HData!$AB$3:$AB$48828,TRUE)","v":0},{"$f":"COUNTIFS(HData!$O$3:$O$48828,\"<>\",HData!$O$3:$O$48828,\"<\"&AO6,HData!$R$3:$R$48828,\"\",HData!$W$3:$W$48828,\"\",HData!$AB$3:$AB$48828,TRUE)+COUNTIFS(HData!$O$3:$O$48828,\"<>\",HData!$O$3:$O$48828,\"<\"&AO6,HData!$R$3:$R$48828,\"\",HData!$W$3:$W$48828,\">=\"&AO6,HData!$AB$3:$AB$48828,TRUE)+COUNTIFS(HData!$O$3:$O$48828,\"<>\",HData!$O$3:$O$48828,\"<\"&AO6,HData!$R$3:$R$48828,\">=\"&AO6,HData!$AB$3:$AB$48828,TRUE)+COUNTIFS(HData!$O$3:$O$48828,\"<>\",HData!$O$3:$O$48828,\"<\"&AO6,HData!$R$3:$R$48828,\"<\"&AO6,HData!$R$3:$R$48828,\"<>\",HData!$Y$3:$Y$48828,\"<\"&AO6,HData!$Y$3:$Y$48828,\"<>\",HData!$W$3:$W$48828,\"\",HData!$AB$3:$AB$48828,TRUE)+COUNTIFS(HData!$O$3:$O$48828,\"<>\",HData!$O$3:$O$48828,\"<\"&AO6,HData!$R$3:$R$48828,\"<\"&AO6,HData!$R$3:$R$48828,\"<>\",HData!$Y$3:$Y$48828,\"<\"&AO6,HData!$Y$3:$Y$48828,\"<>\",HData!$W$3:$W$48828,\">=\"&AO6,HData!$AB$3:$AB$48828,TRUE)","v":0},{"$f":"COUNTIFS(HData!$O$3:$O$48828,\"<>\",HData!$O$3:$O$48828,\"<\"&AP6,HData!$R$3:$R$48828,\"\",HData!$W$3:$W$48828,\"\",HData!$AB$3:$AB$48828,TRUE)+COUNTIFS(HData!$O$3:$O$48828,\"<>\",HData!$O$3:$O$48828,\"<\"&AP6,HData!$R$3:$R$48828,\"\",HData!$W$3:$W$48828,\">=\"&AP6,HData!$AB$3:$AB$48828,TRUE)+COUNTIFS(HData!$O$3:$O$48828,\"<>\",HData!$O$3:$O$48828,\"<\"&AP6,HData!$R$3:$R$48828,\">=\"&AP6,HData!$AB$3:$AB$48828,TRUE)+COUNTIFS(HData!$O$3:$O$48828,\"<>\",HData!$O$3:$O$48828,\"<\"&AP6,HData!$R$3:$R$48828,\"<\"&AP6,HData!$R$3:$R$48828,\"<>\",HData!$Y$3:$Y$48828,\"<\"&AP6,HData!$Y$3:$Y$48828,\"<>\",HData!$W$3:$W$48828,\"\",HData!$AB$3:$AB$48828,TRUE)+COUNTIFS(HData!$O$3:$O$48828,\"<>\",HData!$O$3:$O$48828,\"<\"&AP6,HData!$R$3:$R$48828,\"<\"&AP6,HData!$R$3:$R$48828,\"<>\",HData!$Y$3:$Y$48828,\"<\"&AP6,HData!$Y$3:$Y$48828,\"<>\",HData!$W$3:$W$48828,\">=\"&AP6,HData!$AB$3:$AB$48828,TRUE)","v":0},{"$f":"COUNTIFS(HData!$O$3:$O$48828,\"<>\",HData!$O$3:$O$48828,\"<\"&AQ6,HData!$R$3:$R$48828,\"\",HData!$W$3:$W$48828,\"\",HData!$AB$3:$AB$48828,TRUE)+COUNTIFS(HData!$O$3:$O$48828,\"<>\",HData!$O$3:$O$48828,\"<\"&AQ6,HData!$R$3:$R$48828,\"\",HData!$W$3:$W$48828,\">=\"&AQ6,HData!$AB$3:$AB$48828,TRUE)+COUNTIFS(HData!$O$3:$O$48828,\"<>\",HData!$O$3:$O$48828,\"<\"&AQ6,HData!$R$3:$R$48828,\">=\"&AQ6,HData!$AB$3:$AB$48828,TRUE)+COUNTIFS(HData!$O$3:$O$48828,\"<>\",HData!$O$3:$O$48828,\"<\"&AQ6,HData!$R$3:$R$48828,\"<\"&AQ6,HData!$R$3:$R$48828,\"<>\",HData!$Y$3:$Y$48828,\"<\"&AQ6,HData!$Y$3:$Y$48828,\"<>\",HData!$W$3:$W$48828,\"\",HData!$AB$3:$AB$48828,TRUE)+COUNTIFS(HData!$O$3:$O$48828,\"<>\",HData!$O$3:$O$48828,\"<\"&AQ6,HData!$R$3:$R$48828,\"<\"&AQ6,HData!$R$3:$R$48828,\"<>\",HData!$Y$3:$Y$48828,\"<\"&AQ6,HData!$Y$3:$Y$48828,\"<>\",HData!$W$3:$W$48828,\">=\"&AQ6,HData!$AB$3:$AB$48828,TRUE)","v":0},{"$f":"COUNTIFS(HData!$O$3:$O$48828,\"<>\",HData!$O$3:$O$48828,\"<\"&AR6,HData!$R$3:$R$48828,\"\",HData!$W$3:$W$48828,\"\",HData!$AB$3:$AB$48828,TRUE)+COUNTIFS(HData!$O$3:$O$48828,\"<>\",HData!$O$3:$O$48828,\"<\"&AR6,HData!$R$3:$R$48828,\"\",HData!$W$3:$W$48828,\">=\"&AR6,HData!$AB$3:$AB$48828,TRUE)+COUNTIFS(HData!$O$3:$O$48828,\"<>\",HData!$O$3:$O$48828,\"<\"&AR6,HData!$R$3:$R$48828,\">=\"&AR6,HData!$AB$3:$AB$48828,TRUE)+COUNTIFS(HData!$O$3:$O$48828,\"<>\",HData!$O$3:$O$48828,\"<\"&AR6,HData!$R$3:$R$48828,\"<\"&AR6,HData!$R$3:$R$48828,\"<>\",HData!$Y$3:$Y$48828,\"<\"&AR6,HData!$Y$3:$Y$48828,\"<>\",HData!$W$3:$W$48828,\"\",HData!$AB$3:$AB$48828,TRUE)+COUNTIFS(HData!$O$3:$O$48828,\"<>\",HData!$O$3:$O$48828,\"<\"&AR6,HData!$R$3:$R$48828,\"<\"&AR6,HData!$R$3:$R$48828,\"<>\",HData!$Y$3:$Y$48828,\"<\"&AR6,HData!$Y$3:$Y$48828,\"<>\",HData!$W$3:$W$48828,\">=\"&AR6,HData!$AB$3:$AB$48828,TRUE)","v":0},{"$f":"COUNTIFS(HData!$O$3:$O$48828,\"<>\",HData!$O$3:$O$48828,\"<\"&AS6,HData!$R$3:$R$48828,\"\",HData!$W$3:$W$48828,\"\",HData!$AB$3:$AB$48828,TRUE)+COUNTIFS(HData!$O$3:$O$48828,\"<>\",HData!$O$3:$O$48828,\"<\"&AS6,HData!$R$3:$R$48828,\"\",HData!$W$3:$W$48828,\">=\"&AS6,HData!$AB$3:$AB$48828,TRUE)+COUNTIFS(HData!$O$3:$O$48828,\"<>\",HData!$O$3:$O$48828,\"<\"&AS6,HData!$R$3:$R$48828,\">=\"&AS6,HData!$AB$3:$AB$48828,TRUE)+COUNTIFS(HData!$O$3:$O$48828,\"<>\",HData!$O$3:$O$48828,\"<\"&AS6,HData!$R$3:$R$48828,\"<\"&AS6,HData!$R$3:$R$48828,\"<>\",HData!$Y$3:$Y$48828,\"<\"&AS6,HData!$Y$3:$Y$48828,\"<>\",HData!$W$3:$W$48828,\"\",HData!$AB$3:$AB$48828,TRUE)+COUNTIFS(HData!$O$3:$O$48828,\"<>\",HData!$O$3:$O$48828,\"<\"&AS6,HData!$R$3:$R$48828,\"<\"&AS6,HData!$R$3:$R$48828,\"<>\",HData!$Y$3:$Y$48828,\"<\"&AS6,HData!$Y$3:$Y$48828,\"<>\",HData!$W$3:$W$48828,\">=\"&AS6,HData!$AB$3:$AB$48828,TRUE)","v":0},{"$f":"COUNTIFS(HData!$O$3:$O$48828,\"<>\",HData!$O$3:$O$48828,\"<\"&AT6,HData!$R$3:$R$48828,\"\",HData!$W$3:$W$48828,\"\",HData!$AB$3:$AB$48828,TRUE)+COUNTIFS(HData!$O$3:$O$48828,\"<>\",HData!$O$3:$O$48828,\"<\"&AT6,HData!$R$3:$R$48828,\"\",HData!$W$3:$W$48828,\">=\"&AT6,HData!$AB$3:$AB$48828,TRUE)+COUNTIFS(HData!$O$3:$O$48828,\"<>\",HData!$O$3:$O$48828,\"<\"&AT6,HData!$R$3:$R$48828,\">=\"&AT6,HData!$AB$3:$AB$48828,TRUE)+COUNTIFS(HData!$O$3:$O$48828,\"<>\",HData!$O$3:$O$48828,\"<\"&AT6,HData!$R$3:$R$48828,\"<\"&AT6,HData!$R$3:$R$48828,\"<>\",HData!$Y$3:$Y$48828,\"<\"&AT6,HData!$Y$3:$Y$48828,\"<>\",HData!$W$3:$W$48828,\"\",HData!$AB$3:$AB$48828,TRUE)+COUNTIFS(HData!$O$3:$O$48828,\"<>\",HData!$O$3:$O$48828,\"<\"&AT6,HData!$R$3:$R$48828,\"<\"&AT6,HData!$R$3:$R$48828,\"<>\",HData!$Y$3:$Y$48828,\"<\"&AT6,HData!$Y$3:$Y$48828,\"<>\",HData!$W$3:$W$48828,\">=\"&AT6,HData!$AB$3:$AB$48828,TRUE)","v":0},{"$f":"COUNTIFS(HData!$O$3:$O$48828,\"<>\",HData!$O$3:$O$48828,\"<\"&AU6,HData!$R$3:$R$48828,\"\",HData!$W$3:$W$48828,\"\",HData!$AB$3:$AB$48828,TRUE)+COUNTIFS(HData!$O$3:$O$48828,\"<>\",HData!$O$3:$O$48828,\"<\"&AU6,HData!$R$3:$R$48828,\"\",HData!$W$3:$W$48828,\">=\"&AU6,HData!$AB$3:$AB$48828,TRUE)+COUNTIFS(HData!$O$3:$O$48828,\"<>\",HData!$O$3:$O$48828,\"<\"&AU6,HData!$R$3:$R$48828,\">=\"&AU6,HData!$AB$3:$AB$48828,TRUE)+COUNTIFS(HData!$O$3:$O$48828,\"<>\",HData!$O$3:$O$48828,\"<\"&AU6,HData!$R$3:$R$48828,\"<\"&AU6,HData!$R$3:$R$48828,\"<>\",HData!$Y$3:$Y$48828,\"<\"&AU6,HData!$Y$3:$Y$48828,\"<>\",HData!$W$3:$W$48828,\"\",HData!$AB$3:$AB$48828,TRUE)+COUNTIFS(HData!$O$3:$O$48828,\"<>\",HData!$O$3:$O$48828,\"<\"&AU6,HData!$R$3:$R$48828,\"<\"&AU6,HData!$R$3:$R$48828,\"<>\",HData!$Y$3:$Y$48828,\"<\"&AU6,HData!$Y$3:$Y$48828,\"<>\",HData!$W$3:$W$48828,\">=\"&AU6,HData!$AB$3:$AB$48828,TRUE)","v":0},{"$f":"COUNTIFS(HData!$O$3:$O$48828,\"<>\",HData!$O$3:$O$48828,\"<\"&AV6,HData!$R$3:$R$48828,\"\",HData!$W$3:$W$48828,\"\",HData!$AB$3:$AB$48828,TRUE)+COUNTIFS(HData!$O$3:$O$48828,\"<>\",HData!$O$3:$O$48828,\"<\"&AV6,HData!$R$3:$R$48828,\"\",HData!$W$3:$W$48828,\">=\"&AV6,HData!$AB$3:$AB$48828,TRUE)+COUNTIFS(HData!$O$3:$O$48828,\"<>\",HData!$O$3:$O$48828,\"<\"&AV6,HData!$R$3:$R$48828,\">=\"&AV6,HData!$AB$3:$AB$48828,TRUE)+COUNTIFS(HData!$O$3:$O$48828,\"<>\",HData!$O$3:$O$48828,\"<\"&AV6,HData!$R$3:$R$48828,\"<\"&AV6,HData!$R$3:$R$48828,\"<>\",HData!$Y$3:$Y$48828,\"<\"&AV6,HData!$Y$3:$Y$48828,\"<>\",HData!$W$3:$W$48828,\"\",HData!$AB$3:$AB$48828,TRUE)+COUNTIFS(HData!$O$3:$O$48828,\"<>\",HData!$O$3:$O$48828,\"<\"&AV6,HData!$R$3:$R$48828,\"<\"&AV6,HData!$R$3:$R$48828,\"<>\",HData!$Y$3:$Y$48828,\"<\"&AV6,HData!$Y$3:$Y$48828,\"<>\",HData!$W$3:$W$48828,\">=\"&AV6,HData!$AB$3:$AB$48828,TRUE)","v":0},{"$f":"COUNTIFS(HData!$O$3:$O$48828,\"<>\",HData!$O$3:$O$48828,\"<\"&AW6,HData!$R$3:$R$48828,\"\",HData!$W$3:$W$48828,\"\",HData!$AB$3:$AB$48828,TRUE)+COUNTIFS(HData!$O$3:$O$48828,\"<>\",HData!$O$3:$O$48828,\"<\"&AW6,HData!$R$3:$R$48828,\"\",HData!$W$3:$W$48828,\">=\"&AW6,HData!$AB$3:$AB$48828,TRUE)+COUNTIFS(HData!$O$3:$O$48828,\"<>\",HData!$O$3:$O$48828,\"<\"&AW6,HData!$R$3:$R$48828,\">=\"&AW6,HData!$AB$3:$AB$48828,TRUE)+COUNTIFS(HData!$O$3:$O$48828,\"<>\",HData!$O$3:$O$48828,\"<\"&AW6,HData!$R$3:$R$48828,\"<\"&AW6,HData!$R$3:$R$48828,\"<>\",HData!$Y$3:$Y$48828,\"<\"&AW6,HData!$Y$3:$Y$48828,\"<>\",HData!$W$3:$W$48828,\"\",HData!$AB$3:$AB$48828,TRUE)+COUNTIFS(HData!$O$3:$O$48828,\"<>\",HData!$O$3:$O$48828,\"<\"&AW6,HData!$R$3:$R$48828,\"<\"&AW6,HData!$R$3:$R$48828,\"<>\",HData!$Y$3:$Y$48828,\"<\"&AW6,HData!$Y$3:$Y$48828,\"<>\",HData!$W$3:$W$48828,\">=\"&AW6,HData!$AB$3:$AB$48828,TRUE)","v":0},{"$f":"COUNTIFS(HData!$O$3:$O$48828,\"<>\",HData!$O$3:$O$48828,\"<\"&AX6,HData!$R$3:$R$48828,\"\",HData!$W$3:$W$48828,\"\",HData!$AB$3:$AB$48828,TRUE)+COUNTIFS(HData!$O$3:$O$48828,\"<>\",HData!$O$3:$O$48828,\"<\"&AX6,HData!$R$3:$R$48828,\"\",HData!$W$3:$W$48828,\">=\"&AX6,HData!$AB$3:$AB$48828,TRUE)+COUNTIFS(HData!$O$3:$O$48828,\"<>\",HData!$O$3:$O$48828,\"<\"&AX6,HData!$R$3:$R$48828,\">=\"&AX6,HData!$AB$3:$AB$48828,TRUE)+COUNTIFS(HData!$O$3:$O$48828,\"<>\",HData!$O$3:$O$48828,\"<\"&AX6,HData!$R$3:$R$48828,\"<\"&AX6,HData!$R$3:$R$48828,\"<>\",HData!$Y$3:$Y$48828,\"<\"&AX6,HData!$Y$3:$Y$48828,\"<>\",HData!$W$3:$W$48828,\"\",HData!$AB$3:$AB$48828,TRUE)+COUNTIFS(HData!$O$3:$O$48828,\"<>\",HData!$O$3:$O$48828,\"<\"&AX6,HData!$R$3:$R$48828,\"<\"&AX6,HData!$R$3:$R$48828,\"<>\",HData!$Y$3:$Y$48828,\"<\"&AX6,HData!$Y$3:$Y$48828,\"<>\",HData!$W$3:$W$48828,\">=\"&AX6,HData!$AB$3:$AB$48828,TRUE)","v":0}]
[]
["QUARTERLY",{"$f":"B6","v":"2023-04-01"},{"$f":"EDATE(B15,3)","v":"2023-07-01"},{"$f":"EDATE(C15,3)","v":"2023-10-01"},"2024-01-01","2024-04-01","2024-07-01","2024-10-01","2025-01-01","2025-04-01","2025-07-01","2025-10-01","2026-01-01","2026-04-01","2026-07-01","2026-10-01","2027-01-01","2027-04-01"]
[null,{"$f":"INDEX(Lists!$W:$W,MATCH(EDATE(Analysis!B15,3)-1,Lists!$V:$V,0))","v":"2023/24 Q1"},{"$f":"INDEX(Lists!$W:$W,MATCH(EDATE(Analysis!C15,3)-1,Lists!$V:$V,0))","v":"2023/24 Q2"},{"$f":"INDEX(Lists!$W:$W,MATCH(EDATE(Analysis!D15,3)-1,Lists!$V:$V,0))","v":"2023/24 Q3"},{"$f":"INDEX(Lists!$W:$W,MATCH(EDATE(Analysis!E15,3)-1,Lists!$V:$V,0))","v":"2023/24 Q4"},{"$f":"INDEX(Lists!$W:$W,MATCH(EDATE(Analysis!F15,3)-1,Lists!$V:$V,0))","v":"2024/25 Q1"},{"$f":"INDEX(Lists!$W:$W,MATCH(EDATE(Analysis!G15,3)-1,Lists!$V:$V,0))","v":"2024/25 Q2"},{"$f":"INDEX(Lists!$W:$W,MATCH(EDATE(Analysis!H15,3)-1,Lists!$V:$V,0))","v":"2024/25 Q3"},{"$f":"INDEX(Lists!$W:$W,MATCH(EDATE(Analysis!I15,3)-1,Lists!$V:$V,0))","v":"2024/25 Q4"},{"$f":"INDEX(Lists!$W:$W,MATCH(EDATE(Analysis!J15,3)-1,Lists!$V:$V,0))","v":"2025/26 Q1"},{"$f":"INDEX(Lists!$W:$W,MATCH(EDATE(Analysis!K15,3)-1,Lists!$V:$V,0))","v":"2025/26 Q2"},{"$f":"INDEX(Lists!$W:$W,MATCH(EDATE(Analysis!L15,3)-1,Lists!$V:$V,0))","v":"2025/26 Q3"},{"$f":"INDEX(Lists!$W:$W,MATCH(EDATE(Analysis!M15,3)-1,Lists!$V:$V,0))","v":"2025/26 Q4"},{"$f":"INDEX(Lists!$W:$W,MATCH(EDATE(Analysis!N15,3)-1,Lists!$V:$V,0))","v":"2026/27 Q1"},{"$f":"INDEX(Lists!$W:$W,MATCH(EDATE(Analysis!O15,3)-1,Lists!$V:$V,0))","v":"2026/27 Q2"},{"$f":"INDEX(Lists!$W:$W,MATCH(EDATE(Analysis!P15,3)-1,Lists!$V:$V,0))","v":"2026/27 Q3"},{"$f":"INDEX(Lists!$W:$W,MATCH(EDATE(Analysis!Q15,3)-1,Lists!$V:$V,0))","v":"2026/27 Q4"}]
["AO",{"$f":"COUNTIFS(HData!$T$3:$T$48828,\">=\"&B$15,HData!$T$3:$T$48828,\"<\"&C$15)","v":0},{"$f":"COUNTIFS(HData!$T$3:$T$48828,\">=\"&C$15,HData!$T$3:$T$48828,\"<\"&D$15)","v":0},{"$f":"COUNTIFS(HData!$T$3:$T$48828,\">=\"&D$15,HData!$T$3:$T$48828,\"<\"&E$15)","v":0},{"$f":"COUNTIFS(HData!$T$3:$T$48828,\">=\"&E$15,HData!$T$3:$T$48828,\"<\"&F$15)","v":0},{"$f":"COUNTIFS(HData!$T$3:$T$48828,\">=\"&F$15,HData!$T$3:$T$48828,\"<\"&G$15)","v":0},{"$f":"COUNTIFS(HData!$T$3:$T$48828,\">=\"&G$15,HData!$T$3:$T$48828,\"<\"&H$15)","v":0},{"$f":"COUNTIFS(HData!$T$3:$T$48828,\">=\"&H$15,HData!$T$3:$T$48828,\"<\"&I$15)","v":0},{"$f":"COUNTIFS(HData!$T$3:$T$48828,\">=\"&I$15,HData!$T$3:$T$48828,\"<\"&J$15)","v":0},{"$f":"COUNTIFS(HData!$T$3:$T$48828,\">=\"&J$15,HData!$T$3:$T$48828,\"<\"&K$15)","v":0},{"$f":"COUNTIFS(HData!$T$3:$T$48828,\">=\"&K$15,HData!$T$3:$T$48828,\"<\"&L$15)","v":0},{"$f":"COUNTIFS(HData!$T$3:$T$48828,\">=\"&L$15,HData!$T$3:$T$48828,\"<\"&M$15)","v":0},{"$f":"COUNTIFS(HData!$T$3:$T$48828,\">=\"&M$15,HData!$T$3:$T$48828,\"<\"&N$15)","v":0},{"$f":"COUNTIFS(HData!$T$3:$T$48828,\">=\"&N$15,HData!$T$3:$T$48828,\"<\"&O$15)","v":0},{"$f":"COUNTIFS(HData!$T$3:$T$48828,\">=\"&O$15,HData!$T$3:$T$48828,\"<\"&P$15)","v":0},{"$f":"COUNTIFS(HData!$T$3:$T$48828,\">=\"&P$15,HData!$T$3:$T$48828,\"<\"&Q$15)","v":0},{"$f":"COUNTIFS(HData!$T$3:$T$48828,\">=\"&Q$15,HData!$T$3:$T$48828,\"<\"&R$15)","v":0}]
["Placements",{"$f":"COUNTIFS(HData!$R$3:$R$48828,\">=\"&B$15,HData!$R$3:$R$48828,\"<\"&C$15)","v":0},{"$f":"COUNTIFS(HData!$R$3:$R$48828,\">=\"&C$15,HData!$R$3:$R$48828,\"<\"&D$15)","v":0},{"$f":"COUNTIFS(HData!$R$3:$R$48828,\">=\"&D$15,HData!$R$3:$R$48828,\"<\"&E$15)","v":0},{"$f":"COUNTIFS(HData!$R$3:$R$48828,\">=\"&E$15,HData!$R$3:$R$48828,\"<\"&F$15)","v":0},{"$f":"COUNTIFS(HData!$R$3:$R$48828,\">=\"&F$15,HData!$R$3:$R$48828,\"<\"&G$15)","v":0},{"$f":"COUNTIFS(HData!$R$3:$R$48828,\">=\"&G$15,HData!$R$3:$R$48828,\"<\"&H$15)","v":0},{"$f":"COUNTIFS(HData!$R$3:$R$48828,\">=\"&H$15,HData!$R$3:$R$48828,\"<\"&I$15)","v":0},{"$f":"COUNTIFS(HData!$R$3:$R$48828,\">=\"&I$15,HData!$R$3:$R$48828,\"<\"&J$15)","v":0},{"$f":"COUNTIFS(HData!$R$3:$R$48828,\">=\"&J$15,HData!$R$3:$R$48828,\"<\"&K$15)","v":0},{"$f":"COUNTIFS(HData!$R$3:$R$48828,\">=\"&K$15,HData!$R$3:$R$48828,\"<\"&L$15)","v":0},{"$f":"COUNTIFS(HData!$R$3:$R$48828,\">=\"&L$15,HData!$R$3:$R$48828,\"<\"&M$15)","v":0},{"$f":"COUNTIFS(HData!$R$3:$R$48828,\">=\"&M$15,HData!$R$3:$R$48828,\"<\"&N$15)","v":0},{"$f":"COUNTIFS(HData!$R$3:$R$48828,\">=\"&N$15,HData!$R$3:$R$48828,\"<\"&O$15)","v":0},{"$f":"COUNTIFS(HData!$R$3:$R$48828,\">=\"&O$15,HData!$R$3:$R$48828,\"<\"&P$15)","v":0},{"$f":"COUNTIFS(HData!$R$3:$R$48828,\">=\"&P$15,HData!$R$3:$R$48828,\"<\"&Q$15)","v":0},{"$f":"COUNTIFS(HData!$R$3:$R$48828,\">=\"&Q$15,HData!$R$3:$R$48828,\"<\"&R$15)","v":0}]
["Matches",{"$f":"COUNTIFS(HData!$P$3:$P$48828,\">=\"&B$15,HData!$P$3:$P$48828,\"<\"&C$15)","v":0},{"$f":"COUNTIFS(HData!$P$3:$P$48828,\">=\"&C$15,HData!$P$3:$P$48828,\"<\"&D$15)","v":0},{"$f":"COUNTIFS(HData!$P$3:$P$48828,\">=\"&D$15,HData!$P$3:$P$48828,\"<\"&E$15)","v":0},{"$f":"COUNTIFS(HData!$P$3:$P$48828,\">=\"&E$15,HData!$P$3:$P$48828,\"<\"&F$15)","v":0},{"$f":"COUNTIFS(HData!$P$3:$P$48828,\">=\"&F$15,HData!$P$3:$P$48828,\"<\"&G$15)","v":0},{"$f":"COUNTIFS(HData!$P$3:$P$48828,\">=\"&G$15,HData!$P$3:$P$48828,\"<\"&H$15)","v":0},{"$f":"COUNTIFS(HData!$P$3:$P$48828,\">=\"&H$15,HData!$P$3:$P$48828,\"<\"&I$15)","v":0},{"$f":"COUNTIFS(HData!$P$3:$P$48828,\">=\"&I$15,HData!$P$3:$P$48828,\"<\"&J$15)","v":0},{"$f":"COUNTIFS(HData!$P$3:$P$48828,\">=\"&J$15,HData!$P$3:$P$48828,\"<\"&K$15)","v":0},{"$f":"COUNTIFS(HData!$P$3:$P$48828,\">=\"&K$15,HData!$P$3:$P$48828,\"<\"&L$15)","v":0},{"$f":"COUNTIFS(HData!$P$3:$P$48828,\">=\"&L$15,HData!$P$3:$P$48828,\"<\"&M$15)","v":0},{"$f":"COUNTIFS(HData!$P$3:$P$48828,\">=\"&M$15,HData!$P$3:$P$48828,\"<\"&N$15)","v":0},{"$f":"COUNTIFS(HData!$P$3:$P$48828,\">=\"&N$15,HData!$P$3:$P$48828,\"<\"&O$15)","v":0},{"$f":"COUNTIFS(HData!$P$3:$P$48828,\">=\"&O$15,HData!$P$3:$P$48828,\"<\"&P$15)","v":0},{"$f":"COUNTIFS(HData!$P$3:$P$48828,\">=\"&P$15,HData!$P$3:$P$48828,\"<\"&Q$15)","v":0},{"$f":"COUNTIFS(HData!$P$3:$P$48828,\">=\"&Q$15,HData!$P$3:$P$48828,\"<\"&R$15)","v":0}]
["PO",{"$f":"COUNTIFS(HData!$O$3:$O$48828,\">=\"&B$15,HData!$O$3:$O$48828,\"<\"&C$15,HData!$AB$3:$AB$48828,TRUE)","v":0},{"$f":"COUNTIFS(HData!$O$3:$O$48828,\">=\"&C$15,HData!$O$3:$O$48828,\"<\"&D$15,HData!$AB$3:$AB$48828,TRUE)","v":0},{"$f":"COUNTIFS(HData!$O$3:$O$48828,\">=\"&D$15,HData!$O$3:$O$48828,\"<\"&E$15,HData!$AB$3:$AB$48828,TRUE)","v":0},{"$f":"COUNTIFS(HData!$O$3:$O$48828,\">=\"&E$15,HData!$O$3:$O$48828,\"<\"&F$15,HData!$AB$3:$AB$48828,TRUE)","v":0},{"$f":"COUNTIFS(HData!$O$3:$O$48828,\">=\"&F$15,HData!$O$3:$O$48828,\"<\"&G$15,HData!$AB$3:$AB$48828,TRUE)","v":0},{"$f":"COUNTIFS(HData!$O$3:$O$48828,\">=\"&G$15,HData!$O$3:$O$48828,\"<\"&H$15,HData!$AB$3:$AB$48828,TRUE)","v":0},{"$f":"COUNTIFS(HData!$O$3:$O$48828,\">=\"&H$15,HData!$O$3:$O$48828,\"<\"&I$15,HData!$AB$3:$AB$48828,TRUE)","v":0},{"$f":"COUNTIFS(HData!$O$3:$O$48828,\">=\"&I$15,HData!$O$3:$O$48828,\"<\"&J$15,HData!$AB$3:$AB$48828,TRUE)","v":0},{"$f":"COUNTIFS(HData!$O$3:$O$48828,\">=\"&J$15,HData!$O$3:$O$48828,\"<\"&K$15,HData!$AB$3:$AB$48828,TRUE)","v":0},{"$f":"COUNTIFS(HData!$O$3:$O$48828,\">=\"&K$15,HData!$O$3:$O$48828,\"<\"&L$15,HData!$AB$3:$AB$48828,TRUE)","v":0},{"$f":"COUNTIFS(HData!$O$3:$O$48828,\">=\"&L$15,HData!$O$3:$O$48828,\"<\"&M$15,HData!$AB$3:$AB$48828,TRUE)","v":0},{"$f":"COUNTIFS(HData!$O$3:$O$48828,\">=\"&M$15,HData!$O$3:$O$48828,\"<\"&N$15,HData!$AB$3:$AB$48828,TRUE)","v":0},{"$f":"COUNTIFS(HData!$O$3:$O$48828,\">=\"&N$15,HData!$O$3:$O$48828,\"<\"&O$15,HData!$AB$3:$AB$48828,TRUE)","v":0},{"$f":"COUNTIFS(HData!$O$3:$O$48828,\">=\"&O$15,HData!$O$3:$O$48828,\"<\"&P$15,HData!$AB$3:$AB$48828,TRUE)","v":0},{"$f":"COUNTIFS(HData!$O$3:$O$48828,\">=\"&P$15,HData!$O$3:$O$48828,\"<\"&Q$15,HData!$AB$3:$AB$48828,TRUE)","v":0},{"$f":"COUNTIFS(HData!$O$3:$O$48828,\">=\"&Q$15,HData!$O$3:$O$48828,\"<\"&R$15,HData!$AB$3:$AB$48828,TRUE)","v":0}]
["ADM BI",{"$f":"COUNTIFS(HData!$N$3:$N$48828,\">=\"&B$15,HData!$N$3:$N$48828,\"<\"&C$15,HData!$AB$3:$AB$48828,TRUE)","v":0},{"$f":"COUNTIFS(HData!$N$3:$N$48828,\">=\"&C$15,HData!$N$3:$N$48828,\"<\"&D$15,HData!$AB$3:$AB$48828,TRUE)","v":0},{"$f":"COUNTIFS(HData!$N$3:$N$48828,\">=\"&D$15,HData!$N$3:$N$48828,\"<\"&E$15,HData!$AB$3:$AB$48828,TRUE)","v":0},{"$f":"COUNTIFS(HData!$N$3:$N$48828,\">=\"&E$15,HData!$N$3:$N$48828,\"<\"&F$15,HData!$AB$3:$AB$48828,TRUE)","v":0},{"$f":"COUNTIFS(HData!$N$3:$N$48828,\">=\"&F$15,HData!$N$3:$N$48828,\"<\"&G$15,HData!$AB$3:$AB$48828,TRUE)","v":0},{"$f":"COUNTIFS(HData!$N$3:$N$48828,\">=\"&G$15,HData!$N$3:$N$48828,\"<\"&H$15,HData!$AB$3:$AB$48828,TRUE)","v":0},{"$f":"COUNTIFS(HData!$N$3:$N$48828,\">=\"&H$15,HData!$N$3:$N$48828,\"<\"&I$15,HData!$AB$3:$AB$48828,TRUE)","v":0},{"$f":"COUNTIFS(HData!$N$3:$N$48828,\">=\"&I$15,HData!$N$3:$N$48828,\"<\"&J$15,HData!$AB$3:$AB$48828,TRUE)","v":0},{"$f":"COUNTIFS(HData!$N$3:$N$48828,\">=\"&J$15,HData!$N$3:$N$48828,\"<\"&K$15,HData!$AB$3:$AB$48828,TRUE)","v":0},{"$f":"COUNTIFS(HData!$N$3:$N$48828,\">=\"&K$15,HData!$N$3:$N$48828,\"<\"&L$15,HData!$AB$3:$AB$48828,TRUE)","v":0},{"$f":"COUNTIFS(HData!$N$3:$N$48828,\">=\"&L$15,HData!$N$3:$N$48828,\"<\"&M$15,HData!$AB$3:$AB$48828,TRUE)","v":0},{"$f":"COUNTIFS(HData!$N$3:$N$48828,\">=\"&M$15,HData!$N$3:$N$48828,\"<\"&N$15,HData!$AB$3:$AB$48828,TRUE)","v":0},{"$f":"COUNTIFS(HData!$N$3:$N$48828,\">=\"&N$15,HData!$N$3:$N$48828,\"<\"&O$15,HData!$AB$3:$AB$48828,TRUE)","v":0},{"$f":"COUNTIFS(HData!$N$3:$N$48828,\">=\"&O$15,HData!$N$3:$N$48828,\"<\"&P$15,HData!$AB$3:$AB$48828,TRUE)","v":0},{"$f":"COUNTIFS(HData!$N$3:$N$48828,\">=\"&P$15,HData!$N$3:$N$48828,\"<\"&Q$15,HData!$AB$3:$AB$48828,TRUE)","v":0},{"$f":"COUNTIFS(HData!$N$3:$N$48828,\">=\"&Q$15,HData!$N$3:$N$48828,\"<\"&R$15,HData!$AB$3:$AB$48828,TRUE)","v":0}]
["Change of plan",{"$f":"COUNTIFS(HData!$W$3:$W$48828,\">=\"&B$15,HData!$W$3:$W$48828,\"<\"&C$15,HData!$N$3:$N$48828,\"<>\")","v":0},{"$f":"COUNTIFS(HData!$W$3:$W$48828,\">=\"&C$15,HData!$W$3:$W$48828,\"<\"&D$15,HData!$N$3:$N$48828,\"<>\")","v":0},{"$f":"COUNTIFS(HData!$W$3:$W$48828,\">=\"&D$15,HData!$W$3:$W$48828,\"<\"&E$15,HData!$N$3:$N$48828,\"<>\")","v":0},{"$f":"COUNTIFS(HData!$W$3:$W$48828,\">=\"&E$15,HData!$W$3:$W$48828,\"<\"&F$15,HData!$N$3:$N$48828,\"<>\")","v":0},{"$f":"COUNTIFS(HData!$W$3:$W$48828,\">=\"&F$15,HData!$W$3:$W$48828,\"<\"&G$15,HData!$N$3:$N$48828,\"<>\")","v":0},{"$f":"COUNTIFS(HData!$W$3:$W$48828,\">=\"&G$15,HData!$W$3:$W$48828,\"<\"&H$15,HData!$N$3:$N$48828,\"<>\")","v":0},{"$f":"COUNTIFS(HData!$W$3:$W$48828,\">=\"&H$15,HData!$W$3:$W$48828,\"<\"&I$15,HData!$N$3:$N$48828,\"<>\")","v":0},{"$f":"COUNTIFS(HData!$W$3:$W$48828,\">=\"&I$15,HData!$W$3:$W$48828,\"<\"&J$15,HData!$N$3:$N$48828,\"<>\")","v":0},{"$f":"COUNTIFS(HData!$W$3:$W$48828,\">=\"&J$15,HData!$W$3:$W$48828,\"<\"&K$15,HData!$N$3:$N$48828,\"<>\")","v":0},{"$f":"COUNTIFS(HData!$W$3:$W$48828,\">=\"&K$15,HData!$W$3:$W$48828,\"<\"&L$15,HData!$N$3:$N$48828,\"<>\")","v":0},{"$f":"COUNTIFS(HData!$W$3:$W$48828,\">=\"&L$15,HData!$W$3:$W$48828,\"<\"&M$15,HData!$N$3:$N$48828,\"<>\")","v":0},{"$f":"COUNTIFS(HData!$W$3:$W$48828,\">=\"&M$15,HData!$W$3:$W$48828,\"<\"&N$15,HData!$N$3:$N$48828,\"<>\")","v":0},{"$f":"COUNTIFS(HData!$W$3:$W$48828,\">=\"&N$15,HData!$W$3:$W$48828,\"<\"&O$15,HData!$N$3:$N$48828,\"<>\")","v":0},{"$f":"COUNTIFS(HData!$W$3:$W$48828,\">=\"&O$15,HData!$W$3:$W$48828,\"<\"&P$15,HData!$N$3:$N$48828,\"<>\")","v":0},{"$f":"COUNTIFS(HData!$W$3:$W$48828,\">=\"&P$15,HData!$W$3:$W$48828,\"<\"&Q$15,HData!$N$3:$N$48828,\"<>\")","v":0},{"$f":"COUNTIFS(HData!$W$3:$W$48828,\">=\"&Q$15,HData!$W$3:$W$48828,\"<\"&R$15,HData!$N$3:$N$48828,\"<>\")","v":0}]
["FFA/CP placements",{"$f":"COUNTIFS(HData!$Q$3:$Q$48828,\">=\"&B$15,HData!$Q$3:$Q$48828,\"<\"&C$15)","v":0},{"$f":"COUNTIFS(HData!$Q$3:$Q$48828,\">=\"&C$15,HData!$Q$3:$Q$48828,\"<\"&D$15)","v":0},{"$f":"COUNTIFS(HData!$Q$3:$Q$48828,\">=\"&D$15,HData!$Q$3:$Q$48828,\"<\"&E$15)","v":0},{"$f":"COUNTIFS(HData!$Q$3:$Q$48828,\">=\"&E$15,HData!$Q$3:$Q$48828,\"<\"&F$15)","v":0},{"$f":"COUNTIFS(HData!$Q$3:$Q$48828,\">=\"&F$15,HData!$Q$3:$Q$48828,\"<\"&G$15)","v":0},{"$f":"COUNTIFS(HData!$Q$3:$Q$48828,\">=\"&G$15,HData!$Q$3:$Q$48828,\"<\"&H$15)","v":0},{"$f":"COUNTIFS(HData!$Q$3:$Q$48828,\">=\"&H$15,HData!$Q$3:$Q$48828,\"<\"&I$15)","v":0},{"$f":"COUNTIFS(HData!$Q$3:$Q$48828,\">=\"&I$15,HData!$Q$3:$Q$48828,\"<\"&J$15)","v":0},{"$f":"COUNTIFS(HData!$Q$3:$Q$48828,\">=\"&J$15,HData!$Q$3:$Q$48828,\"<\"&K$15)","v":0},{"$f":"COUNTIFS(HData!$Q$3:$Q$48828,\">=\"&K$15,HData!$Q$3:$Q$48828,\"<\"&L$15)","v":0},{"$f":"COUNTIFS(HData!$Q$3:$Q$48828,\">=\"&L$15,HData!$Q$3:$Q$48828,\"<\"&M$15)","v":0},{"$f":"COUNTIFS(HData!$Q$3:$Q$48828,\">=\"&M$15,HData!$Q$3:$Q$48828,\"<\"&N$15)","v":0},{"$f":"COUNTIFS(HData!$Q$3:$Q$48828,\">=\"&N$15,HData!$Q$3:$Q$48828,\"<\"&O$15)","v":0},{"$f":"COUNTIFS(HData!$Q$3:$Q$48828,\">=\"&O$15,HData!$Q$3:$Q$48828,\"<\"&P$15)","v":0},{"$f":"COUNTIFS(HData!$Q$3:$Q$48828,\">=\"&P$15,HData!$Q$3:$Q$48828,\"<\"&Q$15)","v":0},{"$f":"COUNTIFS(HData!$Q$3:$Q$48828,\">=\"&Q$15,HData!$Q$3:$Q$48828,\"<\"&R$15)","v":0}]
["Children waiting at end of",{"$f":"COUNTIFS(HData!$O$3:$O$48828,\"<>\",HData!$O$3:$O$48828,\"<\"&C15,HData!$R$3:$R$48828,\"\",HData!$W$3:$W$48828,\"\",HData!$AB$3:$AB$48828,TRUE)+COUNTIFS(HData!$O$3:$O$48828,\"<>\",HData!$O$3:$O$48828,\"<\"&C15,HData!$R$3:$R$48828,\"\",HData!$W$3:$W$48828,\">=\"&C15,HData!$AB$3:$AB$48828,TRUE)+COUNTIFS(HData!$O$3:$O$48828,\"<>\",HData!$O$3:$O$48828,\"<\"&C15,HData!$R$3:$R$48828,\">=\"&C15,HData!$AB$3:$AB$48828,TRUE)+COUNTIFS(HData!$O$3:$O$48828,\"<>\",HData!$O$3:$O$48828,\"<\"&C15,HData!$R$3:$R$48828,\"<\"&C15,HData!$R$3:$R$48828,\"<>\",HData!$Y$3:$Y$48828,\"<\"&C15,HData!$Y$3:$Y$48828,\"<>\",HData!$W$3:$W$48828,\"\",HData!$AB$3:$AB$48828,TRUE)+COUNTIFS(HData!$O$3:$O$48828,\"<>\",HData!$O$3:$O$48828,\"<\"&C15,HData!$R$3:$R$48828,\"<\"&C15,HData!$R$3:$R$48828,\"<>\",HData!$Y$3:$Y$48828,\"<\"&C15,HData!$Y$3:$Y$48828,\"<>\",HData!$W$3:$W$48828,\">=\"&C15,HData!$AB$3:$AB$48828,TRUE)","v":0},{"$f":"COUNTIFS(HData!$O$3:$O$48828,\"<>\",HData!$O$3:$O$48828,\"<\"&D15,HData!$R$3:$R$48828,\"\",HData!$W$3:$W$48828,\"\",HData!$AB$3:$AB$48828,TRUE)+COUNTIFS(HData!$O$3:$O$48828,\"<>\",HData!$O$3:$O$48828,\"<\"&D15,HData!$R$3:$R$48828,\"\",HData!$W$3:$W$48828,\">=\"&D15,HData!$AB$3:$AB$48828,TRUE)+COUNTIFS(HData!$O$3:$O$48828,\"<>\",HData!$O$3:$O$48828,\"<\"&D15,HData!$R$3:$R$48828,\">=\"&D15,HData!$AB$3:$AB$48828,TRUE)+COUNTIFS(HData!$O$3:$O$48828,\"<>\",HData!$O$3:$O$48828,\"<\"&D15,HData!$R$3:$R$48828,\"<\"&D15,HData!$R$3:$R$48828,\"<>\",HData!$Y$3:$Y$48828,\"<\"&D15,HData!$Y$3:$Y$48828,\"<>\",HData!$W$3:$W$48828,\"\",HData!$AB$3:$AB$48828,TRUE)+COUNTIFS(HData!$O$3:$O$48828,\"<>\",HData!$O$3:$O$48828,\"<\"&D15,HData!$R$3:$R$48828,\"<\"&D15,HData!$R$3:$R$48828,\"<>\",HData!$Y$3:$Y$48828,\"<\"&D15,HData!$Y$3:$Y$48828,\"<>\",HData!$W$3:$W$48828,\">=\"&D15,HData!$AB$3:$AB$48828,TRUE)","v":0},{"$f":"COUNTIFS(HData!$O$3:$O$48828,\"<>\",HData!$O$3:$O$48828,\"<\"&E15,HData!$R$3:$R$48828,\"\",HData!$W$3:$W$48828,\"\",HData!$AB$3:$AB$48828,TRUE)+COUNTIFS(HData!$O$3:$O$48828,\"<>\",HData!$O$3:$O$48828,\"<\"&E15,HData!$R$3:$R$48828,\"\",HData!$W$3:$W$48828,\">=\"&E15,HData!$AB$3:$AB$48828,TRUE)+COUNTIFS(HData!$O$3:$O$48828,\"<>\",HData!$O$3:$O$48828,\"<\"&E15,HData!$R$3:$R$48828,\">=\"&E15,HData!$AB$3:$AB$48828,TRUE)+COUNTIFS(HData!$O$3:$O$48828,\"<>\",HData!$O$3:$O$48828,\"<\"&E15,HData!$R$3:$R$48828,\"<\"&E15,HData!$R$3:$R$48828,\"<>\",HData!$Y$3:$Y$48828,\"<\"&E15,HData!$Y$3:$Y$48828,\"<>\",HData!$W$3:$W$48828,\"\",HData!$AB$3:$AB$48828,TRUE)+COUNTIFS(HData!$O$3:$O$48828,\"<>\",HData!$O$3:$O$48828,\"<\"&E15,HData!$R$3:$R$48828,\"<\"&E15,HData!$R$3:$R$48828,\"<>\",HData!$Y$3:$Y$48828,\"<\"&E15,HData!$Y$3:$Y$48828,\"<>\",HData!$W$3:$W$48828,\">=\"&E15,HData!$AB$3:$AB$48828,TRUE)","v":0},{"$f":"COUNTIFS(HData!$O$3:$O$48828,\"<>\",HData!$O$3:$O$48828,\"<\"&F15,HData!$R$3:$R$48828,\"\",HData!$W$3:$W$48828,\"\",HData!$AB$3:$AB$48828,TRUE)+COUNTIFS(HData!$O$3:$O$48828,\"<>\",HData!$O$3:$O$48828,\"<\"&F15,HData!$R$3:$R$48828,\"\",HData!$W$3:$W$48828,\">=\"&F15,HData!$AB$3:$AB$48828,TRUE)+COUNTIFS(HData!$O$3:$O$48828,\"<>\",HData!$O$3:$O$48828,\"<\"&F15,HData!$R$3:$R$48828,\">=\"&F15,HData!$AB$3:$AB$48828,TRUE)+COUNTIFS(HData!$O$3:$O$48828,\"<>\",HData!$O$3:$O$48828,\"<\"&F15,HData!$R$3:$R$48828,\"<\"&F15,HData!$R$3:$R$48828,\"<>\",HData!$Y$3:$Y$48828,\"<\"&F15,HData!$Y$3:$Y$48828,\"<>\",HData!$W$3:$W$48828,\"\",HData!$AB$3:$AB$48828,TRUE)+COUNTIFS(HData!$O$3:$O$48828,\"<>\",HData!$O$3:$O$48828,\"<\"&F15,HData!$R$3:$R$48828,\"<\"&F15,HData!$R$3:$R$48828,\"<>\",HData!$Y$3:$Y$48828,\"<\"&F15,HData!$Y$3:$Y$48828,\"<>\",HData!$W$3:$W$48828,\">=\"&F15,HData!$AB$3:$AB$48828,TRUE)","v":0},{"$f":"COUNTIFS(HData!$O$3:$O$48828,\"<>\",HData!$O$3:$O$48828,\"<\"&G15,HData!$R$3:$R$48828,\"\",HData!$W$3:$W$48828,\"\",HData!$AB$3:$AB$48828,TRUE)+COUNTIFS(HData!$O$3:$O$48828,\"<>\",HData!$O$3:$O$48828,\"<\"&G15,HData!$R$3:$R$48828,\"\",HData!$W$3:$W$48828,\">=\"&G15,HData!$AB$3:$AB$48828,TRUE)+COUNTIFS(HData!$O$3:$O$48828,\"<>\",HData!$O$3:$O$48828,\"<\"&G15,HData!$R$3:$R$48828,\">=\"&G15,HData!$AB$3:$AB$48828,TRUE)+COUNTIFS(HData!$O$3:$O$48828,\"<>\",HData!$O$3:$O$48828,\"<\"&G15,HData!$R$3:$R$48828,\"<\"&G15,HData!$R$3:$R$48828,\"<>\",HData!$Y$3:$Y$48828,\"<\"&G15,HData!$Y$3:$Y$48828,\"<>\",HData!$W$3:$W$48828,\"\",HData!$AB$3:$AB$48828,TRUE)+COUNTIFS(HData!$O$3:$O$48828,\"<>\",HData!$O$3:$O$48828,\"<\"&G15,HData!$R$3:$R$48828,\"<\"&G15,HData!$R$3:$R$48828,\"<>\",HData!$Y$3:$Y$48828,\"<\"&G15,HData!$Y$3:$Y$48828,\"<>\",HData!$W$3:$W$48828,\">=\"&G15,HData!$AB$3:$AB$48828,TRUE)","v":0},{"$f":"COUNTIFS(HData!$O$3:$O$48828,\"<>\",HData!$O$3:$O$48828,\"<\"&H15,HData!$R$3:$R$48828,\"\",HData!$W$3:$W$48828,\"\",HData!$AB$3:$AB$48828,TRUE)+COUNTIFS(HData!$O$3:$O$48828,\"<>\",HData!$O$3:$O$48828,\"<\"&H15,HData!$R$3:$R$48828,\"\",HData!$W$3:$W$48828,\">=\"&H15,HData!$AB$3:$AB$48828,TRUE)+COUNTIFS(HData!$O$3:$O$48828,\"<>\",HData!$O$3:$O$48828,\"<\"&H15,HData!$R$3:$R$48828,\">=\"&H15,HData!$AB$3:$AB$48828,TRUE)+COUNTIFS(HData!$O$3:$O$48828,\"<>\",HData!$O$3:$O$48828,\"<\"&H15,HData!$R$3:$R$48828,\"<\"&H15,HData!$R$3:$R$48828,\"<>\",HData!$Y$3:$Y$48828,\"<\"&H15,HData!$Y$3:$Y$48828,\"<>\",HData!$W$3:$W$48828,\"\",HData!$AB$3:$AB$48828,TRUE)+COUNTIFS(HData!$O$3:$O$48828,\"<>\",HData!$O$3:$O$48828,\"<\"&H15,HData!$R$3:$R$48828,\"<\"&H15,HData!$R$3:$R$48828,\"<>\",HData!$Y$3:$Y$48828,\"<\"&H15,HData!$Y$3:$Y$48828,\"<>\",HData!$W$3:$W$48828,\">=\"&H15,HData!$AB$3:$AB$48828,TRUE)","v":0},{"$f":"COUNTIFS(HData!$O$3:$O$48828,\"<>\",HData!$O$3:$O$48828,\"<\"&I15,HData!$R$3:$R$48828,\"\",HData!$W$3:$W$48828,\"\",HData!$AB$3:$AB$48828,TRUE)+COUNTIFS(HData!$O$3:$O$48828,\"<>\",HData!$O$3:$O$48828,\"<\"&I15,HData!$R$3:$R$48828,\"\",HData!$W$3:$W$48828,\">=\"&I15,HData!$AB$3:$AB$48828,TRUE)+COUNTIFS(HData!$O$3:$O$48828,\"<>\",HData!$O$3:$O$48828,\"<\"&I15,HData!$R$3:$R$48828,\">=\"&I15,HData!$AB$3:$AB$48828,TRUE)+COUNTIFS(HData!$O$3:$O$48828,\"<>\",HData!$O$3:$O$48828,\"<\"&I15,HData!$R$3:$R$48828,\"<\"&I15,HData!$R$3:$R$48828,\"<>\",HData!$Y$3:$Y$48828,\"<\"&I15,HData!$Y$3:$Y$48828,\"<>\",HData!$W$3:$W$48828,\"\",HData!$AB$3:$AB$48828,TRUE)+COUNTIFS(HData!$O$3:$O$48828,\"<>\",HData!$O$3:$O$48828,\"<\"&I15,HData!$R$3:$R$48828,\"<\"&I15,HData!$R$3:$R$48828,\"<>\",HData!$Y$3:$Y$48828,\"<\"&I15,HData!$Y$3:$Y$48828,\"<>\",HData!$W$3:$W$48828,\">=\"&I15,HData!$AB$3:$AB$48828,TRUE)","v":0},{"$f":"COUNTIFS(HData!$O$3:$O$48828,\"<>\",HData!$O$3:$O$48828,\"<\"&J15,HData!$R$3:$R$48828,\"\",HData!$W$3:$W$48828,\"\",HData!$AB$3:$AB$48828,TRUE)+COUNTIFS(HData!$O$3:$O$48828,\"<>\",HData!$O$3:$O$48828,\"<\"&J15,HData!$R$3:$R$48828,\"\",HData!$W$3:$W$48828,\">=\"&J15,HData!$AB$3:$AB$48828,TRUE)+COUNTIFS(HData!$O$3:$O$48828,\"<>\",HData!$O$3:$O$48828,\"<\"&J15,HData!$R$3:$R$48828,\">=\"&J15,HData!$AB$3:$AB$48828,TRUE)+COUNTIFS(HData!$O$3:$O$48828,\"<>\",HData!$O$3:$O$48828,\"<\"&J15,HData!$R$3:$R$48828,\"<\"&J15,HData!$R$3:$R$48828,\"<>\",HData!$Y$3:$Y$48828,\"<\"&J15,HData!$Y$3:$Y$48828,\"<>\",HData!$W$3:$W$48828,\"\",HData!$AB$3:$AB$48828,TRUE)+COUNTIFS(HData!$O$3:$O$48828,\"<>\",HData!$O$3:$O$48828,\"<\"&J15,HData!$R$3:$R$48828,\"<\"&J15,HData!$R$3:$R$48828,\"<>\",HData!$Y$3:$Y$48828,\"<\"&J15,HData!$Y$3:$Y$48828,\"<>\",HData!$W$3:$W$48828,\">=\"&J15,HData!$AB$3:$AB$48828,TRUE)","v":0},{"$f":"COUNTIFS(HData!$O$3:$O$48828,\"<>\",HData!$O$3:$O$48828,\"<\"&K15,HData!$R$3:$R$48828,\"\",HData!$W$3:$W$48828,\"\",HData!$AB$3:$AB$48828,TRUE)+COUNTIFS(HData!$O$3:$O$48828,\"<>\",HData!$O$3:$O$48828,\"<\"&K15,HData!$R$3:$R$48828,\"\",HData!$W$3:$W$48828,\">=\"&K15,HData!$AB$3:$AB$48828,TRUE)+COUNTIFS(HData!$O$3:$O$48828,\"<>\",HData!$O$3:$O$48828,\"<\"&K15,HData!$R$3:$R$48828,\">=\"&K15,HData!$AB$3:$AB$48828,TRUE)+COUNTIFS(HData!$O$3:$O$48828,\"<>\",HData!$O$3:$O$48828,\"<\"&K15,HData!$R$3:$R$48828,\"<\"&K15,HData!$R$3:$R$48828,\"<>\",HData!$Y$3:$Y$48828,\"<\"&K15,HData!$Y$3:$Y$48828,\"<>\",HData!$W$3:$W$48828,\"\",HData!$AB$3:$AB$48828,TRUE)+COUNTIFS(HData!$O$3:$O$48828,\"<>\",HData!$O$3:$O$48828,\"<\"&K15,HData!$R$3:$R$48828,\"<\"&K15,HData!$R$3:$R$48828,\"<>\",HData!$Y$3:$Y$48828,\"<\"&K15,HData!$Y$3:$Y$48828,\"<>\",HData!$W$3:$W$48828,\">=\"&K15,HData!$AB$3:$AB$48828,TRUE)","v":0},{"$f":"COUNTIFS(HData!$O$3:$O$48828,\"<>\",HData!$O$3:$O$48828,\"<\"&L15,HData!$R$3:$R$48828,\"\",HData!$W$3:$W$48828,\"\",HData!$AB$3:$AB$48828,TRUE)+COUNTIFS(HData!$O$3:$O$48828,\"<>\",HData!$O$3:$O$48828,\"<\"&L15,HData!$R$3:$R$48828,\"\",HData!$W$3:$W$48828,\">=\"&L15,HData!$AB$3:$AB$48828,TRUE)+COUNTIFS(HData!$O$3:$O$48828,\"<>\",HData!$O$3:$O$48828,\"<\"&L15,HData!$R$3:$R$48828,\">=\"&L15,HData!$AB$3:$AB$48828,TRUE)+COUNTIFS(HData!$O$3:$O$48828,\"<>\",HData!$O$3:$O$48828,\"<\"&L15,HData!$R$3:$R$48828,\"<\"&L15,HData!$R$3:$R$48828,\"<>\",HData!$Y$3:$Y$48828,\"<\"&L15,HData!$Y$3:$Y$48828,\"<>\",HData!$W$3:$W$48828,\"\",HData!$AB$3:$AB$48828,TRUE)+COUNTIFS(HData!$O$3:$O$48828,\"<>\",HData!$O$3:$O$48828,\"<\"&L15,HData!$R$3:$R$48828,\"<\"&L15,HData!$R$3:$R$48828,\"<>\",HData!$Y$3:$Y$48828,\"<\"&L15,HData!$Y$3:$Y$48828,\"<>\",HData!$W$3:$W$48828,\">=\"&L15,HData!$AB$3:$AB$48828,TRUE)","v":0},{"$f":"COUNTIFS(HData!$O$3:$O$48828,\"<>\",HData!$O$3:$O$48828,\"<\"&M15,HData!$R$3:$R$48828,\"\",HData!$W$3:$W$48828,\"\",HData!$AB$3:$AB$48828,TRUE)+COUNTIFS(HData!$O$3:$O$48828,\"<>\",HData!$O$3:$O$48828,\"<\"&M15,HData!$R$3:$R$48828,\"\",HData!$W$3:$W$48828,\">=\"&M15,HData!$AB$3:$AB$48828,TRUE)+COUNTIFS(HData!$O$3:$O$48828,\"<>\",HData!$O$3:$O$48828,\"<\"&M15,HData!$R$3:$R$48828,\">=\"&M15,HData!$AB$3:$AB$48828,TRUE)+COUNTIFS(HData!$O$3:$O$48828,\"<>\",HData!$O$3:$O$48828,\"<\"&M15,HData!$R$3:$R$48828,\"<\"&M15,HData!$R$3:$R$48828,\"<>\",HData!$Y$3:$Y$48828,\"<\"&M15,HData!$Y$3:$Y$48828,\"<>\",HData!$W$3:$W$48828,\"\",HData!$AB$3:$AB$48828,TRUE)+COUNTIFS(HData!$O$3:$O$48828,\"<>\",HData!$O$3:$O$48828,\"<\"&M15,HData!$R$3:$R$48828,\"<\"&M15,HData!$R$3:$R$48828,\"<>\",HData!$Y$3:$Y$48828,\"<\"&M15,HData!$Y$3:$Y$48828,\"<>\",HData!$W$3:$W$48828,\">=\"&M15,HData!$AB$3:$AB$48828,TRUE)","v":0},{"$f":"COUNTIFS(HData!$O$3:$O$48828,\"<>\",HData!$O$3:$O$48828,\"<\"&N15,HData!$R$3:$R$48828,\"\",HData!$W$3:$W$48828,\"\",HData!$AB$3:$AB$48828,TRUE)+COUNTIFS(HData!$O$3:$O$48828,\"<>\",HData!$O$3:$O$48828,\"<\"&N15,HData!$R$3:$R$48828,\"\",HData!$W$3:$W$48828,\">=\"&N15,HData!$AB$3:$AB$48828,TRUE)+COUNTIFS(HData!$O$3:$O$48828,\"<>\",HData!$O$3:$O$48828,\"<\"&N15,HData!$R$3:$R$48828,\">=\"&N15,HData!$AB$3:$AB$48828,TRUE)+COUNTIFS(HData!$O$3:$O$48828,\"<>\",HData!$O$3:$O$48828,\"<\"&N15,HData!$R$3:$R$48828,\"<\"&N15,HData!$R$3:$R$48828,\"<>\",HData!$Y$3:$Y$48828,\"<\"&N15,HData!$Y$3:$Y$48828,\"<>\",HData!$W$3:$W$48828,\"\",HData!$AB$3:$AB$48828,TRUE)+COUNTIFS(HData!$O$3:$O$48828,\"<>\",HData!$O$3:$O$48828,\"<\"&N15,HData!$R$3:$R$48828,\"<\"&N15,HData!$R$3:$R$48828,\"<>\",HData!$Y$3:$Y$48828,\"<\"&N15,HData!$Y$3:$Y$48828,\"<>\",HData!$W$3:$W$48828,\">=\"&N15,HData!$AB$3:$AB$48828,TRUE)","v":0},{"$f":"COUNTIFS(HData!$O$3:$O$48828,\"<>\",HData!$O$3:$O$48828,\"<\"&O15,HData!$R$3:$R$48828,\"\",HData!$W$3:$W$48828,\"\",HData!$AB$3:$AB$48828,TRUE)+COUNTIFS(HData!$O$3:$O$48828,\"<>\",HData!$O$3:$O$48828,\"<\"&O15,HData!$R$3:$R$48828,\"\",HData!$W$3:$W$48828,\">=\"&O15,HData!$AB$3:$AB$48828,TRUE)+COUNTIFS(HData!$O$3:$O$48828,\"<>\",HData!$O$3:$O$48828,\"<\"&O15,HData!$R$3:$R$48828,\">=\"&O15,HData!$AB$3:$AB$48828,TRUE)+COUNTIFS(HData!$O$3:$O$48828,\"<>\",HData!$O$3:$O$48828,\"<\"&O15,HData!$R$3:$R$48828,\"<\"&O15,HData!$R$3:$R$48828,\"<>\",HData!$Y$3:$Y$48828,\"<\"&O15,HData!$Y$3:$Y$48828,\"<>\",HData!$W$3:$W$48828,\"\",HData!$AB$3:$AB$48828,TRUE)+COUNTIFS(HData!$O$3:$O$48828,\"<>\",HData!$O$3:$O$48828,\"<\"&O15,HData!$R$3:$R$48828,\"<\"&O15,HData!$R$3:$R$48828,\"<>\",HData!$Y$3:$Y$48828,\"<\"&O15,HData!$Y$3:$Y$48828,\"<>\",HData!$W$3:$W$48828,\">=\"&O15,HData!$AB$3:$AB$48828,TRUE)","v":0},{"$f":"COUNTIFS(HData!$O$3:$O$48828,\"<>\",HData!$O$3:$O$48828,\"<\"&P15,HData!$R$3:$R$48828,\"\",HData!$W$3:$W$48828,\"\",HData!$AB$3:$AB$48828,TRUE)+COUNTIFS(HData!$O$3:$O$48828,\"<>\",HData!$O$3:$O$48828,\"<\"&P15,HData!$R$3:$R$48828,\"\",HData!$W$3:$W$48828,\">=\"&P15,HData!$AB$3:$AB$48828,TRUE)+COUNTIFS(HData!$O$3:$O$48828,\"<>\",HData!$O$3:$O$48828,\"<\"&P15,HData!$R$3:$R$48828,\">=\"&P15,HData!$AB$3:$AB$48828,TRUE)+COUNTIFS(HData!$O$3:$O$48828,\"<>\",HData!$O$3:$O$48828,\"<\"&P15,HData!$R$3:$R$48828,\"<\"&P15,HData!$R$3:$R$48828,\"<>\",HData!$Y$3:$Y$48828,\"<\"&P15,HData!$Y$3:$Y$48828,\"<>\",HData!$W$3:$W$48828,\"\",HData!$AB$3:$AB$48828,TRUE)+COUNTIFS(HData!$O$3:$O$48828,\"<>\",HData!$O$3:$O$48828,\"<\"&P15,HData!$R$3:$R$48828,\"<\"&P15,HData!$R$3:$R$48828,\"<>\",HData!$Y$3:$Y$48828,\"<\"&P15,HData!$Y$3:$Y$48828,\"<>\",HData!$W$3:$W$48828,\">=\"&P15,HData!$AB$3:$AB$48828,TRUE)","v":0},{"$f":"COUNTIFS(HData!$O$3:$O$48828,\"<>\",HData!$O$3:$O$48828,\"<\"&Q15,HData!$R$3:$R$48828,\"\",HData!$W$3:$W$48828,\"\",HData!$AB$3:$AB$48828,TRUE)+COUNTIFS(HData!$O$3:$O$48828,\"<>\",HData!$O$3:$O$48828,\"<\"&Q15,HData!$R$3:$R$48828,\"\",HData!$W$3:$W$48828,\">=\"&Q15,HData!$AB$3:$AB$48828,TRUE)+COUNTIFS(HData!$O$3:$O$48828,\"<>\",HData!$O$3:$O$48828,\"<\"&Q15,HData!$R$3:$R$48828,\">=\"&Q15,HData!$AB$3:$AB$48828,TRUE)+COUNTIFS(HData!$O$3:$O$48828,\"<>\",HData!$O$3:$O$48828,\"<\"&Q15,HData!$R$3:$R$48828,\"<\"&Q15,HData!$R$3:$R$48828,\"<>\",HData!$Y$3:$Y$48828,\"<\"&Q15,HData!$Y$3:$Y$48828,\"<>\",HData!$W$3:$W$48828,\"\",HData!$AB$3:$AB$48828,TRUE)+COUNTIFS(HData!$O$3:$O$48828,\"<>\",HData!$O$3:$O$48828,\"<\"&Q15,HData!$R$3:$R$48828,\"<\"&Q15,HData!$R$3:$R$48828,\"<>\",HData!$Y$3:$Y$48828,\"<\"&Q15,HData!$Y$3:$Y$48828,\"<>\",HData!$W$3:$W$48828,\">=\"&Q15,HData!$AB$3:$AB$48828,TRUE)","v":0},{"$f":"COUNTIFS(HData!$O$3:$O$48828,\"<>\",HData!$O$3:$O$48828,\"<\"&R15,HData!$R$3:$R$48828,\"\",HData!$W$3:$W$48828,\"\",HData!$AB$3:$AB$48828,TRUE)+COUNTIFS(HData!$O$3:$O$48828,\"<>\",HData!$O$3:$O$48828,\"<\"&R15,HData!$R$3:$R$48828,\"\",HData!$W$3:$W$48828,\">=\"&R15,HData!$AB$3:$AB$48828,TRUE)+COUNTIFS(HData!$O$3:$O$48828,\"<>\",HData!$O$3:$O$48828,\"<\"&R15,HData!$R$3:$R$48828,\">=\"&R15,HData!$AB$3:$AB$48828,TRUE)+COUNTIFS(HData!$O$3:$O$48828,\"<>\",HData!$O$3:$O$48828,\"<\"&R15,HData!$R$3:$R$48828,\"<\"&R15,HData!$R$3:$R$48828,\"<>\",HData!$Y$3:$Y$48828,\"<\"&R15,HData!$Y$3:$Y$48828,\"<>\",HData!$W$3:$W$48828,\"\",HData!$AB$3:$AB$48828,TRUE)+COUNTIFS(HData!$O$3:$O$48828,\"<>\",HData!$O$3:$O$48828,\"<\"&R15,HData!$R$3:$R$48828,\"<\"&R15,HData!$R$3:$R$48828,\"<>\",HData!$Y$3:$Y$48828,\"<\"&R15,HData!$Y$3:$Y$48828,\"<>\",HData!$W$3:$W$48828,\">=\"&R15,HData!$AB$3:$AB$48828,TRUE)","v":0}]
["Placements with own adopters",{"$f":"COUNTIFS(HData!$R$3:$R$48828,\">=\"&B$15,HData!$R$3:$R$48828,\"<\"&C$15,HData!$AA$3:$AA$48828,\"PR1\")","v":0},{"$f":"COUNTIFS(HData!$R$3:$R$48828,\">=\"&C$15,HData!$R$3:$R$48828,\"<\"&D$15,HData!$AA$3:$AA$48828,\"PR1\")","v":0},{"$f":"COUNTIFS(HData!$R$3:$R$48828,\">=\"&D$15,HData!$R$3:$R$48828,\"<\"&E$15,HData!$AA$3:$AA$48828,\"PR1\")","v":0},{"$f":"COUNTIFS(HData!$R$3:$R$48828,\">=\"&E$15,HData!$R$3:$R$48828,\"<\"&F$15,HData!$AA$3:$AA$48828,\"PR1\")","v":0},{"$f":"COUNTIFS(HData!$R$3:$R$48828,\">=\"&F$15,HData!$R$3:$R$48828,\"<\"&G$15,HData!$AA$3:$AA$48828,\"PR1\")","v":0},{"$f":"COUNTIFS(HData!$R$3:$R$48828,\">=\"&G$15,HData!$R$3:$R$48828,\"<\"&H$15,HData!$AA$3:$AA$48828,\"PR1\")","v":0},{"$f":"COUNTIFS(HData!$R$3:$R$48828,\">=\"&H$15,HData!$R$3:$R$48828,\"<\"&I$15,HData!$AA$3:$AA$48828,\"PR1\")","v":0},{"$f":"COUNTIFS(HData!$R$3:$R$48828,\">=\"&I$15,HData!$R$3:$R$48828,\"<\"&J$15,HData!$AA$3:$AA$48828,\"PR1\")","v":0},{"$f":"COUNTIFS(HData!$R$3:$R$48828,\">=\"&J$15,HData!$R$3:$R$48828,\"<\"&K$15,HData!$AA$3:$AA$48828,\"PR1\")","v":0},{"$f":"COUNTIFS(HData!$R$3:$R$48828,\">=\"&K$15,HData!$R$3:$R$48828,\"<\"&L$15,HData!$AA$3:$AA$48828,\"PR1\")","v":0},{"$f":"COUNTIFS(HData!$R$3:$R$48828,\">=\"&L$15,HData!$R$3:$R$48828,\"<\"&M$15,HData!$AA$3:$AA$48828,\"PR1\")","v":0},{"$f":"COUNTIFS(HData!$R$3:$R$48828,\">=\"&M$15,HData!$R$3:$R$48828,\"<\"&N$15,HData!$AA$3:$AA$48828,\"PR1\")","v":0},{"$f":"COUNTIFS(HData!$R$3:$R$48828,\">=\"&N$15,HData!$R$3:$R$48828,\"<\"&O$15,HData!$AA$3:$AA$48828,\"PR1\")","v":0},{"$f":"COUNTIFS(HData!$R$3:$R$48828,\">=\"&O$15,HData!$R$3:$R$48828,\"<\"&P$15,HData!$AA$3:$AA$48828,\"PR1\")","v":0},{"$f":"COUNTIFS(HData!$R$3:$R$48828,\">=\"&P$15,HData!$R$3:$R$48828,\"<\"&Q$15,HData!$AA$3:$AA$48828,\"PR1\")","v":0},{"$f":"COUNTIFS(HData!$R$3:$R$48828,\">=\"&Q$15,HData!$R$3:$R$48828,\"<\"&R$15,HData!$AA$3:$AA$48828,\"PR1\")","v":0}]
["Placements with other LA/RAA adopters",{"$f":"COUNTIFS(HData!$R$3:$R$48828,\">=\"&B$15,HData!$R$3:$R$48828,\"<\"&C$15,HData!$AA$3:$AA$48828,\"PR2\")","v":0},{"$f":"COUNTIFS(HData!$R$3:$R$48828,\">=\"&C$15,HData!$R$3:$R$48828,\"<\"&D$15,HData!$AA$3:$AA$48828,\"PR2\")","v":0},{"$f":"COUNTIFS(HData!$R$3:$R$48828,\">=\"&D$15,HData!$R$3:$R$48828,\"<\"&E$15,HData!$AA$3:$AA$48828,\"PR2\")","v":0},{"$f":"COUNTIFS(HData!$R$3:$R$48828,\">=\"&E$15,HData!$R$3:$R$48828,\"<\"&F$15,HData!$AA$3:$AA$48828,\"PR2\")","v":0},{"$f":"COUNTIFS(HData!$R$3:$R$48828,\">=\"&F$15,HData!$R$3:$R$48828,\"<\"&G$15,HData!$AA$3:$AA$48828,\"PR2\")","v":0},{"$f":"COUNTIFS(HData!$R$3:$R$48828,\">=\"&G$15,HData!$R$3:$R$48828,\"<\"&H$15,HData!$AA$3:$AA$48828,\"PR2\")","v":0},{"$f":"COUNTIFS(HData!$R$3:$R$48828,\">=\"&H$15,HData!$R$3:$R$48828,\"<\"&I$15,HData!$AA$3:$AA$48828,\"PR2\")","v":0},{"$f":"COUNTIFS(HData!$R$3:$R$48828,\">=\"&I$15,HData!$R$3:$R$48828,\"<\"&J$15,HData!$AA$3:$AA$48828,\"PR2\")","v":0},{"$f":"COUNTIFS(HData!$R$3:$R$48828,\">=\"&J$15,HData!$R$3:$R$48828,\"<\"&K$15,HData!$AA$3:$AA$48828,\"PR2\")","v":0},{"$f":"COUNTIFS(HData!$R$3:$R$48828,\">=\"&K$15,HData!$R$3:$R$48828,\"<\"&L$15,HData!$AA$3:$AA$48828,\"PR2\")","v":0},{"$f":"COUNTIFS(HData!$R$3:$R$48828,\">=\"&L$15,HData!$R$3:$R$48828,\"<\"&M$15,HData!$AA$3:$AA$48828,\"PR2\")","v":0},{"$f":"COUNTIFS(HData!$R$3:$R$48828,\">=\"&M$15,HData!$R$3:$R$48828,\"<\"&N$15,HData!$AA$3:$AA$48828,\"PR2\")","v":0},{"$f":"COUNTIFS(HData!$R$3:$R$48828,\">=\"&N$15,HData!$R$3:$R$48828,\"<\"&O$15,HData!$AA$3:$AA$48828,\"PR2\")","v":0},{"$f":"COUNTIFS(HData!$R$3:$R$48828,\">=\"&O$15,HData!$R$3:$R$48828,\"<\"&P$15,HData!$AA$3:$AA$48828,\"PR2\")","v":0},{"$f":"COUNTIFS(HData!$R$3:$R$48828,\">=\"&P$15,HData!$R$3:$R$48828,\"<\"&Q$15,HData!$AA$3:$AA$48828,\"PR2\")","v":0},{"$f":"COUNTIFS(HData!$R$3:$R$48828,\">=\"&Q$15,HData!$R$3:$R$48828,\"<\"&R$15,HData!$AA$3:$AA$48828,\"PR2\")","v":0}]
["Placements with VAA adopters",{"$f":"COUNTIFS(HData!$R$3:$R$48828,\">=\"&B$15,HData!$R$3:$R$48828,\"<\"&C$15,HData!$AA$3:$AA$48828,\"PR5\")","v":0},{"$f":"COUNTIFS(HData!$R$3:$R$48828,\">=\"&C$15,HData!$R$3:$R$48828,\"<\"&D$15,HData!$AA$3:$AA$48828,\"PR5\")","v":0},{"$f":"COUNTIFS(HData!$R$3:$R$48828,\">=\"&D$15,HData!$R$3:$R$48828,\"<\"&E$15,HData!$AA$3:$AA$48828,\"PR5\")","v":0},{"$f":"COUNTIFS(HData!$R$3:$R$48828,\">=\"&E$15,HData!$R$3:$R$48828,\"<\"&F$15,HData!$AA$3:$AA$48828,\"PR5\")","v":0},{"$f":"COUNTIFS(HData!$R$3:$R$48828,\">=\"&F$15,HData!$R$3:$R$48828,\"<\"&G$15,HData!$AA$3:$AA$48828,\"PR5\")","v":0},{"$f":"COUNTIFS(HData!$R$3:$R$48828,\">=\"&G$15,HData!$R$3:$R$48828,\"<\"&H$15,HData!$AA$3:$AA$48828,\"PR5\")","v":0},{"$f":"COUNTIFS(HData!$R$3:$R$48828,\">=\"&H$15,HData!$R$3:$R$48828,\"<\"&I$15,HData!$AA$3:$AA$48828,\"PR5\")","v":0},{"$f":"COUNTIFS(HData!$R$3:$R$48828,\">=\"&I$15,HData!$R$3:$R$48828,\"<\"&J$15,HData!$AA$3:$AA$48828,\"PR5\")","v":0},{"$f":"COUNTIFS(HData!$R$3:$R$48828,\">=\"&J$15,HData!$R$3:$R$48828,\"<\"&K$15,HData!$AA$3:$AA$48828,\"PR5\")","v":0},{"$f":"COUNTIFS(HData!$R$3:$R$48828,\">=\"&K$15,HData!$R$3:$R$48828,\"<\"&L$15,HData!$AA$3:$AA$48828,\"PR5\")","v":0},{"$f":"COUNTIFS(HData!$R$3:$R$48828,\">=\"&L$15,HData!$R$3:$R$48828,\"<\"&M$15,HData!$AA$3:$AA$48828,\"PR5\")","v":0},{"$f":"COUNTIFS(HData!$R$3:$R$48828,\">=\"&M$15,HData!$R$3:$R$48828,\"<\"&N$15,HData!$AA$3:$AA$48828,\"PR5\")","v":0},{"$f":"COUNTIFS(HData!$R$3:$R$48828,\">=\"&N$15,HData!$R$3:$R$48828,\"<\"&O$15,HData!$AA$3:$AA$48828,\"PR5\")","v":0},{"$f":"COUNTIFS(HData!$R$3:$R$48828,\">=\"&O$15,HData!$R$3:$R$48828,\"<\"&P$15,HData!$AA$3:$AA$48828,\"PR5\")","v":0},{"$f":"COUNTIFS(HData!$R$3:$R$48828,\">=\"&P$15,HData!$R$3:$R$48828,\"<\"&Q$15,HData!$AA$3:$AA$48828,\"PR5\")","v":0},{"$f":"COUNTIFS(HData!$R$3:$R$48828,\">=\"&Q$15,HData!$R$3:$R$48828,\"<\"&R$15,HData!$AA$3:$AA$48828,\"PR5\")","v":0}]
["Adopters outside England",{"$f":"COUNTIFS(HData!$R$3:$R$48828,\">=\"&B$15,HData!$R$3:$R$48828,\"<\"&C$15,HData!$AA$3:$AA$48828,\"PR6\")","v":0},{"$f":"COUNTIFS(HData!$R$3:$R$48828,\">=\"&C$15,HData!$R$3:$R$48828,\"<\"&D$15,HData!$AA$3:$AA$48828,\"PR6\")","v":0},{"$f":"COUNTIFS(HData!$R$3:$R$48828,\">=\"&D$15,HData!$R$3:$R$48828,\"<\"&E$15,HData!$AA$3:$AA$48828,\"PR6\")","v":0},{"$f":"COUNTIFS(HData!$R$3:$R$48828,\">=\"&E$15,HData!$R$3:$R$48828,\"<\"&F$15,HData!$AA$3:$AA$48828,\"PR6\")","v":0},{"$f":"COUNTIFS(HData!$R$3:$R$48828,\">=\"&F$15,HData!$R$3:$R$48828,\"<\"&G$15,HData!$AA$3:$AA$48828,\"PR6\")","v":0},{"$f":"COUNTIFS(HData!$R$3:$R$48828,\">=\"&G$15,HData!$R$3:$R$48828,\"<\"&H$15,HData!$AA$3:$AA$48828,\"PR6\")","v":0},{"$f":"COUNTIFS(HData!$R$3:$R$48828,\">=\"&H$15,HData!$R$3:$R$48828,\"<\"&I$15,HData!$AA$3:$AA$48828,\"PR6\")","v":0},{"$f":"COUNTIFS(HData!$R$3:$R$48828,\">=\"&I$15,HData!$R$3:$R$48828,\"<\"&J$15,HData!$AA$3:$AA$48828,\"PR6\")","v":0},{"$f":"COUNTIFS(HData!$R$3:$R$48828,\">=\"&J$15,HData!$R$3:$R$48828,\"<\"&K$15,HData!$AA$3:$AA$48828,\"PR6\")","v":0},{"$f":"COUNTIFS(HData!$R$3:$R$48828,\">=\"&K$15,HData!$R$3:$R$48828,\"<\"&L$15,HData!$AA$3:$AA$48828,\"PR6\")","v":0},{"$f":"COUNTIFS(HData!$R$3:$R$48828,\">=\"&L$15,HData!$R$3:$R$48828,\"<\"&M$15,HData!$AA$3:$AA$48828,\"PR6\")","v":0},{"$f":"COUNTIFS(HData!$R$3:$R$48828,\">=\"&M$15,HData!$R$3:$R$48828,\"<\"&N$15,HData!$AA$3:$AA$48828,\"PR6\")","v":0},{"$f":"COUNTIFS(HData!$R$3:$R$48828,\">=\"&N$15,HData!$R$3:$R$48828,\"<\"&O$15,HData!$AA$3:$AA$48828,\"PR6\")","v":0},{"$f":"COUNTIFS(HData!$R$3:$R$48828,\">=\"&O$15,HData!$R$3:$R$48828,\"<\"&P$15,HData!$AA$3:$AA$48828,\"PR6\")","v":0},{"$f":"COUNTIFS(HData!$R$3:$R$48828,\">=\"&P$15,HData!$R$3:$R$48828,\"<\"&Q$15,HData!$AA$3:$AA$48828,\"PR6\")","v":0},{"$f":"COUNTIFS(HData!$R$3:$R$48828,\">=\"&Q$15,HData!$R$3:$R$48828,\"<\"&R$15,HData!$AA$3:$AA$48828,\"PR6\")","v":0}]
["% Children not placed in next quarter",{"$f":"IF(B24>0,(B24-COUNTIFS(HData!$R$3:$R$48828,\">=\"&C$15,HData!$R$3:$R$48828,\"<\"&D$15,HData!$O$3:$O$48828,\"<\"&C15))/B24,\"\")","v":""},{"$f":"IF(C24>0,(C24-COUNTIFS(HData!$R$3:$R$48828,\">=\"&D$15,HData!$R$3:$R$48828,\"<\"&E$15,HData!$O$3:$O$48828,\"<\"&D15))/C24,\"\")","v":""},{"$f":"IF(D24>0,(D24-COUNTIFS(HData!$R$3:$R$48828,\">=\"&E$15,HData!$R$3:$R$48828,\"<\"&F$15,HData!$O$3:$O$48828,\"<\"&E15))/D24,\"\")","v":""},{"$f":"IF(E24>0,(E24-COUNTIFS(HData!$R$3:$R$48828,\">=\"&F$15,HData!$R$3:$R$48828,\"<\"&G$15,HData!$O$3:$O$48828,\"<\"&F15))/E24,\"\")","v":""},{"$f":"IF(F24>0,(F24-COUNTIFS(HData!$R$3:$R$48828,\">=\"&G$15,HData!$R$3:$R$48828,\"<\"&H$15,HData!$O$3:$O$48828,\"<\"&G15))/F24,\"\")","v":""},{"$f":"IF(G24>0,(G24-COUNTIFS(HData!$R$3:$R$48828,\">=\"&H$15,HData!$R$3:$R$48828,\"<\"&I$15,HData!$O$3:$O$48828,\"<\"&H15))/G24,\"\")","v":""},{"$f":"IF(H24>0,(H24-COUNTIFS(HData!$R$3:$R$48828,\">=\"&I$15,HData!$R$3:$R$48828,\"<\"&J$15,HData!$O$3:$O$48828,\"<\"&I15))/H24,\"\")","v":""},{"$f":"IF(I24>0,(I24-COUNTIFS(HData!$R$3:$R$48828,\">=\"&J$15,HData!$R$3:$R$48828,\"<\"&K$15,HData!$O$3:$O$48828,\"<\"&J15))/I24,\"\")","v":""},{"$f":"IF(J24>0,(J24-COUNTIFS(HData!$R$3:$R$48828,\">=\"&K$15,HData!$R$3:$R$48828,\"<\"&L$15,HData!$O$3:$O$48828,\"<\"&K15))/J24,\"\")","v":""},{"$f":"IF(K24>0,(K24-COUNTIFS(HData!$R$3:$R$48828,\">=\"&L$15,HData!$R$3:$R$48828,\"<\"&M$15,HData!$O$3:$O$48828,\"<\"&L15))/K24,\"\")","v":""},{"$f":"IF(L24>0,(L24-COUNTIFS(HData!$R$3:$R$48828,\">=\"&M$15,HData!$R$3:$R$48828,\"<\"&N$15,HData!$O$3:$O$48828,\"<\"&M15))/L24,\"\")","v":""},{"$f":"IF(M24>0,(M24-COUNTIFS(HData!$R$3:$R$48828,\">=\"&N$15,HData!$R$3:$R$48828,\"<\"&O$15,HData!$O$3:$O$48828,\"<\"&N15))/M24,\"\")","v":""},{"$f":"IF(N24>0,(N24-COUNTIFS(HData!$R$3:$R$48828,\">=\"&O$15,HData!$R$3:$R$48828,\"<\"&P$15,HData!$O$3:$O$48828,\"<\"&O15))/N24,\"\")","v":""},{"$f":"IF(O24>0,(O24-COUNTIFS(HData!$R$3:$R$48828,\">=\"&P$15,HData!$R$3:$R$48828,\"<\"&Q$15,HData!$O$3:$O$48828,\"<\"&P15))/O24,\"\")","v":""},{"$f":"IF(P24>0,(P24-COUNTIFS(HData!$R$3:$R$48828,\">=\"&Q$15,HData!$R$3:$R$48828,\"<\"&R$15,HData!$O$3:$O$48828,\"<\"&Q15))/P24,\"\")","v":""},{"$f":"IF(Q24>0,(Q24-COUNTIFS(HData!$R$3:$R$48828,\">=\"&R$15,HData!$R$3:$R$48828,\"<\"&S$15,HData!$O$3:$O$48828,\"<\"&R15))/Q24,\"\")","v":""},{"$f":"IF(R24>0,(R24-COUNTIFS(HData!$R$3:$R$48828,\">=\"&S$15,HData!$R$3:$R$48828,\"<\"&T$15,HData!$O$3:$O$48828,\"<\"&S15))/R24,\"\")","v":""},{"$f":"IF(S24>0,(S24-COUNTIFS(HData!$R$3:$R$48828,\">=\"&T$15,HData!$R$3:$R$48828,\"<\"&U$15,HData!$O$3:$O$48828,\"<\"&T15))/S24,\"\")","v":""},{"$f":"IF(T24>0,(T24-COUNTIFS(HData!$R$3:$R$48828,\">=\"&U$15,HData!$R$3:$R$48828,\"<\"&V$15,HData!$O$3:$O$48828,\"<\"&U15))/T24,\"\")","v":""},{"$f":"IF(U24>0,(U24-COUNTIFS(HData!$R$3:$R$48828,\">=\"&V$15,HData!$R$3:$R$48828,\"<\"&W$15,HData!$O$3:$O$48828,\"<\"&V15))/U24,\"\")","v":""},{"$f":"IF(V24>0,(V24-COUNTIFS(HData!$R$3:$R$48828,\">=\"&W$15,HData!$R$3:$R$48828,\"<\"&X$15,HData!$O$3:$O$48828,\"<\"&W15))/V24,\"\")","v":""},{"$f":"IF(W24>0,(W24-COUNTIFS(HData!$R$3:$R$48828,\">=\"&X$15,HData!$R$3:$R$48828,\"<\"&Y$15,HData!$O$3:$O$48828,\"<\"&X15))/W24,\"\")","v":""},{"$f":"IF(X24>0,(X24-COUNTIFS(HData!$R$3:$R$48828,\">=\"&Y$15,HData!$R$3:$R$48828,\"<\"&Z$15,HData!$O$3:$O$48828,\"<\"&Y15))/X24,\"\")","v":""},{"$f":"IF(Y24>0,(Y24-COUNTIFS(HData!$R$3:$R$48828,\">=\"&Z$15,HData!$R$3:$R$48828,\"<\"&AA$15,HData!$O$3:$O$48828,\"<\"&Z15))/Y24,\"\")","v":""},{"$f":"IF(Z24>0,(Z24-COUNTIFS(HData!$R$3:$R$48828,\">=\"&AA$15,HData!$R$3:$R$48828,\"<\"&AB$15,HData!$O$3:$O$48828,\"<\"&AA15))/Z24,\"\")","v":""},{"$f":"IF(AA24>0,(AA24-COUNTIFS(HData!$R$3:$R$48828,\">=\"&AB$15,HData!$R$3:$R$48828,\"<\"&AC$15,HData!$O$3:$O$48828,\"<\"&AB15))/AA24,\"\")","v":""},{"$f":"IF(AB24>0,(AB24-COUNTIFS(HData!$R$3:$R$48828,\">=\"&AC$15,HData!$R$3:$R$48828,\"<\"&AD$15,HData!$O$3:$O$48828,\"<\"&AC15))/AB24,\"\")","v":""},{"$f":"IF(AC24>0,(AC24-COUNTIFS(HData!$R$3:$R$48828,\">=\"&AD$15,HData!$R$3:$R$48828,\"<\"&AE$15,HData!$O$3:$O$48828,\"<\"&AD15))/AC24,\"\")","v":""},{"$f":"IF(AD24>0,(AD24-COUNTIFS(HData!$R$3:$R$48828,\">=\"&AE$15,HData!$R$3:$R$48828,\"<\"&AF$15,HData!$O$3:$O$48828,\"<\"&AE15))/AD24,\"\")","v":""},{"$f":"IF(AE24>0,(AE24-COUNTIFS(HData!$R$3:$R$48828,\">=\"&AF$15,HData!$R$3:$R$48828,\"<\"&AG$15,HData!$O$3:$O$48828,\"<\"&AF15))/AE24,\"\")","v":""},{"$f":"IF(AF24>0,(AF24-COUNTIFS(HData!$R$3:$R$48828,\">=\"&AG$15,HData!$R$3:$R$48828,\"<\"&AH$15,HData!$O$3:$O$48828,\"<\"&AG15))/AF24,\"\")","v":""},{"$f":"IF(AG24>0,(AG24-COUNTIFS(HData!$R$3:$R$48828,\">=\"&AH$15,HData!$R$3:$R$48828,\"<\"&AI$15,HData!$O$3:$O$48828,\"<\"&AH15))/AG24,\"\")","v":""}]
["Rate of ADM BI under 5 at BLA",{"$f":"IF(ISNA(MATCH(B16,Instructions!$B$34:$K$34,0)),\"\",IF(HLOOKUP(B16,Instructions!$B$34:$K$35,2,FALSE)>0,COUNTIFS(HData!$N$3:$N$48828,\">=\"&B$15,HData!$N$3:$N$48828,\"<\"&C$15,HData!$AB$3:$AB$48828,TRUE,HData!$BI$3:$BI$48828,\"<5\")*100/HLOOKUP(B16,Instructions!$B$34:$K$35,2,FALSE),\"\"))","v":""},{"$f":"IF(ISNA(MATCH(C16,Instructions!$B$34:$K$34,0)),\"\",IF(HLOOKUP(C16,Instructions!$B$34:$K$35,2,FALSE)>0,COUNTIFS(HData!$N$3:$N$48828,\">=\"&C$15,HData!$N$3:$N$48828,\"<\"&D$15,HData!$AB$3:$AB$48828,TRUE,HData!$BI$3:$BI$48828,\"<5\")*100/HLOOKUP(C16,Instructions!$B$34:$K$35,2,FALSE),\"\"))","v":""},{"$f":"IF(ISNA(MATCH(D16,Instructions!$B$34:$K$34,0)),\"\",IF(HLOOKUP(D16,Instructions!$B$34:$K$35,2,FALSE)>0,COUNTIFS(HData!$N$3:$N$48828,\">=\"&D$15,HData!$N$3:$N$48828,\"<\"&E$15,HData!$AB$3:$AB$48828,TRUE,HData!$BI$3:$BI$48828,\"<5\")*100/HLOOKUP(D16,Instructions!$B$34:$K$35,2,FALSE),\"\"))","v":""},{"$f":"IF(ISNA(MATCH(E16,Instructions!$B$34:$K$34,0)),\"\",IF(HLOOKUP(E16,Instructions!$B$34:$K$35,2,FALSE)>0,COUNTIFS(HData!$N$3:$N$48828,\">=\"&E$15,HData!$N$3:$N$48828,\"<\"&F$15,HData!$AB$3:$AB$48828,TRUE,HData!$BI$3:$BI$48828,\"<5\")*100/HLOOKUP(E16,Instructions!$B$34:$K$35,2,FALSE),\"\"))","v":""},{"$f":"IF(ISNA(MATCH(F16,Instructions!$B$34:$K$34,0)),\"\",IF(HLOOKUP(F16,Instructions!$B$34:$K$35,2,FALSE)>0,COUNTIFS(HData!$N$3:$N$48828,\">=\"&F$15,HData!$N$3:$N$48828,\"<\"&G$15,HData!$AB$3:$AB$48828,TRUE,HData!$BI$3:$BI$48828,\"<5\")*100/HLOOKUP(F16,Instructions!$B$34:$K$35,2,FALSE),\"\"))","v":""},{"$f":"IF(ISNA(MATCH(G16,Instructions!$B$34:$K$34,0)),\"\",IF(HLOOKUP(G16,Instructions!$B$34:$K$35,2,FALSE)>0,COUNTIFS(HData!$N$3:$N$48828,\">=\"&G$15,HData!$N$3:$N$48828,\"<\"&H$15,HData!$AB$3:$AB$48828,TRUE,HData!$BI$3:$BI$48828,\"<5\")*100/HLOOKUP(G16,Instructions!$B$34:$K$35,2,FALSE),\"\"))","v":""},{"$f":"IF(ISNA(MATCH(H16,Instructions!$B$34:$K$34,0)),\"\",IF(HLOOKUP(H16,Instructions!$B$34:$K$35,2,FALSE)>0,COUNTIFS(HData!$N$3:$N$48828,\">=\"&H$15,HData!$N$3:$N$48828,\"<\"&I$15,HData!$AB$3:$AB$48828,TRUE,HData!$BI$3:$BI$48828,\"<5\")*100/HLOOKUP(H16,Instructions!$B$34:$K$35,2,FALSE),\"\"))","v":""},{"$f":"IF(ISNA(MATCH(I16,Instructions!$B$34:$K$34,0)),\"\",IF(HLOOKUP(I16,Instructions!$B$34:$K$35,2,FALSE)>0,COUNTIFS(HData!$N$3:$N$48828,\">=\"&I$15,HData!$N$3:$N$48828,\"<\"&J$15,HData!$AB$3:$AB$48828,TRUE,HData!$BI$3:$BI$48828,\"<5\")*100/HLOOKUP(I16,Instructions!$B$34:$K$35,2,FALSE),\"\"))","v":""},{"$f":"IF(ISNA(MATCH(J16,Instructions!$B$34:$K$34,0)),\"\",IF(HLOOKUP(J16,Instructions!$B$34:$K$35,2,FALSE)>0,COUNTIFS(HData!$N$3:$N$48828,\">=\"&J$15,HData!$N$3:$N$48828,\"<\"&K$15,HData!$AB$3:$AB$48828,TRUE,HData!$BI$3:$BI$48828,\"<5\")*100/HLOOKUP(J16,Instructions!$B$34:$K$35,2,FALSE),\"\"))","v":""},{"$f":"IF(ISNA(MATCH(K16,Instructions!$B$34:$K$34,0)),\"\",IF(HLOOKUP(K16,Instructions!$B$34:$K$35,2,FALSE)>0,COUNTIFS(HData!$N$3:$N$48828,\">=\"&K$15,HData!$N$3:$N$48828,\"<\"&L$15,HData!$AB$3:$AB$48828,TRUE,HData!$BI$3:$BI$48828,\"<5\")*100/HLOOKUP(K16,Instructions!$B$34:$K$35,2,FALSE),\"\"))","v":""},{"$f":"IF(ISNA(MATCH(L16,Instructions!$B$34:$K$34,0)),\"\",IF(HLOOKUP(L16,Instructions!$B$34:$K$35,2,FALSE)>0,COUNTIFS(HData!$N$3:$N$48828,\">=\"&L$15,HData!$N$3:$N$48828,\"<\"&M$15,HData!$AB$3:$AB$48828,TRUE,HData!$BI$3:$BI$48828,\"<5\")*100/HLOOKUP(L16,Instructions!$B$34:$K$35,2,FALSE),\"\"))","v":""},{"$f":"IF(ISNA(MATCH(M16,Instructions!$B$34:$K$34,0)),\"\",IF(HLOOKUP(M16,Instructions!$B$34:$K$35,2,FALSE)>0,COUNTIFS(HData!$N$3:$N$48828,\">=\"&M$15,HData!$N$3:$N$48828,\"<\"&N$15,HData!$AB$3:$AB$48828,TRUE,HData!$BI$3:$BI$48828,\"<5\")*100/HLOOKUP(M16,Instructions!$B$34:$K$35,2,FALSE),\"\"))","v":""},{"$f":"IF(ISNA(MATCH(N16,Instructions!$B$34:$K$34,0)),\"\",IF(HLOOKUP(N16,Instructions!$B$34:$K$35,2,FALSE)>0,COUNTIFS(HData!$N$3:$N$48828,\">=\"&N$15,HData!$N$3:$N$48828,\"<\"&O$15,HData!$AB$3:$AB$48828,TRUE,HData!$BI$3:$BI$48828,\"<5\")*100/HLOOKUP(N16,Instructions!$B$34:$K$35,2,FALSE),\"\"))","v":""},{"$f":"IF(ISNA(MATCH(O16,Instructions!$B$34:$K$34,0)),\"\",IF(HLOOKUP(O16,Instructions!$B$34:$K$35,2,FALSE)>0,COUNTIFS(HData!$N$3:$N$48828,\">=\"&O$15,HData!$N$3:$N$48828,\"<\"&P$15,HData!$AB$3:$AB$48828,TRUE,HData!$BI$3:$BI$48828,\"<5\")*100/HLOOKUP(O16,Instructions!$B$34:$K$35,2,FALSE),\"\"))","v":""},{"$f":"IF(ISNA(MATCH(P16,Instructions!$B$34:$K$34,0)),\"\",IF(HLOOKUP(P16,Instructions!$B$34:$K$35,2,FALSE)>0,COUNTIFS(HData!$N$3:$N$48828,\">=\"&P$15,HData!$N$3:$N$48828,\"<\"&Q$15,HData!$AB$3:$AB$48828,TRUE,HData!$BI$3:$BI$48828,\"<5\")*100/HLOOKUP(P16,Instructions!$B$34:$K$35,2,FALSE),\"\"))","v":""},{"$f":"IF(ISNA(MATCH(Q16,Instructions!$B$34:$K$34,0)),\"\",IF(HLOOKUP(Q16,Instructions!$B$34:$K$35,2,FALSE)>0,COUNTIFS(HData!$N$3:$N$48828,\">=\"&Q$15,HData!$N$3:$N$48828,\"<\"&R$15,HData!$AB$3:$AB$48828,TRUE,HData!$BI$3:$BI$48828,\"<5\")*100/HLOOKUP(Q16,Instructions!$B$34:$K$35,2,FALSE),\"\"))","v":""},{"$f":"IF(ISNA(MATCH(R16,Instructions!$B$34:$K$34,0)),\"\",IF(HLOOKUP(R16,Instructions!$B$34:$K$35,2,FALSE)>0,COUNTIFS(HData!$N$3:$N$48828,\">=\"&R$15,HData!$N$3:$N$48828,\"<\"&S$15,HData!$AB$3:$AB$48828,TRUE,HData!$BI$3:$BI$48828,\"<5\")*100/HLOOKUP(R16,Instructions!$B$34:$K$35,2,FALSE),\"\"))","v":""},{"$f":"IF(ISNA(MATCH(S16,Instructions!$B$34:$K$34,0)),\"\",IF(HLOOKUP(S16,Instructions!$B$34:$K$35,2,FALSE)>0,COUNTIFS(HData!$N$3:$N$48828,\">=\"&S$15,HData!$N$3:$N$48828,\"<\"&T$15,HData!$AB$3:$AB$48828,TRUE,HData!$BI$3:$BI$48828,\"<5\")*100/HLOOKUP(S16,Instructions!$B$34:$K$35,2,FALSE),\"\"))","v":""},{"$f":"IF(ISNA(MATCH(T16,Instructions!$B$34:$K$34,0)),\"\",IF(HLOOKUP(T16,Instructions!$B$34:$K$35,2,FALSE)>0,COUNTIFS(HData!$N$3:$N$48828,\">=\"&T$15,HData!$N$3:$N$48828,\"<\"&U$15,HData!$AB$3:$AB$48828,TRUE,HData!$BI$3:$BI$48828,\"<5\")*100/HLOOKUP(T16,Instructions!$B$34:$K$35,2,FALSE),\"\"))","v":""},{"$f":"IF(ISNA(MATCH(U16,Instructions!$B$34:$K$34,0)),\"\",IF(HLOOKUP(U16,Instructions!$B$34:$K$35,2,FALSE)>0,COUNTIFS(HData!$N$3:$N$48828,\">=\"&U$15,HData!$N$3:$N$48828,\"<\"&V$15,HData!$AB$3:$AB$48828,TRUE,HData!$BI$3:$BI$48828,\"<5\")*100/HLOOKUP(U16,Instructions!$B$34:$K$35,2,FALSE),\"\"))","v":""},{"$f":"IF(ISNA(MATCH(V16,Instructions!$B$34:$K$34,0)),\"\",IF(HLOOKUP(V16,Instructions!$B$34:$K$35,2,FALSE)>0,COUNTIFS(HData!$N$3:$N$48828,\">=\"&V$15,HData!$N$3:$N$48828,\"<\"&W$15,HData!$AB$3:$AB$48828,TRUE,HData!$BI$3:$BI$48828,\"<5\")*100/HLOOKUP(V16,Instructions!$B$34:$K$35,2,FALSE),\"\"))","v":""},{"$f":"IF(ISNA(MATCH(W16,Instructions!$B$34:$K$34,0)),\"\",IF(HLOOKUP(W16,Instructions!$B$34:$K$35,2,FALSE)>0,COUNTIFS(HData!$N$3:$N$48828,\">=\"&W$15,HData!$N$3:$N$48828,\"<\"&X$15,HData!$AB$3:$AB$48828,TRUE,HData!$BI$3:$BI$48828,\"<5\")*100/HLOOKUP(W16,Instructions!$B$34:$K$35,2,FALSE),\"\"))","v":""},{"$f":"IF(ISNA(MATCH(X16,Instructions!$B$34:$K$34,0)),\"\",IF(HLOOKUP(X16,Instructions!$B$34:$K$35,2,FALSE)>0,COUNTIFS(HData!$N$3:$N$48828,\">=\"&X$15,HData!$N$3:$N$48828,\"<\"&Y$15,HData!$AB$3:$AB$48828,TRUE,HData!$BI$3:$BI$48828,\"<5\")*100/HLOOKUP(X16,Instructions!$B$34:$K$35,2,FALSE),\"\"))","v":""},{"$f":"IF(ISNA(MATCH(Y16,Instructions!$B$34:$K$34,0)),\"\",IF(HLOOKUP(Y16,Instructions!$B$34:$K$35,2,FALSE)>0,COUNTIFS(HData!$N$3:$N$48828,\">=\"&Y$15,HData!$N$3:$N$48828,\"<\"&Z$15,HData!$AB$3:$AB$48828,TRUE,HData!$BI$3:$BI$48828,\"<5\")*100/HLOOKUP(Y16,Instructions!$B$34:$K$35,2,FALSE),\"\"))","v":""},{"$f":"IF(ISNA(MATCH(Z16,Instructions!$B$34:$K$34,0)),\"\",IF(HLOOKUP(Z16,Instructions!$B$34:$K$35,2,FALSE)>0,COUNTIFS(HData!$N$3:$N$48828,\">=\"&Z$15,HData!$N$3:$N$48828,\"<\"&AA$15,HData!$AB$3:$AB$48828,TRUE,HData!$BI$3:$BI$48828,\"<5\")*100/HLOOKUP(Z16,Instructions!$B$34:$K$35,2,FALSE),\"\"))","v":""},{"$f":"IF(ISNA(MATCH(AA16,Instructions!$B$34:$K$34,0)),\"\",IF(HLOOKUP(AA16,Instructions!$B$34:$K$35,2,FALSE)>0,COUNTIFS(HData!$N$3:$N$48828,\">=\"&AA$15,HData!$N$3:$N$48828,\"<\"&AB$15,HData!$AB$3:$AB$48828,TRUE,HData!$BI$3:$BI$48828,\"<5\")*100/HLOOKUP(AA16,Instructions!$B$34:$K$35,2,FALSE),\"\"))","v":""},{"$f":"IF(ISNA(MATCH(AB16,Instructions!$B$34:$K$34,0)),\"\",IF(HLOOKUP(AB16,Instructions!$B$34:$K$35,2,FALSE)>0,COUNTIFS(HData!$N$3:$N$48828,\">=\"&AB$15,HData!$N$3:$N$48828,\"<\"&AC$15,HData!$AB$3:$AB$48828,TRUE,HData!$BI$3:$BI$48828,\"<5\")*100/HLOOKUP(AB16,Instructions!$B$34:$K$35,2,FALSE),\"\"))","v":""},{"$f":"IF(ISNA(MATCH(AC16,Instructions!$B$34:$K$34,0)),\"\",IF(HLOOKUP(AC16,Instructions!$B$34:$K$35,2,FALSE)>0,COUNTIFS(HData!$N$3:$N$48828,\">=\"&AC$15,HData!$N$3:$N$48828,\"<\"&AD$15,HData!$AB$3:$AB$48828,TRUE,HData!$BI$3:$BI$48828,\"<5\")*100/HLOOKUP(AC16,Instructions!$B$34:$K$35,2,FALSE),\"\"))","v":""},{"$f":"IF(ISNA(MATCH(AD16,Instructions!$B$34:$K$34,0)),\"\",IF(HLOOKUP(AD16,Instructions!$B$34:$K$35,2,FALSE)>0,COUNTIFS(HData!$N$3:$N$48828,\">=\"&AD$15,HData!$N$3:$N$48828,\"<\"&AE$15,HData!$AB$3:$AB$48828,TRUE,HData!$BI$3:$BI$48828,\"<5\")*100/HLOOKUP(AD16,Instructions!$B$34:$K$35,2,FALSE),\"\"))","v":""},{"$f":"IF(ISNA(MATCH(AE16,Instructions!$B$34:$K$34,0)),\"\",IF(HLOOKUP(AE16,Instructions!$B$34:$K$35,2,FALSE)>0,COUNTIFS(HData!$N$3:$N$48828,\">=\"&AE$15,HData!$N$3:$N$48828,\"<\"&AF$15,HData!$AB$3:$AB$48828,TRUE,HData!$BI$3:$BI$48828,\"<5\")*100/HLOOKUP(AE16,Instructions!$B$34:$K$35,2,FALSE),\"\"))","v":""},{"$f":"IF(ISNA(MATCH(AF16,Instructions!$B$34:$K$34,0)),\"\",IF(HLOOKUP(AF16,Instructions!$B$34:$K$35,2,FALSE)>0,COUNTIFS(HData!$N$3:$N$48828,\">=\"&AF$15,HData!$N$3:$N$48828,\"<\"&AG$15,HData!$AB$3:$AB$48828,TRUE,HData!$BI$3:$BI$48828,\"<5\")*100/HLOOKUP(AF16,Instructions!$B$34:$K$35,2,FALSE),\"\"))","v":""},{"$f":"IF(ISNA(MATCH(AG16,Instructions!$B$34:$K$34,0)),\"\",IF(HLOOKUP(AG16,Instructions!$B$34:$K$35,2,FALSE)>0,COUNTIFS(HData!$N$3:$N$48828,\">=\"&AG$15,HData!$N$3:$N$48828,\"<\"&AH$15,HData!$AB$3:$AB$48828,TRUE,HData!$BI$3:$BI$48828,\"<5\")*100/HLOOKUP(AG16,Instructions!$B$34:$K$35,2,FALSE),\"\"))","v":""}]
[null,{"$f":"B6","v":"2023-04-01"},{"$f":"EDATE(B31,12)","v":"2024-04-01"},{"$f":"EDATE(C31,12)","v":"2025-04-01"},{"$f":"EDATE(D31,12)","v":"2026-04-01"},{"$f":"EDATE(E31,12)","v":"2027-04-01"}]
["ANNUALLY",{"$f":"IF(AND(RDate>=A31,RDate<B31),RDate+1,B31)","v":"2023-04-01"},{"$f":"IF(AND(RDate>=B31,RDate<C31),RDate+1,C31)","v":"2024-04-01"},"2025-04-01","2026-04-01",{"$f":"IF(AND(RDate>=E31,RDate<F31),RDate+1,F31)","v":"2026-07-01"}]
[null,{"$f":"YEAR(B31)&\"/\"&RIGHT(YEAR(B31)+1,2)","v":"2023/24"},{"$f":"YEAR(C31)&\"/\"&RIGHT(YEAR(C31)+1,2)","v":"2024/25"},"2025/26","2026/27"]
["AO",{"$f":"COUNTIFS(HData!$T$3:$T$48828,\">=\"&B$32,HData!$T$3:$T$48828,\"<\"&C$32)","v":0},{"$f":"COUNTIFS(HData!$T$3:$T$48828,\">=\"&C$32,HData!$T$3:$T$48828,\"<\"&D$32)","v":0},{"$f":"COUNTIFS(HData!$T$3:$T$48828,\">=\"&D$32,HData!$T$3:$T$48828,\"<\"&E$32)","v":0},{"$f":"COUNTIFS(HData!$T$3:$T$48828,\">=\"&E$32,HData!$T$3:$T$48828,\"<\"&F$32)","v":0}]
["Placements",{"$f":"COUNTIFS(HData!$R$3:$R$48828,\">=\"&B$32,HData!$R$3:$R$48828,\"<\"&C$32)","v":0},{"$f":"COUNTIFS(HData!$R$3:$R$48828,\">=\"&C$32,HData!$R$3:$R$48828,\"<\"&D$32)","v":0},{"$f":"COUNTIFS(HData!$R$3:$R$48828,\">=\"&D$32,HData!$R$3:$R$48828,\"<\"&E$32)","v":0},{"$f":"COUNTIFS(HData!$R$3:$R$48828,\">=\"&E$32,HData!$R$3:$R$48828,\"<\"&F$32)","v":0}]
["Matches",{"$f":"COUNTIFS(HData!$P$3:$P$48828,\">=\"&B$32,HData!$P$3:$P$48828,\"<\"&C$32)","v":0},{"$f":"COUNTIFS(HData!$P$3:$P$48828,\">=\"&C$32,HData!$P$3:$P$48828,\"<\"&D$32)","v":0},{"$f":"COUNTIFS(HData!$P$3:$P$48828,\">=\"&D$32,HData!$P$3:$P$48828,\"<\"&E$32)","v":0},{"$f":"COUNTIFS(HData!$P$3:$P$48828,\">=\"&E$32,HData!$P$3:$P$48828,\"<\"&F$32)","v":0}]
["Matches under PO (match year)",{"$f":"COUNTIFS(HData!$P$3:$P$48828,\">=\"&B$32,HData!$P$3:$P$48828,\"<\"&C$32,HData!$O$3:$O$48828,\"<>\")","v":0},{"$f":"COUNTIFS(HData!$P$3:$P$48828,\">=\"&C$32,HData!$P$3:$P$48828,\"<\"&D$32,HData!$O$3:$O$48828,\"<>\")","v":0},{"$f":"COUNTIFS(HData!$P$3:$P$48828,\">=\"&D$32,HData!$P$3:$P$48828,\"<\"&E$32,HData!$O$3:$O$48828,\"<>\")","v":0},{"$f":"COUNTIFS(HData!$P$3:$P$48828,\">=\"&E$32,HData!$P$3:$P$48828,\"<\"&F$32,HData!$O$3:$O$48828,\"<>\")","v":0}]
["Matched under PO (AO year)",{"$f":"COUNTIFS(HData!$T$3:$T$48828,\">=\"&B$32,HData!$T$3:$T$48828,\"<\"&C$32,HData!$O$3:$O$48828,\"<>\",HData!$P$3:$P$48828,\"<>\")","v":0},{"$f":"COUNTIFS(HData!$T$3:$T$48828,\">=\"&C$32,HData!$T$3:$T$48828,\"<\"&D$32,HData!$O$3:$O$48828,\"<>\",HData!$P$3:$P$48828,\"<>\")","v":0},{"$f":"COUNTIFS(HData!$T$3:$T$48828,\">=\"&D$32,HData!$T$3:$T$48828,\"<\"&E$32,HData!$O$3:$O$48828,\"<>\",HData!$P$3:$P$48828,\"<>\")","v":0},{"$f":"COUNTIFS(HData!$T$3:$T$48828,\">=\"&E$32,HData!$T$3:$T$48828,\"<\"&F$32,HData!$O$3:$O$48828,\"<>\",HData!$P$3:$P$48828,\"<>\")","v":0}]
["Matches under PO (PO year)",{"$f":"COUNTIFS(HData!$O$3:$O$48828,\">=\"&B$32,HData!$O$3:$O$48828,\"<\"&C$32,HData!$P$3:$P$48828,\"<>\")","v":0},{"$f":"COUNTIFS(HData!$O$3:$O$48828,\">=\"&C$32,HData!$O$3:$O$48828,\"<\"&D$32,HData!$P$3:$P$48828,\"<>\")","v":0},{"$f":"COUNTIFS(HData!$O$3:$O$48828,\">=\"&D$32,HData!$O$3:$O$48828,\"<\"&E$32,HData!$P$3:$P$48828,\"<>\")","v":0},{"$f":"COUNTIFS(HData!$O$3:$O$48828,\">=\"&E$32,HData!$O$3:$O$48828,\"<\"&F$32,HData!$P$3:$P$48828,\"<>\")","v":0}]
["PO",{"$f":"COUNTIFS(HData!$O$3:$O$48828,\">=\"&B$32,HData!$O$3:$O$48828,\"<\"&C$32,HData!$AB$3:$AB$48828,TRUE)","v":0},{"$f":"COUNTIFS(HData!$O$3:$O$48828,\">=\"&C$32,HData!$O$3:$O$48828,\"<\"&D$32,HData!$AB$3:$AB$48828,TRUE)","v":0},{"$f":"COUNTIFS(HData!$O$3:$O$48828,\">=\"&D$32,HData!$O$3:$O$48828,\"<\"&E$32,HData!$AB$3:$AB$48828,TRUE)","v":0},{"$f":"COUNTIFS(HData!$O$3:$O$48828,\">=\"&E$32,HData!$O$3:$O$48828,\"<\"&F$32,HData!$AB$3:$AB$48828,TRUE)","v":0}]
["ADM BI",{"$f":"COUNTIFS(HData!$N$3:$N$48828,\">=\"&B$32,HData!$N$3:$N$48828,\"<\"&C$32,HData!$AB$3:$AB$48828,TRUE)","v":0},{"$f":"COUNTIFS(HData!$N$3:$N$48828,\">=\"&C$32,HData!$N$3:$N$48828,\"<\"&D$32,HData!$AB$3:$AB$48828,TRUE)","v":0},{"$f":"COUNTIFS(HData!$N$3:$N$48828,\">=\"&D$32,HData!$N$3:$N$48828,\"<\"&E$32,HData!$AB$3:$AB$48828,TRUE)","v":0},{"$f":"COUNTIFS(HData!$N$3:$N$48828,\">=\"&E$32,HData!$N$3:$N$48828,\"<\"&F$32,HData!$AB$3:$AB$48828,TRUE)","v":0}]
["FFA/CP",{"$f":"COUNTIFS(HData!$Q$3:$Q$48828,\">=\"&B$32,HData!$Q$3:$Q$48828,\"<\"&C$32)","v":0},{"$f":"COUNTIFS(HData!$Q$3:$Q$48828,\">=\"&C$32,HData!$Q$3:$Q$48828,\"<\"&D$32)","v":0},{"$f":"COUNTIFS(HData!$Q$3:$Q$48828,\">=\"&D$32,HData!$Q$3:$Q$48828,\"<\"&E$32)","v":0},{"$f":"COUNTIFS(HData!$Q$3:$Q$48828,\">=\"&E$32,HData!$Q$3:$Q$48828,\"<\"&F$32)","v":0}]
["COP (BI year)",{"$f":"COUNTIFS(HData!$N$3:$N$48828,\">=\"&B$32,HData!$N$3:$N$48828,\"<\"&C$32,HData!$W$3:$W$48828,\"<>\")","v":0},{"$f":"COUNTIFS(HData!$N$3:$N$48828,\">=\"&C$32,HData!$N$3:$N$48828,\"<\"&D$32,HData!$W$3:$W$48828,\"<>\")","v":0},{"$f":"COUNTIFS(HData!$N$3:$N$48828,\">=\"&D$32,HData!$N$3:$N$48828,\"<\"&E$32,HData!$W$3:$W$48828,\"<>\")","v":0},{"$f":"COUNTIFS(HData!$N$3:$N$48828,\">=\"&E$32,HData!$N$3:$N$48828,\"<\"&F$32,HData!$W$3:$W$48828,\"<>\")","v":0}]
["COP (PO year)",{"$f":"COUNTIFS(HData!$O$3:$O$48828,\">=\"&B$32,HData!$O$3:$O$48828,\"<\"&C$32,HData!$W$3:$W$48828,\"<>\")","v":0},{"$f":"COUNTIFS(HData!$O$3:$O$48828,\">=\"&C$32,HData!$O$3:$O$48828,\"<\"&D$32,HData!$W$3:$W$48828,\"<>\")","v":0},{"$f":"COUNTIFS(HData!$O$3:$O$48828,\">=\"&D$32,HData!$O$3:$O$48828,\"<\"&E$32,HData!$W$3:$W$48828,\"<>\")","v":0},{"$f":"COUNTIFS(HData!$O$3:$O$48828,\">=\"&E$32,HData!$O$3:$O$48828,\"<\"&F$32,HData!$W$3:$W$48828,\"<>\")","v":0}]
["Placed not adopted (PO year)",{"$f":"COUNTIFS(HData!$O$3:$O$48828,\">=\"&B$32,HData!$O$3:$O$48828,\"<\"&C$32,HData!$R$3:$R$48828,\"<>\",HData!$Y$3:$Y$48828,\"\",HData!$W$3:$W$48828,\"\",HData!$X$3:$X$48828,\"\",HData!$T$3:$T$48828,\"\")","v":0},{"$f":"COUNTIFS(HData!$O$3:$O$48828,\">=\"&C$32,HData!$O$3:$O$48828,\"<\"&D$32,HData!$R$3:$R$48828,\"<>\",HData!$Y$3:$Y$48828,\"\",HData!$W$3:$W$48828,\"\",HData!$X$3:$X$48828,\"\",HData!$T$3:$T$48828,\"\")","v":0},{"$f":"COUNTIFS(HData!$O$3:$O$48828,\">=\"&D$32,HData!$O$3:$O$48828,\"<\"&E$32,HData!$R$3:$R$48828,\"<>\",HData!$Y$3:$Y$48828,\"\",HData!$W$3:$W$48828,\"\",HData!$X$3:$X$48828,\"\",HData!$T$3:$T$48828,\"\")","v":0},{"$f":"COUNTIFS(HData!$O$3:$O$48828,\">=\"&E$32,HData!$O$3:$O$48828,\"<\"&F$32,HData!$R$3:$R$48828,\"<>\",HData!$Y$3:$Y$48828,\"\",HData!$W$3:$W$48828,\"\",HData!$X$3:$X$48828,\"\",HData!$T$3:$T$48828,\"\")","v":0}]
["Waiting to be placed (PO year)",{"$f":"COUNTIFS(HData!$O$3:$O$48828,\">=\"&B$32,HData!$O$3:$O$48828,\"<\"&C$32,HData!$BT$3:$BT$48828,TRUE)","v":0},{"$f":"COUNTIFS(HData!$O$3:$O$48828,\">=\"&C$32,HData!$O$3:$O$48828,\"<\"&D$32,HData!$BT$3:$BT$48828,TRUE)","v":0},{"$f":"COUNTIFS(HData!$O$3:$O$48828,\">=\"&D$32,HData!$O$3:$O$48828,\"<\"&E$32,HData!$BT$3:$BT$48828,TRUE)","v":0},{"$f":"COUNTIFS(HData!$O$3:$O$48828,\">=\"&E$32,HData!$O$3:$O$48828,\"<\"&F$32,HData!$BT$3:$BT$48828,TRUE)","v":0}]
["Waiting to be matched (PO year)",{"$f":"COUNTIFS(HData!$O$3:$O$48828,\">=\"&B$32,HData!$O$3:$O$48828,\"<\"&C$32,HData!$BS$3:$BS$48828,TRUE)","v":0},{"$f":"COUNTIFS(HData!$O$3:$O$48828,\">=\"&C$32,HData!$O$3:$O$48828,\"<\"&D$32,HData!$BS$3:$BS$48828,TRUE)","v":0},{"$f":"COUNTIFS(HData!$O$3:$O$48828,\">=\"&D$32,HData!$O$3:$O$48828,\"<\"&E$32,HData!$BS$3:$BS$48828,TRUE)","v":0},{"$f":"COUNTIFS(HData!$O$3:$O$48828,\">=\"&E$32,HData!$O$3:$O$48828,\"<\"&F$32,HData!$BS$3:$BS$48828,TRUE)","v":0}]
["% leaving care",{"$f":"IF(ISNA(VLOOKUP($C$3,Lists!$Y$10:$AO$180,MATCH(B33,Lists!$Y$4:$AO$4,0),FALSE)),IF(ISNA(MATCH(B33,Instructions!$D$38:$E$38,0)),IF(ISNA(MATCH(B33&\"*\",Instructions!$D$38:$E$38,0)),0,B34*100/MAX(HLOOKUP(B33&\"*\",Instructions!$D$38:$E$39,2,FALSE),1)),B34*100/MAX(1,HLOOKUP(B33,Instructions!$D$38:$E$39,2,FALSE))),VLOOKUP($C$3,Lists!$Y$10:$AO$180,MATCH(B33,Lists!$Y$4:$AO$4,0),FALSE))","v":0},{"$f":"IF(ISNA(VLOOKUP($C$3,Lists!$Y$10:$AO$180,MATCH(C33,Lists!$Y$4:$AO$4,0),FALSE)),IF(ISNA(MATCH(C33,Instructions!$D$38:$E$38,0)),IF(ISNA(MATCH(C33&\"*\",Instructions!$D$38:$E$38,0)),0,C34*100/MAX(HLOOKUP(C33&\"*\",Instructions!$D$38:$E$39,2,FALSE),1)),C34*100/MAX(1,HLOOKUP(C33,Instructions!$D$38:$E$39,2,FALSE))),VLOOKUP($C$3,Lists!$Y$10:$AO$180,MATCH(C33,Lists!$Y$4:$AO$4,0),FALSE))","v":0},{"$f":"IF(\n    IFERROR(VLOOKUP($C$3,Lists!$Y$10:$AO$182,MATCH(D33,Lists!$Y$4:$AO$4,0),FALSE),\"\")<> \"\",\n    VLOOKUP($C$3,Lists!$Y$10:$AO$182,MATCH(D33,Lists!$Y$4:$AO$4,0),FALSE),\n    IF(\n        AND(\n            IFERROR(HLOOKUP(D33,Instructions!$D$38:$E$39,2,FALSE),\"\")=\"\",\n            IFERROR(HLOOKUP(D33 & \"~*\",Instructions!$D$38:$E$39,2,FALSE),\"\")=\"\"),\n            0,\n            IF(\n                NOT(ISNA(MATCH(D33,Instructions!$D$38:$E$38,0))),\n            D34*100/MAX(1,HLOOKUP(D33,Instructions!$D$38:$E$39,2,FALSE)),\n            D34*100/MAX(1,HLOOKUP(D33 & \"~*\",Instructions!$D$38:$E$39,2,FALSE)))))","v":0},{"$f":"IF(\n    IFERROR(VLOOKUP($C$3,Lists!$Y$10:$AO$182,MATCH(E33,Lists!$Y$4:$AO$4,0),FALSE),\"\")<> \"\",\n    VLOOKUP($C$3,Lists!$Y$10:$AO$182,MATCH(E33,Lists!$Y$4:$AO$4,0),FALSE),\n    IF(\n        AND(\n            IFERROR(HLOOKUP(E33,Instructions!$D$38:$E$39,2,FALSE),\"\")=\"\",\n            IFERROR(HLOOKUP(E33 & \"~*\",Instructions!$D$38:$E$39,2,FALSE),\"\")=\"\"),\n            0,\n            IF(\n                NOT(ISNA(MATCH(E33,Instructions!$D$38:$E$38,0))),\n            E34*100/MAX(1,HLOOKUP(E33,Instructions!$D$38:$E$39,2,FALSE)),\n            E34*100/MAX(1,HLOOKUP(E33 & \"~*\",Instructions!$D$38:$E$39,2,FALSE)))))","v":0}]
["BLA to ADM BI",{"$f":"IFERROR(SUMIFS(HData!$AD$3:$AD$48828,HData!$N$3:$N$48828,\">=\"&B$32,HData!$N$3:$N$48828,\"<\"&C$32,HData!$AB$3:$AB$48828,TRUE)/COUNTIFS(HData!$AD$3:$AD$48828,\">=0\",HData!$N$3:$N$48828,\">=\"&B$32,HData!$N$3:$N$48828,\"<\"&C$32,HData!$AB$3:$AB$48828,TRUE),\"\")","v":""},{"$f":"IFERROR(SUMIFS(HData!$AD$3:$AD$48828,HData!$N$3:$N$48828,\">=\"&C$32,HData!$N$3:$N$48828,\"<\"&D$32,HData!$AB$3:$AB$48828,TRUE)/COUNTIFS(HData!$AD$3:$AD$48828,\">=0\",HData!$N$3:$N$48828,\">=\"&C$32,HData!$N$3:$N$48828,\"<\"&D$32,HData!$AB$3:$AB$48828,TRUE),\"\")","v":""},{"$f":"IFERROR(SUMIFS(HData!$AD$3:$AD$48828,HData!$N$3:$N$48828,\">=\"&D$32,HData!$N$3:$N$48828,\"<\"&E$32,HData!$AB$3:$AB$48828,TRUE)/COUNTIFS(HData!$AD$3:$AD$48828,\">=0\",HData!$N$3:$N$48828,\">=\"&D$32,HData!$N$3:$N$48828,\"<\"&E$32,HData!$AB$3:$AB$48828,TRUE),\"\")","v":""},{"$f":"IFERROR(SUMIFS(HData!$AD$3:$AD$48828,HData!$N$3:$N$48828,\">=\"&E$32,HData!$N$3:$N$48828,\"<\"&F$32,HData!$AB$3:$AB$48828,TRUE)/COUNTIFS(HData!$AD$3:$AD$48828,\">=0\",HData!$N$3:$N$48828,\">=\"&E$32,HData!$N$3:$N$48828,\"<\"&F$32,HData!$AB$3:$AB$48828,TRUE),\"\")","v":""}]
["ADM BI to PO",{"$f":"IFERROR(SUMIFS(HData!$AO$3:$AO$48828,HData!$O$3:$O$48828,\">=\"&B$32,HData!$O$3:$O$48828,\"<\"&C$32,HData!$AB$3:$AB$48828,TRUE)/COUNTIFS(HData!$AO$3:$AO$48828,\">=0\",HData!$O$3:$O$48828,\">=\"&B$32,HData!$O$3:$O$48828,\"<\"&C$32,HData!$AB$3:$AB$48828,TRUE),\"\")","v":""},{"$f":"IFERROR(SUMIFS(HData!$AO$3:$AO$48828,HData!$O$3:$O$48828,\">=\"&C$32,HData!$O$3:$O$48828,\"<\"&D$32,HData!$AB$3:$AB$48828,TRUE)/COUNTIFS(HData!$AO$3:$AO$48828,\">=0\",HData!$O$3:$O$48828,\">=\"&C$32,HData!$O$3:$O$48828,\"<\"&D$32,HData!$AB$3:$AB$48828,TRUE),\"\")","v":""},{"$f":"IFERROR(SUMIFS(HData!$AO$3:$AO$48828,HData!$O$3:$O$48828,\">=\"&D$32,HData!$O$3:$O$48828,\"<\"&E$32,HData!$AB$3:$AB$48828,TRUE)/COUNTIFS(HData!$AO$3:$AO$48828,\">=0\",HData!$O$3:$O$48828,\">=\"&D$32,HData!$O$3:$O$48828,\"<\"&E$32,HData!$AB$3:$AB$48828,TRUE),\"\")","v":""},{"$f":"IFERROR(SUMIFS(HData!$AO$3:$AO$48828,HData!$O$3:$O$48828,\">=\"&E$32,HData!$O$3:$O$48828,\"<\"&F$32,HData!$AB$3:$AB$48828,TRUE)/COUNTIFS(HData!$AO$3:$AO$48828,\">=0\",HData!$O$3:$O$48828,\">=\"&E$32,HData!$O$3:$O$48828,\"<\"&F$32,HData!$AB$3:$AB$48828,TRUE),\"\")","v":""}]
["PO to match (match year)",{"$f":"IFERROR(SUMIFS(HData!$AT$3:$AT$48828,HData!$P$3:$P$48828,\">=\"&B$32,HData!$P$3:$P$48828,\"<\"&C$32)/COUNTIFS(HData!$AT$3:$AT$48828,\">=0\",HData!$P$3:$P$48828,\">=\"&B$32,HData!$P$3:$P$48828,\"<\"&C$32),\"\")","v":""},{"$f":"IFERROR(SUMIFS(HData!$AT$3:$AT$48828,HData!$P$3:$P$48828,\">=\"&C$32,HData!$P$3:$P$48828,\"<\"&D$32)/COUNTIFS(HData!$AT$3:$AT$48828,\">=0\",HData!$P$3:$P$48828,\">=\"&C$32,HData!$P$3:$P$48828,\"<\"&D$32),\"\")","v":""},{"$f":"IFERROR(SUMIFS(HData!$AT$3:$AT$48828,HData!$P$3:$P$48828,\">=\"&D$32,HData!$P$3:$P$48828,\"<\"&E$32)/COUNTIFS(HData!$AT$3:$AT$48828,\">=0\",HData!$P$3:$P$48828,\">=\"&D$32,HData!$P$3:$P$48828,\"<\"&E$32),\"\")","v":""},{"$f":"IFERROR(SUMIFS(HData!$AT$3:$AT$48828,HData!$P$3:$P$48828,\">=\"&E$32,HData!$P$3:$P$48828,\"<\"&F$32)/COUNTIFS(HData!$AT$3:$AT$48828,\">=0\",HData!$P$3:$P$48828,\">=\"&E$32,HData!$P$3:$P$48828,\"<\"&F$32),\"\")","v":""}]
["BLA to placed (placement year)",{"$f":"IFERROR(SUMIFS(HData!$AF$3:$AF$48828,HData!$R$3:$R$48828,\">=\"&B$32,HData!$R$3:$R$48828,\"<\"&C$32)/COUNTIFS(HData!$AF$3:$AF$48828,\">=0\",HData!$R$3:$R$48828,\">=\"&B$32,HData!$R$3:$R$48828,\"<\"&C$32),\"\")","v":""},{"$f":"IFERROR(SUMIFS(HData!$AF$3:$AF$48828,HData!$R$3:$R$48828,\">=\"&C$32,HData!$R$3:$R$48828,\"<\"&D$32)/COUNTIFS(HData!$AF$3:$AF$48828,\">=0\",HData!$R$3:$R$48828,\">=\"&C$32,HData!$R$3:$R$48828,\"<\"&D$32),\"\")","v":""},{"$f":"IFERROR(SUMIFS(HData!$AF$3:$AF$48828,HData!$R$3:$R$48828,\">=\"&D$32,HData!$R$3:$R$48828,\"<\"&E$32)/COUNTIFS(HData!$AF$3:$AF$48828,\">=0\",HData!$R$3:$R$48828,\">=\"&D$32,HData!$R$3:$R$48828,\"<\"&E$32),\"\")","v":""},{"$f":"IFERROR(SUMIFS(HData!$AF$3:$AF$48828,HData!$R$3:$R$48828,\">=\"&E$32,HData!$R$3:$R$48828,\"<\"&F$32)/COUNTIFS(HData!$AF$3:$AF$48828,\">=0\",HData!$R$3:$R$48828,\">=\"&E$32,HData!$R$3:$R$48828,\"<\"&F$32),\"\")","v":""}]
["Placed to AO",{"$f":"IFERROR(SUMIFS(HData!$BD$3:$BD$48828,HData!$T$3:$T$48828,\">=\"&B$32,HData!$T$3:$T$48828,\"<\"&C$32)/COUNTIFS(HData!$BD$3:$BD$48828,\">=0\",HData!$T$3:$T$48828,\">=\"&B$32,HData!$T$3:$T$48828,\"<\"&C$32),\"\")","v":""},{"$f":"IFERROR(SUMIFS(HData!$BD$3:$BD$48828,HData!$T$3:$T$48828,\">=\"&C$32,HData!$T$3:$T$48828,\"<\"&D$32)/COUNTIFS(HData!$BD$3:$BD$48828,\">=0\",HData!$T$3:$T$48828,\">=\"&C$32,HData!$T$3:$T$48828,\"<\"&D$32),\"\")","v":""},{"$f":"IFERROR(SUMIFS(HData!$BD$3:$BD$48828,HData!$T$3:$T$48828,\">=\"&D$32,HData!$T$3:$T$48828,\"<\"&E$32)/COUNTIFS(HData!$BD$3:$BD$48828,\">=0\",HData!$T$3:$T$48828,\">=\"&D$32,HData!$T$3:$T$48828,\"<\"&E$32),\"\")","v":""},{"$f":"IFERROR(SUMIFS(HData!$BD$3:$BD$48828,HData!$T$3:$T$48828,\">=\"&E$32,HData!$T$3:$T$48828,\"<\"&F$32)/COUNTIFS(HData!$BD$3:$BD$48828,\">=0\",HData!$T$3:$T$48828,\">=\"&E$32,HData!$T$3:$T$48828,\"<\"&F$32),\"\")","v":""}]
["PO to COP (by PO year)",{"$f":"IFERROR(SUMIFS(HData!$AY$3:$AY$48828,HData!$O$3:$O$48828,\">=\"&B$32,HData!$O$3:$O$48828,\"<\"&C$32)/COUNTIFS(HData!$AY$3:$AY$48828,\">=0\",HData!$O$3:$O$48828,\">=\"&B$32,HData!$O$3:$O$48828,\"<\"&C$32),\"\")","v":""},{"$f":"IFERROR(SUMIFS(HData!$AY$3:$AY$48828,HData!$O$3:$O$48828,\">=\"&C$32,HData!$O$3:$O$48828,\"<\"&D$32)/COUNTIFS(HData!$AY$3:$AY$48828,\">=0\",HData!$O$3:$O$48828,\">=\"&C$32,HData!$O$3:$O$48828,\"<\"&D$32),\"\")","v":""},{"$f":"IFERROR(SUMIFS(HData!$AY$3:$AY$48828,HData!$O$3:$O$48828,\">=\"&D$32,HData!$O$3:$O$48828,\"<\"&E$32)/COUNTIFS(HData!$AY$3:$AY$48828,\">=0\",HData!$O$3:$O$48828,\">=\"&D$32,HData!$O$3:$O$48828,\"<\"&E$32),\"\")","v":""},{"$f":"IFERROR(SUMIFS(HData!$AY$3:$AY$48828,HData!$O$3:$O$48828,\">=\"&E$32,HData!$O$3:$O$48828,\"<\"&F$32)/COUNTIFS(HData!$AY$3:$AY$48828,\">=0\",HData!$O$3:$O$48828,\">=\"&E$32,HData!$O$3:$O$48828,\"<\"&F$32),\"\")","v":""}]
["PO to match (PO year)",{"$f":"IFERROR(SUMIFS(HData!$AT$3:$AT$48828,HData!$O$3:$O$48828,\">=\"&B$32,HData!$O$3:$O$48828,\"<\"&C$32)/COUNTIFS(HData!$AT$3:$AT$48828,\">=0\",HData!$O$3:$O$48828,\">=\"&B$32,HData!$O$3:$O$48828,\"<\"&C$32),\"\")","v":""},{"$f":"IFERROR(SUMIFS(HData!$AT$3:$AT$48828,HData!$O$3:$O$48828,\">=\"&C$32,HData!$O$3:$O$48828,\"<\"&D$32)/COUNTIFS(HData!$AT$3:$AT$48828,\">=0\",HData!$O$3:$O$48828,\">=\"&C$32,HData!$O$3:$O$48828,\"<\"&D$32),\"\")","v":""},{"$f":"IFERROR(SUMIFS(HData!$AT$3:$AT$48828,HData!$O$3:$O$48828,\">=\"&D$32,HData!$O$3:$O$48828,\"<\"&E$32)/COUNTIFS(HData!$AT$3:$AT$48828,\">=0\",HData!$O$3:$O$48828,\">=\"&D$32,HData!$O$3:$O$48828,\"<\"&E$32),\"\")","v":""},{"$f":"IFERROR(SUMIFS(HData!$AT$3:$AT$48828,HData!$O$3:$O$48828,\">=\"&E$32,HData!$O$3:$O$48828,\"<\"&F$32)/COUNTIFS(HData!$AT$3:$AT$48828,\">=0\",HData!$O$3:$O$48828,\">=\"&E$32,HData!$O$3:$O$48828,\"<\"&F$32),\"\")","v":""}]
["PO to now (PO year)",{"$f":"IFERROR(SUMIFS(HData!$AZ$3:$AZ$48828,HData!$O$3:$O$48828,\">=\"&B$32,HData!$O$3:$O$48828,\"<\"&C$32,HData!$BT$3:$BT$48828,TRUE)/COUNTIFS(HData!$AZ$3:$AZ$48828,\">=0\",HData!$O$3:$O$48828,\">=\"&B$32,HData!$O$3:$O$48828,\"<\"&C$32,HData!$BT$3:$BT$48828,TRUE),\"\")","v":""},{"$f":"IFERROR(SUMIFS(HData!$AZ$3:$AZ$48828,HData!$O$3:$O$48828,\">=\"&C$32,HData!$O$3:$O$48828,\"<\"&D$32,HData!$BT$3:$BT$48828,TRUE)/COUNTIFS(HData!$AZ$3:$AZ$48828,\">=0\",HData!$O$3:$O$48828,\">=\"&C$32,HData!$O$3:$O$48828,\"<\"&D$32,HData!$BT$3:$BT$48828,TRUE),\"\")","v":""},{"$f":"IFERROR(SUMIFS(HData!$AZ$3:$AZ$48828,HData!$O$3:$O$48828,\">=\"&D$32,HData!$O$3:$O$48828,\"<\"&E$32,HData!$BT$3:$BT$48828,TRUE)/COUNTIFS(HData!$AZ$3:$AZ$48828,\">=0\",HData!$O$3:$O$48828,\">=\"&D$32,HData!$O$3:$O$48828,\"<\"&E$32,HData!$BT$3:$BT$48828,TRUE),\"\")","v":""},{"$f":"IFERROR(SUMIFS(HData!$AZ$3:$AZ$48828,HData!$O$3:$O$48828,\">=\"&E$32,HData!$O$3:$O$48828,\"<\"&F$32,HData!$BT$3:$BT$48828,TRUE)/COUNTIFS(HData!$AZ$3:$AZ$48828,\">=0\",HData!$O$3:$O$48828,\">=\"&E$32,HData!$O$3:$O$48828,\"<\"&F$32,HData!$BT$3:$BT$48828,TRUE),\"\")","v":""}]
["PO to match (AO year)",{"$f":"IFERROR(SUMIFS(HData!$AT$3:$AT$48828,HData!$R$3:$R$48828,\"<>\",HData!$T$3:$T$48828,\">=\"&B$32,HData!$T$3:$T$48828,\"<\"&C$32)/COUNTIFS(HData!$AT$3:$AT$48828,\">=0\",HData!$R$3:$R$48828,\"<>\",HData!$T$3:$T$48828,\">=\"&B$32,HData!$T$3:$T$48828,\"<\"&C$32),\"\")","v":""},{"$f":"IFERROR(SUMIFS(HData!$AT$3:$AT$48828,HData!$R$3:$R$48828,\"<>\",HData!$T$3:$T$48828,\">=\"&C$32,HData!$T$3:$T$48828,\"<\"&D$32)/COUNTIFS(HData!$AT$3:$AT$48828,\">=0\",HData!$R$3:$R$48828,\"<>\",HData!$T$3:$T$48828,\">=\"&C$32,HData!$T$3:$T$48828,\"<\"&D$32),\"\")","v":""},{"$f":"IFERROR(SUMIFS(HData!$AT$3:$AT$48828,HData!$R$3:$R$48828,\"<>\",HData!$T$3:$T$48828,\">=\"&D$32,HData!$T$3:$T$48828,\"<\"&E$32)/COUNTIFS(HData!$AT$3:$AT$48828,\">=0\",HData!$R$3:$R$48828,\"<>\",HData!$T$3:$T$48828,\">=\"&D$32,HData!$T$3:$T$48828,\"<\"&E$32),\"\")","v":""},{"$f":"IFERROR(SUMIFS(HData!$AT$3:$AT$48828,HData!$R$3:$R$48828,\"<>\",HData!$T$3:$T$48828,\">=\"&E$32,HData!$T$3:$T$48828,\"<\"&F$32)/COUNTIFS(HData!$AT$3:$AT$48828,\">=0\",HData!$R$3:$R$48828,\"<>\",HData!$T$3:$T$48828,\">=\"&E$32,HData!$T$3:$T$48828,\"<\"&F$32),\"\")","v":""}]
["BLA to placed (AO year, FC)",{"$f":"IFERROR(SUMIFS(HData!$AG$3:$AG$48828,HData!$T$3:$T$48828,\">=\"&B$32,HData!$T$3:$T$48828,\"<\"&C$32)/COUNTIFS(HData!$AG$3:$AG$48828,\">=0\",HData!$T$3:$T$48828,\">=\"&B$32,HData!$T$3:$T$48828,\"<\"&C$32),\"\")","v":""},{"$f":"IFERROR(SUMIFS(HData!$AG$3:$AG$48828,HData!$T$3:$T$48828,\">=\"&C$32,HData!$T$3:$T$48828,\"<\"&D$32)/COUNTIFS(HData!$AG$3:$AG$48828,\">=0\",HData!$T$3:$T$48828,\">=\"&C$32,HData!$T$3:$T$48828,\"<\"&D$32),\"\")","v":""},{"$f":"IFERROR(SUMIFS(HData!$AG$3:$AG$48828,HData!$T$3:$T$48828,\">=\"&D$32,HData!$T$3:$T$48828,\"<\"&E$32)/COUNTIFS(HData!$AG$3:$AG$48828,\">=0\",HData!$T$3:$T$48828,\">=\"&D$32,HData!$T$3:$T$48828,\"<\"&E$32),\"\")","v":""},{"$f":"IFERROR(SUMIFS(HData!$AG$3:$AG$48828,HData!$T$3:$T$48828,\">=\"&E$32,HData!$T$3:$T$48828,\"<\"&F$32)/COUNTIFS(HData!$AG$3:$AG$48828,\">=0\",HData!$T$3:$T$48828,\">=\"&E$32,HData!$T$3:$T$48828,\"<\"&F$32),\"\")","v":""}]
["BLA to PO (AO year)",{"$f":"IFERROR(SUMIFS(HData!$AE$3:$AE$48828,HData!$R$3:$R$48828,\"<>\",HData!$T$3:$T$48828,\">=\"&B$32,HData!$T$3:$T$48828,\"<\"&C$32)/COUNTIFS(HData!$AE$3:$AE$48828,\">=0\",HData!$R$3:$R$48828,\"<>\",HData!$T$3:$T$48828,\">=\"&B$32,HData!$T$3:$T$48828,\"<\"&C$32),\"\")","v":""},{"$f":"IFERROR(SUMIFS(HData!$AE$3:$AE$48828,HData!$R$3:$R$48828,\"<>\",HData!$T$3:$T$48828,\">=\"&C$32,HData!$T$3:$T$48828,\"<\"&D$32)/COUNTIFS(HData!$AE$3:$AE$48828,\">=0\",HData!$R$3:$R$48828,\"<>\",HData!$T$3:$T$48828,\">=\"&C$32,HData!$T$3:$T$48828,\"<\"&D$32),\"\")","v":""},{"$f":"IFERROR(SUMIFS(HData!$AE$3:$AE$48828,HData!$R$3:$R$48828,\"<>\",HData!$T$3:$T$48828,\">=\"&D$32,HData!$T$3:$T$48828,\"<\"&E$32)/COUNTIFS(HData!$AE$3:$AE$48828,\">=0\",HData!$R$3:$R$48828,\"<>\",HData!$T$3:$T$48828,\">=\"&D$32,HData!$T$3:$T$48828,\"<\"&E$32),\"\")","v":""},{"$f":"IFERROR(SUMIFS(HData!$AE$3:$AE$48828,HData!$R$3:$R$48828,\"<>\",HData!$T$3:$T$48828,\">=\"&E$32,HData!$T$3:$T$48828,\"<\"&F$32)/COUNTIFS(HData!$AE$3:$AE$48828,\">=0\",HData!$R$3:$R$48828,\"<>\",HData!$T$3:$T$48828,\">=\"&E$32,HData!$T$3:$T$48828,\"<\"&F$32),\"\")","v":""}]
["COP",{"$f":"COUNTIFS(HData!$W$3:$W$48828,\">=\"&B$32,HData!$W$3:$W$48828,\"<\"&C$32,HData!$N$3:$N$48828,\"<>\")","v":0},{"$f":"COUNTIFS(HData!$W$3:$W$48828,\">=\"&C$32,HData!$W$3:$W$48828,\"<\"&D$32,HData!$N$3:$N$48828,\"<>\")","v":0},{"$f":"COUNTIFS(HData!$W$3:$W$48828,\">=\"&D$32,HData!$W$3:$W$48828,\"<\"&E$32,HData!$N$3:$N$48828,\"<>\")","v":0},{"$f":"COUNTIFS(HData!$W$3:$W$48828,\">=\"&E$32,HData!$W$3:$W$48828,\"<\"&F$32,HData!$N$3:$N$48828,\"<>\")","v":0}]
["Private adoption (PO year)",{"$f":"COUNTIFS(HData!$O$3:$O$48828,\">=\"&B$32,HData!$O$3:$O$48828,\"<\"&C$32,HData!$R$3:$R$48828,\"\",HData!$P$3:$P$48828,\"\",HData!$T$3:$T$48828,\"<>\",HData!$T$3:$T$48828,\"<=\"&RDate)","v":0},{"$f":"COUNTIFS(HData!$O$3:$O$48828,\">=\"&C$32,HData!$O$3:$O$48828,\"<\"&D$32,HData!$R$3:$R$48828,\"\",HData!$P$3:$P$48828,\"\",HData!$T$3:$T$48828,\"<>\",HData!$T$3:$T$48828,\"<=\"&RDate)","v":0},{"$f":"COUNTIFS(HData!$O$3:$O$48828,\">=\"&D$32,HData!$O$3:$O$48828,\"<\"&E$32,HData!$R$3:$R$48828,\"\",HData!$P$3:$P$48828,\"\",HData!$T$3:$T$48828,\"<>\",HData!$T$3:$T$48828,\"<=\"&RDate)","v":0},{"$f":"COUNTIFS(HData!$O$3:$O$48828,\">=\"&E$32,HData!$O$3:$O$48828,\"<\"&F$32,HData!$R$3:$R$48828,\"\",HData!$P$3:$P$48828,\"\",HData!$T$3:$T$48828,\"<>\",HData!$T$3:$T$48828,\"<=\"&RDate)","v":0}]
["AOs with placements (AO year)",{"$f":"COUNTIFS(HData!$T$3:$T$48828,\">=\"&B$32,HData!$T$3:$T$48828,\"<\"&C$32,HData!$R$3:$R$48828,\"<>\")","v":0},{"$f":"COUNTIFS(HData!$T$3:$T$48828,\">=\"&C$32,HData!$T$3:$T$48828,\"<\"&D$32,HData!$R$3:$R$48828,\"<>\")","v":0},{"$f":"COUNTIFS(HData!$T$3:$T$48828,\">=\"&D$32,HData!$T$3:$T$48828,\"<\"&E$32,HData!$R$3:$R$48828,\"<>\")","v":0},{"$f":"COUNTIFS(HData!$T$3:$T$48828,\">=\"&E$32,HData!$T$3:$T$48828,\"<\"&F$32,HData!$R$3:$R$48828,\"<>\")","v":0}]
["Adopted (PO year)",{"$f":"COUNTIFS(HData!$O$3:$O$48828,\">=\"&B$32,HData!$O$3:$O$48828,\"<\"&C$32,HData!$T$3:$T$48828,\"<>\",HData!$T$3:$T$48828,\"<=\"&RDate)-B61","v":0},{"$f":"COUNTIFS(HData!$O$3:$O$48828,\">=\"&C$32,HData!$O$3:$O$48828,\"<\"&D$32,HData!$T$3:$T$48828,\"<>\",HData!$T$3:$T$48828,\"<=\"&RDate)-C61","v":0},{"$f":"COUNTIFS(HData!$O$3:$O$48828,\">=\"&D$32,HData!$O$3:$O$48828,\"<\"&E$32,HData!$T$3:$T$48828,\"<>\",HData!$T$3:$T$48828,\"<=\"&RDate)-D61","v":0},{"$f":"COUNTIFS(HData!$O$3:$O$48828,\">=\"&E$32,HData!$O$3:$O$48828,\"<\"&F$32,HData!$T$3:$T$48828,\"<>\",HData!$T$3:$T$48828,\"<=\"&RDate)-E61","v":0}]
["No PO granted and CoP (BID year)",{"$f":"COUNTIFS(HData!$N$3:$N$48828,\">=\"&B$32,HData!$N$3:$N$48828,\"<\"&C$32,HData!$W$3:$W$48828,\"<>\",HData!$O$3:$O$48828,\"\")","v":0},{"$f":"COUNTIFS(HData!$N$3:$N$48828,\">=\"&C$32,HData!$N$3:$N$48828,\"<\"&D$32,HData!$W$3:$W$48828,\"<>\",HData!$O$3:$O$48828,\"\")","v":0},{"$f":"COUNTIFS(HData!$N$3:$N$48828,\">=\"&D$32,HData!$N$3:$N$48828,\"<\"&E$32,HData!$W$3:$W$48828,\"<>\",HData!$O$3:$O$48828,\"\")","v":0},{"$f":"COUNTIFS(HData!$N$3:$N$48828,\">=\"&E$32,HData!$N$3:$N$48828,\"<\"&F$32,HData!$W$3:$W$48828,\"<>\",HData!$O$3:$O$48828,\"\")","v":0}]
["PO granted and CoP (BID year)",{"$f":"COUNTIFS(HData!$N$3:$N$48828,\">=\"&B$32,HData!$N$3:$N$48828,\"<\"&C$32,HData!$W$3:$W$48828,\"<>\",HData!$O$3:$O$48828,\"<>\",HData!$AB$3:$AB$48828,TRUE)","v":0},{"$f":"COUNTIFS(HData!$N$3:$N$48828,\">=\"&C$32,HData!$N$3:$N$48828,\"<\"&D$32,HData!$W$3:$W$48828,\"<>\",HData!$O$3:$O$48828,\"<>\",HData!$AB$3:$AB$48828,TRUE)","v":0},{"$f":"COUNTIFS(HData!$N$3:$N$48828,\">=\"&D$32,HData!$N$3:$N$48828,\"<\"&E$32,HData!$W$3:$W$48828,\"<>\",HData!$O$3:$O$48828,\"<>\",HData!$AB$3:$AB$48828,TRUE)","v":0},{"$f":"COUNTIFS(HData!$N$3:$N$48828,\">=\"&E$32,HData!$N$3:$N$48828,\"<\"&F$32,HData!$W$3:$W$48828,\"<>\",HData!$O$3:$O$48828,\"<>\",HData!$AB$3:$AB$48828,TRUE)","v":0}]
["PO granted and no CoP (BID year)",{"$f":"COUNTIFS(HData!$N$3:$N$48828,\">=\"&B$32,HData!$N$3:$N$48828,\"<\"&C$32,HData!$W$3:$W$48828,\"\",HData!$O$3:$O$48828,\"<>\",HData!$AB$3:$AB$48828,TRUE)","v":0},{"$f":"COUNTIFS(HData!$N$3:$N$48828,\">=\"&C$32,HData!$N$3:$N$48828,\"<\"&D$32,HData!$W$3:$W$48828,\"\",HData!$O$3:$O$48828,\"<>\",HData!$AB$3:$AB$48828,TRUE)","v":0},{"$f":"COUNTIFS(HData!$N$3:$N$48828,\">=\"&D$32,HData!$N$3:$N$48828,\"<\"&E$32,HData!$W$3:$W$48828,\"\",HData!$O$3:$O$48828,\"<>\",HData!$AB$3:$AB$48828,TRUE)","v":0},{"$f":"COUNTIFS(HData!$N$3:$N$48828,\">=\"&E$32,HData!$N$3:$N$48828,\"<\"&F$32,HData!$W$3:$W$48828,\"\",HData!$O$3:$O$48828,\"<>\",HData!$AB$3:$AB$48828,TRUE)","v":0}]
["Awaiting PO (BID year)",{"$f":"COUNTIFS(HData!$N$3:$N$48828,\">=\"&B$32,HData!$N$3:$N$48828,\"<\"&C$32,HData!$W$3:$W$48828,\"\",HData!$O$3:$O$48828,\"\")","v":0},{"$f":"COUNTIFS(HData!$N$3:$N$48828,\">=\"&C$32,HData!$N$3:$N$48828,\"<\"&D$32,HData!$W$3:$W$48828,\"\",HData!$O$3:$O$48828,\"\")","v":0},{"$f":"COUNTIFS(HData!$N$3:$N$48828,\">=\"&D$32,HData!$N$3:$N$48828,\"<\"&E$32,HData!$W$3:$W$48828,\"\",HData!$O$3:$O$48828,\"\")","v":0},{"$f":"COUNTIFS(HData!$N$3:$N$48828,\">=\"&E$32,HData!$N$3:$N$48828,\"<\"&F$32,HData!$W$3:$W$48828,\"\",HData!$O$3:$O$48828,\"\")","v":0}]
[]
["12-MONTH",{"$f":"B6","v":"2023-04-01"},"2023-05-01","2023-06-01","2023-07-01","2023-08-01","2023-09-01","2023-10-01","2023-11-01","2023-12-01","2024-01-01","2024-02-01","2024-03-01","2024-04-01","2024-05-01","2024-06-01","2024-07-01","2024-08-01","2024-09-01","2024-10-01","2024-11-01","2024-12-01","2025-01-01","2025-02-01","2025-03-01","2025-04-01","2025-05-01","2025-06-01","2025-07-01","2025-08-01","2025-09-01","2025-10-01","2025-11-01","2025-12-01","2026-01-01","2026-02-01","2026-03-01","2026-04-01"]
["ROLLING AVG",{"$f":"N6","v":"2024-04-01"},"2024-05-01","2024-06-01","2024-07-01","2024-08-01","2024-09-01","2024-10-01","2024-11-01","2024-12-01","2025-01-01","2025-02-01","2025-03-01","2025-04-01","2025-05-01","2025-06-01","2025-07-01","2025-08-01","2025-09-01","2025-10-01","2025-11-01","2025-12-01","2026-01-01","2026-02-01","2026-03-01","2026-04-01","2026-05-01","2026-06-01","2026-07-01","2026-08-01","2026-09-01","2026-10-01","2026-11-01","2026-12-01","2027-01-01","2027-02-01","2027-03-01","2027-04-01"]
["AO",{"$f":"IF(B70<=RDate+1,COUNTIFS(HData!$T$3:$T$48828,\">=\"&B$69,HData!$T$3:$T$48828,\"<\"&B$70),\"\")","v":0},{"$f":"IF(C70<=RDate+1,COUNTIFS(HData!$T$3:$T$48828,\">=\"&C$69,HData!$T$3:$T$48828,\"<\"&C$70),\"\")","v":0},{"$f":"IF(D70<=RDate+1,COUNTIFS(HData!$T$3:$T$48828,\">=\"&D$69,HData!$T$3:$T$48828,\"<\"&D$70),\"\")","v":0},{"$f":"IF(E70<=RDate+1,COUNTIFS(HData!$T$3:$T$48828,\">=\"&E$69,HData!$T$3:$T$48828,\"<\"&E$70),\"\")","v":0},{"$f":"IF(F70<=RDate+1,COUNTIFS(HData!$T$3:$T$48828,\">=\"&F$69,HData!$T$3:$T$48828,\"<\"&F$70),\"\")","v":0},{"$f":"IF(G70<=RDate+1,COUNTIFS(HData!$T$3:$T$48828,\">=\"&G$69,HData!$T$3:$T$48828,\"<\"&G$70),\"\")","v":0},{"$f":"IF(H70<=RDate+1,COUNTIFS(HData!$T$3:$T$48828,\">=\"&H$69,HData!$T$3:$T$48828,\"<\"&H$70),\"\")","v":0},{"$f":"IF(I70<=RDate+1,COUNTIFS(HData!$T$3:$T$48828,\">=\"&I$69,HData!$T$3:$T$48828,\"<\"&I$70),\"\")","v":0},{"$f":"IF(J70<=RDate+1,COUNTIFS(HData!$T$3:$T$48828,\">=\"&J$69,HData!$T$3:$T$48828,\"<\"&J$70),\"\")","v":0},{"$f":"IF(K70<=RDate+1,COUNTIFS(HData!$T$3:$T$48828,\">=\"&K$69,HData!$T$3:$T$48828,\"<\"&K$70),\"\")","v":0},{"$f":"IF(L70<=RDate+1,COUNTIFS(HData!$T$3:$T$48828,\">=\"&L$69,HData!$T$3:$T$48828,\"<\"&L$70),\"\")","v":0},{"$f":"IF(M70<=RDate+1,COUNTIFS(HData!$T$3:$T$48828,\">=\"&M$69,HData!$T$3:$T$48828,\"<\"&M$70),\"\")","v":0},{"$f":"IF(N70<=RDate+1,COUNTIFS(HData!$T$3:$T$48828,\">=\"&N$69,HData!$T$3:$T$48828,\"<\"&N$70),\"\")","v":0},{"$f":"IF(O70<=RDate+1,COUNTIFS(HData!$T$3:$T$48828,\">=\"&O$69,HData!$T$3:$T$48828,\"<\"&O$70),\"\")","v":0},{"$f":"IF(P70<=RDate+1,COUNTIFS(HData!$T$3:$T$48828,\">=\"&P$69,HData!$T$3:$T$48828,\"<\"&P$70),\"\")","v":0},{"$f":"IF(Q70<=RDate+1,COUNTIFS(HData!$T$3:$T$48828,\">=\"&Q$69,HData!$T$3:$T$48828,\"<\"&Q$70),\"\")","v":0},{"$f":"IF(R70<=RDate+1,COUNTIFS(HData!$T$3:$T$48828,\">=\"&R$69,HData!$T$3:$T$48828,\"<\"&R$70),\"\")","v":0},{"$f":"IF(S70<=RDate+1,COUNTIFS(HData!$T$3:$T$48828,\">=\"&S$69,HData!$T$3:$T$48828,\"<\"&S$70),\"\")","v":0},{"$f":"IF(T70<=RDate+1,COUNTIFS(HData!$T$3:$T$48828,\">=\"&T$69,HData!$T$3:$T$48828,\"<\"&T$70),\"\")","v":0},{"$f":"IF(U70<=RDate+1,COUNTIFS(HData!$T$3:$T$48828,\">=\"&U$69,HData!$T$3:$T$48828,\"<\"&U$70),\"\")","v":0},{"$f":"IF(V70<=RDate+1,COUNTIFS(HData!$T$3:$T$48828,\">=\"&V$69,HData!$T$3:$T$48828,\"<\"&V$70),\"\")","v":0},{"$f":"IF(W70<=RDate+1,COUNTIFS(HData!$T$3:$T$48828,\">=\"&W$69,HData!$T$3:$T$48828,\"<\"&W$70),\"\")","v":0},{"$f":"IF(X70<=RDate+1,COUNTIFS(HData!$T$3:$T$48828,\">=\"&X$69,HData!$T$3:$T$48828,\"<\"&X$70),\"\")","v":0},{"$f":"IF(Y70<=RDate+1,COUNTIFS(HData!$T$3:$T$48828,\">=\"&Y$69,HData!$T$3:$T$48828,\"<\"&Y$70),\"\")","v":0},{"$f":"IF(Z70<=RDate+1,COUNTIFS(HData!$T$3:$T$48828,\">=\"&Z$69,HData!$T$3:$T$48828,\"<\"&Z$70),\"\")","v":0},{"$f":"IF(AA70<=RDate+1,COUNTIFS(HData!$T$3:$T$48828,\">=\"&AA$69,HData!$T$3:$T$48828,\"<\"&AA$70),\"\")","v":0},{"$f":"IF(AB70<=RDate+1,COUNTIFS(HData!$T$3:$T$48828,\">=\"&AB$69,HData!$T$3:$T$48828,\"<\"&AB$70),\"\")","v":0},{"$f":"IF(AC70<=RDate+1,COUNTIFS(HData!$T$3:$T$48828,\">=\"&AC$69,HData!$T$3:$T$48828,\"<\"&AC$70),\"\")","v":0},{"$f":"IF(AD70<=RDate+1,COUNTIFS(HData!$T$3:$T$48828,\">=\"&AD$69,HData!$T$3:$T$48828,\"<\"&AD$70),\"\")","v":""},{"$f":"IF(AE70<=RDate+1,COUNTIFS(HData!$T$3:$T$48828,\">=\"&AE$69,HData!$T$3:$T$48828,\"<\"&AE$70),\"\")","v":""},{"$f":"IF(AF70<=RDate+1,COUNTIFS(HData!$T$3:$T$48828,\">=\"&AF$69,HData!$T$3:$T$48828,\"<\"&AF$70),\"\")","v":""},{"$f":"IF(AG70<=RDate+1,COUNTIFS(HData!$T$3:$T$48828,\">=\"&AG$69,HData!$T$3:$T$48828,\"<\"&AG$70),\"\")","v":""},{"$f":"IF(AH70<=RDate+1,COUNTIFS(HData!$T$3:$T$48828,\">=\"&AH$69,HData!$T$3:$T$48828,\"<\"&AH$70),\"\")","v":""},{"$f":"IF(AI70<=RDate+1,COUNTIFS(HData!$T$3:$T$48828,\">=\"&AI$69,HData!$T$3:$T$48828,\"<\"&AI$70),\"\")","v":""},{"$f":"IF(AJ70<=RDate+1,COUNTIFS(HData!$T$3:$T$48828,\">=\"&AJ$69,HData!$T$3:$T$48828,\"<\"&AJ$70),\"\")","v":""},{"$f":"IF(AK70<=RDate+1,COUNTIFS(HData!$T$3:$T$48828,\">=\"&AK$69,HData!$T$3:$T$48828,\"<\"&AK$70),\"\")","v":""},{"$f":"IF(AL70<=RDate+1,COUNTIFS(HData!$T$3:$T$48828,\">=\"&AL$69,HData!$T$3:$T$48828,\"<\"&AL$70),\"\")","v":""}]
["Placements",{"$f":"IF(B70<=RDate+1,COUNTIFS(HData!$R$3:$R$48828,\">=\"&B$69,HData!$R$3:$R$48828,\"<\"&B$70),\"\")","v":0},{"$f":"IF(C70<=RDate+1,COUNTIFS(HData!$R$3:$R$48828,\">=\"&C$69,HData!$R$3:$R$48828,\"<\"&C$70),\"\")","v":0},{"$f":"IF(D70<=RDate+1,COUNTIFS(HData!$R$3:$R$48828,\">=\"&D$69,HData!$R$3:$R$48828,\"<\"&D$70),\"\")","v":0},{"$f":"IF(E70<=RDate+1,COUNTIFS(HData!$R$3:$R$48828,\">=\"&E$69,HData!$R$3:$R$48828,\"<\"&E$70),\"\")","v":0},{"$f":"IF(F70<=RDate+1,COUNTIFS(HData!$R$3:$R$48828,\">=\"&F$69,HData!$R$3:$R$48828,\"<\"&F$70),\"\")","v":0},{"$f":"IF(G70<=RDate+1,COUNTIFS(HData!$R$3:$R$48828,\">=\"&G$69,HData!$R$3:$R$48828,\"<\"&G$70),\"\")","v":0},{"$f":"IF(H70<=RDate+1,COUNTIFS(HData!$R$3:$R$48828,\">=\"&H$69,HData!$R$3:$R$48828,\"<\"&H$70),\"\")","v":0},{"$f":"IF(I70<=RDate+1,COUNTIFS(HData!$R$3:$R$48828,\">=\"&I$69,HData!$R$3:$R$48828,\"<\"&I$70),\"\")","v":0},{"$f":"IF(J70<=RDate+1,COUNTIFS(HData!$R$3:$R$48828,\">=\"&J$69,HData!$R$3:$R$48828,\"<\"&J$70),\"\")","v":0},{"$f":"IF(K70<=RDate+1,COUNTIFS(HData!$R$3:$R$48828,\">=\"&K$69,HData!$R$3:$R$48828,\"<\"&K$70),\"\")","v":0},{"$f":"IF(L70<=RDate+1,COUNTIFS(HData!$R$3:$R$48828,\">=\"&L$69,HData!$R$3:$R$48828,\"<\"&L$70),\"\")","v":0},{"$f":"IF(M70<=RDate+1,COUNTIFS(HData!$R$3:$R$48828,\">=\"&M$69,HData!$R$3:$R$48828,\"<\"&M$70),\"\")","v":0},{"$f":"IF(N70<=RDate+1,COUNTIFS(HData!$R$3:$R$48828,\">=\"&N$69,HData!$R$3:$R$48828,\"<\"&N$70),\"\")","v":0},{"$f":"IF(O70<=RDate+1,COUNTIFS(HData!$R$3:$R$48828,\">=\"&O$69,HData!$R$3:$R$48828,\"<\"&O$70),\"\")","v":0},{"$f":"IF(P70<=RDate+1,COUNTIFS(HData!$R$3:$R$48828,\">=\"&P$69,HData!$R$3:$R$48828,\"<\"&P$70),\"\")","v":0},{"$f":"IF(Q70<=RDate+1,COUNTIFS(HData!$R$3:$R$48828,\">=\"&Q$69,HData!$R$3:$R$48828,\"<\"&Q$70),\"\")","v":0},{"$f":"IF(R70<=RDate+1,COUNTIFS(HData!$R$3:$R$48828,\">=\"&R$69,HData!$R$3:$R$48828,\"<\"&R$70),\"\")","v":0},{"$f":"IF(S70<=RDate+1,COUNTIFS(HData!$R$3:$R$48828,\">=\"&S$69,HData!$R$3:$R$48828,\"<\"&S$70),\"\")","v":0},{"$f":"IF(T70<=RDate+1,COUNTIFS(HData!$R$3:$R$48828,\">=\"&T$69,HData!$R$3:$R$48828,\"<\"&T$70),\"\")","v":0},{"$f":"IF(U70<=RDate+1,COUNTIFS(HData!$R$3:$R$48828,\">=\"&U$69,HData!$R$3:$R$48828,\"<\"&U$70),\"\")","v":0},{"$f":"IF(V70<=RDate+1,COUNTIFS(HData!$R$3:$R$48828,\">=\"&V$69,HData!$R$3:$R$48828,\"<\"&V$70),\"\")","v":0},{"$f":"IF(W70<=RDate+1,COUNTIFS(HData!$R$3:$R$48828,\">=\"&W$69,HData!$R$3:$R$48828,\"<\"&W$70),\"\")","v":0},{"$f":"IF(X70<=RDate+1,COUNTIFS(HData!$R$3:$R$48828,\">=\"&X$69,HData!$R$3:$R$48828,\"<\"&X$70),\"\")","v":0},{"$f":"IF(Y70<=RDate+1,COUNTIFS(HData!$R$3:$R$48828,\">=\"&Y$69,HData!$R$3:$R$48828,\"<\"&Y$70),\"\")","v":0},{"$f":"IF(Z70<=RDate+1,COUNTIFS(HData!$R$3:$R$48828,\">=\"&Z$69,HData!$R$3:$R$48828,\"<\"&Z$70),\"\")","v":0},{"$f":"IF(AA70<=RDate+1,COUNTIFS(HData!$R$3:$R$48828,\">=\"&AA$69,HData!$R$3:$R$48828,\"<\"&AA$70),\"\")","v":0},{"$f":"IF(AB70<=RDate+1,COUNTIFS(HData!$R$3:$R$48828,\">=\"&AB$69,HData!$R$3:$R$48828,\"<\"&AB$70),\"\")","v":0},{"$f":"IF(AC70<=RDate+1,COUNTIFS(HData!$R$3:$R$48828,\">=\"&AC$69,HData!$R$3:$R$48828,\"<\"&AC$70),\"\")","v":0},{"$f":"IF(AD70<=RDate+1,COUNTIFS(HData!$R$3:$R$48828,\">=\"&AD$69,HData!$R$3:$R$48828,\"<\"&AD$70),\"\")","v":""},{"$f":"IF(AE70<=RDate+1,COUNTIFS(HData!$R$3:$R$48828,\">=\"&AE$69,HData!$R$3:$R$48828,\"<\"&AE$70),\"\")","v":""},{"$f":"IF(AF70<=RDate+1,COUNTIFS(HData!$R$3:$R$48828,\">=\"&AF$69,HData!$R$3:$R$48828,\"<\"&AF$70),\"\")","v":""},{"$f":"IF(AG70<=RDate+1,COUNTIFS(HData!$R$3:$R$48828,\">=\"&AG$69,HData!$R$3:$R$48828,\"<\"&AG$70),\"\")","v":""},{"$f":"IF(AH70<=RDate+1,COUNTIFS(HData!$R$3:$R$48828,\">=\"&AH$69,HData!$R$3:$R$48828,\"<\"&AH$70),\"\")","v":""},{"$f":"IF(AI70<=RDate+1,COUNTIFS(HData!$R$3:$R$48828,\">=\"&AI$69,HData!$R$3:$R$48828,\"<\"&AI$70),\"\")","v":""},{"$f":"IF(AJ70<=RDate+1,COUNTIFS(HData!$R$3:$R$48828,\">=\"&AJ$69,HData!$R$3:$R$48828,\"<\"&AJ$70),\"\")","v":""},{"$f":"IF(AK70<=RDate+1,COUNTIFS(HData!$R$3:$R$48828,\">=\"&AK$69,HData!$R$3:$R$48828,\"<\"&AK$70),\"\")","v":""},{"$f":"IF(AL70<=RDate+1,COUNTIFS(HData!$R$3:$R$48828,\">=\"&AL$69,HData!$R$3:$R$48828,\"<\"&AL$70),\"\")","v":""}]
["Matches",{"$f":"IF(B$70<=RDate+1,COUNTIFS(HData!$P$3:$P$48828,\">=\"&B$69,HData!$P$3:$P$48828,\"<\"&B$70),\"\")","v":0},{"$f":"IF(C$70<=RDate+1,COUNTIFS(HData!$P$3:$P$48828,\">=\"&C$69,HData!$P$3:$P$48828,\"<\"&C$70),\"\")","v":0},{"$f":"IF(D$70<=RDate+1,COUNTIFS(HData!$P$3:$P$48828,\">=\"&D$69,HData!$P$3:$P$48828,\"<\"&D$70),\"\")","v":0},{"$f":"IF(E$70<=RDate+1,COUNTIFS(HData!$P$3:$P$48828,\">=\"&E$69,HData!$P$3:$P$48828,\"<\"&E$70),\"\")","v":0},{"$f":"IF(F$70<=RDate+1,COUNTIFS(HData!$P$3:$P$48828,\">=\"&F$69,HData!$P$3:$P$48828,\"<\"&F$70),\"\")","v":0},{"$f":"IF(G$70<=RDate+1,COUNTIFS(HData!$P$3:$P$48828,\">=\"&G$69,HData!$P$3:$P$48828,\"<\"&G$70),\"\")","v":0},{"$f":"IF(H$70<=RDate+1,COUNTIFS(HData!$P$3:$P$48828,\">=\"&H$69,HData!$P$3:$P$48828,\"<\"&H$70),\"\")","v":0},{"$f":"IF(I$70<=RDate+1,COUNTIFS(HData!$P$3:$P$48828,\">=\"&I$69,HData!$P$3:$P$48828,\"<\"&I$70),\"\")","v":0},{"$f":"IF(J$70<=RDate+1,COUNTIFS(HData!$P$3:$P$48828,\">=\"&J$69,HData!$P$3:$P$48828,\"<\"&J$70),\"\")","v":0},{"$f":"IF(K$70<=RDate+1,COUNTIFS(HData!$P$3:$P$48828,\">=\"&K$69,HData!$P$3:$P$48828,\"<\"&K$70),\"\")","v":0},{"$f":"IF(L$70<=RDate+1,COUNTIFS(HData!$P$3:$P$48828,\">=\"&L$69,HData!$P$3:$P$48828,\"<\"&L$70),\"\")","v":0},{"$f":"IF(M$70<=RDate+1,COUNTIFS(HData!$P$3:$P$48828,\">=\"&M$69,HData!$P$3:$P$48828,\"<\"&M$70),\"\")","v":0},{"$f":"IF(N$70<=RDate+1,COUNTIFS(HData!$P$3:$P$48828,\">=\"&N$69,HData!$P$3:$P$48828,\"<\"&N$70),\"\")","v":0},{"$f":"IF(O$70<=RDate+1,COUNTIFS(HData!$P$3:$P$48828,\">=\"&O$69,HData!$P$3:$P$48828,\"<\"&O$70),\"\")","v":0},{"$f":"IF(P$70<=RDate+1,COUNTIFS(HData!$P$3:$P$48828,\">=\"&P$69,HData!$P$3:$P$48828,\"<\"&P$70),\"\")","v":0},{"$f":"IF(Q$70<=RDate+1,COUNTIFS(HData!$P$3:$P$48828,\">=\"&Q$69,HData!$P$3:$P$48828,\"<\"&Q$70),\"\")","v":0},{"$f":"IF(R$70<=RDate+1,COUNTIFS(HData!$P$3:$P$48828,\">=\"&R$69,HData!$P$3:$P$48828,\"<\"&R$70),\"\")","v":0},{"$f":"IF(S$70<=RDate+1,COUNTIFS(HData!$P$3:$P$48828,\">=\"&S$69,HData!$P$3:$P$48828,\"<\"&S$70),\"\")","v":0},{"$f":"IF(T$70<=RDate+1,COUNTIFS(HData!$P$3:$P$48828,\">=\"&T$69,HData!$P$3:$P$48828,\"<\"&T$70),\"\")","v":0},{"$f":"IF(U$70<=RDate+1,COUNTIFS(HData!$P$3:$P$48828,\">=\"&U$69,HData!$P$3:$P$48828,\"<\"&U$70),\"\")","v":0},{"$f":"IF(V$70<=RDate+1,COUNTIFS(HData!$P$3:$P$48828,\">=\"&V$69,HData!$P$3:$P$48828,\"<\"&V$70),\"\")","v":0},{"$f":"IF(W$70<=RDate+1,COUNTIFS(HData!$P$3:$P$48828,\">=\"&W$69,HData!$P$3:$P$48828,\"<\"&W$70),\"\")","v":0},{"$f":"IF(X$70<=RDate+1,COUNTIFS(HData!$P$3:$P$48828,\">=\"&X$69,HData!$P$3:$P$48828,\"<\"&X$70),\"\")","v":0},{"$f":"IF(Y$70<=RDate+1,COUNTIFS(HData!$P$3:$P$48828,\">=\"&Y$69,HData!$P$3:$P$48828,\"<\"&Y$70),\"\")","v":0},{"$f":"IF(Z$70<=RDate+1,COUNTIFS(HData!$P$3:$P$48828,\">=\"&Z$69,HData!$P$3:$P$48828,\"<\"&Z$70),\"\")","v":0},{"$f":"IF(AA$70<=RDate+1,COUNTIFS(HData!$P$3:$P$48828,\">=\"&AA$69,HData!$P$3:$P$48828,\"<\"&AA$70),\"\")","v":0},{"$f":"IF(AB$70<=RDate+1,COUNTIFS(HData!$P$3:$P$48828,\">=\"&AB$69,HData!$P$3:$P$48828,\"<\"&AB$70),\"\")","v":0},{"$f":"IF(AC$70<=RDate+1,COUNTIFS(HData!$P$3:$P$48828,\">=\"&AC$69,HData!$P$3:$P$48828,\"<\"&AC$70),\"\")","v":0},{"$f":"IF(AD$70<=RDate+1,COUNTIFS(HData!$P$3:$P$48828,\">=\"&AD$69,HData!$P$3:$P$48828,\"<\"&AD$70),\"\")","v":""},{"$f":"IF(AE$70<=RDate+1,COUNTIFS(HData!$P$3:$P$48828,\">=\"&AE$69,HData!$P$3:$P$48828,\"<\"&AE$70),\"\")","v":""},{"$f":"IF(AF$70<=RDate+1,COUNTIFS(HData!$P$3:$P$48828,\">=\"&AF$69,HData!$P$3:$P$48828,\"<\"&AF$70),\"\")","v":""},{"$f":"IF(AG$70<=RDate+1,COUNTIFS(HData!$P$3:$P$48828,\">=\"&AG$69,HData!$P$3:$P$48828,\"<\"&AG$70),\"\")","v":""},{"$f":"IF(AH$70<=RDate+1,COUNTIFS(HData!$P$3:$P$48828,\">=\"&AH$69,HData!$P$3:$P$48828,\"<\"&AH$70),\"\")","v":""},{"$f":"IF(AI$70<=RDate+1,COUNTIFS(HData!$P$3:$P$48828,\">=\"&AI$69,HData!$P$3:$P$48828,\"<\"&AI$70),\"\")","v":""},{"$f":"IF(AJ$70<=RDate+1,COUNTIFS(HData!$P$3:$P$48828,\">=\"&AJ$69,HData!$P$3:$P$48828,\"<\"&AJ$70),\"\")","v":""},{"$f":"IF(AK$70<=RDate+1,COUNTIFS(HData!$P$3:$P$48828,\">=\"&AK$69,HData!$P$3:$P$48828,\"<\"&AK$70),\"\")","v":""},{"$f":"IF(AL$70<=RDate+1,COUNTIFS(HData!$P$3:$P$48828,\">=\"&AL$69,HData!$P$3:$P$48828,\"<\"&AL$70),\"\")","v":""}]
["Matches under PO",{"$f":"IF(B$70<=RDate+1,COUNTIFS(HData!$P$3:$P$48828,\">=\"&B$69,HData!$P$3:$P$48828,\"<\"&B$70,HData!$O$3:$O$48828,\"<>\"),\"\")","v":0},{"$f":"IF(C$70<=RDate+1,COUNTIFS(HData!$P$3:$P$48828,\">=\"&C$69,HData!$P$3:$P$48828,\"<\"&C$70,HData!$O$3:$O$48828,\"<>\"),\"\")","v":0},{"$f":"IF(D$70<=RDate+1,COUNTIFS(HData!$P$3:$P$48828,\">=\"&D$69,HData!$P$3:$P$48828,\"<\"&D$70,HData!$O$3:$O$48828,\"<>\"),\"\")","v":0},{"$f":"IF(E$70<=RDate+1,COUNTIFS(HData!$P$3:$P$48828,\">=\"&E$69,HData!$P$3:$P$48828,\"<\"&E$70,HData!$O$3:$O$48828,\"<>\"),\"\")","v":0},{"$f":"IF(F$70<=RDate+1,COUNTIFS(HData!$P$3:$P$48828,\">=\"&F$69,HData!$P$3:$P$48828,\"<\"&F$70,HData!$O$3:$O$48828,\"<>\"),\"\")","v":0},{"$f":"IF(G$70<=RDate+1,COUNTIFS(HData!$P$3:$P$48828,\">=\"&G$69,HData!$P$3:$P$48828,\"<\"&G$70,HData!$O$3:$O$48828,\"<>\"),\"\")","v":0},{"$f":"IF(H$70<=RDate+1,COUNTIFS(HData!$P$3:$P$48828,\">=\"&H$69,HData!$P$3:$P$48828,\"<\"&H$70,HData!$O$3:$O$48828,\"<>\"),\"\")","v":0},{"$f":"IF(I$70<=RDate+1,COUNTIFS(HData!$P$3:$P$48828,\">=\"&I$69,HData!$P$3:$P$48828,\"<\"&I$70,HData!$O$3:$O$48828,\"<>\"),\"\")","v":0},{"$f":"IF(J$70<=RDate+1,COUNTIFS(HData!$P$3:$P$48828,\">=\"&J$69,HData!$P$3:$P$48828,\"<\"&J$70,HData!$O$3:$O$48828,\"<>\"),\"\")","v":0},{"$f":"IF(K$70<=RDate+1,COUNTIFS(HData!$P$3:$P$48828,\">=\"&K$69,HData!$P$3:$P$48828,\"<\"&K$70,HData!$O$3:$O$48828,\"<>\"),\"\")","v":0},{"$f":"IF(L$70<=RDate+1,COUNTIFS(HData!$P$3:$P$48828,\">=\"&L$69,HData!$P$3:$P$48828,\"<\"&L$70,HData!$O$3:$O$48828,\"<>\"),\"\")","v":0},{"$f":"IF(M$70<=RDate+1,COUNTIFS(HData!$P$3:$P$48828,\">=\"&M$69,HData!$P$3:$P$48828,\"<\"&M$70,HData!$O$3:$O$48828,\"<>\"),\"\")","v":0},{"$f":"IF(N$70<=RDate+1,COUNTIFS(HData!$P$3:$P$48828,\">=\"&N$69,HData!$P$3:$P$48828,\"<\"&N$70,HData!$O$3:$O$48828,\"<>\"),\"\")","v":0},{"$f":"IF(O$70<=RDate+1,COUNTIFS(HData!$P$3:$P$48828,\">=\"&O$69,HData!$P$3:$P$48828,\"<\"&O$70,HData!$O$3:$O$48828,\"<>\"),\"\")","v":0},{"$f":"IF(P$70<=RDate+1,COUNTIFS(HData!$P$3:$P$48828,\">=\"&P$69,HData!$P$3:$P$48828,\"<\"&P$70,HData!$O$3:$O$48828,\"<>\"),\"\")","v":0},{"$f":"IF(Q$70<=RDate+1,COUNTIFS(HData!$P$3:$P$48828,\">=\"&Q$69,HData!$P$3:$P$48828,\"<\"&Q$70,HData!$O$3:$O$48828,\"<>\"),\"\")","v":0},{"$f":"IF(R$70<=RDate+1,COUNTIFS(HData!$P$3:$P$48828,\">=\"&R$69,HData!$P$3:$P$48828,\"<\"&R$70,HData!$O$3:$O$48828,\"<>\"),\"\")","v":0},{"$f":"IF(S$70<=RDate+1,COUNTIFS(HData!$P$3:$P$48828,\">=\"&S$69,HData!$P$3:$P$48828,\"<\"&S$70,HData!$O$3:$O$48828,\"<>\"),\"\")","v":0},{"$f":"IF(T$70<=RDate+1,COUNTIFS(HData!$P$3:$P$48828,\">=\"&T$69,HData!$P$3:$P$48828,\"<\"&T$70,HData!$O$3:$O$48828,\"<>\"),\"\")","v":0},{"$f":"IF(U$70<=RDate+1,COUNTIFS(HData!$P$3:$P$48828,\">=\"&U$69,HData!$P$3:$P$48828,\"<\"&U$70,HData!$O$3:$O$48828,\"<>\"),\"\")","v":0},{"$f":"IF(V$70<=RDate+1,COUNTIFS(HData!$P$3:$P$48828,\">=\"&V$69,HData!$P$3:$P$48828,\"<\"&V$70,HData!$O$3:$O$48828,\"<>\"),\"\")","v":0},{"$f":"IF(W$70<=RDate+1,COUNTIFS(HData!$P$3:$P$48828,\">=\"&W$69,HData!$P$3:$P$48828,\"<\"&W$70,HData!$O$3:$O$48828,\"<>\"),\"\")","v":0},{"$f":"IF(X$70<=RDate+1,COUNTIFS(HData!$P$3:$P$48828,\">=\"&X$69,HData!$P$3:$P$48828,\"<\"&X$70,HData!$O$3:$O$48828,\"<>\"),\"\")","v":0},{"$f":"IF(Y$70<=RDate+1,COUNTIFS(HData!$P$3:$P$48828,\">=\"&Y$69,HData!$P$3:$P$48828,\"<\"&Y$70,HData!$O$3:$O$48828,\"<>\"),\"\")","v":0},{"$f":"IF(Z$70<=RDate+1,COUNTIFS(HData!$P$3:$P$48828,\">=\"&Z$69,HData!$P$3:$P$48828,\"<\"&Z$70,HData!$O$3:$O$48828,\"<>\"),\"\")","v":0},{"$f":"IF(AA$70<=RDate+1,COUNTIFS(HData!$P$3:$P$48828,\">=\"&AA$69,HData!$P$3:$P$48828,\"<\"&AA$70,HData!$O$3:$O$48828,\"<>\"),\"\")","v":0},{"$f":"IF(AB$70<=RDate+1,COUNTIFS(HData!$P$3:$P$48828,\">=\"&AB$69,HData!$P$3:$P$48828,\"<\"&AB$70,HData!$O$3:$O$48828,\"<>\"),\"\")","v":0},{"$f":"IF(AC$70<=RDate+1,COUNTIFS(HData!$P$3:$P$48828,\">=\"&AC$69,HData!$P$3:$P$48828,\"<\"&AC$70,HData!$O$3:$O$48828,\"<>\"),\"\")","v":0},{"$f":"IF(AD$70<=RDate+1,COUNTIFS(HData!$P$3:$P$48828,\">=\"&AD$69,HData!$P$3:$P$48828,\"<\"&AD$70,HData!$O$3:$O$48828,\"<>\"),\"\")","v":""},{"$f":"IF(AE$70<=RDate+1,COUNTIFS(HData!$P$3:$P$48828,\">=\"&AE$69,HData!$P$3:$P$48828,\"<\"&AE$70,HData!$O$3:$O$48828,\"<>\"),\"\")","v":""},{"$f":"IF(AF$70<=RDate+1,COUNTIFS(HData!$P$3:$P$48828,\">=\"&AF$69,HData!$P$3:$P$48828,\"<\"&AF$70,HData!$O$3:$O$48828,\"<>\"),\"\")","v":""},{"$f":"IF(AG$70<=RDate+1,COUNTIFS(HData!$P$3:$P$48828,\">=\"&AG$69,HData!$P$3:$P$48828,\"<\"&AG$70,HData!$O$3:$O$48828,\"<>\"),\"\")","v":""},{"$f":"IF(AH$70<=RDate+1,COUNTIFS(HData!$P$3:$P$48828,\">=\"&AH$69,HData!$P$3:$P$48828,\"<\"&AH$70,HData!$O$3:$O$48828,\"<>\"),\"\")","v":""},{"$f":"IF(AI$70<=RDate+1,COUNTIFS(HData!$P$3:$P$48828,\">=\"&AI$69,HData!$P$3:$P$48828,\"<\"&AI$70,HData!$O$3:$O$48828,\"<>\"),\"\")","v":""},{"$f":"IF(AJ$70<=RDate+1,COUNTIFS(HData!$P$3:$P$48828,\">=\"&AJ$69,HData!$P$3:$P$48828,\"<\"&AJ$70,HData!$O$3:$O$48828,\"<>\"),\"\")","v":""},{"$f":"IF(AK$70<=RDate+1,COUNTIFS(HData!$P$3:$P$48828,\">=\"&AK$69,HData!$P$3:$P$48828,\"<\"&AK$70,HData!$O$3:$O$48828,\"<>\"),\"\")","v":""},{"$f":"IF(AL$70<=RDate+1,COUNTIFS(HData!$P$3:$P$48828,\">=\"&AL$69,HData!$P$3:$P$48828,\"<\"&AL$70,HData!$O$3:$O$48828,\"<>\"),\"\")","v":""}]
["PO",{"$f":"IF(B70<=RDate+1,COUNTIFS(HData!$O$3:$O$48828,\">=\"&B$69,HData!$O$3:$O$48828,\"<\"&B$70,HData!$AB$3:$AB$48828,TRUE),\"\")","v":0},{"$f":"IF(C70<=RDate+1,COUNTIFS(HData!$O$3:$O$48828,\">=\"&C$69,HData!$O$3:$O$48828,\"<\"&C$70,HData!$AB$3:$AB$48828,TRUE),\"\")","v":0},{"$f":"IF(D70<=RDate+1,COUNTIFS(HData!$O$3:$O$48828,\">=\"&D$69,HData!$O$3:$O$48828,\"<\"&D$70,HData!$AB$3:$AB$48828,TRUE),\"\")","v":0},{"$f":"IF(E70<=RDate+1,COUNTIFS(HData!$O$3:$O$48828,\">=\"&E$69,HData!$O$3:$O$48828,\"<\"&E$70,HData!$AB$3:$AB$48828,TRUE),\"\")","v":0},{"$f":"IF(F70<=RDate+1,COUNTIFS(HData!$O$3:$O$48828,\">=\"&F$69,HData!$O$3:$O$48828,\"<\"&F$70,HData!$AB$3:$AB$48828,TRUE),\"\")","v":0},{"$f":"IF(G70<=RDate+1,COUNTIFS(HData!$O$3:$O$48828,\">=\"&G$69,HData!$O$3:$O$48828,\"<\"&G$70,HData!$AB$3:$AB$48828,TRUE),\"\")","v":0},{"$f":"IF(H70<=RDate+1,COUNTIFS(HData!$O$3:$O$48828,\">=\"&H$69,HData!$O$3:$O$48828,\"<\"&H$70,HData!$AB$3:$AB$48828,TRUE),\"\")","v":0},{"$f":"IF(I70<=RDate+1,COUNTIFS(HData!$O$3:$O$48828,\">=\"&I$69,HData!$O$3:$O$48828,\"<\"&I$70,HData!$AB$3:$AB$48828,TRUE),\"\")","v":0},{"$f":"IF(J70<=RDate+1,COUNTIFS(HData!$O$3:$O$48828,\">=\"&J$69,HData!$O$3:$O$48828,\"<\"&J$70,HData!$AB$3:$AB$48828,TRUE),\"\")","v":0},{"$f":"IF(K70<=RDate+1,COUNTIFS(HData!$O$3:$O$48828,\">=\"&K$69,HData!$O$3:$O$48828,\"<\"&K$70,HData!$AB$3:$AB$48828,TRUE),\"\")","v":0},{"$f":"IF(L70<=RDate+1,COUNTIFS(HData!$O$3:$O$48828,\">=\"&L$69,HData!$O$3:$O$48828,\"<\"&L$70,HData!$AB$3:$AB$48828,TRUE),\"\")","v":0},{"$f":"IF(M70<=RDate+1,COUNTIFS(HData!$O$3:$O$48828,\">=\"&M$69,HData!$O$3:$O$48828,\"<\"&M$70,HData!$AB$3:$AB$48828,TRUE),\"\")","v":0},{"$f":"IF(N70<=RDate+1,COUNTIFS(HData!$O$3:$O$48828,\">=\"&N$69,HData!$O$3:$O$48828,\"<\"&N$70,HData!$AB$3:$AB$48828,TRUE),\"\")","v":0},{"$f":"IF(O70<=RDate+1,COUNTIFS(HData!$O$3:$O$48828,\">=\"&O$69,HData!$O$3:$O$48828,\"<\"&O$70,HData!$AB$3:$AB$48828,TRUE),\"\")","v":0},{"$f":"IF(P70<=RDate+1,COUNTIFS(HData!$O$3:$O$48828,\">=\"&P$69,HData!$O$3:$O$48828,\"<\"&P$70,HData!$AB$3:$AB$48828,TRUE),\"\")","v":0},{"$f":"IF(Q70<=RDate+1,COUNTIFS(HData!$O$3:$O$48828,\">=\"&Q$69,HData!$O$3:$O$48828,\"<\"&Q$70,HData!$AB$3:$AB$48828,TRUE),\"\")","v":0},{"$f":"IF(R70<=RDate+1,COUNTIFS(HData!$O$3:$O$48828,\">=\"&R$69,HData!$O$3:$O$48828,\"<\"&R$70,HData!$AB$3:$AB$48828,TRUE),\"\")","v":0},{"$f":"IF(S70<=RDate+1,COUNTIFS(HData!$O$3:$O$48828,\">=\"&S$69,HData!$O$3:$O$48828,\"<\"&S$70,HData!$AB$3:$AB$48828,TRUE),\"\")","v":0},{"$f":"IF(T70<=RDate+1,COUNTIFS(HData!$O$3:$O$48828,\">=\"&T$69,HData!$O$3:$O$48828,\"<\"&T$70,HData!$AB$3:$AB$48828,TRUE),\"\")","v":0},{"$f":"IF(U70<=RDate+1,COUNTIFS(HData!$O$3:$O$48828,\">=\"&U$69,HData!$O$3:$O$48828,\"<\"&U$70,HData!$AB$3:$AB$48828,TRUE),\"\")","v":0},{"$f":"IF(V70<=RDate+1,COUNTIFS(HData!$O$3:$O$48828,\">=\"&V$69,HData!$O$3:$O$48828,\"<\"&V$70,HData!$AB$3:$AB$48828,TRUE),\"\")","v":0},{"$f":"IF(W70<=RDate+1,COUNTIFS(HData!$O$3:$O$48828,\">=\"&W$69,HData!$O$3:$O$48828,\"<\"&W$70,HData!$AB$3:$AB$48828,TRUE),\"\")","v":0},{"$f":"IF(X70<=RDate+1,COUNTIFS(HData!$O$3:$O$48828,\">=\"&X$69,HData!$O$3:$O$48828,\"<\"&X$70,HData!$AB$3:$AB$48828,TRUE),\"\")","v":0},{"$f":"IF(Y70<=RDate+1,COUNTIFS(HData!$O$3:$O$48828,\">=\"&Y$69,HData!$O$3:$O$48828,\"<\"&Y$70,HData!$AB$3:$AB$48828,TRUE),\"\")","v":0},{"$f":"IF(Z70<=RDate+1,COUNTIFS(HData!$O$3:$O$48828,\">=\"&Z$69,HData!$O$3:$O$48828,\"<\"&Z$70,HData!$AB$3:$AB$48828,TRUE),\"\")","v":0},{"$f":"IF(AA70<=RDate+1,COUNTIFS(HData!$O$3:$O$48828,\">=\"&AA$69,HData!$O$3:$O$48828,\"<\"&AA$70,HData!$AB$3:$AB$48828,TRUE),\"\")","v":0},{"$f":"IF(AB70<=RDate+1,COUNTIFS(HData!$O$3:$O$48828,\">=\"&AB$69,HData!$O$3:$O$48828,\"<\"&AB$70,HData!$AB$3:$AB$48828,TRUE),\"\")","v":0},{"$f":"IF(AC70<=RDate+1,COUNTIFS(HData!$O$3:$O$48828,\">=\"&AC$69,HData!$O$3:$O$48828,\"<\"&AC$70,HData!$AB$3:$AB$48828,TRUE),\"\")","v":0},{"$f":"IF(AD70<=RDate+1,COUNTIFS(HData!$O$3:$O$48828,\">=\"&AD$69,HData!$O$3:$O$48828,\"<\"&AD$70,HData!$AB$3:$AB$48828,TRUE),\"\")","v":""},{"$f":"IF(AE70<=RDate+1,COUNTIFS(HData!$O$3:$O$48828,\">=\"&AE$69,HData!$O$3:$O$48828,\"<\"&AE$70,HData!$AB$3:$AB$48828,TRUE),\"\")","v":""},{"$f":"IF(AF70<=RDate+1,COUNTIFS(HData!$O$3:$O$48828,\">=\"&AF$69,HData!$O$3:$O$48828,\"<\"&AF$70,HData!$AB$3:$AB$48828,TRUE),\"\")","v":""},{"$f":"IF(AG70<=RDate+1,COUNTIFS(HData!$O$3:$O$48828,\">=\"&AG$69,HData!$O$3:$O$48828,\"<\"&AG$70,HData!$AB$3:$AB$48828,TRUE),\"\")","v":""},{"$f":"IF(AH70<=RDate+1,COUNTIFS(HData!$O$3:$O$48828,\">=\"&AH$69,HData!$O$3:$O$48828,\"<\"&AH$70,HData!$AB$3:$AB$48828,TRUE),\"\")","v":""},{"$f":"IF(AI70<=RDate+1,COUNTIFS(HData!$O$3:$O$48828,\">=\"&AI$69,HData!$O$3:$O$48828,\"<\"&AI$70,HData!$AB$3:$AB$48828,TRUE),\"\")","v":""},{"$f":"IF(AJ70<=RDate+1,COUNTIFS(HData!$O$3:$O$48828,\">=\"&AJ$69,HData!$O$3:$O$48828,\"<\"&AJ$70,HData!$AB$3:$AB$48828,TRUE),\"\")","v":""},{"$f":"IF(AK70<=RDate+1,COUNTIFS(HData!$O$3:$O$48828,\">=\"&AK$69,HData!$O$3:$O$48828,\"<\"&AK$70,HData!$AB$3:$AB$48828,TRUE),\"\")","v":""},{"$f":"IF(AL70<=RDate+1,COUNTIFS(HData!$O$3:$O$48828,\">=\"&AL$69,HData!$O$3:$O$48828,\"<\"&AL$70,HData!$AB$3:$AB$48828,TRUE),\"\")","v":""}]
["ADM BI",{"$f":"IF(B$70<=RDate+1,COUNTIFS(HData!$N$3:$N$48828,\">=\"&B$69,HData!$N$3:$N$48828,\"<\"&B$70,HData!$AB$3:$AB$48828,TRUE),\"\")","v":0},{"$f":"IF(C$70<=RDate+1,COUNTIFS(HData!$N$3:$N$48828,\">=\"&C$69,HData!$N$3:$N$48828,\"<\"&C$70,HData!$AB$3:$AB$48828,TRUE),\"\")","v":0},{"$f":"IF(D$70<=RDate+1,COUNTIFS(HData!$N$3:$N$48828,\">=\"&D$69,HData!$N$3:$N$48828,\"<\"&D$70,HData!$AB$3:$AB$48828,TRUE),\"\")","v":0},{"$f":"IF(E$70<=RDate+1,COUNTIFS(HData!$N$3:$N$48828,\">=\"&E$69,HData!$N$3:$N$48828,\"<\"&E$70,HData!$AB$3:$AB$48828,TRUE),\"\")","v":0},{"$f":"IF(F$70<=RDate+1,COUNTIFS(HData!$N$3:$N$48828,\">=\"&F$69,HData!$N$3:$N$48828,\"<\"&F$70,HData!$AB$3:$AB$48828,TRUE),\"\")","v":0},{"$f":"IF(G$70<=RDate+1,COUNTIFS(HData!$N$3:$N$48828,\">=\"&G$69,HData!$N$3:$N$48828,\"<\"&G$70,HData!$AB$3:$AB$48828,TRUE),\"\")","v":0},{"$f":"IF(H$70<=RDate+1,COUNTIFS(HData!$N$3:$N$48828,\">=\"&H$69,HData!$N$3:$N$48828,\"<\"&H$70,HData!$AB$3:$AB$48828,TRUE),\"\")","v":0},{"$f":"IF(I$70<=RDate+1,COUNTIFS(HData!$N$3:$N$48828,\">=\"&I$69,HData!$N$3:$N$48828,\"<\"&I$70,HData!$AB$3:$AB$48828,TRUE),\"\")","v":0},{"$f":"IF(J$70<=RDate+1,COUNTIFS(HData!$N$3:$N$48828,\">=\"&J$69,HData!$N$3:$N$48828,\"<\"&J$70,HData!$AB$3:$AB$48828,TRUE),\"\")","v":0},{"$f":"IF(K$70<=RDate+1,COUNTIFS(HData!$N$3:$N$48828,\">=\"&K$69,HData!$N$3:$N$48828,\"<\"&K$70,HData!$AB$3:$AB$48828,TRUE),\"\")","v":0},{"$f":"IF(L$70<=RDate+1,COUNTIFS(HData!$N$3:$N$48828,\">=\"&L$69,HData!$N$3:$N$48828,\"<\"&L$70,HData!$AB$3:$AB$48828,TRUE),\"\")","v":0},{"$f":"IF(M$70<=RDate+1,COUNTIFS(HData!$N$3:$N$48828,\">=\"&M$69,HData!$N$3:$N$48828,\"<\"&M$70,HData!$AB$3:$AB$48828,TRUE),\"\")","v":0},{"$f":"IF(N$70<=RDate+1,COUNTIFS(HData!$N$3:$N$48828,\">=\"&N$69,HData!$N$3:$N$48828,\"<\"&N$70,HData!$AB$3:$AB$48828,TRUE),\"\")","v":0},{"$f":"IF(O$70<=RDate+1,COUNTIFS(HData!$N$3:$N$48828,\">=\"&O$69,HData!$N$3:$N$48828,\"<\"&O$70,HData!$AB$3:$AB$48828,TRUE),\"\")","v":0},{"$f":"IF(P$70<=RDate+1,COUNTIFS(HData!$N$3:$N$48828,\">=\"&P$69,HData!$N$3:$N$48828,\"<\"&P$70,HData!$AB$3:$AB$48828,TRUE),\"\")","v":0},{"$f":"IF(Q$70<=RDate+1,COUNTIFS(HData!$N$3:$N$48828,\">=\"&Q$69,HData!$N$3:$N$48828,\"<\"&Q$70,HData!$AB$3:$AB$48828,TRUE),\"\")","v":0},{"$f":"IF(R$70<=RDate+1,COUNTIFS(HData!$N$3:$N$48828,\">=\"&R$69,HData!$N$3:$N$48828,\"<\"&R$70,HData!$AB$3:$AB$48828,TRUE),\"\")","v":0},{"$f":"IF(S$70<=RDate+1,COUNTIFS(HData!$N$3:$N$48828,\">=\"&S$69,HData!$N$3:$N$48828,\"<\"&S$70,HData!$AB$3:$AB$48828,TRUE),\"\")","v":0},{"$f":"IF(T$70<=RDate+1,COUNTIFS(HData!$N$3:$N$48828,\">=\"&T$69,HData!$N$3:$N$48828,\"<\"&T$70,HData!$AB$3:$AB$48828,TRUE),\"\")","v":0},{"$f":"IF(U$70<=RDate+1,COUNTIFS(HData!$N$3:$N$48828,\">=\"&U$69,HData!$N$3:$N$48828,\"<\"&U$70,HData!$AB$3:$AB$48828,TRUE),\"\")","v":0},{"$f":"IF(V$70<=RDate+1,COUNTIFS(HData!$N$3:$N$48828,\">=\"&V$69,HData!$N$3:$N$48828,\"<\"&V$70,HData!$AB$3:$AB$48828,TRUE),\"\")","v":0},{"$f":"IF(W$70<=RDate+1,COUNTIFS(HData!$N$3:$N$48828,\">=\"&W$69,HData!$N$3:$N$48828,\"<\"&W$70,HData!$AB$3:$AB$48828,TRUE),\"\")","v":0},{"$f":"IF(X$70<=RDate+1,COUNTIFS(HData!$N$3:$N$48828,\">=\"&X$69,HData!$N$3:$N$48828,\"<\"&X$70,HData!$AB$3:$AB$48828,TRUE),\"\")","v":0},{"$f":"IF(Y$70<=RDate+1,COUNTIFS(HData!$N$3:$N$48828,\">=\"&Y$69,HData!$N$3:$N$48828,\"<\"&Y$70,HData!$AB$3:$AB$48828,TRUE),\"\")","v":0},{"$f":"IF(Z$70<=RDate+1,COUNTIFS(HData!$N$3:$N$48828,\">=\"&Z$69,HData!$N$3:$N$48828,\"<\"&Z$70,HData!$AB$3:$AB$48828,TRUE),\"\")","v":0},{"$f":"IF(AA$70<=RDate+1,COUNTIFS(HData!$N$3:$N$48828,\">=\"&AA$69,HData!$N$3:$N$48828,\"<\"&AA$70,HData!$AB$3:$AB$48828,TRUE),\"\")","v":0},{"$f":"IF(AB$70<=RDate+1,COUNTIFS(HData!$N$3:$N$48828,\">=\"&AB$69,HData!$N$3:$N$48828,\"<\"&AB$70,HData!$AB$3:$AB$48828,TRUE),\"\")","v":0},{"$f":"IF(AC$70<=RDate+1,COUNTIFS(HData!$N$3:$N$48828,\">=\"&AC$69,HData!$N$3:$N$48828,\"<\"&AC$70,HData!$AB$3:$AB$48828,TRUE),\"\")","v":0},{"$f":"IF(AD$70<=RDate+1,COUNTIFS(HData!$N$3:$N$48828,\">=\"&AD$69,HData!$N$3:$N$48828,\"<\"&AD$70,HData!$AB$3:$AB$48828,TRUE),\"\")","v":""},{"$f":"IF(AE$70<=RDate+1,COUNTIFS(HData!$N$3:$N$48828,\">=\"&AE$69,HData!$N$3:$N$48828,\"<\"&AE$70,HData!$AB$3:$AB$48828,TRUE),\"\")","v":""},{"$f":"IF(AF$70<=RDate+1,COUNTIFS(HData!$N$3:$N$48828,\">=\"&AF$69,HData!$N$3:$N$48828,\"<\"&AF$70,HData!$AB$3:$AB$48828,TRUE),\"\")","v":""},{"$f":"IF(AG$70<=RDate+1,COUNTIFS(HData!$N$3:$N$48828,\">=\"&AG$69,HData!$N$3:$N$48828,\"<\"&AG$70,HData!$AB$3:$AB$48828,TRUE),\"\")","v":""},{"$f":"IF(AH$70<=RDate+1,COUNTIFS(HData!$N$3:$N$48828,\">=\"&AH$69,HData!$N$3:$N$48828,\"<\"&AH$70,HData!$AB$3:$AB$48828,TRUE),\"\")","v":""},{"$f":"IF(AI$70<=RDate+1,COUNTIFS(HData!$N$3:$N$48828,\">=\"&AI$69,HData!$N$3:$N$48828,\"<\"&AI$70,HData!$AB$3:$AB$48828,TRUE),\"\")","v":""},{"$f":"IF(AJ$70<=RDate+1,COUNTIFS(HData!$N$3:$N$48828,\">=\"&AJ$69,HData!$N$3:$N$48828,\"<\"&AJ$70,HData!$AB$3:$AB$48828,TRUE),\"\")","v":""},{"$f":"IF(AK$70<=RDate+1,COUNTIFS(HData!$N$3:$N$48828,\">=\"&AK$69,HData!$N$3:$N$48828,\"<\"&AK$70,HData!$AB$3:$AB$48828,TRUE),\"\")","v":""},{"$f":"IF(AL$70<=RDate+1,COUNTIFS(HData!$N$3:$N$48828,\">=\"&AL$69,HData!$N$3:$N$48828,\"<\"&AL$70,HData!$AB$3:$AB$48828,TRUE),\"\")","v":""}]
["BLA to ADM BI (BI decisions made)",{"$f":"IFERROR(SUMIFS(HData!$AD$3:$AD$48828,HData!$N$3:$N$48828,\">=\"&B$69,HData!$N$3:$N$48828,\"<\"&B$70,HData!$AB$3:$AB$48828,TRUE)/COUNTIFS(HData!$AD$3:$AD$48828,\">=0\",HData!$N$3:$N$48828,\">=\"&B$69,HData!$N$3:$N$48828,\"<\"&B$70,HData!$AB$3:$AB$48828,TRUE),\"\")","v":""},{"$f":"IFERROR(SUMIFS(HData!$AD$3:$AD$48828,HData!$N$3:$N$48828,\">=\"&C$69,HData!$N$3:$N$48828,\"<\"&C$70,HData!$AB$3:$AB$48828,TRUE)/COUNTIFS(HData!$AD$3:$AD$48828,\">=0\",HData!$N$3:$N$48828,\">=\"&C$69,HData!$N$3:$N$48828,\"<\"&C$70,HData!$AB$3:$AB$48828,TRUE),\"\")","v":""},{"$f":"IFERROR(SUMIFS(HData!$AD$3:$AD$48828,HData!$N$3:$N$48828,\">=\"&D$69,HData!$N$3:$N$48828,\"<\"&D$70,HData!$AB$3:$AB$48828,TRUE)/COUNTIFS(HData!$AD$3:$AD$48828,\">=0\",HData!$N$3:$N$48828,\">=\"&D$69,HData!$N$3:$N$48828,\"<\"&D$70,HData!$AB$3:$AB$48828,TRUE),\"\")","v":""},{"$f":"IFERROR(SUMIFS(HData!$AD$3:$AD$48828,HData!$N$3:$N$48828,\">=\"&E$69,HData!$N$3:$N$48828,\"<\"&E$70,HData!$AB$3:$AB$48828,TRUE)/COUNTIFS(HData!$AD$3:$AD$48828,\">=0\",HData!$N$3:$N$48828,\">=\"&E$69,HData!$N$3:$N$48828,\"<\"&E$70,HData!$AB$3:$AB$48828,TRUE),\"\")","v":""},{"$f":"IFERROR(SUMIFS(HData!$AD$3:$AD$48828,HData!$N$3:$N$48828,\">=\"&F$69,HData!$N$3:$N$48828,\"<\"&F$70,HData!$AB$3:$AB$48828,TRUE)/COUNTIFS(HData!$AD$3:$AD$48828,\">=0\",HData!$N$3:$N$48828,\">=\"&F$69,HData!$N$3:$N$48828,\"<\"&F$70,HData!$AB$3:$AB$48828,TRUE),\"\")","v":""},{"$f":"IFERROR(SUMIFS(HData!$AD$3:$AD$48828,HData!$N$3:$N$48828,\">=\"&G$69,HData!$N$3:$N$48828,\"<\"&G$70,HData!$AB$3:$AB$48828,TRUE)/COUNTIFS(HData!$AD$3:$AD$48828,\">=0\",HData!$N$3:$N$48828,\">=\"&G$69,HData!$N$3:$N$48828,\"<\"&G$70,HData!$AB$3:$AB$48828,TRUE),\"\")","v":""},{"$f":"IFERROR(SUMIFS(HData!$AD$3:$AD$48828,HData!$N$3:$N$48828,\">=\"&H$69,HData!$N$3:$N$48828,\"<\"&H$70,HData!$AB$3:$AB$48828,TRUE)/COUNTIFS(HData!$AD$3:$AD$48828,\">=0\",HData!$N$3:$N$48828,\">=\"&H$69,HData!$N$3:$N$48828,\"<\"&H$70,HData!$AB$3:$AB$48828,TRUE),\"\")","v":""},{"$f":"IFERROR(SUMIFS(HData!$AD$3:$AD$48828,HData!$N$3:$N$48828,\">=\"&I$69,HData!$N$3:$N$48828,\"<\"&I$70,HData!$AB$3:$AB$48828,TRUE)/COUNTIFS(HData!$AD$3:$AD$48828,\">=0\",HData!$N$3:$N$48828,\">=\"&I$69,HData!$N$3:$N$48828,\"<\"&I$70,HData!$AB$3:$AB$48828,TRUE),\"\")","v":""},{"$f":"IFERROR(SUMIFS(HData!$AD$3:$AD$48828,HData!$N$3:$N$48828,\">=\"&J$69,HData!$N$3:$N$48828,\"<\"&J$70,HData!$AB$3:$AB$48828,TRUE)/COUNTIFS(HData!$AD$3:$AD$48828,\">=0\",HData!$N$3:$N$48828,\">=\"&J$69,HData!$N$3:$N$48828,\"<\"&J$70,HData!$AB$3:$AB$48828,TRUE),\"\")","v":""},{"$f":"IFERROR(SUMIFS(HData!$AD$3:$AD$48828,HData!$N$3:$N$48828,\">=\"&K$69,HData!$N$3:$N$48828,\"<\"&K$70,HData!$AB$3:$AB$48828,TRUE)/COUNTIFS(HData!$AD$3:$AD$48828,\">=0\",HData!$N$3:$N$48828,\">=\"&K$69,HData!$N$3:$N$48828,\"<\"&K$70,HData!$AB$3:$AB$48828,TRUE),\"\")","v":""},{"$f":"IFERROR(SUMIFS(HData!$AD$3:$AD$48828,HData!$N$3:$N$48828,\">=\"&L$69,HData!$N$3:$N$48828,\"<\"&L$70,HData!$AB$3:$AB$48828,TRUE)/COUNTIFS(HData!$AD$3:$AD$48828,\">=0\",HData!$N$3:$N$48828,\">=\"&L$69,HData!$N$3:$N$48828,\"<\"&L$70,HData!$AB$3:$AB$48828,TRUE),\"\")","v":""},{"$f":"IFERROR(SUMIFS(HData!$AD$3:$AD$48828,HData!$N$3:$N$48828,\">=\"&M$69,HData!$N$3:$N$48828,\"<\"&M$70,HData!$AB$3:$AB$48828,TRUE)/COUNTIFS(HData!$AD$3:$AD$48828,\">=0\",HData!$N$3:$N$48828,\">=\"&M$69,HData!$N$3:$N$48828,\"<\"&M$70,HData!$AB$3:$AB$48828,TRUE),\"\")","v":""},{"$f":"IFERROR(SUMIFS(HData!$AD$3:$AD$48828,HData!$N$3:$N$48828,\">=\"&N$69,HData!$N$3:$N$48828,\"<\"&N$70,HData!$AB$3:$AB$48828,TRUE)/COUNTIFS(HData!$AD$3:$AD$48828,\">=0\",HData!$N$3:$N$48828,\">=\"&N$69,HData!$N$3:$N$48828,\"<\"&N$70,HData!$AB$3:$AB$48828,TRUE),\"\")","v":""},{"$f":"IFERROR(SUMIFS(HData!$AD$3:$AD$48828,HData!$N$3:$N$48828,\">=\"&O$69,HData!$N$3:$N$48828,\"<\"&O$70,HData!$AB$3:$AB$48828,TRUE)/COUNTIFS(HData!$AD$3:$AD$48828,\">=0\",HData!$N$3:$N$48828,\">=\"&O$69,HData!$N$3:$N$48828,\"<\"&O$70,HData!$AB$3:$AB$48828,TRUE),\"\")","v":""},{"$f":"IFERROR(SUMIFS(HData!$AD$3:$AD$48828,HData!$N$3:$N$48828,\">=\"&P$69,HData!$N$3:$N$48828,\"<\"&P$70,HData!$AB$3:$AB$48828,TRUE)/COUNTIFS(HData!$AD$3:$AD$48828,\">=0\",HData!$N$3:$N$48828,\">=\"&P$69,HData!$N$3:$N$48828,\"<\"&P$70,HData!$AB$3:$AB$48828,TRUE),\"\")","v":""},{"$f":"IFERROR(SUMIFS(HData!$AD$3:$AD$48828,HData!$N$3:$N$48828,\">=\"&Q$69,HData!$N$3:$N$48828,\"<\"&Q$70,HData!$AB$3:$AB$48828,TRUE)/COUNTIFS(HData!$AD$3:$AD$48828,\">=0\",HData!$N$3:$N$48828,\">=\"&Q$69,HData!$N$3:$N$48828,\"<\"&Q$70,HData!$AB$3:$AB$48828,TRUE),\"\")","v":""},{"$f":"IFERROR(SUMIFS(HData!$AD$3:$AD$48828,HData!$N$3:$N$48828,\">=\"&R$69,HData!$N$3:$N$48828,\"<\"&R$70,HData!$AB$3:$AB$48828,TRUE)/COUNTIFS(HData!$AD$3:$AD$48828,\">=0\",HData!$N$3:$N$48828,\">=\"&R$69,HData!$N$3:$N$48828,\"<\"&R$70,HData!$AB$3:$AB$48828,TRUE),\"\")","v":""},{"$f":"IFERROR(SUMIFS(HData!$AD$3:$AD$48828,HData!$N$3:$N$48828,\">=\"&S$69,HData!$N$3:$N$48828,\"<\"&S$70,HData!$AB$3:$AB$48828,TRUE)/COUNTIFS(HData!$AD$3:$AD$48828,\">=0\",HData!$N$3:$N$48828,\">=\"&S$69,HData!$N$3:$N$48828,\"<\"&S$70,HData!$AB$3:$AB$48828,TRUE),\"\")","v":""},{"$f":"IFERROR(SUMIFS(HData!$AD$3:$AD$48828,HData!$N$3:$N$48828,\">=\"&T$69,HData!$N$3:$N$48828,\"<\"&T$70,HData!$AB$3:$AB$48828,TRUE)/COUNTIFS(HData!$AD$3:$AD$48828,\">=0\",HData!$N$3:$N$48828,\">=\"&T$69,HData!$N$3:$N$48828,\"<\"&T$70,HData!$AB$3:$AB$48828,TRUE),\"\")","v":""},{"$f":"IFERROR(SUMIFS(HData!$AD$3:$AD$48828,HData!$N$3:$N$48828,\">=\"&U$69,HData!$N$3:$N$48828,\"<\"&U$70,HData!$AB$3:$AB$48828,TRUE)/COUNTIFS(HData!$AD$3:$AD$48828,\">=0\",HData!$N$3:$N$48828,\">=\"&U$69,HData!$N$3:$N$48828,\"<\"&U$70,HData!$AB$3:$AB$48828,TRUE),\"\")","v":""},{"$f":"IFERROR(SUMIFS(HData!$AD$3:$AD$48828,HData!$N$3:$N$48828,\">=\"&V$69,HData!$N$3:$N$48828,\"<\"&V$70,HData!$AB$3:$AB$48828,TRUE)/COUNTIFS(HData!$AD$3:$AD$48828,\">=0\",HData!$N$3:$N$48828,\">=\"&V$69,HData!$N$3:$N$48828,\"<\"&V$70,HData!$AB$3:$AB$48828,TRUE),\"\")","v":""},{"$f":"IFERROR(SUMIFS(HData!$AD$3:$AD$48828,HData!$N$3:$N$48828,\">=\"&W$69,HData!$N$3:$N$48828,\"<\"&W$70,HData!$AB$3:$AB$48828,TRUE)/COUNTIFS(HData!$AD$3:$AD$48828,\">=0\",HData!$N$3:$N$48828,\">=\"&W$69,HData!$N$3:$N$48828,\"<\"&W$70,HData!$AB$3:$AB$48828,TRUE),\"\")","v":""},{"$f":"IFERROR(SUMIFS(HData!$AD$3:$AD$48828,HData!$N$3:$N$48828,\">=\"&X$69,HData!$N$3:$N$48828,\"<\"&X$70,HData!$AB$3:$AB$48828,TRUE)/COUNTIFS(HData!$AD$3:$AD$48828,\">=0\",HData!$N$3:$N$48828,\">=\"&X$69,HData!$N$3:$N$48828,\"<\"&X$70,HData!$AB$3:$AB$48828,TRUE),\"\")","v":""},{"$f":"IFERROR(SUMIFS(HData!$AD$3:$AD$48828,HData!$N$3:$N$48828,\">=\"&Y$69,HData!$N$3:$N$48828,\"<\"&Y$70,HData!$AB$3:$AB$48828,TRUE)/COUNTIFS(HData!$AD$3:$AD$48828,\">=0\",HData!$N$3:$N$48828,\">=\"&Y$69,HData!$N$3:$N$48828,\"<\"&Y$70,HData!$AB$3:$AB$48828,TRUE),\"\")","v":""},{"$f":"IFERROR(SUMIFS(HData!$AD$3:$AD$48828,HData!$N$3:$N$48828,\">=\"&Z$69,HData!$N$3:$N$48828,\"<\"&Z$70,HData!$AB$3:$AB$48828,TRUE)/COUNTIFS(HData!$AD$3:$AD$48828,\">=0\",HData!$N$3:$N$48828,\">=\"&Z$69,HData!$N$3:$N$48828,\"<\"&Z$70,HData!$AB$3:$AB$48828,TRUE),\"\")","v":""},{"$f":"IFERROR(SUMIFS(HData!$AD$3:$AD$48828,HData!$N$3:$N$48828,\">=\"&AA$69,HData!$N$3:$N$48828,\"<\"&AA$70,HData!$AB$3:$AB$48828,TRUE)/COUNTIFS(HData!$AD$3:$AD$48828,\">=0\",HData!$N$3:$N$48828,\">=\"&AA$69,HData!$N$3:$N$48828,\"<\"&AA$70,HData!$AB$3:$AB$48828,TRUE),\"\")","v":""},{"$f":"IFERROR(SUMIFS(HData!$AD$3:$AD$48828,HData!$N$3:$N$48828,\">=\"&AB$69,HData!$N$3:$N$48828,\"<\"&AB$70,HData!$AB$3:$AB$48828,TRUE)/COUNTIFS(HData!$AD$3:$AD$48828,\">=0\",HData!$N$3:$N$48828,\">=\"&AB$69,HData!$N$3:$N$48828,\"<\"&AB$70,HData!$AB$3:$AB$48828,TRUE),\"\")","v":""},{"$f":"IFERROR(SUMIFS(HData!$AD$3:$AD$48828,HData!$N$3:$N$48828,\">=\"&AC$69,HData!$N$3:$N$48828,\"<\"&AC$70,HData!$AB$3:$AB$48828,TRUE)/COUNTIFS(HData!$AD$3:$AD$48828,\">=0\",HData!$N$3:$N$48828,\">=\"&AC$69,HData!$N$3:$N$48828,\"<\"&AC$70,HData!$AB$3:$AB$48828,TRUE),\"\")","v":""},{"$f":"IFERROR(SUMIFS(HData!$AD$3:$AD$48828,HData!$N$3:$N$48828,\">=\"&AD$69,HData!$N$3:$N$48828,\"<\"&AD$70,HData!$AB$3:$AB$48828,TRUE)/COUNTIFS(HData!$AD$3:$AD$48828,\">=0\",HData!$N$3:$N$48828,\">=\"&AD$69,HData!$N$3:$N$48828,\"<\"&AD$70,HData!$AB$3:$AB$48828,TRUE),\"\")","v":""},{"$f":"IFERROR(SUMIFS(HData!$AD$3:$AD$48828,HData!$N$3:$N$48828,\">=\"&AE$69,HData!$N$3:$N$48828,\"<\"&AE$70,HData!$AB$3:$AB$48828,TRUE)/COUNTIFS(HData!$AD$3:$AD$48828,\">=0\",HData!$N$3:$N$48828,\">=\"&AE$69,HData!$N$3:$N$48828,\"<\"&AE$70,HData!$AB$3:$AB$48828,TRUE),\"\")","v":""},{"$f":"IFERROR(SUMIFS(HData!$AD$3:$AD$48828,HData!$N$3:$N$48828,\">=\"&AF$69,HData!$N$3:$N$48828,\"<\"&AF$70,HData!$AB$3:$AB$48828,TRUE)/COUNTIFS(HData!$AD$3:$AD$48828,\">=0\",HData!$N$3:$N$48828,\">=\"&AF$69,HData!$N$3:$N$48828,\"<\"&AF$70,HData!$AB$3:$AB$48828,TRUE),\"\")","v":""},{"$f":"IFERROR(SUMIFS(HData!$AD$3:$AD$48828,HData!$N$3:$N$48828,\">=\"&AG$69,HData!$N$3:$N$48828,\"<\"&AG$70,HData!$AB$3:$AB$48828,TRUE)/COUNTIFS(HData!$AD$3:$AD$48828,\">=0\",HData!$N$3:$N$48828,\">=\"&AG$69,HData!$N$3:$N$48828,\"<\"&AG$70,HData!$AB$3:$AB$48828,TRUE),\"\")","v":""},{"$f":"IFERROR(SUMIFS(HData!$AD$3:$AD$48828,HData!$N$3:$N$48828,\">=\"&AH$69,HData!$N$3:$N$48828,\"<\"&AH$70,HData!$AB$3:$AB$48828,TRUE)/COUNTIFS(HData!$AD$3:$AD$48828,\">=0\",HData!$N$3:$N$48828,\">=\"&AH$69,HData!$N$3:$N$48828,\"<\"&AH$70,HData!$AB$3:$AB$48828,TRUE),\"\")","v":""},{"$f":"IFERROR(SUMIFS(HData!$AD$3:$AD$48828,HData!$N$3:$N$48828,\">=\"&AI$69,HData!$N$3:$N$48828,\"<\"&AI$70,HData!$AB$3:$AB$48828,TRUE)/COUNTIFS(HData!$AD$3:$AD$48828,\">=0\",HData!$N$3:$N$48828,\">=\"&AI$69,HData!$N$3:$N$48828,\"<\"&AI$70,HData!$AB$3:$AB$48828,TRUE),\"\")","v":""},{"$f":"IFERROR(SUMIFS(HData!$AD$3:$AD$48828,HData!$N$3:$N$48828,\">=\"&AJ$69,HData!$N$3:$N$48828,\"<\"&AJ$70,HData!$AB$3:$AB$48828,TRUE)/COUNTIFS(HData!$AD$3:$AD$48828,\">=0\",HData!$N$3:$N$48828,\">=\"&AJ$69,HData!$N$3:$N$48828,\"<\"&AJ$70,HData!$AB$3:$AB$48828,TRUE),\"\")","v":""},{"$f":"IFERROR(SUMIFS(HData!$AD$3:$AD$48828,HData!$N$3:$N$48828,\">=\"&AK$69,HData!$N$3:$N$48828,\"<\"&AK$70,HData!$AB$3:$AB$48828,TRUE)/COUNTIFS(HData!$AD$3:$AD$48828,\">=0\",HData!$N$3:$N$48828,\">=\"&AK$69,HData!$N$3:$N$48828,\"<\"&AK$70,HData!$AB$3:$AB$48828,TRUE),\"\")","v":""},{"$f":"IFERROR(SUMIFS(HData!$AD$3:$AD$48828,HData!$N$3:$N$48828,\">=\"&AL$69,HData!$N$3:$N$48828,\"<\"&AL$70,HData!$AB$3:$AB$48828,TRUE)/COUNTIFS(HData!$AD$3:$AD$48828,\">=0\",HData!$N$3:$N$48828,\">=\"&AL$69,HData!$N$3:$N$48828,\"<\"&AL$70,HData!$AB$3:$AB$48828,TRUE),\"\")","v":""}]
["ADM BI to PO (children granted a PO)",{"$f":"IFERROR(SUMIFS(HData!$AO$3:$AO$48828,HData!$O$3:$O$48828,\">=\"&B$69,HData!$O$3:$O$48828,\"<\"&B$70,HData!$AB$3:$AB$48828,TRUE)/COUNTIFS(HData!$AO$3:$AO$48828,\">=0\",HData!$O$3:$O$48828,\">=\"&B$69,HData!$O$3:$O$48828,\"<\"&B$70,HData!$AB$3:$AB$48828,TRUE),\"\")","v":""},{"$f":"IFERROR(SUMIFS(HData!$AO$3:$AO$48828,HData!$O$3:$O$48828,\">=\"&C$69,HData!$O$3:$O$48828,\"<\"&C$70,HData!$AB$3:$AB$48828,TRUE)/COUNTIFS(HData!$AO$3:$AO$48828,\">=0\",HData!$O$3:$O$48828,\">=\"&C$69,HData!$O$3:$O$48828,\"<\"&C$70,HData!$AB$3:$AB$48828,TRUE),\"\")","v":""},{"$f":"IFERROR(SUMIFS(HData!$AO$3:$AO$48828,HData!$O$3:$O$48828,\">=\"&D$69,HData!$O$3:$O$48828,\"<\"&D$70,HData!$AB$3:$AB$48828,TRUE)/COUNTIFS(HData!$AO$3:$AO$48828,\">=0\",HData!$O$3:$O$48828,\">=\"&D$69,HData!$O$3:$O$48828,\"<\"&D$70,HData!$AB$3:$AB$48828,TRUE),\"\")","v":""},{"$f":"IFERROR(SUMIFS(HData!$AO$3:$AO$48828,HData!$O$3:$O$48828,\">=\"&E$69,HData!$O$3:$O$48828,\"<\"&E$70,HData!$AB$3:$AB$48828,TRUE)/COUNTIFS(HData!$AO$3:$AO$48828,\">=0\",HData!$O$3:$O$48828,\">=\"&E$69,HData!$O$3:$O$48828,\"<\"&E$70,HData!$AB$3:$AB$48828,TRUE),\"\")","v":""},{"$f":"IFERROR(SUMIFS(HData!$AO$3:$AO$48828,HData!$O$3:$O$48828,\">=\"&F$69,HData!$O$3:$O$48828,\"<\"&F$70,HData!$AB$3:$AB$48828,TRUE)/COUNTIFS(HData!$AO$3:$AO$48828,\">=0\",HData!$O$3:$O$48828,\">=\"&F$69,HData!$O$3:$O$48828,\"<\"&F$70,HData!$AB$3:$AB$48828,TRUE),\"\")","v":""},{"$f":"IFERROR(SUMIFS(HData!$AO$3:$AO$48828,HData!$O$3:$O$48828,\">=\"&G$69,HData!$O$3:$O$48828,\"<\"&G$70,HData!$AB$3:$AB$48828,TRUE)/COUNTIFS(HData!$AO$3:$AO$48828,\">=0\",HData!$O$3:$O$48828,\">=\"&G$69,HData!$O$3:$O$48828,\"<\"&G$70,HData!$AB$3:$AB$48828,TRUE),\"\")","v":""},{"$f":"IFERROR(SUMIFS(HData!$AO$3:$AO$48828,HData!$O$3:$O$48828,\">=\"&H$69,HData!$O$3:$O$48828,\"<\"&H$70,HData!$AB$3:$AB$48828,TRUE)/COUNTIFS(HData!$AO$3:$AO$48828,\">=0\",HData!$O$3:$O$48828,\">=\"&H$69,HData!$O$3:$O$48828,\"<\"&H$70,HData!$AB$3:$AB$48828,TRUE),\"\")","v":""},{"$f":"IFERROR(SUMIFS(HData!$AO$3:$AO$48828,HData!$O$3:$O$48828,\">=\"&I$69,HData!$O$3:$O$48828,\"<\"&I$70,HData!$AB$3:$AB$48828,TRUE)/COUNTIFS(HData!$AO$3:$AO$48828,\">=0\",HData!$O$3:$O$48828,\">=\"&I$69,HData!$O$3:$O$48828,\"<\"&I$70,HData!$AB$3:$AB$48828,TRUE),\"\")","v":""},{"$f":"IFERROR(SUMIFS(HData!$AO$3:$AO$48828,HData!$O$3:$O$48828,\">=\"&J$69,HData!$O$3:$O$48828,\"<\"&J$70,HData!$AB$3:$AB$48828,TRUE)/COUNTIFS(HData!$AO$3:$AO$48828,\">=0\",HData!$O$3:$O$48828,\">=\"&J$69,HData!$O$3:$O$48828,\"<\"&J$70,HData!$AB$3:$AB$48828,TRUE),\"\")","v":""},{"$f":"IFERROR(SUMIFS(HData!$AO$3:$AO$48828,HData!$O$3:$O$48828,\">=\"&K$69,HData!$O$3:$O$48828,\"<\"&K$70,HData!$AB$3:$AB$48828,TRUE)/COUNTIFS(HData!$AO$3:$AO$48828,\">=0\",HData!$O$3:$O$48828,\">=\"&K$69,HData!$O$3:$O$48828,\"<\"&K$70,HData!$AB$3:$AB$48828,TRUE),\"\")","v":""},{"$f":"IFERROR(SUMIFS(HData!$AO$3:$AO$48828,HData!$O$3:$O$48828,\">=\"&L$69,HData!$O$3:$O$48828,\"<\"&L$70,HData!$AB$3:$AB$48828,TRUE)/COUNTIFS(HData!$AO$3:$AO$48828,\">=0\",HData!$O$3:$O$48828,\">=\"&L$69,HData!$O$3:$O$48828,\"<\"&L$70,HData!$AB$3:$AB$48828,TRUE),\"\")","v":""},{"$f":"IFERROR(SUMIFS(HData!$AO$3:$AO$48828,HData!$O$3:$O$48828,\">=\"&M$69,HData!$O$3:$O$48828,\"<\"&M$70,HData!$AB$3:$AB$48828,TRUE)/COUNTIFS(HData!$AO$3:$AO$48828,\">=0\",HData!$O$3:$O$48828,\">=\"&M$69,HData!$O$3:$O$48828,\"<\"&M$70,HData!$AB$3:$AB$48828,TRUE),\"\")","v":""},{"$f":"IFERROR(SUMIFS(HData!$AO$3:$AO$48828,HData!$O$3:$O$48828,\">=\"&N$69,HData!$O$3:$O$48828,\"<\"&N$70,HData!$AB$3:$AB$48828,TRUE)/COUNTIFS(HData!$AO$3:$AO$48828,\">=0\",HData!$O$3:$O$48828,\">=\"&N$69,HData!$O$3:$O$48828,\"<\"&N$70,HData!$AB$3:$AB$48828,TRUE),\"\")","v":""},{"$f":"IFERROR(SUMIFS(HData!$AO$3:$AO$48828,HData!$O$3:$O$48828,\">=\"&O$69,HData!$O$3:$O$48828,\"<\"&O$70,HData!$AB$3:$AB$48828,TRUE)/COUNTIFS(HData!$AO$3:$AO$48828,\">=0\",HData!$O$3:$O$48828,\">=\"&O$69,HData!$O$3:$O$48828,\"<\"&O$70,HData!$AB$3:$AB$48828,TRUE),\"\")","v":""},{"$f":"IFERROR(SUMIFS(HData!$AO$3:$AO$48828,HData!$O$3:$O$48828,\">=\"&P$69,HData!$O$3:$O$48828,\"<\"&P$70,HData!$AB$3:$AB$48828,TRUE)/COUNTIFS(HData!$AO$3:$AO$48828,\">=0\",HData!$O$3:$O$48828,\">=\"&P$69,HData!$O$3:$O$48828,\"<\"&P$70,HData!$AB$3:$AB$48828,TRUE),\"\")","v":""},{"$f":"IFERROR(SUMIFS(HData!$AO$3:$AO$48828,HData!$O$3:$O$48828,\">=\"&Q$69,HData!$O$3:$O$48828,\"<\"&Q$70,HData!$AB$3:$AB$48828,TRUE)/COUNTIFS(HData!$AO$3:$AO$48828,\">=0\",HData!$O$3:$O$48828,\">=\"&Q$69,HData!$O$3:$O$48828,\"<\"&Q$70,HData!$AB$3:$AB$48828,TRUE),\"\")","v":""},{"$f":"IFERROR(SUMIFS(HData!$AO$3:$AO$48828,HData!$O$3:$O$48828,\">=\"&R$69,HData!$O$3:$O$48828,\"<\"&R$70,HData!$AB$3:$AB$48828,TRUE)/COUNTIFS(HData!$AO$3:$AO$48828,\">=0\",HData!$O$3:$O$48828,\">=\"&R$69,HData!$O$3:$O$48828,\"<\"&R$70,HData!$AB$3:$AB$48828,TRUE),\"\")","v":""},{"$f":"IFERROR(SUMIFS(HData!$AO$3:$AO$48828,HData!$O$3:$O$48828,\">=\"&S$69,HData!$O$3:$O$48828,\"<\"&S$70,HData!$AB$3:$AB$48828,TRUE)/COUNTIFS(HData!$AO$3:$AO$48828,\">=0\",HData!$O$3:$O$48828,\">=\"&S$69,HData!$O$3:$O$48828,\"<\"&S$70,HData!$AB$3:$AB$48828,TRUE),\"\")","v":""},{"$f":"IFERROR(SUMIFS(HData!$AO$3:$AO$48828,HData!$O$3:$O$48828,\">=\"&T$69,HData!$O$3:$O$48828,\"<\"&T$70,HData!$AB$3:$AB$48828,TRUE)/COUNTIFS(HData!$AO$3:$AO$48828,\">=0\",HData!$O$3:$O$48828,\">=\"&T$69,HData!$O$3:$O$48828,\"<\"&T$70,HData!$AB$3:$AB$48828,TRUE),\"\")","v":""},{"$f":"IFERROR(SUMIFS(HData!$AO$3:$AO$48828,HData!$O$3:$O$48828,\">=\"&U$69,HData!$O$3:$O$48828,\"<\"&U$70,HData!$AB$3:$AB$48828,TRUE)/COUNTIFS(HData!$AO$3:$AO$48828,\">=0\",HData!$O$3:$O$48828,\">=\"&U$69,HData!$O$3:$O$48828,\"<\"&U$70,HData!$AB$3:$AB$48828,TRUE),\"\")","v":""},{"$f":"IFERROR(SUMIFS(HData!$AO$3:$AO$48828,HData!$O$3:$O$48828,\">=\"&V$69,HData!$O$3:$O$48828,\"<\"&V$70,HData!$AB$3:$AB$48828,TRUE)/COUNTIFS(HData!$AO$3:$AO$48828,\">=0\",HData!$O$3:$O$48828,\">=\"&V$69,HData!$O$3:$O$48828,\"<\"&V$70,HData!$AB$3:$AB$48828,TRUE),\"\")","v":""},{"$f":"IFERROR(SUMIFS(HData!$AO$3:$AO$48828,HData!$O$3:$O$48828,\">=\"&W$69,HData!$O$3:$O$48828,\"<\"&W$70,HData!$AB$3:$AB$48828,TRUE)/COUNTIFS(HData!$AO$3:$AO$48828,\">=0\",HData!$O$3:$O$48828,\">=\"&W$69,HData!$O$3:$O$48828,\"<\"&W$70,HData!$AB$3:$AB$48828,TRUE),\"\")","v":""},{"$f":"IFERROR(SUMIFS(HData!$AO$3:$AO$48828,HData!$O$3:$O$48828,\">=\"&X$69,HData!$O$3:$O$48828,\"<\"&X$70,HData!$AB$3:$AB$48828,TRUE)/COUNTIFS(HData!$AO$3:$AO$48828,\">=0\",HData!$O$3:$O$48828,\">=\"&X$69,HData!$O$3:$O$48828,\"<\"&X$70,HData!$AB$3:$AB$48828,TRUE),\"\")","v":""},{"$f":"IFERROR(SUMIFS(HData!$AO$3:$AO$48828,HData!$O$3:$O$48828,\">=\"&Y$69,HData!$O$3:$O$48828,\"<\"&Y$70,HData!$AB$3:$AB$48828,TRUE)/COUNTIFS(HData!$AO$3:$AO$48828,\">=0\",HData!$O$3:$O$48828,\">=\"&Y$69,HData!$O$3:$O$48828,\"<\"&Y$70,HData!$AB$3:$AB$48828,TRUE),\"\")","v":""},{"$f":"IFERROR(SUMIFS(HData!$AO$3:$AO$48828,HData!$O$3:$O$48828,\">=\"&Z$69,HData!$O$3:$O$48828,\"<\"&Z$70,HData!$AB$3:$AB$48828,TRUE)/COUNTIFS(HData!$AO$3:$AO$48828,\">=0\",HData!$O$3:$O$48828,\">=\"&Z$69,HData!$O$3:$O$48828,\"<\"&Z$70,HData!$AB$3:$AB$48828,TRUE),\"\")","v":""},{"$f":"IFERROR(SUMIFS(HData!$AO$3:$AO$48828,HData!$O$3:$O$48828,\">=\"&AA$69,HData!$O$3:$O$48828,\"<\"&AA$70,HData!$AB$3:$AB$48828,TRUE)/COUNTIFS(HData!$AO$3:$AO$48828,\">=0\",HData!$O$3:$O$48828,\">=\"&AA$69,HData!$O$3:$O$48828,\"<\"&AA$70,HData!$AB$3:$AB$48828,TRUE),\"\")","v":""},{"$f":"IFERROR(SUMIFS(HData!$AO$3:$AO$48828,HData!$O$3:$O$48828,\">=\"&AB$69,HData!$O$3:$O$48828,\"<\"&AB$70,HData!$AB$3:$AB$48828,TRUE)/COUNTIFS(HData!$AO$3:$AO$48828,\">=0\",HData!$O$3:$O$48828,\">=\"&AB$69,HData!$O$3:$O$48828,\"<\"&AB$70,HData!$AB$3:$AB$48828,TRUE),\"\")","v":""},{"$f":"IFERROR(SUMIFS(HData!$AO$3:$AO$48828,HData!$O$3:$O$48828,\">=\"&AC$69,HData!$O$3:$O$48828,\"<\"&AC$70,HData!$AB$3:$AB$48828,TRUE)/COUNTIFS(HData!$AO$3:$AO$48828,\">=0\",HData!$O$3:$O$48828,\">=\"&AC$69,HData!$O$3:$O$48828,\"<\"&AC$70,HData!$AB$3:$AB$48828,TRUE),\"\")","v":""},{"$f":"IFERROR(SUMIFS(HData!$AO$3:$AO$48828,HData!$O$3:$O$48828,\">=\"&AD$69,HData!$O$3:$O$48828,\"<\"&AD$70,HData!$AB$3:$AB$48828,TRUE)/COUNTIFS(HData!$AO$3:$AO$48828,\">=0\",HData!$O$3:$O$48828,\">=\"&AD$69,HData!$O$3:$O$48828,\"<\"&AD$70,HData!$AB$3:$AB$48828,TRUE),\"\")","v":""},{"$f":"IFERROR(SUMIFS(HData!$AO$3:$AO$48828,HData!$O$3:$O$48828,\">=\"&AE$69,HData!$O$3:$O$48828,\"<\"&AE$70,HData!$AB$3:$AB$48828,TRUE)/COUNTIFS(HData!$AO$3:$AO$48828,\">=0\",HData!$O$3:$O$48828,\">=\"&AE$69,HData!$O$3:$O$48828,\"<\"&AE$70,HData!$AB$3:$AB$48828,TRUE),\"\")","v":""},{"$f":"IFERROR(SUMIFS(HData!$AO$3:$AO$48828,HData!$O$3:$O$48828,\">=\"&AF$69,HData!$O$3:$O$48828,\"<\"&AF$70,HData!$AB$3:$AB$48828,TRUE)/COUNTIFS(HData!$AO$3:$AO$48828,\">=0\",HData!$O$3:$O$48828,\">=\"&AF$69,HData!$O$3:$O$48828,\"<\"&AF$70,HData!$AB$3:$AB$48828,TRUE),\"\")","v":""},{"$f":"IFERROR(SUMIFS(HData!$AO$3:$AO$48828,HData!$O$3:$O$48828,\">=\"&AG$69,HData!$O$3:$O$48828,\"<\"&AG$70,HData!$AB$3:$AB$48828,TRUE)/COUNTIFS(HData!$AO$3:$AO$48828,\">=0\",HData!$O$3:$O$48828,\">=\"&AG$69,HData!$O$3:$O$48828,\"<\"&AG$70,HData!$AB$3:$AB$48828,TRUE),\"\")","v":""},{"$f":"IFERROR(SUMIFS(HData!$AO$3:$AO$48828,HData!$O$3:$O$48828,\">=\"&AH$69,HData!$O$3:$O$48828,\"<\"&AH$70,HData!$AB$3:$AB$48828,TRUE)/COUNTIFS(HData!$AO$3:$AO$48828,\">=0\",HData!$O$3:$O$48828,\">=\"&AH$69,HData!$O$3:$O$48828,\"<\"&AH$70,HData!$AB$3:$AB$48828,TRUE),\"\")","v":""},{"$f":"IFERROR(SUMIFS(HData!$AO$3:$AO$48828,HData!$O$3:$O$48828,\">=\"&AI$69,HData!$O$3:$O$48828,\"<\"&AI$70,HData!$AB$3:$AB$48828,TRUE)/COUNTIFS(HData!$AO$3:$AO$48828,\">=0\",HData!$O$3:$O$48828,\">=\"&AI$69,HData!$O$3:$O$48828,\"<\"&AI$70,HData!$AB$3:$AB$48828,TRUE),\"\")","v":""},{"$f":"IFERROR(SUMIFS(HData!$AO$3:$AO$48828,HData!$O$3:$O$48828,\">=\"&AJ$69,HData!$O$3:$O$48828,\"<\"&AJ$70,HData!$AB$3:$AB$48828,TRUE)/COUNTIFS(HData!$AO$3:$AO$48828,\">=0\",HData!$O$3:$O$48828,\">=\"&AJ$69,HData!$O$3:$O$48828,\"<\"&AJ$70,HData!$AB$3:$AB$48828,TRUE),\"\")","v":""},{"$f":"IFERROR(SUMIFS(HData!$AO$3:$AO$48828,HData!$O$3:$O$48828,\">=\"&AK$69,HData!$O$3:$O$48828,\"<\"&AK$70,HData!$AB$3:$AB$48828,TRUE)/COUNTIFS(HData!$AO$3:$AO$48828,\">=0\",HData!$O$3:$O$48828,\">=\"&AK$69,HData!$O$3:$O$48828,\"<\"&AK$70,HData!$AB$3:$AB$48828,TRUE),\"\")","v":""},{"$f":"IFERROR(SUMIFS(HData!$AO$3:$AO$48828,HData!$O$3:$O$48828,\">=\"&AL$69,HData!$O$3:$O$48828,\"<\"&AL$70,HData!$AB$3:$AB$48828,TRUE)/COUNTIFS(HData!$AO$3:$AO$48828,\">=0\",HData!$O$3:$O$48828,\">=\"&AL$69,HData!$O$3:$O$48828,\"<\"&AL$70,HData!$AB$3:$AB$48828,TRUE),\"\")","v":""}]
["PO to match (children matched with PO)",{"$f":"IFERROR(SUMIFS(HData!$AT$3:$AT$48828,HData!$P$3:$P$48828,\">=\"&B$69,HData!$P$3:$P$48828,\"<\"&B$70)/COUNTIFS(HData!$AT$3:$AT$48828,\">=0\",HData!$P$3:$P$48828,\">=\"&B$69,HData!$P$3:$P$48828,\"<\"&B$70),\"\")","v":""},{"$f":"IFERROR(SUMIFS(HData!$AT$3:$AT$48828,HData!$P$3:$P$48828,\">=\"&C$69,HData!$P$3:$P$48828,\"<\"&C$70)/COUNTIFS(HData!$AT$3:$AT$48828,\">=0\",HData!$P$3:$P$48828,\">=\"&C$69,HData!$P$3:$P$48828,\"<\"&C$70),\"\")","v":""},{"$f":"IFERROR(SUMIFS(HData!$AT$3:$AT$48828,HData!$P$3:$P$48828,\">=\"&D$69,HData!$P$3:$P$48828,\"<\"&D$70)/COUNTIFS(HData!$AT$3:$AT$48828,\">=0\",HData!$P$3:$P$48828,\">=\"&D$69,HData!$P$3:$P$48828,\"<\"&D$70),\"\")","v":""},{"$f":"IFERROR(SUMIFS(HData!$AT$3:$AT$48828,HData!$P$3:$P$48828,\">=\"&E$69,HData!$P$3:$P$48828,\"<\"&E$70)/COUNTIFS(HData!$AT$3:$AT$48828,\">=0\",HData!$P$3:$P$48828,\">=\"&E$69,HData!$P$3:$P$48828,\"<\"&E$70),\"\")","v":""},{"$f":"IFERROR(SUMIFS(HData!$AT$3:$AT$48828,HData!$P$3:$P$48828,\">=\"&F$69,HData!$P$3:$P$48828,\"<\"&F$70)/COUNTIFS(HData!$AT$3:$AT$48828,\">=0\",HData!$P$3:$P$48828,\">=\"&F$69,HData!$P$3:$P$48828,\"<\"&F$70),\"\")","v":""},{"$f":"IFERROR(SUMIFS(HData!$AT$3:$AT$48828,HData!$P$3:$P$48828,\">=\"&G$69,HData!$P$3:$P$48828,\"<\"&G$70)/COUNTIFS(HData!$AT$3:$AT$48828,\">=0\",HData!$P$3:$P$48828,\">=\"&G$69,HData!$P$3:$P$48828,\"<\"&G$70),\"\")","v":""},{"$f":"IFERROR(SUMIFS(HData!$AT$3:$AT$48828,HData!$P$3:$P$48828,\">=\"&H$69,HData!$P$3:$P$48828,\"<\"&H$70)/COUNTIFS(HData!$AT$3:$AT$48828,\">=0\",HData!$P$3:$P$48828,\">=\"&H$69,HData!$P$3:$P$48828,\"<\"&H$70),\"\")","v":""},{"$f":"IFERROR(SUMIFS(HData!$AT$3:$AT$48828,HData!$P$3:$P$48828,\">=\"&I$69,HData!$P$3:$P$48828,\"<\"&I$70)/COUNTIFS(HData!$AT$3:$AT$48828,\">=0\",HData!$P$3:$P$48828,\">=\"&I$69,HData!$P$3:$P$48828,\"<\"&I$70),\"\")","v":""},{"$f":"IFERROR(SUMIFS(HData!$AT$3:$AT$48828,HData!$P$3:$P$48828,\">=\"&J$69,HData!$P$3:$P$48828,\"<\"&J$70)/COUNTIFS(HData!$AT$3:$AT$48828,\">=0\",HData!$P$3:$P$48828,\">=\"&J$69,HData!$P$3:$P$48828,\"<\"&J$70),\"\")","v":""},{"$f":"IFERROR(SUMIFS(HData!$AT$3:$AT$48828,HData!$P$3:$P$48828,\">=\"&K$69,HData!$P$3:$P$48828,\"<\"&K$70)/COUNTIFS(HData!$AT$3:$AT$48828,\">=0\",HData!$P$3:$P$48828,\">=\"&K$69,HData!$P$3:$P$48828,\"<\"&K$70),\"\")","v":""},{"$f":"IFERROR(SUMIFS(HData!$AT$3:$AT$48828,HData!$P$3:$P$48828,\">=\"&L$69,HData!$P$3:$P$48828,\"<\"&L$70)/COUNTIFS(HData!$AT$3:$AT$48828,\">=0\",HData!$P$3:$P$48828,\">=\"&L$69,HData!$P$3:$P$48828,\"<\"&L$70),\"\")","v":""},{"$f":"IFERROR(SUMIFS(HData!$AT$3:$AT$48828,HData!$P$3:$P$48828,\">=\"&M$69,HData!$P$3:$P$48828,\"<\"&M$70)/COUNTIFS(HData!$AT$3:$AT$48828,\">=0\",HData!$P$3:$P$48828,\">=\"&M$69,HData!$P$3:$P$48828,\"<\"&M$70),\"\")","v":""},{"$f":"IFERROR(SUMIFS(HData!$AT$3:$AT$48828,HData!$P$3:$P$48828,\">=\"&N$69,HData!$P$3:$P$48828,\"<\"&N$70)/COUNTIFS(HData!$AT$3:$AT$48828,\">=0\",HData!$P$3:$P$48828,\">=\"&N$69,HData!$P$3:$P$48828,\"<\"&N$70),\"\")","v":""},{"$f":"IFERROR(SUMIFS(HData!$AT$3:$AT$48828,HData!$P$3:$P$48828,\">=\"&O$69,HData!$P$3:$P$48828,\"<\"&O$70)/COUNTIFS(HData!$AT$3:$AT$48828,\">=0\",HData!$P$3:$P$48828,\">=\"&O$69,HData!$P$3:$P$48828,\"<\"&O$70),\"\")","v":""},{"$f":"IFERROR(SUMIFS(HData!$AT$3:$AT$48828,HData!$P$3:$P$48828,\">=\"&P$69,HData!$P$3:$P$48828,\"<\"&P$70)/COUNTIFS(HData!$AT$3:$AT$48828,\">=0\",HData!$P$3:$P$48828,\">=\"&P$69,HData!$P$3:$P$48828,\"<\"&P$70),\"\")","v":""},{"$f":"IFERROR(SUMIFS(HData!$AT$3:$AT$48828,HData!$P$3:$P$48828,\">=\"&Q$69,HData!$P$3:$P$48828,\"<\"&Q$70)/COUNTIFS(HData!$AT$3:$AT$48828,\">=0\",HData!$P$3:$P$48828,\">=\"&Q$69,HData!$P$3:$P$48828,\"<\"&Q$70),\"\")","v":""},{"$f":"IFERROR(SUMIFS(HData!$AT$3:$AT$48828,HData!$P$3:$P$48828,\">=\"&R$69,HData!$P$3:$P$48828,\"<\"&R$70)/COUNTIFS(HData!$AT$3:$AT$48828,\">=0\",HData!$P$3:$P$48828,\">=\"&R$69,HData!$P$3:$P$48828,\"<\"&R$70),\"\")","v":""},{"$f":"IFERROR(SUMIFS(HData!$AT$3:$AT$48828,HData!$P$3:$P$48828,\">=\"&S$69,HData!$P$3:$P$48828,\"<\"&S$70)/COUNTIFS(HData!$AT$3:$AT$48828,\">=0\",HData!$P$3:$P$48828,\">=\"&S$69,HData!$P$3:$P$48828,\"<\"&S$70),\"\")","v":""},{"$f":"IFERROR(SUMIFS(HData!$AT$3:$AT$48828,HData!$P$3:$P$48828,\">=\"&T$69,HData!$P$3:$P$48828,\"<\"&T$70)/COUNTIFS(HData!$AT$3:$AT$48828,\">=0\",HData!$P$3:$P$48828,\">=\"&T$69,HData!$P$3:$P$48828,\"<\"&T$70),\"\")","v":""},{"$f":"IFERROR(SUMIFS(HData!$AT$3:$AT$48828,HData!$P$3:$P$48828,\">=\"&U$69,HData!$P$3:$P$48828,\"<\"&U$70)/COUNTIFS(HData!$AT$3:$AT$48828,\">=0\",HData!$P$3:$P$48828,\">=\"&U$69,HData!$P$3:$P$48828,\"<\"&U$70),\"\")","v":""},{"$f":"IFERROR(SUMIFS(HData!$AT$3:$AT$48828,HData!$P$3:$P$48828,\">=\"&V$69,HData!$P$3:$P$48828,\"<\"&V$70)/COUNTIFS(HData!$AT$3:$AT$48828,\">=0\",HData!$P$3:$P$48828,\">=\"&V$69,HData!$P$3:$P$48828,\"<\"&V$70),\"\")","v":""},{"$f":"IFERROR(SUMIFS(HData!$AT$3:$AT$48828,HData!$P$3:$P$48828,\">=\"&W$69,HData!$P$3:$P$48828,\"<\"&W$70)/COUNTIFS(HData!$AT$3:$AT$48828,\">=0\",HData!$P$3:$P$48828,\">=\"&W$69,HData!$P$3:$P$48828,\"<\"&W$70),\"\")","v":""},{"$f":"IFERROR(SUMIFS(HData!$AT$3:$AT$48828,HData!$P$3:$P$48828,\">=\"&X$69,HData!$P$3:$P$48828,\"<\"&X$70)/COUNTIFS(HData!$AT$3:$AT$48828,\">=0\",HData!$P$3:$P$48828,\">=\"&X$69,HData!$P$3:$P$48828,\"<\"&X$70),\"\")","v":""},{"$f":"IFERROR(SUMIFS(HData!$AT$3:$AT$48828,HData!$P$3:$P$48828,\">=\"&Y$69,HData!$P$3:$P$48828,\"<\"&Y$70)/COUNTIFS(HData!$AT$3:$AT$48828,\">=0\",HData!$P$3:$P$48828,\">=\"&Y$69,HData!$P$3:$P$48828,\"<\"&Y$70),\"\")","v":""},{"$f":"IFERROR(SUMIFS(HData!$AT$3:$AT$48828,HData!$P$3:$P$48828,\">=\"&Z$69,HData!$P$3:$P$48828,\"<\"&Z$70)/COUNTIFS(HData!$AT$3:$AT$48828,\">=0\",HData!$P$3:$P$48828,\">=\"&Z$69,HData!$P$3:$P$48828,\"<\"&Z$70),\"\")","v":""},{"$f":"IFERROR(SUMIFS(HData!$AT$3:$AT$48828,HData!$P$3:$P$48828,\">=\"&AA$69,HData!$P$3:$P$48828,\"<\"&AA$70)/COUNTIFS(HData!$AT$3:$AT$48828,\">=0\",HData!$P$3:$P$48828,\">=\"&AA$69,HData!$P$3:$P$48828,\"<\"&AA$70),\"\")","v":""},{"$f":"IFERROR(SUMIFS(HData!$AT$3:$AT$48828,HData!$P$3:$P$48828,\">=\"&AB$69,HData!$P$3:$P$48828,\"<\"&AB$70)/COUNTIFS(HData!$AT$3:$AT$48828,\">=0\",HData!$P$3:$P$48828,\">=\"&AB$69,HData!$P$3:$P$48828,\"<\"&AB$70),\"\")","v":""},{"$f":"IFERROR(SUMIFS(HData!$AT$3:$AT$48828,HData!$P$3:$P$48828,\">=\"&AC$69,HData!$P$3:$P$48828,\"<\"&AC$70)/COUNTIFS(HData!$AT$3:$AT$48828,\">=0\",HData!$P$3:$P$48828,\">=\"&AC$69,HData!$P$3:$P$48828,\"<\"&AC$70),\"\")","v":""},{"$f":"IFERROR(SUMIFS(HData!$AT$3:$AT$48828,HData!$P$3:$P$48828,\">=\"&AD$69,HData!$P$3:$P$48828,\"<\"&AD$70)/COUNTIFS(HData!$AT$3:$AT$48828,\">=0\",HData!$P$3:$P$48828,\">=\"&AD$69,HData!$P$3:$P$48828,\"<\"&AD$70),\"\")","v":""},{"$f":"IFERROR(SUMIFS(HData!$AT$3:$AT$48828,HData!$P$3:$P$48828,\">=\"&AE$69,HData!$P$3:$P$48828,\"<\"&AE$70)/COUNTIFS(HData!$AT$3:$AT$48828,\">=0\",HData!$P$3:$P$48828,\">=\"&AE$69,HData!$P$3:$P$48828,\"<\"&AE$70),\"\")","v":""},{"$f":"IFERROR(SUMIFS(HData!$AT$3:$AT$48828,HData!$P$3:$P$48828,\">=\"&AF$69,HData!$P$3:$P$48828,\"<\"&AF$70)/COUNTIFS(HData!$AT$3:$AT$48828,\">=0\",HData!$P$3:$P$48828,\">=\"&AF$69,HData!$P$3:$P$48828,\"<\"&AF$70),\"\")","v":""},{"$f":"IFERROR(SUMIFS(HData!$AT$3:$AT$48828,HData!$P$3:$P$48828,\">=\"&AG$69,HData!$P$3:$P$48828,\"<\"&AG$70)/COUNTIFS(HData!$AT$3:$AT$48828,\">=0\",HData!$P$3:$P$48828,\">=\"&AG$69,HData!$P$3:$P$48828,\"<\"&AG$70),\"\")","v":""},{"$f":"IFERROR(SUMIFS(HData!$AT$3:$AT$48828,HData!$P$3:$P$48828,\">=\"&AH$69,HData!$P$3:$P$48828,\"<\"&AH$70)/COUNTIFS(HData!$AT$3:$AT$48828,\">=0\",HData!$P$3:$P$48828,\">=\"&AH$69,HData!$P$3:$P$48828,\"<\"&AH$70),\"\")","v":""},{"$f":"IFERROR(SUMIFS(HData!$AT$3:$AT$48828,HData!$P$3:$P$48828,\">=\"&AI$69,HData!$P$3:$P$48828,\"<\"&AI$70)/COUNTIFS(HData!$AT$3:$AT$48828,\">=0\",HData!$P$3:$P$48828,\">=\"&AI$69,HData!$P$3:$P$48828,\"<\"&AI$70),\"\")","v":""},{"$f":"IFERROR(SUMIFS(HData!$AT$3:$AT$48828,HData!$P$3:$P$48828,\">=\"&AJ$69,HData!$P$3:$P$48828,\"<\"&AJ$70)/COUNTIFS(HData!$AT$3:$AT$48828,\">=0\",HData!$P$3:$P$48828,\">=\"&AJ$69,HData!$P$3:$P$48828,\"<\"&AJ$70),\"\")","v":""},{"$f":"IFERROR(SUMIFS(HData!$AT$3:$AT$48828,HData!$P$3:$P$48828,\">=\"&AK$69,HData!$P$3:$P$48828,\"<\"&AK$70)/COUNTIFS(HData!$AT$3:$AT$48828,\">=0\",HData!$P$3:$P$48828,\">=\"&AK$69,HData!$P$3:$P$48828,\"<\"&AK$70),\"\")","v":""},{"$f":"IFERROR(SUMIFS(HData!$AT$3:$AT$48828,HData!$P$3:$P$48828,\">=\"&AL$69,HData!$P$3:$P$48828,\"<\"&AL$70)/COUNTIFS(HData!$AT$3:$AT$48828,\">=0\",HData!$P$3:$P$48828,\">=\"&AL$69,HData!$P$3:$P$48828,\"<\"&AL$70),\"\")","v":""}]
["BLA to placed (children placed)",{"$f":"IFERROR(SUMIFS(HData!$AF$3:$AF$48828,HData!$R$3:$R$48828,\">=\"&B$69,HData!$R$3:$R$48828,\"<\"&B$70)/COUNTIFS(HData!$AF$3:$AF$48828,\">=0\",HData!$R$3:$R$48828,\">=\"&B$69,HData!$R$3:$R$48828,\"<\"&B$70),\"\")","v":""},{"$f":"IFERROR(SUMIFS(HData!$AF$3:$AF$48828,HData!$R$3:$R$48828,\">=\"&C$69,HData!$R$3:$R$48828,\"<\"&C$70)/COUNTIFS(HData!$AF$3:$AF$48828,\">=0\",HData!$R$3:$R$48828,\">=\"&C$69,HData!$R$3:$R$48828,\"<\"&C$70),\"\")","v":""},{"$f":"IFERROR(SUMIFS(HData!$AF$3:$AF$48828,HData!$R$3:$R$48828,\">=\"&D$69,HData!$R$3:$R$48828,\"<\"&D$70)/COUNTIFS(HData!$AF$3:$AF$48828,\">=0\",HData!$R$3:$R$48828,\">=\"&D$69,HData!$R$3:$R$48828,\"<\"&D$70),\"\")","v":""},{"$f":"IFERROR(SUMIFS(HData!$AF$3:$AF$48828,HData!$R$3:$R$48828,\">=\"&E$69,HData!$R$3:$R$48828,\"<\"&E$70)/COUNTIFS(HData!$AF$3:$AF$48828,\">=0\",HData!$R$3:$R$48828,\">=\"&E$69,HData!$R$3:$R$48828,\"<\"&E$70),\"\")","v":""},{"$f":"IFERROR(SUMIFS(HData!$AF$3:$AF$48828,HData!$R$3:$R$48828,\">=\"&F$69,HData!$R$3:$R$48828,\"<\"&F$70)/COUNTIFS(HData!$AF$3:$AF$48828,\">=0\",HData!$R$3:$R$48828,\">=\"&F$69,HData!$R$3:$R$48828,\"<\"&F$70),\"\")","v":""},{"$f":"IFERROR(SUMIFS(HData!$AF$3:$AF$48828,HData!$R$3:$R$48828,\">=\"&G$69,HData!$R$3:$R$48828,\"<\"&G$70)/COUNTIFS(HData!$AF$3:$AF$48828,\">=0\",HData!$R$3:$R$48828,\">=\"&G$69,HData!$R$3:$R$48828,\"<\"&G$70),\"\")","v":""},{"$f":"IFERROR(SUMIFS(HData!$AF$3:$AF$48828,HData!$R$3:$R$48828,\">=\"&H$69,HData!$R$3:$R$48828,\"<\"&H$70)/COUNTIFS(HData!$AF$3:$AF$48828,\">=0\",HData!$R$3:$R$48828,\">=\"&H$69,HData!$R$3:$R$48828,\"<\"&H$70),\"\")","v":""},{"$f":"IFERROR(SUMIFS(HData!$AF$3:$AF$48828,HData!$R$3:$R$48828,\">=\"&I$69,HData!$R$3:$R$48828,\"<\"&I$70)/COUNTIFS(HData!$AF$3:$AF$48828,\">=0\",HData!$R$3:$R$48828,\">=\"&I$69,HData!$R$3:$R$48828,\"<\"&I$70),\"\")","v":""},{"$f":"IFERROR(SUMIFS(HData!$AF$3:$AF$48828,HData!$R$3:$R$48828,\">=\"&J$69,HData!$R$3:$R$48828,\"<\"&J$70)/COUNTIFS(HData!$AF$3:$AF$48828,\">=0\",HData!$R$3:$R$48828,\">=\"&J$69,HData!$R$3:$R$48828,\"<\"&J$70),\"\")","v":""},{"$f":"IFERROR(SUMIFS(HData!$AF$3:$AF$48828,HData!$R$3:$R$48828,\">=\"&K$69,HData!$R$3:$R$48828,\"<\"&K$70)/COUNTIFS(HData!$AF$3:$AF$48828,\">=0\",HData!$R$3:$R$48828,\">=\"&K$69,HData!$R$3:$R$48828,\"<\"&K$70),\"\")","v":""},{"$f":"IFERROR(SUMIFS(HData!$AF$3:$AF$48828,HData!$R$3:$R$48828,\">=\"&L$69,HData!$R$3:$R$48828,\"<\"&L$70)/COUNTIFS(HData!$AF$3:$AF$48828,\">=0\",HData!$R$3:$R$48828,\">=\"&L$69,HData!$R$3:$R$48828,\"<\"&L$70),\"\")","v":""},{"$f":"IFERROR(SUMIFS(HData!$AF$3:$AF$48828,HData!$R$3:$R$48828,\">=\"&M$69,HData!$R$3:$R$48828,\"<\"&M$70)/COUNTIFS(HData!$AF$3:$AF$48828,\">=0\",HData!$R$3:$R$48828,\">=\"&M$69,HData!$R$3:$R$48828,\"<\"&M$70),\"\")","v":""},{"$f":"IFERROR(SUMIFS(HData!$AF$3:$AF$48828,HData!$R$3:$R$48828,\">=\"&N$69,HData!$R$3:$R$48828,\"<\"&N$70)/COUNTIFS(HData!$AF$3:$AF$48828,\">=0\",HData!$R$3:$R$48828,\">=\"&N$69,HData!$R$3:$R$48828,\"<\"&N$70),\"\")","v":""},{"$f":"IFERROR(SUMIFS(HData!$AF$3:$AF$48828,HData!$R$3:$R$48828,\">=\"&O$69,HData!$R$3:$R$48828,\"<\"&O$70)/COUNTIFS(HData!$AF$3:$AF$48828,\">=0\",HData!$R$3:$R$48828,\">=\"&O$69,HData!$R$3:$R$48828,\"<\"&O$70),\"\")","v":""},{"$f":"IFERROR(SUMIFS(HData!$AF$3:$AF$48828,HData!$R$3:$R$48828,\">=\"&P$69,HData!$R$3:$R$48828,\"<\"&P$70)/COUNTIFS(HData!$AF$3:$AF$48828,\">=0\",HData!$R$3:$R$48828,\">=\"&P$69,HData!$R$3:$R$48828,\"<\"&P$70),\"\")","v":""},{"$f":"IFERROR(SUMIFS(HData!$AF$3:$AF$48828,HData!$R$3:$R$48828,\">=\"&Q$69,HData!$R$3:$R$48828,\"<\"&Q$70)/COUNTIFS(HData!$AF$3:$AF$48828,\">=0\",HData!$R$3:$R$48828,\">=\"&Q$69,HData!$R$3:$R$48828,\"<\"&Q$70),\"\")","v":""},{"$f":"IFERROR(SUMIFS(HData!$AF$3:$AF$48828,HData!$R$3:$R$48828,\">=\"&R$69,HData!$R$3:$R$48828,\"<\"&R$70)/COUNTIFS(HData!$AF$3:$AF$48828,\">=0\",HData!$R$3:$R$48828,\">=\"&R$69,HData!$R$3:$R$48828,\"<\"&R$70),\"\")","v":""},{"$f":"IFERROR(SUMIFS(HData!$AF$3:$AF$48828,HData!$R$3:$R$48828,\">=\"&S$69,HData!$R$3:$R$48828,\"<\"&S$70)/COUNTIFS(HData!$AF$3:$AF$48828,\">=0\",HData!$R$3:$R$48828,\">=\"&S$69,HData!$R$3:$R$48828,\"<\"&S$70),\"\")","v":""},{"$f":"IFERROR(SUMIFS(HData!$AF$3:$AF$48828,HData!$R$3:$R$48828,\">=\"&T$69,HData!$R$3:$R$48828,\"<\"&T$70)/COUNTIFS(HData!$AF$3:$AF$48828,\">=0\",HData!$R$3:$R$48828,\">=\"&T$69,HData!$R$3:$R$48828,\"<\"&T$70),\"\")","v":""},{"$f":"IFERROR(SUMIFS(HData!$AF$3:$AF$48828,HData!$R$3:$R$48828,\">=\"&U$69,HData!$R$3:$R$48828,\"<\"&U$70)/COUNTIFS(HData!$AF$3:$AF$48828,\">=0\",HData!$R$3:$R$48828,\">=\"&U$69,HData!$R$3:$R$48828,\"<\"&U$70),\"\")","v":""},{"$f":"IFERROR(SUMIFS(HData!$AF$3:$AF$48828,HData!$R$3:$R$48828,\">=\"&V$69,HData!$R$3:$R$48828,\"<\"&V$70)/COUNTIFS(HData!$AF$3:$AF$48828,\">=0\",HData!$R$3:$R$48828,\">=\"&V$69,HData!$R$3:$R$48828,\"<\"&V$70),\"\")","v":""},{"$f":"IFERROR(SUMIFS(HData!$AF$3:$AF$48828,HData!$R$3:$R$48828,\">=\"&W$69,HData!$R$3:$R$48828,\"<\"&W$70)/COUNTIFS(HData!$AF$3:$AF$48828,\">=0\",HData!$R$3:$R$48828,\">=\"&W$69,HData!$R$3:$R$48828,\"<\"&W$70),\"\")","v":""},{"$f":"IFERROR(SUMIFS(HData!$AF$3:$AF$48828,HData!$R$3:$R$48828,\">=\"&X$69,HData!$R$3:$R$48828,\"<\"&X$70)/COUNTIFS(HData!$AF$3:$AF$48828,\">=0\",HData!$R$3:$R$48828,\">=\"&X$69,HData!$R$3:$R$48828,\"<\"&X$70),\"\")","v":""},{"$f":"IFERROR(SUMIFS(HData!$AF$3:$AF$48828,HData!$R$3:$R$48828,\">=\"&Y$69,HData!$R$3:$R$48828,\"<\"&Y$70)/COUNTIFS(HData!$AF$3:$AF$48828,\">=0\",HData!$R$3:$R$48828,\">=\"&Y$69,HData!$R$3:$R$48828,\"<\"&Y$70),\"\")","v":""},{"$f":"IFERROR(SUMIFS(HData!$AF$3:$AF$48828,HData!$R$3:$R$48828,\">=\"&Z$69,HData!$R$3:$R$48828,\"<\"&Z$70)/COUNTIFS(HData!$AF$3:$AF$48828,\">=0\",HData!$R$3:$R$48828,\">=\"&Z$69,HData!$R$3:$R$48828,\"<\"&Z$70),\"\")","v":""},{"$f":"IFERROR(SUMIFS(HData!$AF$3:$AF$48828,HData!$R$3:$R$48828,\">=\"&AA$69,HData!$R$3:$R$48828,\"<\"&AA$70)/COUNTIFS(HData!$AF$3:$AF$48828,\">=0\",HData!$R$3:$R$48828,\">=\"&AA$69,HData!$R$3:$R$48828,\"<\"&AA$70),\"\")","v":""},{"$f":"IFERROR(SUMIFS(HData!$AF$3:$AF$48828,HData!$R$3:$R$48828,\">=\"&AB$69,HData!$R$3:$R$48828,\"<\"&AB$70)/COUNTIFS(HData!$AF$3:$AF$48828,\">=0\",HData!$R$3:$R$48828,\">=\"&AB$69,HData!$R$3:$R$48828,\"<\"&AB$70),\"\")","v":""},{"$f":"IFERROR(SUMIFS(HData!$AF$3:$AF$48828,HData!$R$3:$R$48828,\">=\"&AC$69,HData!$R$3:$R$48828,\"<\"&AC$70)/COUNTIFS(HData!$AF$3:$AF$48828,\">=0\",HData!$R$3:$R$48828,\">=\"&AC$69,HData!$R$3:$R$48828,\"<\"&AC$70),\"\")","v":""},{"$f":"IFERROR(SUMIFS(HData!$AF$3:$AF$48828,HData!$R$3:$R$48828,\">=\"&AD$69,HData!$R$3:$R$48828,\"<\"&AD$70)/COUNTIFS(HData!$AF$3:$AF$48828,\">=0\",HData!$R$3:$R$48828,\">=\"&AD$69,HData!$R$3:$R$48828,\"<\"&AD$70),\"\")","v":""},{"$f":"IFERROR(SUMIFS(HData!$AF$3:$AF$48828,HData!$R$3:$R$48828,\">=\"&AE$69,HData!$R$3:$R$48828,\"<\"&AE$70)/COUNTIFS(HData!$AF$3:$AF$48828,\">=0\",HData!$R$3:$R$48828,\">=\"&AE$69,HData!$R$3:$R$48828,\"<\"&AE$70),\"\")","v":""},{"$f":"IFERROR(SUMIFS(HData!$AF$3:$AF$48828,HData!$R$3:$R$48828,\">=\"&AF$69,HData!$R$3:$R$48828,\"<\"&AF$70)/COUNTIFS(HData!$AF$3:$AF$48828,\">=0\",HData!$R$3:$R$48828,\">=\"&AF$69,HData!$R$3:$R$48828,\"<\"&AF$70),\"\")","v":""},{"$f":"IFERROR(SUMIFS(HData!$AF$3:$AF$48828,HData!$R$3:$R$48828,\">=\"&AG$69,HData!$R$3:$R$48828,\"<\"&AG$70)/COUNTIFS(HData!$AF$3:$AF$48828,\">=0\",HData!$R$3:$R$48828,\">=\"&AG$69,HData!$R$3:$R$48828,\"<\"&AG$70),\"\")","v":""},{"$f":"IFERROR(SUMIFS(HData!$AF$3:$AF$48828,HData!$R$3:$R$48828,\">=\"&AH$69,HData!$R$3:$R$48828,\"<\"&AH$70)/COUNTIFS(HData!$AF$3:$AF$48828,\">=0\",HData!$R$3:$R$48828,\">=\"&AH$69,HData!$R$3:$R$48828,\"<\"&AH$70),\"\")","v":""},{"$f":"IFERROR(SUMIFS(HData!$AF$3:$AF$48828,HData!$R$3:$R$48828,\">=\"&AI$69,HData!$R$3:$R$48828,\"<\"&AI$70)/COUNTIFS(HData!$AF$3:$AF$48828,\">=0\",HData!$R$3:$R$48828,\">=\"&AI$69,HData!$R$3:$R$48828,\"<\"&AI$70),\"\")","v":""},{"$f":"IFERROR(SUMIFS(HData!$AF$3:$AF$48828,HData!$R$3:$R$48828,\">=\"&AJ$69,HData!$R$3:$R$48828,\"<\"&AJ$70)/COUNTIFS(HData!$AF$3:$AF$48828,\">=0\",HData!$R$3:$R$48828,\">=\"&AJ$69,HData!$R$3:$R$48828,\"<\"&AJ$70),\"\")","v":""},{"$f":"IFERROR(SUMIFS(HData!$AF$3:$AF$48828,HData!$R$3:$R$48828,\">=\"&AK$69,HData!$R$3:$R$48828,\"<\"&AK$70)/COUNTIFS(HData!$AF$3:$AF$48828,\">=0\",HData!$R$3:$R$48828,\">=\"&AK$69,HData!$R$3:$R$48828,\"<\"&AK$70),\"\")","v":""},{"$f":"IFERROR(SUMIFS(HData!$AF$3:$AF$48828,HData!$R$3:$R$48828,\">=\"&AL$69,HData!$R$3:$R$48828,\"<\"&AL$70)/COUNTIFS(HData!$AF$3:$AF$48828,\">=0\",HData!$R$3:$R$48828,\">=\"&AL$69,HData!$R$3:$R$48828,\"<\"&AL$70),\"\")","v":""}]
["Placed to AO (children adopted)",{"$f":"IFERROR(SUMIFS(HData!$BD$3:$BD$48828,HData!$T$3:$T$48828,\">=\"&B$69,HData!$T$3:$T$48828,\"<\"&B$70)/COUNTIFS(HData!$BD$3:$BD$48828,\">=0\",HData!$T$3:$T$48828,\">=\"&B$69,HData!$T$3:$T$48828,\"<\"&B$70),\"\")","v":""},{"$f":"IFERROR(SUMIFS(HData!$BD$3:$BD$48828,HData!$T$3:$T$48828,\">=\"&C$69,HData!$T$3:$T$48828,\"<\"&C$70)/COUNTIFS(HData!$BD$3:$BD$48828,\">=0\",HData!$T$3:$T$48828,\">=\"&C$69,HData!$T$3:$T$48828,\"<\"&C$70),\"\")","v":""},{"$f":"IFERROR(SUMIFS(HData!$BD$3:$BD$48828,HData!$T$3:$T$48828,\">=\"&D$69,HData!$T$3:$T$48828,\"<\"&D$70)/COUNTIFS(HData!$BD$3:$BD$48828,\">=0\",HData!$T$3:$T$48828,\">=\"&D$69,HData!$T$3:$T$48828,\"<\"&D$70),\"\")","v":""},{"$f":"IFERROR(SUMIFS(HData!$BD$3:$BD$48828,HData!$T$3:$T$48828,\">=\"&E$69,HData!$T$3:$T$48828,\"<\"&E$70)/COUNTIFS(HData!$BD$3:$BD$48828,\">=0\",HData!$T$3:$T$48828,\">=\"&E$69,HData!$T$3:$T$48828,\"<\"&E$70),\"\")","v":""},{"$f":"IFERROR(SUMIFS(HData!$BD$3:$BD$48828,HData!$T$3:$T$48828,\">=\"&F$69,HData!$T$3:$T$48828,\"<\"&F$70)/COUNTIFS(HData!$BD$3:$BD$48828,\">=0\",HData!$T$3:$T$48828,\">=\"&F$69,HData!$T$3:$T$48828,\"<\"&F$70),\"\")","v":""},{"$f":"IFERROR(SUMIFS(HData!$BD$3:$BD$48828,HData!$T$3:$T$48828,\">=\"&G$69,HData!$T$3:$T$48828,\"<\"&G$70)/COUNTIFS(HData!$BD$3:$BD$48828,\">=0\",HData!$T$3:$T$48828,\">=\"&G$69,HData!$T$3:$T$48828,\"<\"&G$70),\"\")","v":""},{"$f":"IFERROR(SUMIFS(HData!$BD$3:$BD$48828,HData!$T$3:$T$48828,\">=\"&H$69,HData!$T$3:$T$48828,\"<\"&H$70)/COUNTIFS(HData!$BD$3:$BD$48828,\">=0\",HData!$T$3:$T$48828,\">=\"&H$69,HData!$T$3:$T$48828,\"<\"&H$70),\"\")","v":""},{"$f":"IFERROR(SUMIFS(HData!$BD$3:$BD$48828,HData!$T$3:$T$48828,\">=\"&I$69,HData!$T$3:$T$48828,\"<\"&I$70)/COUNTIFS(HData!$BD$3:$BD$48828,\">=0\",HData!$T$3:$T$48828,\">=\"&I$69,HData!$T$3:$T$48828,\"<\"&I$70),\"\")","v":""},{"$f":"IFERROR(SUMIFS(HData!$BD$3:$BD$48828,HData!$T$3:$T$48828,\">=\"&J$69,HData!$T$3:$T$48828,\"<\"&J$70)/COUNTIFS(HData!$BD$3:$BD$48828,\">=0\",HData!$T$3:$T$48828,\">=\"&J$69,HData!$T$3:$T$48828,\"<\"&J$70),\"\")","v":""},{"$f":"IFERROR(SUMIFS(HData!$BD$3:$BD$48828,HData!$T$3:$T$48828,\">=\"&K$69,HData!$T$3:$T$48828,\"<\"&K$70)/COUNTIFS(HData!$BD$3:$BD$48828,\">=0\",HData!$T$3:$T$48828,\">=\"&K$69,HData!$T$3:$T$48828,\"<\"&K$70),\"\")","v":""},{"$f":"IFERROR(SUMIFS(HData!$BD$3:$BD$48828,HData!$T$3:$T$48828,\">=\"&L$69,HData!$T$3:$T$48828,\"<\"&L$70)/COUNTIFS(HData!$BD$3:$BD$48828,\">=0\",HData!$T$3:$T$48828,\">=\"&L$69,HData!$T$3:$T$48828,\"<\"&L$70),\"\")","v":""},{"$f":"IFERROR(SUMIFS(HData!$BD$3:$BD$48828,HData!$T$3:$T$48828,\">=\"&M$69,HData!$T$3:$T$48828,\"<\"&M$70)/COUNTIFS(HData!$BD$3:$BD$48828,\">=0\",HData!$T$3:$T$48828,\">=\"&M$69,HData!$T$3:$T$48828,\"<\"&M$70),\"\")","v":""},{"$f":"IFERROR(SUMIFS(HData!$BD$3:$BD$48828,HData!$T$3:$T$48828,\">=\"&N$69,HData!$T$3:$T$48828,\"<\"&N$70)/COUNTIFS(HData!$BD$3:$BD$48828,\">=0\",HData!$T$3:$T$48828,\">=\"&N$69,HData!$T$3:$T$48828,\"<\"&N$70),\"\")","v":""},{"$f":"IFERROR(SUMIFS(HData!$BD$3:$BD$48828,HData!$T$3:$T$48828,\">=\"&O$69,HData!$T$3:$T$48828,\"<\"&O$70)/COUNTIFS(HData!$BD$3:$BD$48828,\">=0\",HData!$T$3:$T$48828,\">=\"&O$69,HData!$T$3:$T$48828,\"<\"&O$70),\"\")","v":""},{"$f":"IFERROR(SUMIFS(HData!$BD$3:$BD$48828,HData!$T$3:$T$48828,\">=\"&P$69,HData!$T$3:$T$48828,\"<\"&P$70)/COUNTIFS(HData!$BD$3:$BD$48828,\">=0\",HData!$T$3:$T$48828,\">=\"&P$69,HData!$T$3:$T$48828,\"<\"&P$70),\"\")","v":""},{"$f":"IFERROR(SUMIFS(HData!$BD$3:$BD$48828,HData!$T$3:$T$48828,\">=\"&Q$69,HData!$T$3:$T$48828,\"<\"&Q$70)/COUNTIFS(HData!$BD$3:$BD$48828,\">=0\",HData!$T$3:$T$48828,\">=\"&Q$69,HData!$T$3:$T$48828,\"<\"&Q$70),\"\")","v":""},{"$f":"IFERROR(SUMIFS(HData!$BD$3:$BD$48828,HData!$T$3:$T$48828,\">=\"&R$69,HData!$T$3:$T$48828,\"<\"&R$70)/COUNTIFS(HData!$BD$3:$BD$48828,\">=0\",HData!$T$3:$T$48828,\">=\"&R$69,HData!$T$3:$T$48828,\"<\"&R$70),\"\")","v":""},{"$f":"IFERROR(SUMIFS(HData!$BD$3:$BD$48828,HData!$T$3:$T$48828,\">=\"&S$69,HData!$T$3:$T$48828,\"<\"&S$70)/COUNTIFS(HData!$BD$3:$BD$48828,\">=0\",HData!$T$3:$T$48828,\">=\"&S$69,HData!$T$3:$T$48828,\"<\"&S$70),\"\")","v":""},{"$f":"IFERROR(SUMIFS(HData!$BD$3:$BD$48828,HData!$T$3:$T$48828,\">=\"&T$69,HData!$T$3:$T$48828,\"<\"&T$70)/COUNTIFS(HData!$BD$3:$BD$48828,\">=0\",HData!$T$3:$T$48828,\">=\"&T$69,HData!$T$3:$T$48828,\"<\"&T$70),\"\")","v":""},{"$f":"IFERROR(SUMIFS(HData!$BD$3:$BD$48828,HData!$T$3:$T$48828,\">=\"&U$69,HData!$T$3:$T$48828,\"<\"&U$70)/COUNTIFS(HData!$BD$3:$BD$48828,\">=0\",HData!$T$3:$T$48828,\">=\"&U$69,HData!$T$3:$T$48828,\"<\"&U$70),\"\")","v":""},{"$f":"IFERROR(SUMIFS(HData!$BD$3:$BD$48828,HData!$T$3:$T$48828,\">=\"&V$69,HData!$T$3:$T$48828,\"<\"&V$70)/COUNTIFS(HData!$BD$3:$BD$48828,\">=0\",HData!$T$3:$T$48828,\">=\"&V$69,HData!$T$3:$T$48828,\"<\"&V$70),\"\")","v":""},{"$f":"IFERROR(SUMIFS(HData!$BD$3:$BD$48828,HData!$T$3:$T$48828,\">=\"&W$69,HData!$T$3:$T$48828,\"<\"&W$70)/COUNTIFS(HData!$BD$3:$BD$48828,\">=0\",HData!$T$3:$T$48828,\">=\"&W$69,HData!$T$3:$T$48828,\"<\"&W$70),\"\")","v":""},{"$f":"IFERROR(SUMIFS(HData!$BD$3:$BD$48828,HData!$T$3:$T$48828,\">=\"&X$69,HData!$T$3:$T$48828,\"<\"&X$70)/COUNTIFS(HData!$BD$3:$BD$48828,\">=0\",HData!$T$3:$T$48828,\">=\"&X$69,HData!$T$3:$T$48828,\"<\"&X$70),\"\")","v":""},{"$f":"IFERROR(SUMIFS(HData!$BD$3:$BD$48828,HData!$T$3:$T$48828,\">=\"&Y$69,HData!$T$3:$T$48828,\"<\"&Y$70)/COUNTIFS(HData!$BD$3:$BD$48828,\">=0\",HData!$T$3:$T$48828,\">=\"&Y$69,HData!$T$3:$T$48828,\"<\"&Y$70),\"\")","v":""},{"$f":"IFERROR(SUMIFS(HData!$BD$3:$BD$48828,HData!$T$3:$T$48828,\">=\"&Z$69,HData!$T$3:$T$48828,\"<\"&Z$70)/COUNTIFS(HData!$BD$3:$BD$48828,\">=0\",HData!$T$3:$T$48828,\">=\"&Z$69,HData!$T$3:$T$48828,\"<\"&Z$70),\"\")","v":""},{"$f":"IFERROR(SUMIFS(HData!$BD$3:$BD$48828,HData!$T$3:$T$48828,\">=\"&AA$69,HData!$T$3:$T$48828,\"<\"&AA$70)/COUNTIFS(HData!$BD$3:$BD$48828,\">=0\",HData!$T$3:$T$48828,\">=\"&AA$69,HData!$T$3:$T$48828,\"<\"&AA$70),\"\")","v":""},{"$f":"IFERROR(SUMIFS(HData!$BD$3:$BD$48828,HData!$T$3:$T$48828,\">=\"&AB$69,HData!$T$3:$T$48828,\"<\"&AB$70)/COUNTIFS(HData!$BD$3:$BD$48828,\">=0\",HData!$T$3:$T$48828,\">=\"&AB$69,HData!$T$3:$T$48828,\"<\"&AB$70),\"\")","v":""},{"$f":"IFERROR(SUMIFS(HData!$BD$3:$BD$48828,HData!$T$3:$T$48828,\">=\"&AC$69,HData!$T$3:$T$48828,\"<\"&AC$70)/COUNTIFS(HData!$BD$3:$BD$48828,\">=0\",HData!$T$3:$T$48828,\">=\"&AC$69,HData!$T$3:$T$48828,\"<\"&AC$70),\"\")","v":""},{"$f":"IFERROR(SUMIFS(HData!$BD$3:$BD$48828,HData!$T$3:$T$48828,\">=\"&AD$69,HData!$T$3:$T$48828,\"<\"&AD$70)/COUNTIFS(HData!$BD$3:$BD$48828,\">=0\",HData!$T$3:$T$48828,\">=\"&AD$69,HData!$T$3:$T$48828,\"<\"&AD$70),\"\")","v":""},{"$f":"IFERROR(SUMIFS(HData!$BD$3:$BD$48828,HData!$T$3:$T$48828,\">=\"&AE$69,HData!$T$3:$T$48828,\"<\"&AE$70)/COUNTIFS(HData!$BD$3:$BD$48828,\">=0\",HData!$T$3:$T$48828,\">=\"&AE$69,HData!$T$3:$T$48828,\"<\"&AE$70),\"\")","v":""},{"$f":"IFERROR(SUMIFS(HData!$BD$3:$BD$48828,HData!$T$3:$T$48828,\">=\"&AF$69,HData!$T$3:$T$48828,\"<\"&AF$70)/COUNTIFS(HData!$BD$3:$BD$48828,\">=0\",HData!$T$3:$T$48828,\">=\"&AF$69,HData!$T$3:$T$48828,\"<\"&AF$70),\"\")","v":""},{"$f":"IFERROR(SUMIFS(HData!$BD$3:$BD$48828,HData!$T$3:$T$48828,\">=\"&AG$69,HData!$T$3:$T$48828,\"<\"&AG$70)/COUNTIFS(HData!$BD$3:$BD$48828,\">=0\",HData!$T$3:$T$48828,\">=\"&AG$69,HData!$T$3:$T$48828,\"<\"&AG$70),\"\")","v":""},{"$f":"IFERROR(SUMIFS(HData!$BD$3:$BD$48828,HData!$T$3:$T$48828,\">=\"&AH$69,HData!$T$3:$T$48828,\"<\"&AH$70)/COUNTIFS(HData!$BD$3:$BD$48828,\">=0\",HData!$T$3:$T$48828,\">=\"&AH$69,HData!$T$3:$T$48828,\"<\"&AH$70),\"\")","v":""},{"$f":"IFERROR(SUMIFS(HData!$BD$3:$BD$48828,HData!$T$3:$T$48828,\">=\"&AI$69,HData!$T$3:$T$48828,\"<\"&AI$70)/COUNTIFS(HData!$BD$3:$BD$48828,\">=0\",HData!$T$3:$T$48828,\">=\"&AI$69,HData!$T$3:$T$48828,\"<\"&AI$70),\"\")","v":""},{"$f":"IFERROR(SUMIFS(HData!$BD$3:$BD$48828,HData!$T$3:$T$48828,\">=\"&AJ$69,HData!$T$3:$T$48828,\"<\"&AJ$70)/COUNTIFS(HData!$BD$3:$BD$48828,\">=0\",HData!$T$3:$T$48828,\">=\"&AJ$69,HData!$T$3:$T$48828,\"<\"&AJ$70),\"\")","v":""},{"$f":"IFERROR(SUMIFS(HData!$BD$3:$BD$48828,HData!$T$3:$T$48828,\">=\"&AK$69,HData!$T$3:$T$48828,\"<\"&AK$70)/COUNTIFS(HData!$BD$3:$BD$48828,\">=0\",HData!$T$3:$T$48828,\">=\"&AK$69,HData!$T$3:$T$48828,\"<\"&AK$70),\"\")","v":""},{"$f":"IFERROR(SUMIFS(HData!$BD$3:$BD$48828,HData!$T$3:$T$48828,\">=\"&AL$69,HData!$T$3:$T$48828,\"<\"&AL$70)/COUNTIFS(HData!$BD$3:$BD$48828,\">=0\",HData!$T$3:$T$48828,\">=\"&AL$69,HData!$T$3:$T$48828,\"<\"&AL$70),\"\")","v":""}]
["PO to match (children adopted)",{"$f":"IF(AND(B87<>\"\",B87>0),SUMIFS(HData!$AT$3:$AT$48828,HData!$R$3:$R$48828,\"<>\",HData!$T$3:$T$48828,\">=\"&B$69,HData!$T$3:$T$48828,\"<\"&B$70)/B87,\"\")","v":""},{"$f":"IF(AND(C87<>\"\",C87>0),SUMIFS(HData!$AT$3:$AT$48828,HData!$R$3:$R$48828,\"<>\",HData!$T$3:$T$48828,\">=\"&C$69,HData!$T$3:$T$48828,\"<\"&C$70)/C87,\"\")","v":""},{"$f":"IF(AND(D87<>\"\",D87>0),SUMIFS(HData!$AT$3:$AT$48828,HData!$R$3:$R$48828,\"<>\",HData!$T$3:$T$48828,\">=\"&D$69,HData!$T$3:$T$48828,\"<\"&D$70)/D87,\"\")","v":""},{"$f":"IF(AND(E87<>\"\",E87>0),SUMIFS(HData!$AT$3:$AT$48828,HData!$R$3:$R$48828,\"<>\",HData!$T$3:$T$48828,\">=\"&E$69,HData!$T$3:$T$48828,\"<\"&E$70)/E87,\"\")","v":""},{"$f":"IF(AND(F87<>\"\",F87>0),SUMIFS(HData!$AT$3:$AT$48828,HData!$R$3:$R$48828,\"<>\",HData!$T$3:$T$48828,\">=\"&F$69,HData!$T$3:$T$48828,\"<\"&F$70)/F87,\"\")","v":""},{"$f":"IF(AND(G87<>\"\",G87>0),SUMIFS(HData!$AT$3:$AT$48828,HData!$R$3:$R$48828,\"<>\",HData!$T$3:$T$48828,\">=\"&G$69,HData!$T$3:$T$48828,\"<\"&G$70)/G87,\"\")","v":""},{"$f":"IF(AND(H87<>\"\",H87>0),SUMIFS(HData!$AT$3:$AT$48828,HData!$R$3:$R$48828,\"<>\",HData!$T$3:$T$48828,\">=\"&H$69,HData!$T$3:$T$48828,\"<\"&H$70)/H87,\"\")","v":""},{"$f":"IF(AND(I87<>\"\",I87>0),SUMIFS(HData!$AT$3:$AT$48828,HData!$R$3:$R$48828,\"<>\",HData!$T$3:$T$48828,\">=\"&I$69,HData!$T$3:$T$48828,\"<\"&I$70)/I87,\"\")","v":""},{"$f":"IF(AND(J87<>\"\",J87>0),SUMIFS(HData!$AT$3:$AT$48828,HData!$R$3:$R$48828,\"<>\",HData!$T$3:$T$48828,\">=\"&J$69,HData!$T$3:$T$48828,\"<\"&J$70)/J87,\"\")","v":""},{"$f":"IF(AND(K87<>\"\",K87>0),SUMIFS(HData!$AT$3:$AT$48828,HData!$R$3:$R$48828,\"<>\",HData!$T$3:$T$48828,\">=\"&K$69,HData!$T$3:$T$48828,\"<\"&K$70)/K87,\"\")","v":""},{"$f":"IF(AND(L87<>\"\",L87>0),SUMIFS(HData!$AT$3:$AT$48828,HData!$R$3:$R$48828,\"<>\",HData!$T$3:$T$48828,\">=\"&L$69,HData!$T$3:$T$48828,\"<\"&L$70)/L87,\"\")","v":""},{"$f":"IF(AND(M87<>\"\",M87>0),SUMIFS(HData!$AT$3:$AT$48828,HData!$R$3:$R$48828,\"<>\",HData!$T$3:$T$48828,\">=\"&M$69,HData!$T$3:$T$48828,\"<\"&M$70)/M87,\"\")","v":""},{"$f":"IF(AND(N87<>\"\",N87>0),SUMIFS(HData!$AT$3:$AT$48828,HData!$R$3:$R$48828,\"<>\",HData!$T$3:$T$48828,\">=\"&N$69,HData!$T$3:$T$48828,\"<\"&N$70)/N87,\"\")","v":""},{"$f":"IF(AND(O87<>\"\",O87>0),SUMIFS(HData!$AT$3:$AT$48828,HData!$R$3:$R$48828,\"<>\",HData!$T$3:$T$48828,\">=\"&O$69,HData!$T$3:$T$48828,\"<\"&O$70)/O87,\"\")","v":""},{"$f":"IF(AND(P87<>\"\",P87>0),SUMIFS(HData!$AT$3:$AT$48828,HData!$R$3:$R$48828,\"<>\",HData!$T$3:$T$48828,\">=\"&P$69,HData!$T$3:$T$48828,\"<\"&P$70)/P87,\"\")","v":""},{"$f":"IF(AND(Q87<>\"\",Q87>0),SUMIFS(HData!$AT$3:$AT$48828,HData!$R$3:$R$48828,\"<>\",HData!$T$3:$T$48828,\">=\"&Q$69,HData!$T$3:$T$48828,\"<\"&Q$70)/Q87,\"\")","v":""},{"$f":"IF(AND(R87<>\"\",R87>0),SUMIFS(HData!$AT$3:$AT$48828,HData!$R$3:$R$48828,\"<>\",HData!$T$3:$T$48828,\">=\"&R$69,HData!$T$3:$T$48828,\"<\"&R$70)/R87,\"\")","v":""},{"$f":"IF(AND(S87<>\"\",S87>0),SUMIFS(HData!$AT$3:$AT$48828,HData!$R$3:$R$48828,\"<>\",HData!$T$3:$T$48828,\">=\"&S$69,HData!$T$3:$T$48828,\"<\"&S$70)/S87,\"\")","v":""},{"$f":"IF(AND(T87<>\"\",T87>0),SUMIFS(HData!$AT$3:$AT$48828,HData!$R$3:$R$48828,\"<>\",HData!$T$3:$T$48828,\">=\"&T$69,HData!$T$3:$T$48828,\"<\"&T$70)/T87,\"\")","v":""},{"$f":"IF(AND(U87<>\"\",U87>0),SUMIFS(HData!$AT$3:$AT$48828,HData!$R$3:$R$48828,\"<>\",HData!$T$3:$T$48828,\">=\"&U$69,HData!$T$3:$T$48828,\"<\"&U$70)/U87,\"\")","v":""},{"$f":"IF(AND(V87<>\"\",V87>0),SUMIFS(HData!$AT$3:$AT$48828,HData!$R$3:$R$48828,\"<>\",HData!$T$3:$T$48828,\">=\"&V$69,HData!$T$3:$T$48828,\"<\"&V$70)/V87,\"\")","v":""},{"$f":"IF(AND(W87<>\"\",W87>0),SUMIFS(HData!$AT$3:$AT$48828,HData!$R$3:$R$48828,\"<>\",HData!$T$3:$T$48828,\">=\"&W$69,HData!$T$3:$T$48828,\"<\"&W$70)/W87,\"\")","v":""},{"$f":"IF(AND(X87<>\"\",X87>0),SUMIFS(HData!$AT$3:$AT$48828,HData!$R$3:$R$48828,\"<>\",HData!$T$3:$T$48828,\">=\"&X$69,HData!$T$3:$T$48828,\"<\"&X$70)/X87,\"\")","v":""},{"$f":"IF(AND(Y87<>\"\",Y87>0),SUMIFS(HData!$AT$3:$AT$48828,HData!$R$3:$R$48828,\"<>\",HData!$T$3:$T$48828,\">=\"&Y$69,HData!$T$3:$T$48828,\"<\"&Y$70)/Y87,\"\")","v":""},{"$f":"IF(AND(Z87<>\"\",Z87>0),SUMIFS(HData!$AT$3:$AT$48828,HData!$R$3:$R$48828,\"<>\",HData!$T$3:$T$48828,\">=\"&Z$69,HData!$T$3:$T$48828,\"<\"&Z$70)/Z87,\"\")","v":""},{"$f":"IF(AND(AA87<>\"\",AA87>0),SUMIFS(HData!$AT$3:$AT$48828,HData!$R$3:$R$48828,\"<>\",HData!$T$3:$T$48828,\">=\"&AA$69,HData!$T$3:$T$48828,\"<\"&AA$70)/AA87,\"\")","v":""},{"$f":"IF(AND(AB87<>\"\",AB87>0),SUMIFS(HData!$AT$3:$AT$48828,HData!$R$3:$R$48828,\"<>\",HData!$T$3:$T$48828,\">=\"&AB$69,HData!$T$3:$T$48828,\"<\"&AB$70)/AB87,\"\")","v":""},{"$f":"IF(AND(AC87<>\"\",AC87>0),SUMIFS(HData!$AT$3:$AT$48828,HData!$R$3:$R$48828,\"<>\",HData!$T$3:$T$48828,\">=\"&AC$69,HData!$T$3:$T$48828,\"<\"&AC$70)/AC87,\"\")","v":""},{"$f":"IF(AND(AD87<>\"\",AD87>0),SUMIFS(HData!$AT$3:$AT$48828,HData!$R$3:$R$48828,\"<>\",HData!$T$3:$T$48828,\">=\"&AD$69,HData!$T$3:$T$48828,\"<\"&AD$70)/AD87,\"\")","v":""},{"$f":"IF(AND(AE87<>\"\",AE87>0),SUMIFS(HData!$AT$3:$AT$48828,HData!$R$3:$R$48828,\"<>\",HData!$T$3:$T$48828,\">=\"&AE$69,HData!$T$3:$T$48828,\"<\"&AE$70)/AE87,\"\")","v":""},{"$f":"IF(AND(AF87<>\"\",AF87>0),SUMIFS(HData!$AT$3:$AT$48828,HData!$R$3:$R$48828,\"<>\",HData!$T$3:$T$48828,\">=\"&AF$69,HData!$T$3:$T$48828,\"<\"&AF$70)/AF87,\"\")","v":""},{"$f":"IF(AND(AG87<>\"\",AG87>0),SUMIFS(HData!$AT$3:$AT$48828,HData!$R$3:$R$48828,\"<>\",HData!$T$3:$T$48828,\">=\"&AG$69,HData!$T$3:$T$48828,\"<\"&AG$70)/AG87,\"\")","v":""},{"$f":"IF(AND(AH87<>\"\",AH87>0),SUMIFS(HData!$AT$3:$AT$48828,HData!$R$3:$R$48828,\"<>\",HData!$T$3:$T$48828,\">=\"&AH$69,HData!$T$3:$T$48828,\"<\"&AH$70)/AH87,\"\")","v":""},{"$f":"IF(AND(AI87<>\"\",AI87>0),SUMIFS(HData!$AT$3:$AT$48828,HData!$R$3:$R$48828,\"<>\",HData!$T$3:$T$48828,\">=\"&AI$69,HData!$T$3:$T$48828,\"<\"&AI$70)/AI87,\"\")","v":""},{"$f":"IF(AND(AJ87<>\"\",AJ87>0),SUMIFS(HData!$AT$3:$AT$48828,HData!$R$3:$R$48828,\"<>\",HData!$T$3:$T$48828,\">=\"&AJ$69,HData!$T$3:$T$48828,\"<\"&AJ$70)/AJ87,\"\")","v":""},{"$f":"IF(AND(AK87<>\"\",AK87>0),SUMIFS(HData!$AT$3:$AT$48828,HData!$R$3:$R$48828,\"<>\",HData!$T$3:$T$48828,\">=\"&AK$69,HData!$T$3:$T$48828,\"<\"&AK$70)/AK87,\"\")","v":""},{"$f":"IF(AND(AL87<>\"\",AL87>0),SUMIFS(HData!$AT$3:$AT$48828,HData!$R$3:$R$48828,\"<>\",HData!$T$3:$T$48828,\">=\"&AL$69,HData!$T$3:$T$48828,\"<\"&AL$70)/AL87,\"\")","v":""}]
["BLA to placed (children adopted)",{"$f":"IFERROR(SUMIFS(HData!$AF$3:$AF$48828,HData!$T$3:$T$48828,\">=\"&B$69,HData!$T$3:$T$48828,\"<\"&B$70)/COUNTIFS(HData!$AF$3:$AF$48828,\">=0\",HData!$T$3:$T$48828,\">=\"&B$69,HData!$T$3:$T$48828,\"<\"&B$70),\"\")","v":""},{"$f":"IFERROR(SUMIFS(HData!$AF$3:$AF$48828,HData!$T$3:$T$48828,\">=\"&C$69,HData!$T$3:$T$48828,\"<\"&C$70)/COUNTIFS(HData!$AF$3:$AF$48828,\">=0\",HData!$T$3:$T$48828,\">=\"&C$69,HData!$T$3:$T$48828,\"<\"&C$70),\"\")","v":""},{"$f":"IFERROR(SUMIFS(HData!$AF$3:$AF$48828,HData!$T$3:$T$48828,\">=\"&D$69,HData!$T$3:$T$48828,\"<\"&D$70)/COUNTIFS(HData!$AF$3:$AF$48828,\">=0\",HData!$T$3:$T$48828,\">=\"&D$69,HData!$T$3:$T$48828,\"<\"&D$70),\"\")","v":""},{"$f":"IFERROR(SUMIFS(HData!$AF$3:$AF$48828,HData!$T$3:$T$48828,\">=\"&E$69,HData!$T$3:$T$48828,\"<\"&E$70)/COUNTIFS(HData!$AF$3:$AF$48828,\">=0\",HData!$T$3:$T$48828,\">=\"&E$69,HData!$T$3:$T$48828,\"<\"&E$70),\"\")","v":""},{"$f":"IFERROR(SUMIFS(HData!$AF$3:$AF$48828,HData!$T$3:$T$48828,\">=\"&F$69,HData!$T$3:$T$48828,\"<\"&F$70)/COUNTIFS(HData!$AF$3:$AF$48828,\">=0\",HData!$T$3:$T$48828,\">=\"&F$69,HData!$T$3:$T$48828,\"<\"&F$70),\"\")","v":""},{"$f":"IFERROR(SUMIFS(HData!$AF$3:$AF$48828,HData!$T$3:$T$48828,\">=\"&G$69,HData!$T$3:$T$48828,\"<\"&G$70)/COUNTIFS(HData!$AF$3:$AF$48828,\">=0\",HData!$T$3:$T$48828,\">=\"&G$69,HData!$T$3:$T$48828,\"<\"&G$70),\"\")","v":""},{"$f":"IFERROR(SUMIFS(HData!$AF$3:$AF$48828,HData!$T$3:$T$48828,\">=\"&H$69,HData!$T$3:$T$48828,\"<\"&H$70)/COUNTIFS(HData!$AF$3:$AF$48828,\">=0\",HData!$T$3:$T$48828,\">=\"&H$69,HData!$T$3:$T$48828,\"<\"&H$70),\"\")","v":""},{"$f":"IFERROR(SUMIFS(HData!$AF$3:$AF$48828,HData!$T$3:$T$48828,\">=\"&I$69,HData!$T$3:$T$48828,\"<\"&I$70)/COUNTIFS(HData!$AF$3:$AF$48828,\">=0\",HData!$T$3:$T$48828,\">=\"&I$69,HData!$T$3:$T$48828,\"<\"&I$70),\"\")","v":""},{"$f":"IFERROR(SUMIFS(HData!$AF$3:$AF$48828,HData!$T$3:$T$48828,\">=\"&J$69,HData!$T$3:$T$48828,\"<\"&J$70)/COUNTIFS(HData!$AF$3:$AF$48828,\">=0\",HData!$T$3:$T$48828,\">=\"&J$69,HData!$T$3:$T$48828,\"<\"&J$70),\"\")","v":""},{"$f":"IFERROR(SUMIFS(HData!$AF$3:$AF$48828,HData!$T$3:$T$48828,\">=\"&K$69,HData!$T$3:$T$48828,\"<\"&K$70)/COUNTIFS(HData!$AF$3:$AF$48828,\">=0\",HData!$T$3:$T$48828,\">=\"&K$69,HData!$T$3:$T$48828,\"<\"&K$70),\"\")","v":""},{"$f":"IFERROR(SUMIFS(HData!$AF$3:$AF$48828,HData!$T$3:$T$48828,\">=\"&L$69,HData!$T$3:$T$48828,\"<\"&L$70)/COUNTIFS(HData!$AF$3:$AF$48828,\">=0\",HData!$T$3:$T$48828,\">=\"&L$69,HData!$T$3:$T$48828,\"<\"&L$70),\"\")","v":""},{"$f":"IFERROR(SUMIFS(HData!$AF$3:$AF$48828,HData!$T$3:$T$48828,\">=\"&M$69,HData!$T$3:$T$48828,\"<\"&M$70)/COUNTIFS(HData!$AF$3:$AF$48828,\">=0\",HData!$T$3:$T$48828,\">=\"&M$69,HData!$T$3:$T$48828,\"<\"&M$70),\"\")","v":""},{"$f":"IFERROR(SUMIFS(HData!$AF$3:$AF$48828,HData!$T$3:$T$48828,\">=\"&N$69,HData!$T$3:$T$48828,\"<\"&N$70)/COUNTIFS(HData!$AF$3:$AF$48828,\">=0\",HData!$T$3:$T$48828,\">=\"&N$69,HData!$T$3:$T$48828,\"<\"&N$70),\"\")","v":""},{"$f":"IFERROR(SUMIFS(HData!$AF$3:$AF$48828,HData!$T$3:$T$48828,\">=\"&O$69,HData!$T$3:$T$48828,\"<\"&O$70)/COUNTIFS(HData!$AF$3:$AF$48828,\">=0\",HData!$T$3:$T$48828,\">=\"&O$69,HData!$T$3:$T$48828,\"<\"&O$70),\"\")","v":""},{"$f":"IFERROR(SUMIFS(HData!$AF$3:$AF$48828,HData!$T$3:$T$48828,\">=\"&P$69,HData!$T$3:$T$48828,\"<\"&P$70)/COUNTIFS(HData!$AF$3:$AF$48828,\">=0\",HData!$T$3:$T$48828,\">=\"&P$69,HData!$T$3:$T$48828,\"<\"&P$70),\"\")","v":""},{"$f":"IFERROR(SUMIFS(HData!$AF$3:$AF$48828,HData!$T$3:$T$48828,\">=\"&Q$69,HData!$T$3:$T$48828,\"<\"&Q$70)/COUNTIFS(HData!$AF$3:$AF$48828,\">=0\",HData!$T$3:$T$48828,\">=\"&Q$69,HData!$T$3:$T$48828,\"<\"&Q$70),\"\")","v":""},{"$f":"IFERROR(SUMIFS(HData!$AF$3:$AF$48828,HData!$T$3:$T$48828,\">=\"&R$69,HData!$T$3:$T$48828,\"<\"&R$70)/COUNTIFS(HData!$AF$3:$AF$48828,\">=0\",HData!$T$3:$T$48828,\">=\"&R$69,HData!$T$3:$T$48828,\"<\"&R$70),\"\")","v":""},{"$f":"IFERROR(SUMIFS(HData!$AF$3:$AF$48828,HData!$T$3:$T$48828,\">=\"&S$69,HData!$T$3:$T$48828,\"<\"&S$70)/COUNTIFS(HData!$AF$3:$AF$48828,\">=0\",HData!$T$3:$T$48828,\">=\"&S$69,HData!$T$3:$T$48828,\"<\"&S$70),\"\")","v":""},{"$f":"IFERROR(SUMIFS(HData!$AF$3:$AF$48828,HData!$T$3:$T$48828,\">=\"&T$69,HData!$T$3:$T$48828,\"<\"&T$70)/COUNTIFS(HData!$AF$3:$AF$48828,\">=0\",HData!$T$3:$T$48828,\">=\"&T$69,HData!$T$3:$T$48828,\"<\"&T$70),\"\")","v":""},{"$f":"IFERROR(SUMIFS(HData!$AF$3:$AF$48828,HData!$T$3:$T$48828,\">=\"&U$69,HData!$T$3:$T$48828,\"<\"&U$70)/COUNTIFS(HData!$AF$3:$AF$48828,\">=0\",HData!$T$3:$T$48828,\">=\"&U$69,HData!$T$3:$T$48828,\"<\"&U$70),\"\")","v":""},{"$f":"IFERROR(SUMIFS(HData!$AF$3:$AF$48828,HData!$T$3:$T$48828,\">=\"&V$69,HData!$T$3:$T$48828,\"<\"&V$70)/COUNTIFS(HData!$AF$3:$AF$48828,\">=0\",HData!$T$3:$T$48828,\">=\"&V$69,HData!$T$3:$T$48828,\"<\"&V$70),\"\")","v":""},{"$f":"IFERROR(SUMIFS(HData!$AF$3:$AF$48828,HData!$T$3:$T$48828,\">=\"&W$69,HData!$T$3:$T$48828,\"<\"&W$70)/COUNTIFS(HData!$AF$3:$AF$48828,\">=0\",HData!$T$3:$T$48828,\">=\"&W$69,HData!$T$3:$T$48828,\"<\"&W$70),\"\")","v":""},{"$f":"IFERROR(SUMIFS(HData!$AF$3:$AF$48828,HData!$T$3:$T$48828,\">=\"&X$69,HData!$T$3:$T$48828,\"<\"&X$70)/COUNTIFS(HData!$AF$3:$AF$48828,\">=0\",HData!$T$3:$T$48828,\">=\"&X$69,HData!$T$3:$T$48828,\"<\"&X$70),\"\")","v":""},{"$f":"IFERROR(SUMIFS(HData!$AF$3:$AF$48828,HData!$T$3:$T$48828,\">=\"&Y$69,HData!$T$3:$T$48828,\"<\"&Y$70)/COUNTIFS(HData!$AF$3:$AF$48828,\">=0\",HData!$T$3:$T$48828,\">=\"&Y$69,HData!$T$3:$T$48828,\"<\"&Y$70),\"\")","v":""},{"$f":"IFERROR(SUMIFS(HData!$AF$3:$AF$48828,HData!$T$3:$T$48828,\">=\"&Z$69,HData!$T$3:$T$48828,\"<\"&Z$70)/COUNTIFS(HData!$AF$3:$AF$48828,\">=0\",HData!$T$3:$T$48828,\">=\"&Z$69,HData!$T$3:$T$48828,\"<\"&Z$70),\"\")","v":""},{"$f":"IFERROR(SUMIFS(HData!$AF$3:$AF$48828,HData!$T$3:$T$48828,\">=\"&AA$69,HData!$T$3:$T$48828,\"<\"&AA$70)/COUNTIFS(HData!$AF$3:$AF$48828,\">=0\",HData!$T$3:$T$48828,\">=\"&AA$69,HData!$T$3:$T$48828,\"<\"&AA$70),\"\")","v":""},{"$f":"IFERROR(SUMIFS(HData!$AF$3:$AF$48828,HData!$T$3:$T$48828,\">=\"&AB$69,HData!$T$3:$T$48828,\"<\"&AB$70)/COUNTIFS(HData!$AF$3:$AF$48828,\">=0\",HData!$T$3:$T$48828,\">=\"&AB$69,HData!$T$3:$T$48828,\"<\"&AB$70),\"\")","v":""},{"$f":"IFERROR(SUMIFS(HData!$AF$3:$AF$48828,HData!$T$3:$T$48828,\">=\"&AC$69,HData!$T$3:$T$48828,\"<\"&AC$70)/COUNTIFS(HData!$AF$3:$AF$48828,\">=0\",HData!$T$3:$T$48828,\">=\"&AC$69,HData!$T$3:$T$48828,\"<\"&AC$70),\"\")","v":""},{"$f":"IFERROR(SUMIFS(HData!$AF$3:$AF$48828,HData!$T$3:$T$48828,\">=\"&AD$69,HData!$T$3:$T$48828,\"<\"&AD$70)/COUNTIFS(HData!$AF$3:$AF$48828,\">=0\",HData!$T$3:$T$48828,\">=\"&AD$69,HData!$T$3:$T$48828,\"<\"&AD$70),\"\")","v":""},{"$f":"IFERROR(SUMIFS(HData!$AF$3:$AF$48828,HData!$T$3:$T$48828,\">=\"&AE$69,HData!$T$3:$T$48828,\"<\"&AE$70)/COUNTIFS(HData!$AF$3:$AF$48828,\">=0\",HData!$T$3:$T$48828,\">=\"&AE$69,HData!$T$3:$T$48828,\"<\"&AE$70),\"\")","v":""},{"$f":"IFERROR(SUMIFS(HData!$AF$3:$AF$48828,HData!$T$3:$T$48828,\">=\"&AF$69,HData!$T$3:$T$48828,\"<\"&AF$70)/COUNTIFS(HData!$AF$3:$AF$48828,\">=0\",HData!$T$3:$T$48828,\">=\"&AF$69,HData!$T$3:$T$48828,\"<\"&AF$70),\"\")","v":""},{"$f":"IFERROR(SUMIFS(HData!$AF$3:$AF$48828,HData!$T$3:$T$48828,\">=\"&AG$69,HData!$T$3:$T$48828,\"<\"&AG$70)/COUNTIFS(HData!$AF$3:$AF$48828,\">=0\",HData!$T$3:$T$48828,\">=\"&AG$69,HData!$T$3:$T$48828,\"<\"&AG$70),\"\")","v":""},{"$f":"IFERROR(SUMIFS(HData!$AF$3:$AF$48828,HData!$T$3:$T$48828,\">=\"&AH$69,HData!$T$3:$T$48828,\"<\"&AH$70)/COUNTIFS(HData!$AF$3:$AF$48828,\">=0\",HData!$T$3:$T$48828,\">=\"&AH$69,HData!$T$3:$T$48828,\"<\"&AH$70),\"\")","v":""},{"$f":"IFERROR(SUMIFS(HData!$AF$3:$AF$48828,HData!$T$3:$T$48828,\">=\"&AI$69,HData!$T$3:$T$48828,\"<\"&AI$70)/COUNTIFS(HData!$AF$3:$AF$48828,\">=0\",HData!$T$3:$T$48828,\">=\"&AI$69,HData!$T$3:$T$48828,\"<\"&AI$70),\"\")","v":""},{"$f":"IFERROR(SUMIFS(HData!$AF$3:$AF$48828,HData!$T$3:$T$48828,\">=\"&AJ$69,HData!$T$3:$T$48828,\"<\"&AJ$70)/COUNTIFS(HData!$AF$3:$AF$48828,\">=0\",HData!$T$3:$T$48828,\">=\"&AJ$69,HData!$T$3:$T$48828,\"<\"&AJ$70),\"\")","v":""},{"$f":"IFERROR(SUMIFS(HData!$AF$3:$AF$48828,HData!$T$3:$T$48828,\">=\"&AK$69,HData!$T$3:$T$48828,\"<\"&AK$70)/COUNTIFS(HData!$AF$3:$AF$48828,\">=0\",HData!$T$3:$T$48828,\">=\"&AK$69,HData!$T$3:$T$48828,\"<\"&AK$70),\"\")","v":""},{"$f":"IFERROR(SUMIFS(HData!$AF$3:$AF$48828,HData!$T$3:$T$48828,\">=\"&AL$69,HData!$T$3:$T$48828,\"<\"&AL$70)/COUNTIFS(HData!$AF$3:$AF$48828,\">=0\",HData!$T$3:$T$48828,\">=\"&AL$69,HData!$T$3:$T$48828,\"<\"&AL$70),\"\")","v":""}]
["BLA to placed (children adopted, FC)",{"$f":"IFERROR(SUMIFS(HData!$AG$3:$AG$48828,HData!$R$3:$R$48828,\"<>\",HData!$T$3:$T$48828,\">=\"&B$69,HData!$T$3:$T$48828,\"<\"&B$70)/COUNTIFS(HData!$AG$3:$AG$48828,\">=0\",HData!$R$3:$R$48828,\"<>\",HData!$T$3:$T$48828,\">=\"&B$69,HData!$T$3:$T$48828,\"<\"&B$70),\"\")","v":""},{"$f":"IFERROR(SUMIFS(HData!$AG$3:$AG$48828,HData!$R$3:$R$48828,\"<>\",HData!$T$3:$T$48828,\">=\"&C$69,HData!$T$3:$T$48828,\"<\"&C$70)/COUNTIFS(HData!$AG$3:$AG$48828,\">=0\",HData!$R$3:$R$48828,\"<>\",HData!$T$3:$T$48828,\">=\"&C$69,HData!$T$3:$T$48828,\"<\"&C$70),\"\")","v":""},{"$f":"IFERROR(SUMIFS(HData!$AG$3:$AG$48828,HData!$R$3:$R$48828,\"<>\",HData!$T$3:$T$48828,\">=\"&D$69,HData!$T$3:$T$48828,\"<\"&D$70)/COUNTIFS(HData!$AG$3:$AG$48828,\">=0\",HData!$R$3:$R$48828,\"<>\",HData!$T$3:$T$48828,\">=\"&D$69,HData!$T$3:$T$48828,\"<\"&D$70),\"\")","v":""},{"$f":"IFERROR(SUMIFS(HData!$AG$3:$AG$48828,HData!$R$3:$R$48828,\"<>\",HData!$T$3:$T$48828,\">=\"&E$69,HData!$T$3:$T$48828,\"<\"&E$70)/COUNTIFS(HData!$AG$3:$AG$48828,\">=0\",HData!$R$3:$R$48828,\"<>\",HData!$T$3:$T$48828,\">=\"&E$69,HData!$T$3:$T$48828,\"<\"&E$70),\"\")","v":""},{"$f":"IFERROR(SUMIFS(HData!$AG$3:$AG$48828,HData!$R$3:$R$48828,\"<>\",HData!$T$3:$T$48828,\">=\"&F$69,HData!$T$3:$T$48828,\"<\"&F$70)/COUNTIFS(HData!$AG$3:$AG$48828,\">=0\",HData!$R$3:$R$48828,\"<>\",HData!$T$3:$T$48828,\">=\"&F$69,HData!$T$3:$T$48828,\"<\"&F$70),\"\")","v":""},{"$f":"IFERROR(SUMIFS(HData!$AG$3:$AG$48828,HData!$R$3:$R$48828,\"<>\",HData!$T$3:$T$48828,\">=\"&G$69,HData!$T$3:$T$48828,\"<\"&G$70)/COUNTIFS(HData!$AG$3:$AG$48828,\">=0\",HData!$R$3:$R$48828,\"<>\",HData!$T$3:$T$48828,\">=\"&G$69,HData!$T$3:$T$48828,\"<\"&G$70),\"\")","v":""},{"$f":"IFERROR(SUMIFS(HData!$AG$3:$AG$48828,HData!$R$3:$R$48828,\"<>\",HData!$T$3:$T$48828,\">=\"&H$69,HData!$T$3:$T$48828,\"<\"&H$70)/COUNTIFS(HData!$AG$3:$AG$48828,\">=0\",HData!$R$3:$R$48828,\"<>\",HData!$T$3:$T$48828,\">=\"&H$69,HData!$T$3:$T$48828,\"<\"&H$70),\"\")","v":""},{"$f":"IFERROR(SUMIFS(HData!$AG$3:$AG$48828,HData!$R$3:$R$48828,\"<>\",HData!$T$3:$T$48828,\">=\"&I$69,HData!$T$3:$T$48828,\"<\"&I$70)/COUNTIFS(HData!$AG$3:$AG$48828,\">=0\",HData!$R$3:$R$48828,\"<>\",HData!$T$3:$T$48828,\">=\"&I$69,HData!$T$3:$T$48828,\"<\"&I$70),\"\")","v":""},{"$f":"IFERROR(SUMIFS(HData!$AG$3:$AG$48828,HData!$R$3:$R$48828,\"<>\",HData!$T$3:$T$48828,\">=\"&J$69,HData!$T$3:$T$48828,\"<\"&J$70)/COUNTIFS(HData!$AG$3:$AG$48828,\">=0\",HData!$R$3:$R$48828,\"<>\",HData!$T$3:$T$48828,\">=\"&J$69,HData!$T$3:$T$48828,\"<\"&J$70),\"\")","v":""},{"$f":"IFERROR(SUMIFS(HData!$AG$3:$AG$48828,HData!$R$3:$R$48828,\"<>\",HData!$T$3:$T$48828,\">=\"&K$69,HData!$T$3:$T$48828,\"<\"&K$70)/COUNTIFS(HData!$AG$3:$AG$48828,\">=0\",HData!$R$3:$R$48828,\"<>\",HData!$T$3:$T$48828,\">=\"&K$69,HData!$T$3:$T$48828,\"<\"&K$70),\"\")","v":""},{"$f":"IFERROR(SUMIFS(HData!$AG$3:$AG$48828,HData!$R$3:$R$48828,\"<>\",HData!$T$3:$T$48828,\">=\"&L$69,HData!$T$3:$T$48828,\"<\"&L$70)/COUNTIFS(HData!$AG$3:$AG$48828,\">=0\",HData!$R$3:$R$48828,\"<>\",HData!$T$3:$T$48828,\">=\"&L$69,HData!$T$3:$T$48828,\"<\"&L$70),\"\")","v":""},{"$f":"IFERROR(SUMIFS(HData!$AG$3:$AG$48828,HData!$R$3:$R$48828,\"<>\",HData!$T$3:$T$48828,\">=\"&M$69,HData!$T$3:$T$48828,\"<\"&M$70)/COUNTIFS(HData!$AG$3:$AG$48828,\">=0\",HData!$R$3:$R$48828,\"<>\",HData!$T$3:$T$48828,\">=\"&M$69,HData!$T$3:$T$48828,\"<\"&M$70),\"\")","v":""},{"$f":"IFERROR(SUMIFS(HData!$AG$3:$AG$48828,HData!$R$3:$R$48828,\"<>\",HData!$T$3:$T$48828,\">=\"&N$69,HData!$T$3:$T$48828,\"<\"&N$70)/COUNTIFS(HData!$AG$3:$AG$48828,\">=0\",HData!$R$3:$R$48828,\"<>\",HData!$T$3:$T$48828,\">=\"&N$69,HData!$T$3:$T$48828,\"<\"&N$70),\"\")","v":""},{"$f":"IFERROR(SUMIFS(HData!$AG$3:$AG$48828,HData!$R$3:$R$48828,\"<>\",HData!$T$3:$T$48828,\">=\"&O$69,HData!$T$3:$T$48828,\"<\"&O$70)/COUNTIFS(HData!$AG$3:$AG$48828,\">=0\",HData!$R$3:$R$48828,\"<>\",HData!$T$3:$T$48828,\">=\"&O$69,HData!$T$3:$T$48828,\"<\"&O$70),\"\")","v":""},{"$f":"IFERROR(SUMIFS(HData!$AG$3:$AG$48828,HData!$R$3:$R$48828,\"<>\",HData!$T$3:$T$48828,\">=\"&P$69,HData!$T$3:$T$48828,\"<\"&P$70)/COUNTIFS(HData!$AG$3:$AG$48828,\">=0\",HData!$R$3:$R$48828,\"<>\",HData!$T$3:$T$48828,\">=\"&P$69,HData!$T$3:$T$48828,\"<\"&P$70),\"\")","v":""},{"$f":"IFERROR(SUMIFS(HData!$AG$3:$AG$48828,HData!$R$3:$R$48828,\"<>\",HData!$T$3:$T$48828,\">=\"&Q$69,HData!$T$3:$T$48828,\"<\"&Q$70)/COUNTIFS(HData!$AG$3:$AG$48828,\">=0\",HData!$R$3:$R$48828,\"<>\",HData!$T$3:$T$48828,\">=\"&Q$69,HData!$T$3:$T$48828,\"<\"&Q$70),\"\")","v":""},{"$f":"IFERROR(SUMIFS(HData!$AG$3:$AG$48828,HData!$R$3:$R$48828,\"<>\",HData!$T$3:$T$48828,\">=\"&R$69,HData!$T$3:$T$48828,\"<\"&R$70)/COUNTIFS(HData!$AG$3:$AG$48828,\">=0\",HData!$R$3:$R$48828,\"<>\",HData!$T$3:$T$48828,\">=\"&R$69,HData!$T$3:$T$48828,\"<\"&R$70),\"\")","v":""},{"$f":"IFERROR(SUMIFS(HData!$AG$3:$AG$48828,HData!$R$3:$R$48828,\"<>\",HData!$T$3:$T$48828,\">=\"&S$69,HData!$T$3:$T$48828,\"<\"&S$70)/COUNTIFS(HData!$AG$3:$AG$48828,\">=0\",HData!$R$3:$R$48828,\"<>\",HData!$T$3:$T$48828,\">=\"&S$69,HData!$T$3:$T$48828,\"<\"&S$70),\"\")","v":""},{"$f":"IFERROR(SUMIFS(HData!$AG$3:$AG$48828,HData!$R$3:$R$48828,\"<>\",HData!$T$3:$T$48828,\">=\"&T$69,HData!$T$3:$T$48828,\"<\"&T$70)/COUNTIFS(HData!$AG$3:$AG$48828,\">=0\",HData!$R$3:$R$48828,\"<>\",HData!$T$3:$T$48828,\">=\"&T$69,HData!$T$3:$T$48828,\"<\"&T$70),\"\")","v":""},{"$f":"IFERROR(SUMIFS(HData!$AG$3:$AG$48828,HData!$R$3:$R$48828,\"<>\",HData!$T$3:$T$48828,\">=\"&U$69,HData!$T$3:$T$48828,\"<\"&U$70)/COUNTIFS(HData!$AG$3:$AG$48828,\">=0\",HData!$R$3:$R$48828,\"<>\",HData!$T$3:$T$48828,\">=\"&U$69,HData!$T$3:$T$48828,\"<\"&U$70),\"\")","v":""},{"$f":"IFERROR(SUMIFS(HData!$AG$3:$AG$48828,HData!$R$3:$R$48828,\"<>\",HData!$T$3:$T$48828,\">=\"&V$69,HData!$T$3:$T$48828,\"<\"&V$70)/COUNTIFS(HData!$AG$3:$AG$48828,\">=0\",HData!$R$3:$R$48828,\"<>\",HData!$T$3:$T$48828,\">=\"&V$69,HData!$T$3:$T$48828,\"<\"&V$70),\"\")","v":""},{"$f":"IFERROR(SUMIFS(HData!$AG$3:$AG$48828,HData!$R$3:$R$48828,\"<>\",HData!$T$3:$T$48828,\">=\"&W$69,HData!$T$3:$T$48828,\"<\"&W$70)/COUNTIFS(HData!$AG$3:$AG$48828,\">=0\",HData!$R$3:$R$48828,\"<>\",HData!$T$3:$T$48828,\">=\"&W$69,HData!$T$3:$T$48828,\"<\"&W$70),\"\")","v":""},{"$f":"IFERROR(SUMIFS(HData!$AG$3:$AG$48828,HData!$R$3:$R$48828,\"<>\",HData!$T$3:$T$48828,\">=\"&X$69,HData!$T$3:$T$48828,\"<\"&X$70)/COUNTIFS(HData!$AG$3:$AG$48828,\">=0\",HData!$R$3:$R$48828,\"<>\",HData!$T$3:$T$48828,\">=\"&X$69,HData!$T$3:$T$48828,\"<\"&X$70),\"\")","v":""},{"$f":"IFERROR(SUMIFS(HData!$AG$3:$AG$48828,HData!$R$3:$R$48828,\"<>\",HData!$T$3:$T$48828,\">=\"&Y$69,HData!$T$3:$T$48828,\"<\"&Y$70)/COUNTIFS(HData!$AG$3:$AG$48828,\">=0\",HData!$R$3:$R$48828,\"<>\",HData!$T$3:$T$48828,\">=\"&Y$69,HData!$T$3:$T$48828,\"<\"&Y$70),\"\")","v":""},{"$f":"IFERROR(SUMIFS(HData!$AG$3:$AG$48828,HData!$R$3:$R$48828,\"<>\",HData!$T$3:$T$48828,\">=\"&Z$69,HData!$T$3:$T$48828,\"<\"&Z$70)/COUNTIFS(HData!$AG$3:$AG$48828,\">=0\",HData!$R$3:$R$48828,\"<>\",HData!$T$3:$T$48828,\">=\"&Z$69,HData!$T$3:$T$48828,\"<\"&Z$70),\"\")","v":""},{"$f":"IFERROR(SUMIFS(HData!$AG$3:$AG$48828,HData!$R$3:$R$48828,\"<>\",HData!$T$3:$T$48828,\">=\"&AA$69,HData!$T$3:$T$48828,\"<\"&AA$70)/COUNTIFS(HData!$AG$3:$AG$48828,\">=0\",HData!$R$3:$R$48828,\"<>\",HData!$T$3:$T$48828,\">=\"&AA$69,HData!$T$3:$T$48828,\"<\"&AA$70),\"\")","v":""},{"$f":"IFERROR(SUMIFS(HData!$AG$3:$AG$48828,HData!$R$3:$R$48828,\"<>\",HData!$T$3:$T$48828,\">=\"&AB$69,HData!$T$3:$T$48828,\"<\"&AB$70)/COUNTIFS(HData!$AG$3:$AG$48828,\">=0\",HData!$R$3:$R$48828,\"<>\",HData!$T$3:$T$48828,\">=\"&AB$69,HData!$T$3:$T$48828,\"<\"&AB$70),\"\")","v":""},{"$f":"IFERROR(SUMIFS(HData!$AG$3:$AG$48828,HData!$R$3:$R$48828,\"<>\",HData!$T$3:$T$48828,\">=\"&AC$69,HData!$T$3:$T$48828,\"<\"&AC$70)/COUNTIFS(HData!$AG$3:$AG$48828,\">=0\",HData!$R$3:$R$48828,\"<>\",HData!$T$3:$T$48828,\">=\"&AC$69,HData!$T$3:$T$48828,\"<\"&AC$70),\"\")","v":""},{"$f":"IFERROR(SUMIFS(HData!$AG$3:$AG$48828,HData!$R$3:$R$48828,\"<>\",HData!$T$3:$T$48828,\">=\"&AD$69,HData!$T$3:$T$48828,\"<\"&AD$70)/COUNTIFS(HData!$AG$3:$AG$48828,\">=0\",HData!$R$3:$R$48828,\"<>\",HData!$T$3:$T$48828,\">=\"&AD$69,HData!$T$3:$T$48828,\"<\"&AD$70),\"\")","v":""},{"$f":"IFERROR(SUMIFS(HData!$AG$3:$AG$48828,HData!$R$3:$R$48828,\"<>\",HData!$T$3:$T$48828,\">=\"&AE$69,HData!$T$3:$T$48828,\"<\"&AE$70)/COUNTIFS(HData!$AG$3:$AG$48828,\">=0\",HData!$R$3:$R$48828,\"<>\",HData!$T$3:$T$48828,\">=\"&AE$69,HData!$T$3:$T$48828,\"<\"&AE$70),\"\")","v":""},{"$f":"IFERROR(SUMIFS(HData!$AG$3:$AG$48828,HData!$R$3:$R$48828,\"<>\",HData!$T$3:$T$48828,\">=\"&AF$69,HData!$T$3:$T$48828,\"<\"&AF$70)/COUNTIFS(HData!$AG$3:$AG$48828,\">=0\",HData!$R$3:$R$48828,\"<>\",HData!$T$3:$T$48828,\">=\"&AF$69,HData!$T$3:$T$48828,\"<\"&AF$70),\"\")","v":""},{"$f":"IFERROR(SUMIFS(HData!$AG$3:$AG$48828,HData!$R$3:$R$48828,\"<>\",HData!$T$3:$T$48828,\">=\"&AG$69,HData!$T$3:$T$48828,\"<\"&AG$70)/COUNTIFS(HData!$AG$3:$AG$48828,\">=0\",HData!$R$3:$R$48828,\"<>\",HData!$T$3:$T$48828,\">=\"&AG$69,HData!$T$3:$T$48828,\"<\"&AG$70),\"\")","v":""},{"$f":"IFERROR(SUMIFS(HData!$AG$3:$AG$48828,HData!$R$3:$R$48828,\"<>\",HData!$T$3:$T$48828,\">=\"&AH$69,HData!$T$3:$T$48828,\"<\"&AH$70)/COUNTIFS(HData!$AG$3:$AG$48828,\">=0\",HData!$R$3:$R$48828,\"<>\",HData!$T$3:$T$48828,\">=\"&AH$69,HData!$T$3:$T$48828,\"<\"&AH$70),\"\")","v":""},{"$f":"IFERROR(SUMIFS(HData!$AG$3:$AG$48828,HData!$R$3:$R$48828,\"<>\",HData!$T$3:$T$48828,\">=\"&AI$69,HData!$T$3:$T$48828,\"<\"&AI$70)/COUNTIFS(HData!$AG$3:$AG$48828,\">=0\",HData!$R$3:$R$48828,\"<>\",HData!$T$3:$T$48828,\">=\"&AI$69,HData!$T$3:$T$48828,\"<\"&AI$70),\"\")","v":""},{"$f":"IFERROR(SUMIFS(HData!$AG$3:$AG$48828,HData!$R$3:$R$48828,\"<>\",HData!$T$3:$T$48828,\">=\"&AJ$69,HData!$T$3:$T$48828,\"<\"&AJ$70)/COUNTIFS(HData!$AG$3:$AG$48828,\">=0\",HData!$R$3:$R$48828,\"<>\",HData!$T$3:$T$48828,\">=\"&AJ$69,HData!$T$3:$T$48828,\"<\"&AJ$70),\"\")","v":""},{"$f":"IFERROR(SUMIFS(HData!$AG$3:$AG$48828,HData!$R$3:$R$48828,\"<>\",HData!$T$3:$T$48828,\">=\"&AK$69,HData!$T$3:$T$48828,\"<\"&AK$70)/COUNTIFS(HData!$AG$3:$AG$48828,\">=0\",HData!$R$3:$R$48828,\"<>\",HData!$T$3:$T$48828,\">=\"&AK$69,HData!$T$3:$T$48828,\"<\"&AK$70),\"\")","v":""},{"$f":"IFERROR(SUMIFS(HData!$AG$3:$AG$48828,HData!$R$3:$R$48828,\"<>\",HData!$T$3:$T$48828,\">=\"&AL$69,HData!$T$3:$T$48828,\"<\"&AL$70)/COUNTIFS(HData!$AG$3:$AG$48828,\">=0\",HData!$R$3:$R$48828,\"<>\",HData!$T$3:$T$48828,\">=\"&AL$69,HData!$T$3:$T$48828,\"<\"&AL$70),\"\")","v":""}]
["BLA to PO (children adopted)",{"$f":"IF(AND(B88<>\"\",B88>0),SUMIFS(HData!$AE$3:$AE$48828,HData!$R$3:$R$48828,\"<>\",HData!$T$3:$T$48828,\">=\"&B$69,HData!$T$3:$T$48828,\"<\"&B$70)/B88,\"\")","v":""},{"$f":"IF(AND(C88<>\"\",C88>0),SUMIFS(HData!$AE$3:$AE$48828,HData!$R$3:$R$48828,\"<>\",HData!$T$3:$T$48828,\">=\"&C$69,HData!$T$3:$T$48828,\"<\"&C$70)/C88,\"\")","v":""},{"$f":"IF(AND(D88<>\"\",D88>0),SUMIFS(HData!$AE$3:$AE$48828,HData!$R$3:$R$48828,\"<>\",HData!$T$3:$T$48828,\">=\"&D$69,HData!$T$3:$T$48828,\"<\"&D$70)/D88,\"\")","v":""},{"$f":"IF(AND(E88<>\"\",E88>0),SUMIFS(HData!$AE$3:$AE$48828,HData!$R$3:$R$48828,\"<>\",HData!$T$3:$T$48828,\">=\"&E$69,HData!$T$3:$T$48828,\"<\"&E$70)/E88,\"\")","v":""},{"$f":"IF(AND(F88<>\"\",F88>0),SUMIFS(HData!$AE$3:$AE$48828,HData!$R$3:$R$48828,\"<>\",HData!$T$3:$T$48828,\">=\"&F$69,HData!$T$3:$T$48828,\"<\"&F$70)/F88,\"\")","v":""},{"$f":"IF(AND(G88<>\"\",G88>0),SUMIFS(HData!$AE$3:$AE$48828,HData!$R$3:$R$48828,\"<>\",HData!$T$3:$T$48828,\">=\"&G$69,HData!$T$3:$T$48828,\"<\"&G$70)/G88,\"\")","v":""},{"$f":"IF(AND(H88<>\"\",H88>0),SUMIFS(HData!$AE$3:$AE$48828,HData!$R$3:$R$48828,\"<>\",HData!$T$3:$T$48828,\">=\"&H$69,HData!$T$3:$T$48828,\"<\"&H$70)/H88,\"\")","v":""},{"$f":"IF(AND(I88<>\"\",I88>0),SUMIFS(HData!$AE$3:$AE$48828,HData!$R$3:$R$48828,\"<>\",HData!$T$3:$T$48828,\">=\"&I$69,HData!$T$3:$T$48828,\"<\"&I$70)/I88,\"\")","v":""},{"$f":"IF(AND(J88<>\"\",J88>0),SUMIFS(HData!$AE$3:$AE$48828,HData!$R$3:$R$48828,\"<>\",HData!$T$3:$T$48828,\">=\"&J$69,HData!$T$3:$T$48828,\"<\"&J$70)/J88,\"\")","v":""},{"$f":"IF(AND(K88<>\"\",K88>0),SUMIFS(HData!$AE$3:$AE$48828,HData!$R$3:$R$48828,\"<>\",HData!$T$3:$T$48828,\">=\"&K$69,HData!$T$3:$T$48828,\"<\"&K$70)/K88,\"\")","v":""},{"$f":"IF(AND(L88<>\"\",L88>0),SUMIFS(HData!$AE$3:$AE$48828,HData!$R$3:$R$48828,\"<>\",HData!$T$3:$T$48828,\">=\"&L$69,HData!$T$3:$T$48828,\"<\"&L$70)/L88,\"\")","v":""},{"$f":"IF(AND(M88<>\"\",M88>0),SUMIFS(HData!$AE$3:$AE$48828,HData!$R$3:$R$48828,\"<>\",HData!$T$3:$T$48828,\">=\"&M$69,HData!$T$3:$T$48828,\"<\"&M$70)/M88,\"\")","v":""},{"$f":"IF(AND(N88<>\"\",N88>0),SUMIFS(HData!$AE$3:$AE$48828,HData!$R$3:$R$48828,\"<>\",HData!$T$3:$T$48828,\">=\"&N$69,HData!$T$3:$T$48828,\"<\"&N$70)/N88,\"\")","v":""},{"$f":"IF(AND(O88<>\"\",O88>0),SUMIFS(HData!$AE$3:$AE$48828,HData!$R$3:$R$48828,\"<>\",HData!$T$3:$T$48828,\">=\"&O$69,HData!$T$3:$T$48828,\"<\"&O$70)/O88,\"\")","v":""},{"$f":"IF(AND(P88<>\"\",P88>0),SUMIFS(HData!$AE$3:$AE$48828,HData!$R$3:$R$48828,\"<>\",HData!$T$3:$T$48828,\">=\"&P$69,HData!$T$3:$T$48828,\"<\"&P$70)/P88,\"\")","v":""},{"$f":"IF(AND(Q88<>\"\",Q88>0),SUMIFS(HData!$AE$3:$AE$48828,HData!$R$3:$R$48828,\"<>\",HData!$T$3:$T$48828,\">=\"&Q$69,HData!$T$3:$T$48828,\"<\"&Q$70)/Q88,\"\")","v":""},{"$f":"IF(AND(R88<>\"\",R88>0),SUMIFS(HData!$AE$3:$AE$48828,HData!$R$3:$R$48828,\"<>\",HData!$T$3:$T$48828,\">=\"&R$69,HData!$T$3:$T$48828,\"<\"&R$70)/R88,\"\")","v":""},{"$f":"IF(AND(S88<>\"\",S88>0),SUMIFS(HData!$AE$3:$AE$48828,HData!$R$3:$R$48828,\"<>\",HData!$T$3:$T$48828,\">=\"&S$69,HData!$T$3:$T$48828,\"<\"&S$70)/S88,\"\")","v":""},{"$f":"IF(AND(T88<>\"\",T88>0),SUMIFS(HData!$AE$3:$AE$48828,HData!$R$3:$R$48828,\"<>\",HData!$T$3:$T$48828,\">=\"&T$69,HData!$T$3:$T$48828,\"<\"&T$70)/T88,\"\")","v":""},{"$f":"IF(AND(U88<>\"\",U88>0),SUMIFS(HData!$AE$3:$AE$48828,HData!$R$3:$R$48828,\"<>\",HData!$T$3:$T$48828,\">=\"&U$69,HData!$T$3:$T$48828,\"<\"&U$70)/U88,\"\")","v":""},{"$f":"IF(AND(V88<>\"\",V88>0),SUMIFS(HData!$AE$3:$AE$48828,HData!$R$3:$R$48828,\"<>\",HData!$T$3:$T$48828,\">=\"&V$69,HData!$T$3:$T$48828,\"<\"&V$70)/V88,\"\")","v":""},{"$f":"IF(AND(W88<>\"\",W88>0),SUMIFS(HData!$AE$3:$AE$48828,HData!$R$3:$R$48828,\"<>\",HData!$T$3:$T$48828,\">=\"&W$69,HData!$T$3:$T$48828,\"<\"&W$70)/W88,\"\")","v":""},{"$f":"IF(AND(X88<>\"\",X88>0),SUMIFS(HData!$AE$3:$AE$48828,HData!$R$3:$R$48828,\"<>\",HData!$T$3:$T$48828,\">=\"&X$69,HData!$T$3:$T$48828,\"<\"&X$70)/X88,\"\")","v":""},{"$f":"IF(AND(Y88<>\"\",Y88>0),SUMIFS(HData!$AE$3:$AE$48828,HData!$R$3:$R$48828,\"<>\",HData!$T$3:$T$48828,\">=\"&Y$69,HData!$T$3:$T$48828,\"<\"&Y$70)/Y88,\"\")","v":""},{"$f":"IF(AND(Z88<>\"\",Z88>0),SUMIFS(HData!$AE$3:$AE$48828,HData!$R$3:$R$48828,\"<>\",HData!$T$3:$T$48828,\">=\"&Z$69,HData!$T$3:$T$48828,\"<\"&Z$70)/Z88,\"\")","v":""},{"$f":"IF(AND(AA88<>\"\",AA88>0),SUMIFS(HData!$AE$3:$AE$48828,HData!$R$3:$R$48828,\"<>\",HData!$T$3:$T$48828,\">=\"&AA$69,HData!$T$3:$T$48828,\"<\"&AA$70)/AA88,\"\")","v":""},{"$f":"IF(AND(AB88<>\"\",AB88>0),SUMIFS(HData!$AE$3:$AE$48828,HData!$R$3:$R$48828,\"<>\",HData!$T$3:$T$48828,\">=\"&AB$69,HData!$T$3:$T$48828,\"<\"&AB$70)/AB88,\"\")","v":""},{"$f":"IF(AND(AC88<>\"\",AC88>0),SUMIFS(HData!$AE$3:$AE$48828,HData!$R$3:$R$48828,\"<>\",HData!$T$3:$T$48828,\">=\"&AC$69,HData!$T$3:$T$48828,\"<\"&AC$70)/AC88,\"\")","v":""},{"$f":"IF(AND(AD88<>\"\",AD88>0),SUMIFS(HData!$AE$3:$AE$48828,HData!$R$3:$R$48828,\"<>\",HData!$T$3:$T$48828,\">=\"&AD$69,HData!$T$3:$T$48828,\"<\"&AD$70)/AD88,\"\")","v":""},{"$f":"IF(AND(AE88<>\"\",AE88>0),SUMIFS(HData!$AE$3:$AE$48828,HData!$R$3:$R$48828,\"<>\",HData!$T$3:$T$48828,\">=\"&AE$69,HData!$T$3:$T$48828,\"<\"&AE$70)/AE88,\"\")","v":""},{"$f":"IF(AND(AF88<>\"\",AF88>0),SUMIFS(HData!$AE$3:$AE$48828,HData!$R$3:$R$48828,\"<>\",HData!$T$3:$T$48828,\">=\"&AF$69,HData!$T$3:$T$48828,\"<\"&AF$70)/AF88,\"\")","v":""},{"$f":"IF(AND(AG88<>\"\",AG88>0),SUMIFS(HData!$AE$3:$AE$48828,HData!$R$3:$R$48828,\"<>\",HData!$T$3:$T$48828,\">=\"&AG$69,HData!$T$3:$T$48828,\"<\"&AG$70)/AG88,\"\")","v":""},{"$f":"IF(AND(AH88<>\"\",AH88>0),SUMIFS(HData!$AE$3:$AE$48828,HData!$R$3:$R$48828,\"<>\",HData!$T$3:$T$48828,\">=\"&AH$69,HData!$T$3:$T$48828,\"<\"&AH$70)/AH88,\"\")","v":""},{"$f":"IF(AND(AI88<>\"\",AI88>0),SUMIFS(HData!$AE$3:$AE$48828,HData!$R$3:$R$48828,\"<>\",HData!$T$3:$T$48828,\">=\"&AI$69,HData!$T$3:$T$48828,\"<\"&AI$70)/AI88,\"\")","v":""},{"$f":"IF(AND(AJ88<>\"\",AJ88>0),SUMIFS(HData!$AE$3:$AE$48828,HData!$R$3:$R$48828,\"<>\",HData!$T$3:$T$48828,\">=\"&AJ$69,HData!$T$3:$T$48828,\"<\"&AJ$70)/AJ88,\"\")","v":""},{"$f":"IF(AND(AK88<>\"\",AK88>0),SUMIFS(HData!$AE$3:$AE$48828,HData!$R$3:$R$48828,\"<>\",HData!$T$3:$T$48828,\">=\"&AK$69,HData!$T$3:$T$48828,\"<\"&AK$70)/AK88,\"\")","v":""},{"$f":"IF(AND(AL88<>\"\",AL88>0),SUMIFS(HData!$AE$3:$AE$48828,HData!$R$3:$R$48828,\"<>\",HData!$T$3:$T$48828,\">=\"&AL$69,HData!$T$3:$T$48828,\"<\"&AL$70)/AL88,\"\")","v":""}]
["AOs with placements (AO year)",{"$f":"IF(B$70<=RDate+1,COUNTIFS(HData!$R$3:$R$48828,\"<>\",HData!$T$3:$T$48828,\">=\"&B$69,HData!$T$3:$T$48828,\"<\"&B$70),\"\")","v":0},{"$f":"IF(C$70<=RDate+1,COUNTIFS(HData!$R$3:$R$48828,\"<>\",HData!$T$3:$T$48828,\">=\"&C$69,HData!$T$3:$T$48828,\"<\"&C$70),\"\")","v":0},{"$f":"IF(D$70<=RDate+1,COUNTIFS(HData!$R$3:$R$48828,\"<>\",HData!$T$3:$T$48828,\">=\"&D$69,HData!$T$3:$T$48828,\"<\"&D$70),\"\")","v":0},{"$f":"IF(E$70<=RDate+1,COUNTIFS(HData!$R$3:$R$48828,\"<>\",HData!$T$3:$T$48828,\">=\"&E$69,HData!$T$3:$T$48828,\"<\"&E$70),\"\")","v":0},{"$f":"IF(F$70<=RDate+1,COUNTIFS(HData!$R$3:$R$48828,\"<>\",HData!$T$3:$T$48828,\">=\"&F$69,HData!$T$3:$T$48828,\"<\"&F$70),\"\")","v":0},{"$f":"IF(G$70<=RDate+1,COUNTIFS(HData!$R$3:$R$48828,\"<>\",HData!$T$3:$T$48828,\">=\"&G$69,HData!$T$3:$T$48828,\"<\"&G$70),\"\")","v":0},{"$f":"IF(H$70<=RDate+1,COUNTIFS(HData!$R$3:$R$48828,\"<>\",HData!$T$3:$T$48828,\">=\"&H$69,HData!$T$3:$T$48828,\"<\"&H$70),\"\")","v":0},{"$f":"IF(I$70<=RDate+1,COUNTIFS(HData!$R$3:$R$48828,\"<>\",HData!$T$3:$T$48828,\">=\"&I$69,HData!$T$3:$T$48828,\"<\"&I$70),\"\")","v":0},{"$f":"IF(J$70<=RDate+1,COUNTIFS(HData!$R$3:$R$48828,\"<>\",HData!$T$3:$T$48828,\">=\"&J$69,HData!$T$3:$T$48828,\"<\"&J$70),\"\")","v":0},{"$f":"IF(K$70<=RDate+1,COUNTIFS(HData!$R$3:$R$48828,\"<>\",HData!$T$3:$T$48828,\">=\"&K$69,HData!$T$3:$T$48828,\"<\"&K$70),\"\")","v":0},{"$f":"IF(L$70<=RDate+1,COUNTIFS(HData!$R$3:$R$48828,\"<>\",HData!$T$3:$T$48828,\">=\"&L$69,HData!$T$3:$T$48828,\"<\"&L$70),\"\")","v":0},{"$f":"IF(M$70<=RDate+1,COUNTIFS(HData!$R$3:$R$48828,\"<>\",HData!$T$3:$T$48828,\">=\"&M$69,HData!$T$3:$T$48828,\"<\"&M$70),\"\")","v":0},{"$f":"IF(N$70<=RDate+1,COUNTIFS(HData!$R$3:$R$48828,\"<>\",HData!$T$3:$T$48828,\">=\"&N$69,HData!$T$3:$T$48828,\"<\"&N$70),\"\")","v":0},{"$f":"IF(O$70<=RDate+1,COUNTIFS(HData!$R$3:$R$48828,\"<>\",HData!$T$3:$T$48828,\">=\"&O$69,HData!$T$3:$T$48828,\"<\"&O$70),\"\")","v":0},{"$f":"IF(P$70<=RDate+1,COUNTIFS(HData!$R$3:$R$48828,\"<>\",HData!$T$3:$T$48828,\">=\"&P$69,HData!$T$3:$T$48828,\"<\"&P$70),\"\")","v":0},{"$f":"IF(Q$70<=RDate+1,COUNTIFS(HData!$R$3:$R$48828,\"<>\",HData!$T$3:$T$48828,\">=\"&Q$69,HData!$T$3:$T$48828,\"<\"&Q$70),\"\")","v":0},{"$f":"IF(R$70<=RDate+1,COUNTIFS(HData!$R$3:$R$48828,\"<>\",HData!$T$3:$T$48828,\">=\"&R$69,HData!$T$3:$T$48828,\"<\"&R$70),\"\")","v":0},{"$f":"IF(S$70<=RDate+1,COUNTIFS(HData!$R$3:$R$48828,\"<>\",HData!$T$3:$T$48828,\">=\"&S$69,HData!$T$3:$T$48828,\"<\"&S$70),\"\")","v":0},{"$f":"IF(T$70<=RDate+1,COUNTIFS(HData!$R$3:$R$48828,\"<>\",HData!$T$3:$T$48828,\">=\"&T$69,HData!$T$3:$T$48828,\"<\"&T$70),\"\")","v":0},{"$f":"IF(U$70<=RDate+1,COUNTIFS(HData!$R$3:$R$48828,\"<>\",HData!$T$3:$T$48828,\">=\"&U$69,HData!$T$3:$T$48828,\"<\"&U$70),\"\")","v":0},{"$f":"IF(V$70<=RDate+1,COUNTIFS(HData!$R$3:$R$48828,\"<>\",HData!$T$3:$T$48828,\">=\"&V$69,HData!$T$3:$T$48828,\"<\"&V$70),\"\")","v":0},{"$f":"IF(W$70<=RDate+1,COUNTIFS(HData!$R$3:$R$48828,\"<>\",HData!$T$3:$T$48828,\">=\"&W$69,HData!$T$3:$T$48828,\"<\"&W$70),\"\")","v":0},{"$f":"IF(X$70<=RDate+1,COUNTIFS(HData!$R$3:$R$48828,\"<>\",HData!$T$3:$T$48828,\">=\"&X$69,HData!$T$3:$T$48828,\"<\"&X$70),\"\")","v":0},{"$f":"IF(Y$70<=RDate+1,COUNTIFS(HData!$R$3:$R$48828,\"<>\",HData!$T$3:$T$48828,\">=\"&Y$69,HData!$T$3:$T$48828,\"<\"&Y$70),\"\")","v":0},{"$f":"IF(Z$70<=RDate+1,COUNTIFS(HData!$R$3:$R$48828,\"<>\",HData!$T$3:$T$48828,\">=\"&Z$69,HData!$T$3:$T$48828,\"<\"&Z$70),\"\")","v":0},{"$f":"IF(AA$70<=RDate+1,COUNTIFS(HData!$R$3:$R$48828,\"<>\",HData!$T$3:$T$48828,\">=\"&AA$69,HData!$T$3:$T$48828,\"<\"&AA$70),\"\")","v":0},{"$f":"IF(AB$70<=RDate+1,COUNTIFS(HData!$R$3:$R$48828,\"<>\",HData!$T$3:$T$48828,\">=\"&AB$69,HData!$T$3:$T$48828,\"<\"&AB$70),\"\")","v":0},{"$f":"IF(AC$70<=RDate+1,COUNTIFS(HData!$R$3:$R$48828,\"<>\",HData!$T$3:$T$48828,\">=\"&AC$69,HData!$T$3:$T$48828,\"<\"&AC$70),\"\")","v":0},{"$f":"IF(AD$70<=RDate+1,COUNTIFS(HData!$R$3:$R$48828,\"<>\",HData!$T$3:$T$48828,\">=\"&AD$69,HData!$T$3:$T$48828,\"<\"&AD$70),\"\")","v":""},{"$f":"IF(AE$70<=RDate+1,COUNTIFS(HData!$R$3:$R$48828,\"<>\",HData!$T$3:$T$48828,\">=\"&AE$69,HData!$T$3:$T$48828,\"<\"&AE$70),\"\")","v":""},{"$f":"IF(AF$70<=RDate+1,COUNTIFS(HData!$R$3:$R$48828,\"<>\",HData!$T$3:$T$48828,\">=\"&AF$69,HData!$T$3:$T$48828,\"<\"&AF$70),\"\")","v":""},{"$f":"IF(AG$70<=RDate+1,COUNTIFS(HData!$R$3:$R$48828,\"<>\",HData!$T$3:$T$48828,\">=\"&AG$69,HData!$T$3:$T$48828,\"<\"&AG$70),\"\")","v":""},{"$f":"IF(AH$70<=RDate+1,COUNTIFS(HData!$R$3:$R$48828,\"<>\",HData!$T$3:$T$48828,\">=\"&AH$69,HData!$T$3:$T$48828,\"<\"&AH$70),\"\")","v":""},{"$f":"IF(AI$70<=RDate+1,COUNTIFS(HData!$R$3:$R$48828,\"<>\",HData!$T$3:$T$48828,\">=\"&AI$69,HData!$T$3:$T$48828,\"<\"&AI$70),\"\")","v":""},{"$f":"IF(AJ$70<=RDate+1,COUNTIFS(HData!$R$3:$R$48828,\"<>\",HData!$T$3:$T$48828,\">=\"&AJ$69,HData!$T$3:$T$48828,\"<\"&AJ$70),\"\")","v":""},{"$f":"IF(AK$70<=RDate+1,COUNTIFS(HData!$R$3:$R$48828,\"<>\",HData!$T$3:$T$48828,\">=\"&AK$69,HData!$T$3:$T$48828,\"<\"&AK$70),\"\")","v":""},{"$f":"IF(AL$70<=RDate+1,COUNTIFS(HData!$R$3:$R$48828,\"<>\",HData!$T$3:$T$48828,\">=\"&AL$69,HData!$T$3:$T$48828,\"<\"&AL$70),\"\")","v":""}]
["AOs with POs and matches (AO year)",{"$f":"IF(B$70<=RDate+1,COUNTIFS(HData!$AT$3:$AT$48828,\">=0\",HData!$R$3:$R$48828,\"<>\",HData!$T$3:$T$48828,\">=\"&B$69,HData!$T$3:$T$48828,\"<\"&B$70),\"\")","v":0},{"$f":"IF(C$70<=RDate+1,COUNTIFS(HData!$AT$3:$AT$48828,\">=0\",HData!$R$3:$R$48828,\"<>\",HData!$T$3:$T$48828,\">=\"&C$69,HData!$T$3:$T$48828,\"<\"&C$70),\"\")","v":0},{"$f":"IF(D$70<=RDate+1,COUNTIFS(HData!$AT$3:$AT$48828,\">=0\",HData!$R$3:$R$48828,\"<>\",HData!$T$3:$T$48828,\">=\"&D$69,HData!$T$3:$T$48828,\"<\"&D$70),\"\")","v":0},{"$f":"IF(E$70<=RDate+1,COUNTIFS(HData!$AT$3:$AT$48828,\">=0\",HData!$R$3:$R$48828,\"<>\",HData!$T$3:$T$48828,\">=\"&E$69,HData!$T$3:$T$48828,\"<\"&E$70),\"\")","v":0},{"$f":"IF(F$70<=RDate+1,COUNTIFS(HData!$AT$3:$AT$48828,\">=0\",HData!$R$3:$R$48828,\"<>\",HData!$T$3:$T$48828,\">=\"&F$69,HData!$T$3:$T$48828,\"<\"&F$70),\"\")","v":0},{"$f":"IF(G$70<=RDate+1,COUNTIFS(HData!$AT$3:$AT$48828,\">=0\",HData!$R$3:$R$48828,\"<>\",HData!$T$3:$T$48828,\">=\"&G$69,HData!$T$3:$T$48828,\"<\"&G$70),\"\")","v":0},{"$f":"IF(H$70<=RDate+1,COUNTIFS(HData!$AT$3:$AT$48828,\">=0\",HData!$R$3:$R$48828,\"<>\",HData!$T$3:$T$48828,\">=\"&H$69,HData!$T$3:$T$48828,\"<\"&H$70),\"\")","v":0},{"$f":"IF(I$70<=RDate+1,COUNTIFS(HData!$AT$3:$AT$48828,\">=0\",HData!$R$3:$R$48828,\"<>\",HData!$T$3:$T$48828,\">=\"&I$69,HData!$T$3:$T$48828,\"<\"&I$70),\"\")","v":0},{"$f":"IF(J$70<=RDate+1,COUNTIFS(HData!$AT$3:$AT$48828,\">=0\",HData!$R$3:$R$48828,\"<>\",HData!$T$3:$T$48828,\">=\"&J$69,HData!$T$3:$T$48828,\"<\"&J$70),\"\")","v":0},{"$f":"IF(K$70<=RDate+1,COUNTIFS(HData!$AT$3:$AT$48828,\">=0\",HData!$R$3:$R$48828,\"<>\",HData!$T$3:$T$48828,\">=\"&K$69,HData!$T$3:$T$48828,\"<\"&K$70),\"\")","v":0},{"$f":"IF(L$70<=RDate+1,COUNTIFS(HData!$AT$3:$AT$48828,\">=0\",HData!$R$3:$R$48828,\"<>\",HData!$T$3:$T$48828,\">=\"&L$69,HData!$T$3:$T$48828,\"<\"&L$70),\"\")","v":0},{"$f":"IF(M$70<=RDate+1,COUNTIFS(HData!$AT$3:$AT$48828,\">=0\",HData!$R$3:$R$48828,\"<>\",HData!$T$3:$T$48828,\">=\"&M$69,HData!$T$3:$T$48828,\"<\"&M$70),\"\")","v":0},{"$f":"IF(N$70<=RDate+1,COUNTIFS(HData!$AT$3:$AT$48828,\">=0\",HData!$R$3:$R$48828,\"<>\",HData!$T$3:$T$48828,\">=\"&N$69,HData!$T$3:$T$48828,\"<\"&N$70),\"\")","v":0},{"$f":"IF(O$70<=RDate+1,COUNTIFS(HData!$AT$3:$AT$48828,\">=0\",HData!$R$3:$R$48828,\"<>\",HData!$T$3:$T$48828,\">=\"&O$69,HData!$T$3:$T$48828,\"<\"&O$70),\"\")","v":0},{"$f":"IF(P$70<=RDate+1,COUNTIFS(HData!$AT$3:$AT$48828,\">=0\",HData!$R$3:$R$48828,\"<>\",HData!$T$3:$T$48828,\">=\"&P$69,HData!$T$3:$T$48828,\"<\"&P$70),\"\")","v":0},{"$f":"IF(Q$70<=RDate+1,COUNTIFS(HData!$AT$3:$AT$48828,\">=0\",HData!$R$3:$R$48828,\"<>\",HData!$T$3:$T$48828,\">=\"&Q$69,HData!$T$3:$T$48828,\"<\"&Q$70),\"\")","v":0},{"$f":"IF(R$70<=RDate+1,COUNTIFS(HData!$AT$3:$AT$48828,\">=0\",HData!$R$3:$R$48828,\"<>\",HData!$T$3:$T$48828,\">=\"&R$69,HData!$T$3:$T$48828,\"<\"&R$70),\"\")","v":0},{"$f":"IF(S$70<=RDate+1,COUNTIFS(HData!$AT$3:$AT$48828,\">=0\",HData!$R$3:$R$48828,\"<>\",HData!$T$3:$T$48828,\">=\"&S$69,HData!$T$3:$T$48828,\"<\"&S$70),\"\")","v":0},{"$f":"IF(T$70<=RDate+1,COUNTIFS(HData!$AT$3:$AT$48828,\">=0\",HData!$R$3:$R$48828,\"<>\",HData!$T$3:$T$48828,\">=\"&T$69,HData!$T$3:$T$48828,\"<\"&T$70),\"\")","v":0},{"$f":"IF(U$70<=RDate+1,COUNTIFS(HData!$AT$3:$AT$48828,\">=0\",HData!$R$3:$R$48828,\"<>\",HData!$T$3:$T$48828,\">=\"&U$69,HData!$T$3:$T$48828,\"<\"&U$70),\"\")","v":0},{"$f":"IF(V$70<=RDate+1,COUNTIFS(HData!$AT$3:$AT$48828,\">=0\",HData!$R$3:$R$48828,\"<>\",HData!$T$3:$T$48828,\">=\"&V$69,HData!$T$3:$T$48828,\"<\"&V$70),\"\")","v":0},{"$f":"IF(W$70<=RDate+1,COUNTIFS(HData!$AT$3:$AT$48828,\">=0\",HData!$R$3:$R$48828,\"<>\",HData!$T$3:$T$48828,\">=\"&W$69,HData!$T$3:$T$48828,\"<\"&W$70),\"\")","v":0},{"$f":"IF(X$70<=RDate+1,COUNTIFS(HData!$AT$3:$AT$48828,\">=0\",HData!$R$3:$R$48828,\"<>\",HData!$T$3:$T$48828,\">=\"&X$69,HData!$T$3:$T$48828,\"<\"&X$70),\"\")","v":0},{"$f":"IF(Y$70<=RDate+1,COUNTIFS(HData!$AT$3:$AT$48828,\">=0\",HData!$R$3:$R$48828,\"<>\",HData!$T$3:$T$48828,\">=\"&Y$69,HData!$T$3:$T$48828,\"<\"&Y$70),\"\")","v":0},{"$f":"IF(Z$70<=RDate+1,COUNTIFS(HData!$AT$3:$AT$48828,\">=0\",HData!$R$3:$R$48828,\"<>\",HData!$T$3:$T$48828,\">=\"&Z$69,HData!$T$3:$T$48828,\"<\"&Z$70),\"\")","v":0},{"$f":"IF(AA$70<=RDate+1,COUNTIFS(HData!$AT$3:$AT$48828,\">=0\",HData!$R$3:$R$48828,\"<>\",HData!$T$3:$T$48828,\">=\"&AA$69,HData!$T$3:$T$48828,\"<\"&AA$70),\"\")","v":0},{"$f":"IF(AB$70<=RDate+1,COUNTIFS(HData!$AT$3:$AT$48828,\">=0\",HData!$R$3:$R$48828,\"<>\",HData!$T$3:$T$48828,\">=\"&AB$69,HData!$T$3:$T$48828,\"<\"&AB$70),\"\")","v":0},{"$f":"IF(AC$70<=RDate+1,COUNTIFS(HData!$AT$3:$AT$48828,\">=0\",HData!$R$3:$R$48828,\"<>\",HData!$T$3:$T$48828,\">=\"&AC$69,HData!$T$3:$T$48828,\"<\"&AC$70),\"\")","v":0},{"$f":"IF(AD$70<=RDate+1,COUNTIFS(HData!$AT$3:$AT$48828,\">=0\",HData!$R$3:$R$48828,\"<>\",HData!$T$3:$T$48828,\">=\"&AD$69,HData!$T$3:$T$48828,\"<\"&AD$70),\"\")","v":""},{"$f":"IF(AE$70<=RDate+1,COUNTIFS(HData!$AT$3:$AT$48828,\">=0\",HData!$R$3:$R$48828,\"<>\",HData!$T$3:$T$48828,\">=\"&AE$69,HData!$T$3:$T$48828,\"<\"&AE$70),\"\")","v":""},{"$f":"IF(AF$70<=RDate+1,COUNTIFS(HData!$AT$3:$AT$48828,\">=0\",HData!$R$3:$R$48828,\"<>\",HData!$T$3:$T$48828,\">=\"&AF$69,HData!$T$3:$T$48828,\"<\"&AF$70),\"\")","v":""},{"$f":"IF(AG$70<=RDate+1,COUNTIFS(HData!$AT$3:$AT$48828,\">=0\",HData!$R$3:$R$48828,\"<>\",HData!$T$3:$T$48828,\">=\"&AG$69,HData!$T$3:$T$48828,\"<\"&AG$70),\"\")","v":""},{"$f":"IF(AH$70<=RDate+1,COUNTIFS(HData!$AT$3:$AT$48828,\">=0\",HData!$R$3:$R$48828,\"<>\",HData!$T$3:$T$48828,\">=\"&AH$69,HData!$T$3:$T$48828,\"<\"&AH$70),\"\")","v":""},{"$f":"IF(AI$70<=RDate+1,COUNTIFS(HData!$AT$3:$AT$48828,\">=0\",HData!$R$3:$R$48828,\"<>\",HData!$T$3:$T$48828,\">=\"&AI$69,HData!$T$3:$T$48828,\"<\"&AI$70),\"\")","v":""},{"$f":"IF(AJ$70<=RDate+1,COUNTIFS(HData!$AT$3:$AT$48828,\">=0\",HData!$R$3:$R$48828,\"<>\",HData!$T$3:$T$48828,\">=\"&AJ$69,HData!$T$3:$T$48828,\"<\"&AJ$70),\"\")","v":""},{"$f":"IF(AK$70<=RDate+1,COUNTIFS(HData!$AT$3:$AT$48828,\">=0\",HData!$R$3:$R$48828,\"<>\",HData!$T$3:$T$48828,\">=\"&AK$69,HData!$T$3:$T$48828,\"<\"&AK$70),\"\")","v":""},{"$f":"IF(AL$70<=RDate+1,COUNTIFS(HData!$AT$3:$AT$48828,\">=0\",HData!$R$3:$R$48828,\"<>\",HData!$T$3:$T$48828,\">=\"&AL$69,HData!$T$3:$T$48828,\"<\"&AL$70),\"\")","v":""}]
["AOs with POs (AO year)",{"$f":"IF(B$70<=RDate+1,COUNTIFS(HData!$AE$3:$AE$48828,\">=0\",HData!$R$3:$R$48828,\"<>\",HData!$T$3:$T$48828,\">=\"&B$69,HData!$T$3:$T$48828,\"<\"&B$70),\"\")","v":0},{"$f":"IF(C$70<=RDate+1,COUNTIFS(HData!$AE$3:$AE$48828,\">=0\",HData!$R$3:$R$48828,\"<>\",HData!$T$3:$T$48828,\">=\"&C$69,HData!$T$3:$T$48828,\"<\"&C$70),\"\")","v":0},{"$f":"IF(D$70<=RDate+1,COUNTIFS(HData!$AE$3:$AE$48828,\">=0\",HData!$R$3:$R$48828,\"<>\",HData!$T$3:$T$48828,\">=\"&D$69,HData!$T$3:$T$48828,\"<\"&D$70),\"\")","v":0},{"$f":"IF(E$70<=RDate+1,COUNTIFS(HData!$AE$3:$AE$48828,\">=0\",HData!$R$3:$R$48828,\"<>\",HData!$T$3:$T$48828,\">=\"&E$69,HData!$T$3:$T$48828,\"<\"&E$70),\"\")","v":0},{"$f":"IF(F$70<=RDate+1,COUNTIFS(HData!$AE$3:$AE$48828,\">=0\",HData!$R$3:$R$48828,\"<>\",HData!$T$3:$T$48828,\">=\"&F$69,HData!$T$3:$T$48828,\"<\"&F$70),\"\")","v":0},{"$f":"IF(G$70<=RDate+1,COUNTIFS(HData!$AE$3:$AE$48828,\">=0\",HData!$R$3:$R$48828,\"<>\",HData!$T$3:$T$48828,\">=\"&G$69,HData!$T$3:$T$48828,\"<\"&G$70),\"\")","v":0},{"$f":"IF(H$70<=RDate+1,COUNTIFS(HData!$AE$3:$AE$48828,\">=0\",HData!$R$3:$R$48828,\"<>\",HData!$T$3:$T$48828,\">=\"&H$69,HData!$T$3:$T$48828,\"<\"&H$70),\"\")","v":0},{"$f":"IF(I$70<=RDate+1,COUNTIFS(HData!$AE$3:$AE$48828,\">=0\",HData!$R$3:$R$48828,\"<>\",HData!$T$3:$T$48828,\">=\"&I$69,HData!$T$3:$T$48828,\"<\"&I$70),\"\")","v":0},{"$f":"IF(J$70<=RDate+1,COUNTIFS(HData!$AE$3:$AE$48828,\">=0\",HData!$R$3:$R$48828,\"<>\",HData!$T$3:$T$48828,\">=\"&J$69,HData!$T$3:$T$48828,\"<\"&J$70),\"\")","v":0},{"$f":"IF(K$70<=RDate+1,COUNTIFS(HData!$AE$3:$AE$48828,\">=0\",HData!$R$3:$R$48828,\"<>\",HData!$T$3:$T$48828,\">=\"&K$69,HData!$T$3:$T$48828,\"<\"&K$70),\"\")","v":0},{"$f":"IF(L$70<=RDate+1,COUNTIFS(HData!$AE$3:$AE$48828,\">=0\",HData!$R$3:$R$48828,\"<>\",HData!$T$3:$T$48828,\">=\"&L$69,HData!$T$3:$T$48828,\"<\"&L$70),\"\")","v":0},{"$f":"IF(M$70<=RDate+1,COUNTIFS(HData!$AE$3:$AE$48828,\">=0\",HData!$R$3:$R$48828,\"<>\",HData!$T$3:$T$48828,\">=\"&M$69,HData!$T$3:$T$48828,\"<\"&M$70),\"\")","v":0},{"$f":"IF(N$70<=RDate+1,COUNTIFS(HData!$AE$3:$AE$48828,\">=0\",HData!$R$3:$R$48828,\"<>\",HData!$T$3:$T$48828,\">=\"&N$69,HData!$T$3:$T$48828,\"<\"&N$70),\"\")","v":0},{"$f":"IF(O$70<=RDate+1,COUNTIFS(HData!$AE$3:$AE$48828,\">=0\",HData!$R$3:$R$48828,\"<>\",HData!$T$3:$T$48828,\">=\"&O$69,HData!$T$3:$T$48828,\"<\"&O$70),\"\")","v":0},{"$f":"IF(P$70<=RDate+1,COUNTIFS(HData!$AE$3:$AE$48828,\">=0\",HData!$R$3:$R$48828,\"<>\",HData!$T$3:$T$48828,\">=\"&P$69,HData!$T$3:$T$48828,\"<\"&P$70),\"\")","v":0},{"$f":"IF(Q$70<=RDate+1,COUNTIFS(HData!$AE$3:$AE$48828,\">=0\",HData!$R$3:$R$48828,\"<>\",HData!$T$3:$T$48828,\">=\"&Q$69,HData!$T$3:$T$48828,\"<\"&Q$70),\"\")","v":0},{"$f":"IF(R$70<=RDate+1,COUNTIFS(HData!$AE$3:$AE$48828,\">=0\",HData!$R$3:$R$48828,\"<>\",HData!$T$3:$T$48828,\">=\"&R$69,HData!$T$3:$T$48828,\"<\"&R$70),\"\")","v":0},{"$f":"IF(S$70<=RDate+1,COUNTIFS(HData!$AE$3:$AE$48828,\">=0\",HData!$R$3:$R$48828,\"<>\",HData!$T$3:$T$48828,\">=\"&S$69,HData!$T$3:$T$48828,\"<\"&S$70),\"\")","v":0},{"$f":"IF(T$70<=RDate+1,COUNTIFS(HData!$AE$3:$AE$48828,\">=0\",HData!$R$3:$R$48828,\"<>\",HData!$T$3:$T$48828,\">=\"&T$69,HData!$T$3:$T$48828,\"<\"&T$70),\"\")","v":0},{"$f":"IF(U$70<=RDate+1,COUNTIFS(HData!$AE$3:$AE$48828,\">=0\",HData!$R$3:$R$48828,\"<>\",HData!$T$3:$T$48828,\">=\"&U$69,HData!$T$3:$T$48828,\"<\"&U$70),\"\")","v":0},{"$f":"IF(V$70<=RDate+1,COUNTIFS(HData!$AE$3:$AE$48828,\">=0\",HData!$R$3:$R$48828,\"<>\",HData!$T$3:$T$48828,\">=\"&V$69,HData!$T$3:$T$48828,\"<\"&V$70),\"\")","v":0},{"$f":"IF(W$70<=RDate+1,COUNTIFS(HData!$AE$3:$AE$48828,\">=0\",HData!$R$3:$R$48828,\"<>\",HData!$T$3:$T$48828,\">=\"&W$69,HData!$T$3:$T$48828,\"<\"&W$70),\"\")","v":0},{"$f":"IF(X$70<=RDate+1,COUNTIFS(HData!$AE$3:$AE$48828,\">=0\",HData!$R$3:$R$48828,\"<>\",HData!$T$3:$T$48828,\">=\"&X$69,HData!$T$3:$T$48828,\"<\"&X$70),\"\")","v":0},{"$f":"IF(Y$70<=RDate+1,COUNTIFS(HData!$AE$3:$AE$48828,\">=0\",HData!$R$3:$R$48828,\"<>\",HData!$T$3:$T$48828,\">=\"&Y$69,HData!$T$3:$T$48828,\"<\"&Y$70),\"\")","v":0},{"$f":"IF(Z$70<=RDate+1,COUNTIFS(HData!$AE$3:$AE$48828,\">=0\",HData!$R$3:$R$48828,\"<>\",HData!$T$3:$T$48828,\">=\"&Z$69,HData!$T$3:$T$48828,\"<\"&Z$70),\"\")","v":0},{"$f":"IF(AA$70<=RDate+1,COUNTIFS(HData!$AE$3:$AE$48828,\">=0\",HData!$R$3:$R$48828,\"<>\",HData!$T$3:$T$48828,\">=\"&AA$69,HData!$T$3:$T$48828,\"<\"&AA$70),\"\")","v":0},{"$f":"IF(AB$70<=RDate+1,COUNTIFS(HData!$AE$3:$AE$48828,\">=0\",HData!$R$3:$R$48828,\"<>\",HData!$T$3:$T$48828,\">=\"&AB$69,HData!$T$3:$T$48828,\"<\"&AB$70),\"\")","v":0},{"$f":"IF(AC$70<=RDate+1,COUNTIFS(HData!$AE$3:$AE$48828,\">=0\",HData!$R$3:$R$48828,\"<>\",HData!$T$3:$T$48828,\">=\"&AC$69,HData!$T$3:$T$48828,\"<\"&AC$70),\"\")","v":0},{"$f":"IF(AD$70<=RDate+1,COUNTIFS(HData!$AE$3:$AE$48828,\">=0\",HData!$R$3:$R$48828,\"<>\",HData!$T$3:$T$48828,\">=\"&AD$69,HData!$T$3:$T$48828,\"<\"&AD$70),\"\")","v":""},{"$f":"IF(AE$70<=RDate+1,COUNTIFS(HData!$AE$3:$AE$48828,\">=0\",HData!$R$3:$R$48828,\"<>\",HData!$T$3:$T$48828,\">=\"&AE$69,HData!$T$3:$T$48828,\"<\"&AE$70),\"\")","v":""},{"$f":"IF(AF$70<=RDate+1,COUNTIFS(HData!$AE$3:$AE$48828,\">=0\",HData!$R$3:$R$48828,\"<>\",HData!$T$3:$T$48828,\">=\"&AF$69,HData!$T$3:$T$48828,\"<\"&AF$70),\"\")","v":""},{"$f":"IF(AG$70<=RDate+1,COUNTIFS(HData!$AE$3:$AE$48828,\">=0\",HData!$R$3:$R$48828,\"<>\",HData!$T$3:$T$48828,\">=\"&AG$69,HData!$T$3:$T$48828,\"<\"&AG$70),\"\")","v":""},{"$f":"IF(AH$70<=RDate+1,COUNTIFS(HData!$AE$3:$AE$48828,\">=0\",HData!$R$3:$R$48828,\"<>\",HData!$T$3:$T$48828,\">=\"&AH$69,HData!$T$3:$T$48828,\"<\"&AH$70),\"\")","v":""},{"$f":"IF(AI$70<=RDate+1,COUNTIFS(HData!$AE$3:$AE$48828,\">=0\",HData!$R$3:$R$48828,\"<>\",HData!$T$3:$T$48828,\">=\"&AI$69,HData!$T$3:$T$48828,\"<\"&AI$70),\"\")","v":""},{"$f":"IF(AJ$70<=RDate+1,COUNTIFS(HData!$AE$3:$AE$48828,\">=0\",HData!$R$3:$R$48828,\"<>\",HData!$T$3:$T$48828,\">=\"&AJ$69,HData!$T$3:$T$48828,\"<\"&AJ$70),\"\")","v":""},{"$f":"IF(AK$70<=RDate+1,COUNTIFS(HData!$AE$3:$AE$48828,\">=0\",HData!$R$3:$R$48828,\"<>\",HData!$T$3:$T$48828,\">=\"&AK$69,HData!$T$3:$T$48828,\"<\"&AK$70),\"\")","v":""},{"$f":"IF(AL$70<=RDate+1,COUNTIFS(HData!$AE$3:$AE$48828,\">=0\",HData!$R$3:$R$48828,\"<>\",HData!$T$3:$T$48828,\">=\"&AL$69,HData!$T$3:$T$48828,\"<\"&AL$70),\"\")","v":""}]
[]
["12-MONTH (QTR)",{"$f":"B15","v":"2023-04-01"},{"$f":"C15","v":"2023-07-01"},"2023-10-01","2024-01-01","2024-04-01","2024-07-01","2024-10-01","2025-01-01","2025-04-01","2025-07-01","2025-10-01","2026-01-01","2026-04-01"]
["ROLLING AVERAGE",{"$f":"EDATE(B90,12)","v":"2024-04-01"},{"$f":"EDATE(C90,12)","v":"2024-07-01"},"2024-10-01","2025-01-01","2025-04-01","2025-07-01","2025-10-01","2026-01-01","2026-04-01","2026-07-01","2026-10-01","2027-01-01","2027-04-01"]
["BIDs per LAC entrants under 5",{"$f":"IF(B$91<=RDate+1,COUNTIFS(HData!$N$3:$N$48828,\"<>\",HData!$L$3:$L$48828,\">=\"&B$90,HData!$L$3:$L$48828,\"<\"&B$91,HData!$AB$3:$AB$48828,TRUE,HData!$BI$3:$BI$48828,\"<5\"),\"\")","v":0},{"$f":"IF(C$91<=RDate+1,COUNTIFS(HData!$N$3:$N$48828,\"<>\",HData!$L$3:$L$48828,\">=\"&C$90,HData!$L$3:$L$48828,\"<\"&C$91,HData!$AB$3:$AB$48828,TRUE,HData!$BI$3:$BI$48828,\"<5\"),\"\")","v":0},{"$f":"IF(D$91<=RDate+1,COUNTIFS(HData!$N$3:$N$48828,\"<>\",HData!$L$3:$L$48828,\">=\"&D$90,HData!$L$3:$L$48828,\"<\"&D$91,HData!$AB$3:$AB$48828,TRUE,HData!$BI$3:$BI$48828,\"<5\"),\"\")","v":0},{"$f":"IF(E$91<=RDate+1,COUNTIFS(HData!$N$3:$N$48828,\"<>\",HData!$L$3:$L$48828,\">=\"&E$90,HData!$L$3:$L$48828,\"<\"&E$91,HData!$AB$3:$AB$48828,TRUE,HData!$BI$3:$BI$48828,\"<5\"),\"\")","v":0},{"$f":"IF(F$91<=RDate+1,COUNTIFS(HData!$N$3:$N$48828,\"<>\",HData!$L$3:$L$48828,\">=\"&F$90,HData!$L$3:$L$48828,\"<\"&F$91,HData!$AB$3:$AB$48828,TRUE,HData!$BI$3:$BI$48828,\"<5\"),\"\")","v":0},{"$f":"IF(G$91<=RDate+1,COUNTIFS(HData!$N$3:$N$48828,\"<>\",HData!$L$3:$L$48828,\">=\"&G$90,HData!$L$3:$L$48828,\"<\"&G$91,HData!$AB$3:$AB$48828,TRUE,HData!$BI$3:$BI$48828,\"<5\"),\"\")","v":0},{"$f":"IF(H$91<=RDate+1,COUNTIFS(HData!$N$3:$N$48828,\"<>\",HData!$L$3:$L$48828,\">=\"&H$90,HData!$L$3:$L$48828,\"<\"&H$91,HData!$AB$3:$AB$48828,TRUE,HData!$BI$3:$BI$48828,\"<5\"),\"\")","v":0},{"$f":"IF(I$91<=RDate+1,COUNTIFS(HData!$N$3:$N$48828,\"<>\",HData!$L$3:$L$48828,\">=\"&I$90,HData!$L$3:$L$48828,\"<\"&I$91,HData!$AB$3:$AB$48828,TRUE,HData!$BI$3:$BI$48828,\"<5\"),\"\")","v":0},{"$f":"IF(J$91<=RDate+1,COUNTIFS(HData!$N$3:$N$48828,\"<>\",HData!$L$3:$L$48828,\">=\"&J$90,HData!$L$3:$L$48828,\"<\"&J$91,HData!$AB$3:$AB$48828,TRUE,HData!$BI$3:$BI$48828,\"<5\"),\"\")","v":0},{"$f":"IF(K$91<=RDate+1,COUNTIFS(HData!$N$3:$N$48828,\"<>\",HData!$L$3:$L$48828,\">=\"&K$90,HData!$L$3:$L$48828,\"<\"&K$91,HData!$AB$3:$AB$48828,TRUE,HData!$BI$3:$BI$48828,\"<5\"),\"\")","v":0},{"$f":"IF(L$91<=RDate+1,COUNTIFS(HData!$N$3:$N$48828,\"<>\",HData!$L$3:$L$48828,\">=\"&L$90,HData!$L$3:$L$48828,\"<\"&L$91,HData!$AB$3:$AB$48828,TRUE,HData!$BI$3:$BI$48828,\"<5\"),\"\")","v":""},{"$f":"IF(M$91<=RDate+1,COUNTIFS(HData!$N$3:$N$48828,\"<>\",HData!$L$3:$L$48828,\">=\"&M$90,HData!$L$3:$L$48828,\"<\"&M$91,HData!$AB$3:$AB$48828,TRUE,HData!$BI$3:$BI$48828,\"<5\"),\"\")","v":""},{"$f":"IF(N$91<=RDate+1,COUNTIFS(HData!$N$3:$N$48828,\"<>\",HData!$L$3:$L$48828,\">=\"&N$90,HData!$L$3:$L$48828,\"<\"&N$91,HData!$AB$3:$AB$48828,TRUE,HData!$BI$3:$BI$48828,\"<5\"),\"\")","v":""}]
["LAC entrants under 5",{"$f":"IF(AND(B90>=Instructions!$B$36,B91<=RDate+1),SUMIFS(Instructions!$B$35:$K$35,Instructions!$B$36:$K$36,\">=\"&B90,Instructions!#REF!,\"<\"&B91),\"\")","v":""},{"$f":"IF(AND(C90>=Instructions!$B$36,C91<=RDate+1),SUMIFS(Instructions!$B$35:$K$35,Instructions!$B$36:$K$36,\">=\"&C90,Instructions!#REF!,\"<\"&C91),\"\")","v":""},{"$f":"IF(AND(D90>=Instructions!$B$36,D91<=RDate+1),SUMIFS(Instructions!$B$35:$K$35,Instructions!$B$36:$K$36,\">=\"&D90,Instructions!#REF!,\"<\"&D91),\"\")","v":""},{"$f":"IF(AND(E90>=Instructions!$B$36,E91<=RDate+1),SUMIFS(Instructions!$B$35:$K$35,Instructions!$B$36:$K$36,\">=\"&E90,Instructions!$B$32:$K$32,\"<\"&E91),\"\")","v":0},{"$f":"IF(AND(F90>=Instructions!$B$36,F91<=RDate+1),SUMIFS(Instructions!$B$35:$K$35,Instructions!$B$36:$K$36,\">=\"&F90,Instructions!$B$32:$K$32,\"<\"&F91),\"\")","v":0},{"$f":"IF(AND(G90>=Instructions!$B$36,G91<=RDate+1),SUMIFS(Instructions!$B$35:$K$35,Instructions!$B$36:$K$36,\">=\"&G90,Instructions!$B$32:$K$32,\"<\"&G91),\"\")","v":0},{"$f":"IF(AND(H90>=Instructions!$B$36,H91<=RDate+1),SUMIFS(Instructions!$B$35:$K$35,Instructions!$B$36:$K$36,\">=\"&H90,Instructions!$B$32:$K$32,\"<\"&H91),\"\")","v":0},{"$f":"IF(AND(I90>=Instructions!$B$36,I91<=RDate+1),SUMIFS(Instructions!$B$35:$K$35,Instructions!$B$36:$K$36,\">=\"&I90,Instructions!$B$32:$K$32,\"<\"&I91),\"\")","v":0},{"$f":"IF(AND(J90>=Instructions!$B$36,J91<=RDate+1),SUMIFS(Instructions!$B$35:$K$35,Instructions!$B$36:$K$36,\">=\"&J90,Instructions!$B$32:$K$32,\"<\"&J91),\"\")","v":0},{"$f":"IF(AND(K90>=Instructions!$B$36,K91<=RDate+1),SUMIFS(Instructions!$B$35:$K$35,Instructions!$B$36:$K$36,\">=\"&K90,Instructions!$B$32:$K$32,\"<\"&K91),\"\")","v":0},{"$f":"IF(AND(L90>=Instructions!$B$36,L91<=RDate+1),SUMIFS(Instructions!$B$35:$K$35,Instructions!$B$36:$K$36,\">=\"&L90,Instructions!$B$32:$K$32,\"<\"&L91),\"\")","v":""},{"$f":"IF(AND(M90>=Instructions!$B$36,M91<=RDate+1),SUMIFS(Instructions!$B$35:$K$35,Instructions!$B$36:$K$36,\">=\"&M90,Instructions!$B$32:$K$32,\"<\"&M91),\"\")","v":""},{"$f":"IF(AND(N90>=Instructions!$B$36,N91<=RDate+1),SUMIFS(Instructions!$B$35:$K$35,Instructions!$B$36:$K$36,\">=\"&N90,Instructions!#REF!,\"<\"&N91),\"\")","v":""}]
["Rate of BIDs per LAC entrants under 5",{"$f":"IF(AND(B92<>\"\",B93<>\"\",B93>0),B92*100/B93,\"\")","v":""},{"$f":"IF(AND(C92<>\"\",C93<>\"\",C93>0),C92*100/C93,\"\")","v":""},"","","","","","","","","",{"$f":"IF(AND(M92<>\"\",M93<>\"\",M93>0),M92*100/M93,\"\")","v":""},{"$f":"IF(AND(N92<>\"\",N93<>\"\",N93>0),N92*100/N93,\"\")","v":""},"","","","","","","","","","","","","","","","","","","",""]
[]
["3-YEAR SCORECARD AVG",{"$f":"B31","v":"2023-04-01"},{"$f":"C31","v":"2024-04-01"},"2025-04-01","2026-04-01","2027-04-01"]
[null,{"$f":"YEAR(B96)&\"-\"&YEAR(E96)","v":"2023-2026"},{"$f":"YEAR(C96)&\"-\"&YEAR(F96)","v":"2024-2027"}]
["AO with placement",{"$f":"COUNTIFS(HData!$T$3:$T$48828,\">=\"&B$96,HData!$T$3:$T$48828,\"<\"&E$96,HData!$R$3:$R$48828,\"<>\")","v":0},{"$f":"COUNTIFS(HData!$T$3:$T$48828,\">=\"&C$96,HData!$T$3:$T$48828,\"<\"&F$96,HData!$R$3:$R$48828,\"<>\")","v":0}]
["AO with PO and match",{"$f":"COUNTIFS(HData!$T$3:$T$48828,\">=\"&B$96,HData!$T$3:$T$48828,\"<\"&E$96,HData!$O$3:$O$48828,\"<>\",HData!$P$3:$P$48828,\"<>\")","v":0},{"$f":"COUNTIFS(HData!$T$3:$T$48828,\">=\"&C$96,HData!$T$3:$T$48828,\"<\"&F$96,HData!$O$3:$O$48828,\"<>\",HData!$P$3:$P$48828,\"<>\")","v":0}]
["PO to match",{"$f":"IFERROR(SUMIFS(HData!$AT$3:$AT$48828,HData!$R$3:$R$48828,\"<>\",HData!$T$3:$T$48828,\">=\"&B$96,HData!$T$3:$T$48828,\"<\"&E$96)/COUNTIFS(HData!$AT$3:$AT$48828,\">=0\",HData!$R$3:$R$48828,\"<>\",HData!$T$3:$T$48828,\">=\"&B$96,HData!$T$3:$T$48828,\"<\"&E$96),\"\")","v":""},{"$f":"IFERROR(SUMIFS(HData!$AT$3:$AT$48828,HData!$R$3:$R$48828,\"<>\",HData!$T$3:$T$48828,\">=\"&C$96,HData!$T$3:$T$48828,\"<\"&F$96)/COUNTIFS(HData!$AT$3:$AT$48828,\">=0\",HData!$R$3:$R$48828,\"<>\",HData!$T$3:$T$48828,\">=\"&C$96,HData!$T$3:$T$48828,\"<\"&F$96),\"\")","v":""}]
["BLA to placed",{"$f":"IFERROR(SUMIFS(HData!$AF$3:$AF$48828,HData!$T$3:$T$48828,\">=\"&B$96,HData!$T$3:$T$48828,\"<\"&E$96)/COUNTIFS(HData!$AF$3:$AF$48828,\">=0\",HData!$T$3:$T$48828,\">=\"&B$96,HData!$T$3:$T$48828,\"<\"&E$96),\"\")","v":""},{"$f":"IFERROR(SUMIFS(HData!$AF$3:$AF$48828,HData!$T$3:$T$48828,\">=\"&C$96,HData!$T$3:$T$48828,\"<\"&F$96)/COUNTIFS(HData!$AF$3:$AF$48828,\">=0\",HData!$T$3:$T$48828,\">=\"&C$96,HData!$T$3:$T$48828,\"<\"&F$96),\"\")","v":""}]
["BLA to placed (children adopted, FC)",{"$f":"IFERROR(SUMIFS(HData!$AG$3:$AG$48828,HData!$T$3:$T$48828,\">=\"&B$96,HData!$T$3:$T$48828,\"<\"&E$96)/COUNTIFS(HData!$AG$3:$AG$48828,\">=0\",HData!$T$3:$T$48828,\">=\"&B$96,HData!$T$3:$T$48828,\"<\"&E$96),\"\")","v":""},{"$f":"IFERROR(SUMIFS(HData!$AG$3:$AG$48828,HData!$T$3:$T$48828,\">=\"&C$96,HData!$T$3:$T$48828,\"<\"&F$96)/COUNTIFS(HData!$AG$3:$AG$48828,\">=0\",HData!$T$3:$T$48828,\">=\"&C$96,HData!$T$3:$T$48828,\"<\"&F$96),\"\")","v":""}]
["BLA to PO",{"$f":"IFERROR(SUMIFS(HData!$AE$3:$AE$48828,HData!$R$3:$R$48828,\"<>\",HData!$T$3:$T$48828,\">=\"&B$96,HData!$T$3:$T$48828,\"<\"&E$96)/COUNTIFS(HData!$AE$3:$AE$48828,\">=0\",HData!$R$3:$R$48828,\"<>\",HData!$T$3:$T$48828,\">=\"&B$96,HData!$T$3:$T$48828,\"<\"&E$96),\"\")","v":""},{"$f":"IFERROR(SUMIFS(HData!$AE$3:$AE$48828,HData!$R$3:$R$48828,\"<>\",HData!$T$3:$T$48828,\">=\"&C$96,HData!$T$3:$T$48828,\"<\"&F$96)/COUNTIFS(HData!$AE$3:$AE$48828,\">=0\",HData!$R$3:$R$48828,\"<>\",HData!$T$3:$T$48828,\">=\"&C$96,HData!$T$3:$T$48828,\"<\"&F$96),\"\")","v":""}]
[]
["REPORTING PERIOD"]
["Placed",{"$f":"COUNTIFS(HData!$R$3:$R$48828,\">=\"&C$2,HData!$R$3:$R$48828,\"<\"&B$2)","v":0}]
["Matched",{"$f":"COUNTIFS(HData!$P$3:$P$48828,\">=\"&C$2,HData!$P$3:$P$48828,\"<\"&B$2)","v":0}]
[]
["TIME WAITING","Not matched",null,null,null,"Not placed",null,null,null,"Placed no AO",null,null,null,"No PO"]
["Over 1 year",{"$f":"COUNTIFS(HData!$AX$3:$AX$48828,\">=\"&$C110,HData!$AX$3:$AX$48828,\"<=\"&$D110,HData!$BS$3:$BS$48828,TRUE)","v":0},12,10000,"Over 2 years",{"$f":"COUNTIFS(HData!$AL$3:$AL$48828,\">=\"&$G110,HData!$AL$3:$AL$48828,\"<=\"&$H110,HData!$BT$3:$BT$48828,TRUE)","v":0},24,10000,"Over 2 years",{"$f":"COUNTIFS(HData!$BF$3:$BF$48828,\">=\"&K110,HData!$BF$3:$BF$48828,\"<=\"&L110)","v":0},24,10000,"Over 1 year",{"$f":"COUNTIFS(HData!$AR$3:$AR$48828,\">=\"&$O110,HData!$AR$3:$AR$48828,\"<=\"&$P110)","v":0},12,10000]
["6-12 months",{"$f":"COUNTIFS(HData!$AX$3:$AX$48828,\">=\"&$C111,HData!$AX$3:$AX$48828,\"<=\"&$D111,HData!$BS$3:$BS$48828,TRUE)","v":0},6,11,"18-24 months",{"$f":"COUNTIFS(HData!$AL$3:$AL$48828,\">=\"&$G111,HData!$AL$3:$AL$48828,\"<=\"&$H111,HData!$BT$3:$BT$48828,TRUE)","v":0},18,23,"1-2 years",{"$f":"COUNTIFS(HData!$BF$3:$BF$48828,\">=\"&K111,HData!$BF$3:$BF$48828,\"<=\"&L111)","v":0},12,23,"6-12 months",{"$f":"COUNTIFS(HData!$AR$3:$AR$48828,\">=\"&$O111,HData!$AR$3:$AR$48828,\"<=\"&$P111)","v":0},6,11]
["4-6 months",{"$f":"COUNTIFS(HData!$AX$3:$AX$48828,\">=\"&$C112,HData!$AX$3:$AX$48828,\"<=\"&$D112,HData!$BS$3:$BS$48828,TRUE)","v":0},4,5,"14-18 months",{"$f":"COUNTIFS(HData!$AL$3:$AL$48828,\">=\"&$G112,HData!$AL$3:$AL$48828,\"<=\"&$H112,HData!$BT$3:$BT$48828,TRUE)","v":0},14,17,"9-12 months",{"$f":"COUNTIFS(HData!$BF$3:$BF$48828,\">=\"&K112,HData!$BF$3:$BF$48828,\"<=\"&L112)","v":0},9,11,"3-6 months",{"$f":"COUNTIFS(HData!$AR$3:$AR$48828,\">=\"&$O112,HData!$AR$3:$AR$48828,\"<=\"&$P112)","v":0},3,5]
["2-4 months",{"$f":"COUNTIFS(HData!$AX$3:$AX$48828,\">=\"&$C113,HData!$AX$3:$AX$48828,\"<=\"&$D113,HData!$BS$3:$BS$48828,TRUE)","v":0},2,3,"12-14 months",{"$f":"COUNTIFS(HData!$AL$3:$AL$48828,\">=\"&$G113,HData!$AL$3:$AL$48828,\"<=\"&$H113,HData!$BT$3:$BT$48828,TRUE)","v":0},12,13,"6-9 months",{"$f":"COUNTIFS(HData!$BF$3:$BF$48828,\">=\"&K113,HData!$BF$3:$BF$48828,\"<=\"&L113)","v":0},6,8,"2-3 months",{"$f":"COUNTIFS(HData!$AR$3:$AR$48828,\">=\"&$O113,HData!$AR$3:$AR$48828,\"<=\"&$P113)","v":0},2,2]
["Less than 2 months",{"$f":"COUNTIFS(HData!$AX$3:$AX$48828,\">=\"&$C114,HData!$AX$3:$AX$48828,\"<=\"&$D114,HData!$BS$3:$BS$48828,TRUE)","v":0},0,1,"Less than 1 year",{"$f":"COUNTIFS(HData!$AL$3:$AL$48828,\">=\"&$G114,HData!$AL$3:$AL$48828,\"<=\"&$H114,HData!$BT$3:$BT$48828,TRUE)","v":0},0,11,"Less than 6 months",{"$f":"COUNTIFS(HData!$BF$3:$BF$48828,\">=\"&K114,HData!$BF$3:$BF$48828,\"<=\"&L114)","v":0},0,5,"Less than 2 months",{"$f":"COUNTIFS(HData!$AR$3:$AR$48828,\">=\"&$O114,HData!$AR$3:$AR$48828,\"<=\"&$P114)","v":0},0,1]
["Total",{"$f":"SUM(B110:B114)","v":0},null,null,null,{"$f":"SUM(F110:F114)","v":0},null,null,"Total",{"$f":"SUM(J110:J114)","v":0},null,null,null,{"$f":"SUM(N110:N114)","v":0}]
["Av days",{"$f":"IFERROR(SUMIF(HData!$BS$3:$BS$48828,TRUE,HData!$AZ$3:$AZ$48828)/COUNTIFS(HData!$BS$3:$BS$48828,TRUE,HData!$AZ$3:$AZ$48828,\">=0\"),\"\")","v":""},null,null,null,{"$f":"IFERROR(SUMIF(HData!$BT$3:$BT$48828,TRUE,HData!$AK$3:$AK$48828)/COUNTIFS(HData!$BT$3:$BT$48828,TRUE,HData!$AK$3:$AK$48828,\">=0\"),\"\")","v":""},null,null,null,{"$f":"IFERROR(SUM(HData!$BE$3:$BE$48828)/COUNT(HData!$BE$3:$BE$48828),\"\")","v":""},null,null,null,{"$f":"IFERROR(SUM(HData!$AQ$3:$AQ$48828)/COUNT(HData!$AQ$3:$AQ$48828),\"\")","v":""}]
[]
["PO TO MATCH","Age at PO",null,null,"Ethnicity",null,"Sibling group",null,null,"With disability",null,"Hard to place",null,"Gender"]
[null,"1 or under","2 to 4 yo","5 and older","White","BME",1,2,3,"No","Yes",false,true,"Female","Male"]
["# children",{"$f":"COUNTIFS(HData!$P$3:$P$48828,\">=\"&$C$2,HData!$P$3:$P$48828,\"<=\"&$B$2,HData!$BK$3:$BK$48828,\"<=1\",HData!$O$3:$O$48828,\"<>\")","v":0},{"$f":"COUNTIFS(HData!$P$3:$P$48828,\">=\"&$C$2,HData!$P$3:$P$48828,\"<=\"&$B$2,HData!$BK$3:$BK$48828,\"<=4\",HData!$BK$3:$BK$48828,\">=2\",HData!$O$3:$O$48828,\"<>\")","v":0},{"$f":"COUNTIFS(HData!$P$3:$P$48828,\">=\"&$C$2,HData!$P$3:$P$48828,\"<=\"&$B$2,HData!$BK$3:$BK$48828,\">=5\",HData!$O$3:$O$48828,\"<>\")","v":0},{"$f":"COUNTIFS(HData!$P$3:$P$48828,\">=\"&$C$2,HData!$P$3:$P$48828,\"<=\"&$B$2,HData!$BP$3:$BP$48828,E$119,HData!$O$3:$O$48828,\"<>\")","v":0},{"$f":"COUNTIFS(HData!$P$3:$P$48828,\">=\"&$C$2,HData!$P$3:$P$48828,\"<=\"&$B$2,HData!$BP$3:$BP$48828,F$119,HData!$O$3:$O$48828,\"<>\")","v":0},{"$f":"COUNTIFS(HData!$P$3:$P$48828,\">=\"&$C$2,HData!$P$3:$P$48828,\"<=\"&$B$2,HData!$G$3:$G$48828,0,HData!$O$3:$O$48828,\"<>\")","v":0},{"$f":"COUNTIFS(HData!$P$3:$P$48828,\">=\"&$C$2,HData!$P$3:$P$48828,\"<=\"&$B$2,HData!$H$3:$H$48828,H$119,HData!$O$3:$O$48828,\"<>\")","v":0},{"$f":"COUNTIFS(HData!$P$3:$P$48828,\">=\"&$C$2,HData!$P$3:$P$48828,\"<=\"&$B$2,HData!$H$3:$H$48828,I$119,HData!$O$3:$O$48828,\"<>\")","v":0},{"$f":"COUNTIFS(HData!$P$3:$P$48828,\">=\"&$C$2,HData!$P$3:$P$48828,\"<=\"&$B$2,HData!$F$3:$F$48828,0,HData!$O$3:$O$48828,\"<>\")","v":0},{"$f":"COUNTIFS(HData!$P$3:$P$48828,\">=\"&$C$2,HData!$P$3:$P$48828,\"<=\"&$B$2,HData!$F$3:$F$48828,1,HData!$O$3:$O$48828,\"<>\")","v":0},{"$f":"COUNTIFS(HData!$P$3:$P$48828,\">=\"&$C$2,HData!$P$3:$P$48828,\"<=\"&$B$2,HData!$BQ$3:$BQ$48828,L$119,HData!$O$3:$O$48828,\"<>\")","v":0},{"$f":"COUNTIFS(HData!$P$3:$P$48828,\">=\"&$C$2,HData!$P$3:$P$48828,\"<=\"&$B$2,HData!$BQ$3:$BQ$48828,M$119,HData!$O$3:$O$48828,\"<>\")","v":0},{"$f":"COUNTIFS(HData!$P$3:$P$48828,\">=\"&$C$2,HData!$P$3:$P$48828,\"<=\"&$B$2,HData!$C$3:$C$48828,2,HData!$O$3:$O$48828,\"<>\")","v":0},{"$f":"COUNTIFS(HData!$P$3:$P$48828,\">=\"&$C$2,HData!$P$3:$P$48828,\"<=\"&$B$2,HData!$C$3:$C$48828,1,HData!$O$3:$O$48828,\"<>\")","v":0}]
["Av days",{"$f":"IFERROR(SUMIFS(HData!$AT$3:$AT$48828,HData!$P$3:$P$48828,\">=\"&$C$2,HData!$P$3:$P$48828,\"<=\"&$B$2,HData!$BK$3:$BK$48828,\"<=1\")/COUNTIFS(HData!$AT$3:$AT$48828,\">=0\",HData!$P$3:$P$48828,\">=\"&$C$2,HData!$P$3:$P$48828,\"<=\"&$B$2,HData!$BK$3:$BK$48828,\"<=1\"),\"\")","v":""},{"$f":"IFERROR(SUMIFS(HData!$AT$3:$AT$48828,HData!$P$3:$P$48828,\">=\"&$C$2,HData!$P$3:$P$48828,\"<=\"&$B$2,HData!$BK$3:$BK$48828,\"<=4\",HData!$BK$3:$BK$48828,\">=2\")/COUNTIFS(HData!$AT$3:$AT$48828,\">=0\",HData!$P$3:$P$48828,\">=\"&$C$2,HData!$P$3:$P$48828,\"<=\"&$B$2,HData!$BK$3:$BK$48828,\"<=4\",HData!$BK$3:$BK$48828,\">=2\"),\"\")","v":""},{"$f":"IFERROR(SUMIFS(HData!$AT$3:$AT$48828,HData!$P$3:$P$48828,\">=\"&$C$2,HData!$P$3:$P$48828,\"<=\"&$B$2,HData!$BK$3:$BK$48828,\">=5\")/COUNTIFS(HData!$AT$3:$AT$48828,\">=0\",HData!$P$3:$P$48828,\">=\"&$C$2,HData!$P$3:$P$48828,\"<=\"&$B$2,HData!$BK$3:$BK$48828,\">=5\"),\"\")","v":""},{"$f":"IFERROR(SUMIFS(HData!$AT$3:$AT$48828,HData!$P$3:$P$48828,\">=\"&$C$2,HData!$P$3:$P$48828,\"<=\"&$B$2,HData!$BP$3:$BP$48828,E$119)/COUNTIFS(HData!$AT$3:$AT$48828,\">=0\",HData!$P$3:$P$48828,\">=\"&$C$2,HData!$P$3:$P$48828,\"<=\"&$B$2,HData!$BP$3:$BP$48828,E$119),\"\")","v":""},{"$f":"IFERROR(SUMIFS(HData!$AT$3:$AT$48828,HData!$P$3:$P$48828,\">=\"&$C$2,HData!$P$3:$P$48828,\"<=\"&$B$2,HData!$BP$3:$BP$48828,F$119)/COUNTIFS(HData!$AT$3:$AT$48828,\">=0\",HData!$P$3:$P$48828,\">=\"&$C$2,HData!$P$3:$P$48828,\"<=\"&$B$2,HData!$BP$3:$BP$48828,F$119),\"\")","v":""},{"$f":"IFERROR(SUMIFS(HData!$AT$3:$AT$48828,HData!$P$3:$P$48828,\">=\"&$C$2,HData!$P$3:$P$48828,\"<=\"&$B$2,HData!$G$3:$G$48828,0)/COUNTIFS(HData!$AT$3:$AT$48828,\">=0\",HData!$P$3:$P$48828,\">=\"&$C$2,HData!$P$3:$P$48828,\"<=\"&$B$2,HData!$G$3:$G$48828,0),\"\")","v":""},{"$f":"IFERROR(SUMIFS(HData!$AT$3:$AT$48828,HData!$P$3:$P$48828,\">=\"&$C$2,HData!$P$3:$P$48828,\"<=\"&$B$2,HData!$H$3:$H$48828,H$119)/COUNTIFS(HData!$AT$3:$AT$48828,\">=0\",HData!$P$3:$P$48828,\">=\"&$C$2,HData!$P$3:$P$48828,\"<=\"&$B$2,HData!$H$3:$H$48828,H$119),\"\")","v":""},{"$f":"IFERROR(SUMIFS(HData!$AT$3:$AT$48828,HData!$P$3:$P$48828,\">=\"&$C$2,HData!$P$3:$P$48828,\"<=\"&$B$2,HData!$H$3:$H$48828,I$119)/COUNTIFS(HData!$AT$3:$AT$48828,\">=0\",HData!$P$3:$P$48828,\">=\"&$C$2,HData!$P$3:$P$48828,\"<=\"&$B$2,HData!$H$3:$H$48828,I$119),\"\")","v":""},{"$f":"IFERROR(SUMIFS(HData!$AT$3:$AT$48828,HData!$P$3:$P$48828,\">=\"&$C$2,HData!$P$3:$P$48828,\"<=\"&$B$2,HData!$F$3:$F$48828,0)/COUNTIFS(HData!$AT$3:$AT$48828,\">=0\",HData!$P$3:$P$48828,\">=\"&$C$2,HData!$P$3:$P$48828,\"<=\"&$B$2,HData!$F$3:$F$48828,0),\"\")","v":""},{"$f":"IFERROR(SUMIFS(HData!$AT$3:$AT$48828,HData!$P$3:$P$48828,\">=\"&$C$2,HData!$P$3:$P$48828,\"<=\"&$B$2,HData!$F$3:$F$48828,1)/COUNTIFS(HData!$AT$3:$AT$48828,\">=0\",HData!$P$3:$P$48828,\">=\"&$C$2,HData!$P$3:$P$48828,\"<=\"&$B$2,HData!$F$3:$F$48828,1),\"\")","v":""},{"$f":"IFERROR(SUMIFS(HData!$AT$3:$AT$48828,HData!$P$3:$P$48828,\">=\"&$C$2,HData!$P$3:$P$48828,\"<=\"&$B$2,HData!$BQ$3:$BQ$48828,L$119)/COUNTIFS(HData!$AT$3:$AT$48828,\">=0\",HData!$P$3:$P$48828,\">=\"&$C$2,HData!$P$3:$P$48828,\"<=\"&$B$2,HData!$BQ$3:$BQ$48828,L$119),\"\")","v":""},{"$f":"IFERROR(SUMIFS(HData!$AT$3:$AT$48828,HData!$P$3:$P$48828,\">=\"&$C$2,HData!$P$3:$P$48828,\"<=\"&$B$2,HData!$BQ$3:$BQ$48828,M$119)/COUNTIFS(HData!$AT$3:$AT$48828,\">=0\",HData!$P$3:$P$48828,\">=\"&$C$2,HData!$P$3:$P$48828,\"<=\"&$B$2,HData!$BQ$3:$BQ$48828,M$119),\"\")","v":""},{"$f":"IFERROR(SUMIFS(HData!$AT$3:$AT$48828,HData!$P$3:$P$48828,\">=\"&$C$2,HData!$P$3:$P$48828,\"<=\"&$B$2,HData!$C$3:$C$48828,2)/COUNTIFS(HData!$AT$3:$AT$48828,\">=0\",HData!$P$3:$P$48828,\">=\"&$C$2,HData!$P$3:$P$48828,\"<=\"&$B$2,HData!$C$3:$C$48828,2),\"\")","v":""},{"$f":"IFERROR(SUMIFS(HData!$AT$3:$AT$48828,HData!$P$3:$P$48828,\">=\"&$C$2,HData!$P$3:$P$48828,\"<=\"&$B$2,HData!$C$3:$C$48828,1)/COUNTIFS(HData!$AT$3:$AT$48828,\">=0\",HData!$P$3:$P$48828,\">=\"&$C$2,HData!$P$3:$P$48828,\"<=\"&$B$2,HData!$C$3:$C$48828,1),\"\")","v":""}]
[]
[null,"Age at report date"]
["NUMBERS WAITING TO BE PLACED",0,1,2,3,4,5,">5","BME","Disability","Sibling"]
["White, single child, no disability",{"$f":"COUNTIFS(HData!$BT$3:$BT$48828,TRUE,HData!$BP$3:$BP$48828,$I125,HData!$BO$3:$BO$48828,B$124,HData!$F$3:$F$48828,$J125,HData!$BR$3:$BR$48828,$K125)","v":0},{"$f":"COUNTIFS(HData!$BT$3:$BT$48828,TRUE,HData!$BP$3:$BP$48828,$I125,HData!$BO$3:$BO$48828,C$124,HData!$F$3:$F$48828,$J125,HData!$BR$3:$BR$48828,$K125)","v":0},{"$f":"COUNTIFS(HData!$BT$3:$BT$48828,TRUE,HData!$BP$3:$BP$48828,$I125,HData!$BO$3:$BO$48828,D$124,HData!$F$3:$F$48828,$J125,HData!$BR$3:$BR$48828,$K125)","v":0},{"$f":"COUNTIFS(HData!$BT$3:$BT$48828,TRUE,HData!$BP$3:$BP$48828,$I125,HData!$BO$3:$BO$48828,E$124,HData!$F$3:$F$48828,$J125,HData!$BR$3:$BR$48828,$K125)","v":0},{"$f":"COUNTIFS(HData!$BT$3:$BT$48828,TRUE,HData!$BP$3:$BP$48828,$I125,HData!$BO$3:$BO$48828,F$124,HData!$F$3:$F$48828,$J125,HData!$BR$3:$BR$48828,$K125)","v":0},{"$f":"COUNTIFS(HData!$BT$3:$BT$48828,TRUE,HData!$BP$3:$BP$48828,$I125,HData!$BO$3:$BO$48828,G$124,HData!$F$3:$F$48828,$J125,HData!$BR$3:$BR$48828,$K125)","v":0},{"$f":"COUNTIFS(HData!$BT$3:$BT$48828,TRUE,HData!$BP$3:$BP$48828,$I125,HData!$BO$3:$BO$48828,H$124,HData!$F$3:$F$48828,$J125,HData!$BR$3:$BR$48828,$K125)","v":0},"White",0,1]
["BME, single child, no disability",{"$f":"COUNTIFS(HData!$BT$3:$BT$48828,TRUE,HData!$BP$3:$BP$48828,$I126,HData!$BO$3:$BO$48828,B$124,HData!$F$3:$F$48828,$J126,HData!$BR$3:$BR$48828,$K126)","v":0},{"$f":"COUNTIFS(HData!$BT$3:$BT$48828,TRUE,HData!$BP$3:$BP$48828,$I126,HData!$BO$3:$BO$48828,C$124,HData!$F$3:$F$48828,$J126,HData!$BR$3:$BR$48828,$K126)","v":0},{"$f":"COUNTIFS(HData!$BT$3:$BT$48828,TRUE,HData!$BP$3:$BP$48828,$I126,HData!$BO$3:$BO$48828,D$124,HData!$F$3:$F$48828,$J126,HData!$BR$3:$BR$48828,$K126)","v":0},{"$f":"COUNTIFS(HData!$BT$3:$BT$48828,TRUE,HData!$BP$3:$BP$48828,$I126,HData!$BO$3:$BO$48828,E$124,HData!$F$3:$F$48828,$J126,HData!$BR$3:$BR$48828,$K126)","v":0},{"$f":"COUNTIFS(HData!$BT$3:$BT$48828,TRUE,HData!$BP$3:$BP$48828,$I126,HData!$BO$3:$BO$48828,F$124,HData!$F$3:$F$48828,$J126,HData!$BR$3:$BR$48828,$K126)","v":0},{"$f":"COUNTIFS(HData!$BT$3:$BT$48828,TRUE,HData!$BP$3:$BP$48828,$I126,HData!$BO$3:$BO$48828,G$124,HData!$F$3:$F$48828,$J126,HData!$BR$3:$BR$48828,$K126)","v":0},{"$f":"COUNTIFS(HData!$BT$3:$BT$48828,TRUE,HData!$BP$3:$BP$48828,$I126,HData!$BO$3:$BO$48828,H$124,HData!$F$3:$F$48828,$J126,HData!$BR$3:$BR$48828,$K126)","v":0},"BME",0,1]
["White, single child, with disability",{"$f":"COUNTIFS(HData!$BT$3:$BT$48828,TRUE,HData!$BP$3:$BP$48828,$I127,HData!$BO$3:$BO$48828,B$124,HData!$F$3:$F$48828,$J127,HData!$BR$3:$BR$48828,$K127)","v":0},{"$f":"COUNTIFS(HData!$BT$3:$BT$48828,TRUE,HData!$BP$3:$BP$48828,$I127,HData!$BO$3:$BO$48828,C$124,HData!$F$3:$F$48828,$J127,HData!$BR$3:$BR$48828,$K127)","v":0},{"$f":"COUNTIFS(HData!$BT$3:$BT$48828,TRUE,HData!$BP$3:$BP$48828,$I127,HData!$BO$3:$BO$48828,D$124,HData!$F$3:$F$48828,$J127,HData!$BR$3:$BR$48828,$K127)","v":0},{"$f":"COUNTIFS(HData!$BT$3:$BT$48828,TRUE,HData!$BP$3:$BP$48828,$I127,HData!$BO$3:$BO$48828,E$124,HData!$F$3:$F$48828,$J127,HData!$BR$3:$BR$48828,$K127)","v":0},{"$f":"COUNTIFS(HData!$BT$3:$BT$48828,TRUE,HData!$BP$3:$BP$48828,$I127,HData!$BO$3:$BO$48828,F$124,HData!$F$3:$F$48828,$J127,HData!$BR$3:$BR$48828,$K127)","v":0},{"$f":"COUNTIFS(HData!$BT$3:$BT$48828,TRUE,HData!$BP$3:$BP$48828,$I127,HData!$BO$3:$BO$48828,G$124,HData!$F$3:$F$48828,$J127,HData!$BR$3:$BR$48828,$K127)","v":0},{"$f":"COUNTIFS(HData!$BT$3:$BT$48828,TRUE,HData!$BP$3:$BP$48828,$I127,HData!$BO$3:$BO$48828,H$124,HData!$F$3:$F$48828,$J127,HData!$BR$3:$BR$48828,$K127)","v":0},"White",1,1]
["BME, single child, with disability",{"$f":"COUNTIFS(HData!$BT$3:$BT$48828,TRUE,HData!$BP$3:$BP$48828,$I128,HData!$BO$3:$BO$48828,B$124,HData!$F$3:$F$48828,$J128,HData!$BR$3:$BR$48828,$K128)","v":0},{"$f":"COUNTIFS(HData!$BT$3:$BT$48828,TRUE,HData!$BP$3:$BP$48828,$I128,HData!$BO$3:$BO$48828,C$124,HData!$F$3:$F$48828,$J128,HData!$BR$3:$BR$48828,$K128)","v":0},{"$f":"COUNTIFS(HData!$BT$3:$BT$48828,TRUE,HData!$BP$3:$BP$48828,$I128,HData!$BO$3:$BO$48828,D$124,HData!$F$3:$F$48828,$J128,HData!$BR$3:$BR$48828,$K128)","v":0},{"$f":"COUNTIFS(HData!$BT$3:$BT$48828,TRUE,HData!$BP$3:$BP$48828,$I128,HData!$BO$3:$BO$48828,E$124,HData!$F$3:$F$48828,$J128,HData!$BR$3:$BR$48828,$K128)","v":0},{"$f":"COUNTIFS(HData!$BT$3:$BT$48828,TRUE,HData!$BP$3:$BP$48828,$I128,HData!$BO$3:$BO$48828,F$124,HData!$F$3:$F$48828,$J128,HData!$BR$3:$BR$48828,$K128)","v":0},{"$f":"COUNTIFS(HData!$BT$3:$BT$48828,TRUE,HData!$BP$3:$BP$48828,$I128,HData!$BO$3:$BO$48828,G$124,HData!$F$3:$F$48828,$J128,HData!$BR$3:$BR$48828,$K128)","v":0},{"$f":"COUNTIFS(HData!$BT$3:$BT$48828,TRUE,HData!$BP$3:$BP$48828,$I128,HData!$BO$3:$BO$48828,H$124,HData!$F$3:$F$48828,$J128,HData!$BR$3:$BR$48828,$K128)","v":0},"BME",1,1]
["White, sibling group of 2, no disability",{"$f":"COUNTIFS(HData!$BT$3:$BT$48828,TRUE,HData!$BP$3:$BP$48828,$I129,HData!$BO$3:$BO$48828,B$124,HData!$F$3:$F$48828,$J129,HData!$BR$3:$BR$48828,$K129)","v":0},{"$f":"COUNTIFS(HData!$BT$3:$BT$48828,TRUE,HData!$BP$3:$BP$48828,$I129,HData!$BO$3:$BO$48828,C$124,HData!$F$3:$F$48828,$J129,HData!$BR$3:$BR$48828,$K129)","v":0},{"$f":"COUNTIFS(HData!$BT$3:$BT$48828,TRUE,HData!$BP$3:$BP$48828,$I129,HData!$BO$3:$BO$48828,D$124,HData!$F$3:$F$48828,$J129,HData!$BR$3:$BR$48828,$K129)","v":0},{"$f":"COUNTIFS(HData!$BT$3:$BT$48828,TRUE,HData!$BP$3:$BP$48828,$I129,HData!$BO$3:$BO$48828,E$124,HData!$F$3:$F$48828,$J129,HData!$BR$3:$BR$48828,$K129)","v":0},{"$f":"COUNTIFS(HData!$BT$3:$BT$48828,TRUE,HData!$BP$3:$BP$48828,$I129,HData!$BO$3:$BO$48828,F$124,HData!$F$3:$F$48828,$J129,HData!$BR$3:$BR$48828,$K129)","v":0},{"$f":"COUNTIFS(HData!$BT$3:$BT$48828,TRUE,HData!$BP$3:$BP$48828,$I129,HData!$BO$3:$BO$48828,G$124,HData!$F$3:$F$48828,$J129,HData!$BR$3:$BR$48828,$K129)","v":0},{"$f":"COUNTIFS(HData!$BT$3:$BT$48828,TRUE,HData!$BP$3:$BP$48828,$I129,HData!$BO$3:$BO$48828,H$124,HData!$F$3:$F$48828,$J129,HData!$BR$3:$BR$48828,$K129)","v":0},"White",0,2]
["BME, sibling group of 2, no disability",{"$f":"COUNTIFS(HData!$BT$3:$BT$48828,TRUE,HData!$BP$3:$BP$48828,$I130,HData!$BO$3:$BO$48828,B$124,HData!$F$3:$F$48828,$J130,HData!$BR$3:$BR$48828,$K130)","v":0},{"$f":"COUNTIFS(HData!$BT$3:$BT$48828,TRUE,HData!$BP$3:$BP$48828,$I130,HData!$BO$3:$BO$48828,C$124,HData!$F$3:$F$48828,$J130,HData!$BR$3:$BR$48828,$K130)","v":0},{"$f":"COUNTIFS(HData!$BT$3:$BT$48828,TRUE,HData!$BP$3:$BP$48828,$I130,HData!$BO$3:$BO$48828,D$124,HData!$F$3:$F$48828,$J130,HData!$BR$3:$BR$48828,$K130)","v":0},{"$f":"COUNTIFS(HData!$BT$3:$BT$48828,TRUE,HData!$BP$3:$BP$48828,$I130,HData!$BO$3:$BO$48828,E$124,HData!$F$3:$F$48828,$J130,HData!$BR$3:$BR$48828,$K130)","v":0},{"$f":"COUNTIFS(HData!$BT$3:$BT$48828,TRUE,HData!$BP$3:$BP$48828,$I130,HData!$BO$3:$BO$48828,F$124,HData!$F$3:$F$48828,$J130,HData!$BR$3:$BR$48828,$K130)","v":0},{"$f":"COUNTIFS(HData!$BT$3:$BT$48828,TRUE,HData!$BP$3:$BP$48828,$I130,HData!$BO$3:$BO$48828,G$124,HData!$F$3:$F$48828,$J130,HData!$BR$3:$BR$48828,$K130)","v":0},{"$f":"COUNTIFS(HData!$BT$3:$BT$48828,TRUE,HData!$BP$3:$BP$48828,$I130,HData!$BO$3:$BO$48828,H$124,HData!$F$3:$F$48828,$J130,HData!$BR$3:$BR$48828,$K130)","v":0},"BME",0,2]
["White, sibling group of 2, with disability",{"$f":"COUNTIFS(HData!$BT$3:$BT$48828,TRUE,HData!$BP$3:$BP$48828,$I131,HData!$BO$3:$BO$48828,B$124,HData!$F$3:$F$48828,$J131,HData!$BR$3:$BR$48828,$K131)","v":0},{"$f":"COUNTIFS(HData!$BT$3:$BT$48828,TRUE,HData!$BP$3:$BP$48828,$I131,HData!$BO$3:$BO$48828,C$124,HData!$F$3:$F$48828,$J131,HData!$BR$3:$BR$48828,$K131)","v":0},{"$f":"COUNTIFS(HData!$BT$3:$BT$48828,TRUE,HData!$BP$3:$BP$48828,$I131,HData!$BO$3:$BO$48828,D$124,HData!$F$3:$F$48828,$J131,HData!$BR$3:$BR$48828,$K131)","v":0},{"$f":"COUNTIFS(HData!$BT$3:$BT$48828,TRUE,HData!$BP$3:$BP$48828,$I131,HData!$BO$3:$BO$48828,E$124,HData!$F$3:$F$48828,$J131,HData!$BR$3:$BR$48828,$K131)","v":0},{"$f":"COUNTIFS(HData!$BT$3:$BT$48828,TRUE,HData!$BP$3:$BP$48828,$I131,HData!$BO$3:$BO$48828,F$124,HData!$F$3:$F$48828,$J131,HData!$BR$3:$BR$48828,$K131)","v":0},{"$f":"COUNTIFS(HData!$BT$3:$BT$48828,TRUE,HData!$BP$3:$BP$48828,$I131,HData!$BO$3:$BO$48828,G$124,HData!$F$3:$F$48828,$J131,HData!$BR$3:$BR$48828,$K131)","v":0},{"$f":"COUNTIFS(HData!$BT$3:$BT$48828,TRUE,HData!$BP$3:$BP$48828,$I131,HData!$BO$3:$BO$48828,H$124,HData!$F$3:$F$48828,$J131,HData!$BR$3:$BR$48828,$K131)","v":0},"White",1,2]
["BME, sibling group of 2, with disability",{"$f":"COUNTIFS(HData!$BT$3:$BT$48828,TRUE,HData!$BP$3:$BP$48828,$I132,HData!$BO$3:$BO$48828,B$124,HData!$F$3:$F$48828,$J132,HData!$BR$3:$BR$48828,$K132)","v":0},{"$f":"COUNTIFS(HData!$BT$3:$BT$48828,TRUE,HData!$BP$3:$BP$48828,$I132,HData!$BO$3:$BO$48828,C$124,HData!$F$3:$F$48828,$J132,HData!$BR$3:$BR$48828,$K132)","v":0},{"$f":"COUNTIFS(HData!$BT$3:$BT$48828,TRUE,HData!$BP$3:$BP$48828,$I132,HData!$BO$3:$BO$48828,D$124,HData!$F$3:$F$48828,$J132,HData!$BR$3:$BR$48828,$K132)","v":0},{"$f":"COUNTIFS(HData!$BT$3:$BT$48828,TRUE,HData!$BP$3:$BP$48828,$I132,HData!$BO$3:$BO$48828,E$124,HData!$F$3:$F$48828,$J132,HData!$BR$3:$BR$48828,$K132)","v":0},{"$f":"COUNTIFS(HData!$BT$3:$BT$48828,TRUE,HData!$BP$3:$BP$48828,$I132,HData!$BO$3:$BO$48828,F$124,HData!$F$3:$F$48828,$J132,HData!$BR$3:$BR$48828,$K132)","v":0},{"$f":"COUNTIFS(HData!$BT$3:$BT$48828,TRUE,HData!$BP$3:$BP$48828,$I132,HData!$BO$3:$BO$48828,G$124,HData!$F$3:$F$48828,$J132,HData!$BR$3:$BR$48828,$K132)","v":0},{"$f":"COUNTIFS(HData!$BT$3:$BT$48828,TRUE,HData!$BP$3:$BP$48828,$I132,HData!$BO$3:$BO$48828,H$124,HData!$F$3:$F$48828,$J132,HData!$BR$3:$BR$48828,$K132)","v":0},"BME",1,2]
["White, sibling group of 3, no disability",{"$f":"COUNTIFS(HData!$BT$3:$BT$48828,TRUE,HData!$BP$3:$BP$48828,$I133,HData!$BO$3:$BO$48828,B$124,HData!$F$3:$F$48828,$J133,HData!$BR$3:$BR$48828,$K133)","v":0},{"$f":"COUNTIFS(HData!$BT$3:$BT$48828,TRUE,HData!$BP$3:$BP$48828,$I133,HData!$BO$3:$BO$48828,C$124,HData!$F$3:$F$48828,$J133,HData!$BR$3:$BR$48828,$K133)","v":0},{"$f":"COUNTIFS(HData!$BT$3:$BT$48828,TRUE,HData!$BP$3:$BP$48828,$I133,HData!$BO$3:$BO$48828,D$124,HData!$F$3:$F$48828,$J133,HData!$BR$3:$BR$48828,$K133)","v":0},{"$f":"COUNTIFS(HData!$BT$3:$BT$48828,TRUE,HData!$BP$3:$BP$48828,$I133,HData!$BO$3:$BO$48828,E$124,HData!$F$3:$F$48828,$J133,HData!$BR$3:$BR$48828,$K133)","v":0},{"$f":"COUNTIFS(HData!$BT$3:$BT$48828,TRUE,HData!$BP$3:$BP$48828,$I133,HData!$BO$3:$BO$48828,F$124,HData!$F$3:$F$48828,$J133,HData!$BR$3:$BR$48828,$K133)","v":0},{"$f":"COUNTIFS(HData!$BT$3:$BT$48828,TRUE,HData!$BP$3:$BP$48828,$I133,HData!$BO$3:$BO$48828,G$124,HData!$F$3:$F$48828,$J133,HData!$BR$3:$BR$48828,$K133)","v":0},{"$f":"COUNTIFS(HData!$BT$3:$BT$48828,TRUE,HData!$BP$3:$BP$48828,$I133,HData!$BO$3:$BO$48828,H$124,HData!$F$3:$F$48828,$J133,HData!$BR$3:$BR$48828,$K133)","v":0},"White",0,3]
["BME, sibling group of 3, no disability",{"$f":"COUNTIFS(HData!$BT$3:$BT$48828,TRUE,HData!$BP$3:$BP$48828,$I134,HData!$BO$3:$BO$48828,B$124,HData!$F$3:$F$48828,$J134,HData!$BR$3:$BR$48828,$K134)","v":0},{"$f":"COUNTIFS(HData!$BT$3:$BT$48828,TRUE,HData!$BP$3:$BP$48828,$I134,HData!$BO$3:$BO$48828,C$124,HData!$F$3:$F$48828,$J134,HData!$BR$3:$BR$48828,$K134)","v":0},{"$f":"COUNTIFS(HData!$BT$3:$BT$48828,TRUE,HData!$BP$3:$BP$48828,$I134,HData!$BO$3:$BO$48828,D$124,HData!$F$3:$F$48828,$J134,HData!$BR$3:$BR$48828,$K134)","v":0},{"$f":"COUNTIFS(HData!$BT$3:$BT$48828,TRUE,HData!$BP$3:$BP$48828,$I134,HData!$BO$3:$BO$48828,E$124,HData!$F$3:$F$48828,$J134,HData!$BR$3:$BR$48828,$K134)","v":0},{"$f":"COUNTIFS(HData!$BT$3:$BT$48828,TRUE,HData!$BP$3:$BP$48828,$I134,HData!$BO$3:$BO$48828,F$124,HData!$F$3:$F$48828,$J134,HData!$BR$3:$BR$48828,$K134)","v":0},{"$f":"COUNTIFS(HData!$BT$3:$BT$48828,TRUE,HData!$BP$3:$BP$48828,$I134,HData!$BO$3:$BO$48828,G$124,HData!$F$3:$F$48828,$J134,HData!$BR$3:$BR$48828,$K134)","v":0},{"$f":"COUNTIFS(HData!$BT$3:$BT$48828,TRUE,HData!$BP$3:$BP$48828,$I134,HData!$BO$3:$BO$48828,H$124,HData!$F$3:$F$48828,$J134,HData!$BR$3:$BR$48828,$K134)","v":0},"BME",0,3]
["White, sibling group of 3, with disability",{"$f":"COUNTIFS(HData!$BT$3:$BT$48828,TRUE,HData!$BP$3:$BP$48828,$I135,HData!$BO$3:$BO$48828,B$124,HData!$F$3:$F$48828,$J135,HData!$BR$3:$BR$48828,$K135)","v":0},{"$f":"COUNTIFS(HData!$BT$3:$BT$48828,TRUE,HData!$BP$3:$BP$48828,$I135,HData!$BO$3:$BO$48828,C$124,HData!$F$3:$F$48828,$J135,HData!$BR$3:$BR$48828,$K135)","v":0},{"$f":"COUNTIFS(HData!$BT$3:$BT$48828,TRUE,HData!$BP$3:$BP$48828,$I135,HData!$BO$3:$BO$48828,D$124,HData!$F$3:$F$48828,$J135,HData!$BR$3:$BR$48828,$K135)","v":0},{"$f":"COUNTIFS(HData!$BT$3:$BT$48828,TRUE,HData!$BP$3:$BP$48828,$I135,HData!$BO$3:$BO$48828,E$124,HData!$F$3:$F$48828,$J135,HData!$BR$3:$BR$48828,$K135)","v":0},{"$f":"COUNTIFS(HData!$BT$3:$BT$48828,TRUE,HData!$BP$3:$BP$48828,$I135,HData!$BO$3:$BO$48828,F$124,HData!$F$3:$F$48828,$J135,HData!$BR$3:$BR$48828,$K135)","v":0},{"$f":"COUNTIFS(HData!$BT$3:$BT$48828,TRUE,HData!$BP$3:$BP$48828,$I135,HData!$BO$3:$BO$48828,G$124,HData!$F$3:$F$48828,$J135,HData!$BR$3:$BR$48828,$K135)","v":0},{"$f":"COUNTIFS(HData!$BT$3:$BT$48828,TRUE,HData!$BP$3:$BP$48828,$I135,HData!$BO$3:$BO$48828,H$124,HData!$F$3:$F$48828,$J135,HData!$BR$3:$BR$48828,$K135)","v":0},"White",1,3,null,null,null,"Check"]
["BME, sibling group of 3, with disability",{"$f":"COUNTIFS(HData!$BT$3:$BT$48828,TRUE,HData!$BP$3:$BP$48828,$I136,HData!$BO$3:$BO$48828,B$124,HData!$F$3:$F$48828,$J136,HData!$BR$3:$BR$48828,$K136)","v":0},{"$f":"COUNTIFS(HData!$BT$3:$BT$48828,TRUE,HData!$BP$3:$BP$48828,$I136,HData!$BO$3:$BO$48828,C$124,HData!$F$3:$F$48828,$J136,HData!$BR$3:$BR$48828,$K136)","v":0},{"$f":"COUNTIFS(HData!$BT$3:$BT$48828,TRUE,HData!$BP$3:$BP$48828,$I136,HData!$BO$3:$BO$48828,D$124,HData!$F$3:$F$48828,$J136,HData!$BR$3:$BR$48828,$K136)","v":0},{"$f":"COUNTIFS(HData!$BT$3:$BT$48828,TRUE,HData!$BP$3:$BP$48828,$I136,HData!$BO$3:$BO$48828,E$124,HData!$F$3:$F$48828,$J136,HData!$BR$3:$BR$48828,$K136)","v":0},{"$f":"COUNTIFS(HData!$BT$3:$BT$48828,TRUE,HData!$BP$3:$BP$48828,$I136,HData!$BO$3:$BO$48828,F$124,HData!$F$3:$F$48828,$J136,HData!$BR$3:$BR$48828,$K136)","v":0},{"$f":"COUNTIFS(HData!$BT$3:$BT$48828,TRUE,HData!$BP$3:$BP$48828,$I136,HData!$BO$3:$BO$48828,G$124,HData!$F$3:$F$48828,$J136,HData!$BR$3:$BR$48828,$K136)","v":0},{"$f":"COUNTIFS(HData!$BT$3:$BT$48828,TRUE,HData!$BP$3:$BP$48828,$I136,HData!$BO$3:$BO$48828,H$124,HData!$F$3:$F$48828,$J136,HData!$BR$3:$BR$48828,$K136)","v":0},"BME",1,3,null,"TOTAL",{"$f":"SUM(B125:H136)","v":0},{"$f":"COUNTIF(HData!$BT$3:$BT$48293,TRUE)","v":0}]
[]
["NUMBERS WAITING TO BE PLACED (active)",0,1,2,3,4,5,">5","BME","Disability","Sibling"]
["White, single child, no disability",{"$f":"COUNTIFS(HData!$BT$3:$BT$48828,TRUE,HData!$BP$3:$BP$48828,$I139,HData!$BO$3:$BO$48828,B$124,HData!$F$3:$F$48828,$J139,HData!$BR$3:$BR$48828,$K139,HData!$Z$3:$Z$48828,\"<>2\",HData!$Z$3:$Z$48828,\"<>3\",HData!$Z$3:$Z$48828,\"<>4\")","v":0},{"$f":"COUNTIFS(HData!$BT$3:$BT$48828,TRUE,HData!$BP$3:$BP$48828,$I139,HData!$BO$3:$BO$48828,C$124,HData!$F$3:$F$48828,$J139,HData!$BR$3:$BR$48828,$K139,HData!$Z$3:$Z$48828,\"<>2\",HData!$Z$3:$Z$48828,\"<>3\",HData!$Z$3:$Z$48828,\"<>4\")","v":0},{"$f":"COUNTIFS(HData!$BT$3:$BT$48828,TRUE,HData!$BP$3:$BP$48828,$I139,HData!$BO$3:$BO$48828,D$124,HData!$F$3:$F$48828,$J139,HData!$BR$3:$BR$48828,$K139,HData!$Z$3:$Z$48828,\"<>2\",HData!$Z$3:$Z$48828,\"<>3\",HData!$Z$3:$Z$48828,\"<>4\")","v":0},{"$f":"COUNTIFS(HData!$BT$3:$BT$48828,TRUE,HData!$BP$3:$BP$48828,$I139,HData!$BO$3:$BO$48828,E$124,HData!$F$3:$F$48828,$J139,HData!$BR$3:$BR$48828,$K139,HData!$Z$3:$Z$48828,\"<>2\",HData!$Z$3:$Z$48828,\"<>3\",HData!$Z$3:$Z$48828,\"<>4\")","v":0},{"$f":"COUNTIFS(HData!$BT$3:$BT$48828,TRUE,HData!$BP$3:$BP$48828,$I139,HData!$BO$3:$BO$48828,F$124,HData!$F$3:$F$48828,$J139,HData!$BR$3:$BR$48828,$K139,HData!$Z$3:$Z$48828,\"<>2\",HData!$Z$3:$Z$48828,\"<>3\",HData!$Z$3:$Z$48828,\"<>4\")","v":0},{"$f":"COUNTIFS(HData!$BT$3:$BT$48828,TRUE,HData!$BP$3:$BP$48828,$I139,HData!$BO$3:$BO$48828,G$124,HData!$F$3:$F$48828,$J139,HData!$BR$3:$BR$48828,$K139,HData!$Z$3:$Z$48828,\"<>2\",HData!$Z$3:$Z$48828,\"<>3\",HData!$Z$3:$Z$48828,\"<>4\")","v":0},{"$f":"COUNTIFS(HData!$BT$3:$BT$48828,TRUE,HData!$BP$3:$BP$48828,$I139,HData!$BO$3:$BO$48828,H$124,HData!$F$3:$F$48828,$J139,HData!$BR$3:$BR$48828,$K139,HData!$Z$3:$Z$48828,\"<>2\",HData!$Z$3:$Z$48828,\"<>3\",HData!$Z$3:$Z$48828,\"<>4\")","v":0},"White",0,1]
["BME, single child, no disability",{"$f":"COUNTIFS(HData!$BT$3:$BT$48828,TRUE,HData!$BP$3:$BP$48828,$I140,HData!$BO$3:$BO$48828,B$124,HData!$F$3:$F$48828,$J140,HData!$BR$3:$BR$48828,$K140,HData!$Z$3:$Z$48828,\"<>2\",HData!$Z$3:$Z$48828,\"<>3\",HData!$Z$3:$Z$48828,\"<>4\")","v":0},{"$f":"COUNTIFS(HData!$BT$3:$BT$48828,TRUE,HData!$BP$3:$BP$48828,$I140,HData!$BO$3:$BO$48828,C$124,HData!$F$3:$F$48828,$J140,HData!$BR$3:$BR$48828,$K140,HData!$Z$3:$Z$48828,\"<>2\",HData!$Z$3:$Z$48828,\"<>3\",HData!$Z$3:$Z$48828,\"<>4\")","v":0},{"$f":"COUNTIFS(HData!$BT$3:$BT$48828,TRUE,HData!$BP$3:$BP$48828,$I140,HData!$BO$3:$BO$48828,D$124,HData!$F$3:$F$48828,$J140,HData!$BR$3:$BR$48828,$K140,HData!$Z$3:$Z$48828,\"<>2\",HData!$Z$3:$Z$48828,\"<>3\",HData!$Z$3:$Z$48828,\"<>4\")","v":0},{"$f":"COUNTIFS(HData!$BT$3:$BT$48828,TRUE,HData!$BP$3:$BP$48828,$I140,HData!$BO$3:$BO$48828,E$124,HData!$F$3:$F$48828,$J140,HData!$BR$3:$BR$48828,$K140,HData!$Z$3:$Z$48828,\"<>2\",HData!$Z$3:$Z$48828,\"<>3\",HData!$Z$3:$Z$48828,\"<>4\")","v":0},{"$f":"COUNTIFS(HData!$BT$3:$BT$48828,TRUE,HData!$BP$3:$BP$48828,$I140,HData!$BO$3:$BO$48828,F$124,HData!$F$3:$F$48828,$J140,HData!$BR$3:$BR$48828,$K140,HData!$Z$3:$Z$48828,\"<>2\",HData!$Z$3:$Z$48828,\"<>3\",HData!$Z$3:$Z$48828,\"<>4\")","v":0},{"$f":"COUNTIFS(HData!$BT$3:$BT$48828,TRUE,HData!$BP$3:$BP$48828,$I140,HData!$BO$3:$BO$48828,G$124,HData!$F$3:$F$48828,$J140,HData!$BR$3:$BR$48828,$K140,HData!$Z$3:$Z$48828,\"<>2\",HData!$Z$3:$Z$48828,\"<>3\",HData!$Z$3:$Z$48828,\"<>4\")","v":0},{"$f":"COUNTIFS(HData!$BT$3:$BT$48828,TRUE,HData!$BP$3:$BP$48828,$I140,HData!$BO$3:$BO$48828,H$124,HData!$F$3:$F$48828,$J140,HData!$BR$3:$BR$48828,$K140,HData!$Z$3:$Z$48828,\"<>2\",HData!$Z$3:$Z$48828,\"<>3\",HData!$Z$3:$Z$48828,\"<>4\")","v":0},"BME",0,1]
["White, single child, with disability",{"$f":"COUNTIFS(HData!$BT$3:$BT$48828,TRUE,HData!$BP$3:$BP$48828,$I141,HData!$BO$3:$BO$48828,B$124,HData!$F$3:$F$48828,$J141,HData!$BR$3:$BR$48828,$K141,HData!$Z$3:$Z$48828,\"<>2\",HData!$Z$3:$Z$48828,\"<>3\",HData!$Z$3:$Z$48828,\"<>4\")","v":0},{"$f":"COUNTIFS(HData!$BT$3:$BT$48828,TRUE,HData!$BP$3:$BP$48828,$I141,HData!$BO$3:$BO$48828,C$124,HData!$F$3:$F$48828,$J141,HData!$BR$3:$BR$48828,$K141,HData!$Z$3:$Z$48828,\"<>2\",HData!$Z$3:$Z$48828,\"<>3\",HData!$Z$3:$Z$48828,\"<>4\")","v":0},{"$f":"COUNTIFS(HData!$BT$3:$BT$48828,TRUE,HData!$BP$3:$BP$48828,$I141,HData!$BO$3:$BO$48828,D$124,HData!$F$3:$F$48828,$J141,HData!$BR$3:$BR$48828,$K141,HData!$Z$3:$Z$48828,\"<>2\",HData!$Z$3:$Z$48828,\"<>3\",HData!$Z$3:$Z$48828,\"<>4\")","v":0},{"$f":"COUNTIFS(HData!$BT$3:$BT$48828,TRUE,HData!$BP$3:$BP$48828,$I141,HData!$BO$3:$BO$48828,E$124,HData!$F$3:$F$48828,$J141,HData!$BR$3:$BR$48828,$K141,HData!$Z$3:$Z$48828,\"<>2\",HData!$Z$3:$Z$48828,\"<>3\",HData!$Z$3:$Z$48828,\"<>4\")","v":0},{"$f":"COUNTIFS(HData!$BT$3:$BT$48828,TRUE,HData!$BP$3:$BP$48828,$I141,HData!$BO$3:$BO$48828,F$124,HData!$F$3:$F$48828,$J141,HData!$BR$3:$BR$48828,$K141,HData!$Z$3:$Z$48828,\"<>2\",HData!$Z$3:$Z$48828,\"<>3\",HData!$Z$3:$Z$48828,\"<>4\")","v":0},{"$f":"COUNTIFS(HData!$BT$3:$BT$48828,TRUE,HData!$BP$3:$BP$48828,$I141,HData!$BO$3:$BO$48828,G$124,HData!$F$3:$F$48828,$J141,HData!$BR$3:$BR$48828,$K141,HData!$Z$3:$Z$48828,\"<>2\",HData!$Z$3:$Z$48828,\"<>3\",HData!$Z$3:$Z$48828,\"<>4\")","v":0},{"$f":"COUNTIFS(HData!$BT$3:$BT$48828,TRUE,HData!$BP$3:$BP$48828,$I141,HData!$BO$3:$BO$48828,H$124,HData!$F$3:$F$48828,$J141,HData!$BR$3:$BR$48828,$K141,HData!$Z$3:$Z$48828,\"<>2\",HData!$Z$3:$Z$48828,\"<>3\",HData!$Z$3:$Z$48828,\"<>4\")","v":0},"White",1,1]
["BME, single child, with disability",{"$f":"COUNTIFS(HData!$BT$3:$BT$48828,TRUE,HData!$BP$3:$BP$48828,$I142,HData!$BO$3:$BO$48828,B$124,HData!$F$3:$F$48828,$J142,HData!$BR$3:$BR$48828,$K142,HData!$Z$3:$Z$48828,\"<>2\",HData!$Z$3:$Z$48828,\"<>3\",HData!$Z$3:$Z$48828,\"<>4\")","v":0},{"$f":"COUNTIFS(HData!$BT$3:$BT$48828,TRUE,HData!$BP$3:$BP$48828,$I142,HData!$BO$3:$BO$48828,C$124,HData!$F$3:$F$48828,$J142,HData!$BR$3:$BR$48828,$K142,HData!$Z$3:$Z$48828,\"<>2\",HData!$Z$3:$Z$48828,\"<>3\",HData!$Z$3:$Z$48828,\"<>4\")","v":0},{"$f":"COUNTIFS(HData!$BT$3:$BT$48828,TRUE,HData!$BP$3:$BP$48828,$I142,HData!$BO$3:$BO$48828,D$124,HData!$F$3:$F$48828,$J142,HData!$BR$3:$BR$48828,$K142,HData!$Z$3:$Z$48828,\"<>2\",HData!$Z$3:$Z$48828,\"<>3\",HData!$Z$3:$Z$48828,\"<>4\")","v":0},{"$f":"COUNTIFS(HData!$BT$3:$BT$48828,TRUE,HData!$BP$3:$BP$48828,$I142,HData!$BO$3:$BO$48828,E$124,HData!$F$3:$F$48828,$J142,HData!$BR$3:$BR$48828,$K142,HData!$Z$3:$Z$48828,\"<>2\",HData!$Z$3:$Z$48828,\"<>3\",HData!$Z$3:$Z$48828,\"<>4\")","v":0},{"$f":"COUNTIFS(HData!$BT$3:$BT$48828,TRUE,HData!$BP$3:$BP$48828,$I142,HData!$BO$3:$BO$48828,F$124,HData!$F$3:$F$48828,$J142,HData!$BR$3:$BR$48828,$K142,HData!$Z$3:$Z$48828,\"<>2\",HData!$Z$3:$Z$48828,\"<>3\",HData!$Z$3:$Z$48828,\"<>4\")","v":0},{"$f":"COUNTIFS(HData!$BT$3:$BT$48828,TRUE,HData!$BP$3:$BP$48828,$I142,HData!$BO$3:$BO$48828,G$124,HData!$F$3:$F$48828,$J142,HData!$BR$3:$BR$48828,$K142,HData!$Z$3:$Z$48828,\"<>2\",HData!$Z$3:$Z$48828,\"<>3\",HData!$Z$3:$Z$48828,\"<>4\")","v":0},{"$f":"COUNTIFS(HData!$BT$3:$BT$48828,TRUE,HData!$BP$3:$BP$48828,$I142,HData!$BO$3:$BO$48828,H$124,HData!$F$3:$F$48828,$J142,HData!$BR$3:$BR$48828,$K142,HData!$Z$3:$Z$48828,\"<>2\",HData!$Z$3:$Z$48828,\"<>3\",HData!$Z$3:$Z$48828,\"<>4\")","v":0},"BME",1,1]
["White, sibling group of 2, no disability",{"$f":"COUNTIFS(HData!$BT$3:$BT$48828,TRUE,HData!$BP$3:$BP$48828,$I143,HData!$BO$3:$BO$48828,B$124,HData!$F$3:$F$48828,$J143,HData!$BR$3:$BR$48828,$K143,HData!$Z$3:$Z$48828,\"<>2\",HData!$Z$3:$Z$48828,\"<>3\",HData!$Z$3:$Z$48828,\"<>4\")","v":0},{"$f":"COUNTIFS(HData!$BT$3:$BT$48828,TRUE,HData!$BP$3:$BP$48828,$I143,HData!$BO$3:$BO$48828,C$124,HData!$F$3:$F$48828,$J143,HData!$BR$3:$BR$48828,$K143,HData!$Z$3:$Z$48828,\"<>2\",HData!$Z$3:$Z$48828,\"<>3\",HData!$Z$3:$Z$48828,\"<>4\")","v":0},{"$f":"COUNTIFS(HData!$BT$3:$BT$48828,TRUE,HData!$BP$3:$BP$48828,$I143,HData!$BO$3:$BO$48828,D$124,HData!$F$3:$F$48828,$J143,HData!$BR$3:$BR$48828,$K143,HData!$Z$3:$Z$48828,\"<>2\",HData!$Z$3:$Z$48828,\"<>3\",HData!$Z$3:$Z$48828,\"<>4\")","v":0},{"$f":"COUNTIFS(HData!$BT$3:$BT$48828,TRUE,HData!$BP$3:$BP$48828,$I143,HData!$BO$3:$BO$48828,E$124,HData!$F$3:$F$48828,$J143,HData!$BR$3:$BR$48828,$K143,HData!$Z$3:$Z$48828,\"<>2\",HData!$Z$3:$Z$48828,\"<>3\",HData!$Z$3:$Z$48828,\"<>4\")","v":0},{"$f":"COUNTIFS(HData!$BT$3:$BT$48828,TRUE,HData!$BP$3:$BP$48828,$I143,HData!$BO$3:$BO$48828,F$124,HData!$F$3:$F$48828,$J143,HData!$BR$3:$BR$48828,$K143,HData!$Z$3:$Z$48828,\"<>2\",HData!$Z$3:$Z$48828,\"<>3\",HData!$Z$3:$Z$48828,\"<>4\")","v":0},{"$f":"COUNTIFS(HData!$BT$3:$BT$48828,TRUE,HData!$BP$3:$BP$48828,$I143,HData!$BO$3:$BO$48828,G$124,HData!$F$3:$F$48828,$J143,HData!$BR$3:$BR$48828,$K143,HData!$Z$3:$Z$48828,\"<>2\",HData!$Z$3:$Z$48828,\"<>3\",HData!$Z$3:$Z$48828,\"<>4\")","v":0},{"$f":"COUNTIFS(HData!$BT$3:$BT$48828,TRUE,HData!$BP$3:$BP$48828,$I143,HData!$BO$3:$BO$48828,H$124,HData!$F$3:$F$48828,$J143,HData!$BR$3:$BR$48828,$K143,HData!$Z$3:$Z$48828,\"<>2\",HData!$Z$3:$Z$48828,\"<>3\",HData!$Z$3:$Z$48828,\"<>4\")","v":0},"White",0,2]
["BME, sibling group of 2, no disability",{"$f":"COUNTIFS(HData!$BT$3:$BT$48828,TRUE,HData!$BP$3:$BP$48828,$I144,HData!$BO$3:$BO$48828,B$124,HData!$F$3:$F$48828,$J144,HData!$BR$3:$BR$48828,$K144,HData!$Z$3:$Z$48828,\"<>2\",HData!$Z$3:$Z$48828,\"<>3\",HData!$Z$3:$Z$48828,\"<>4\")","v":0},{"$f":"COUNTIFS(HData!$BT$3:$BT$48828,TRUE,HData!$BP$3:$BP$48828,$I144,HData!$BO$3:$BO$48828,C$124,HData!$F$3:$F$48828,$J144,HData!$BR$3:$BR$48828,$K144,HData!$Z$3:$Z$48828,\"<>2\",HData!$Z$3:$Z$48828,\"<>3\",HData!$Z$3:$Z$48828,\"<>4\")","v":0},{"$f":"COUNTIFS(HData!$BT$3:$BT$48828,TRUE,HData!$BP$3:$BP$48828,$I144,HData!$BO$3:$BO$48828,D$124,HData!$F$3:$F$48828,$J144,HData!$BR$3:$BR$48828,$K144,HData!$Z$3:$Z$48828,\"<>2\",HData!$Z$3:$Z$48828,\"<>3\",HData!$Z$3:$Z$48828,\"<>4\")","v":0},{"$f":"COUNTIFS(HData!$BT$3:$BT$48828,TRUE,HData!$BP$3:$BP$48828,$I144,HData!$BO$3:$BO$48828,E$124,HData!$F$3:$F$48828,$J144,HData!$BR$3:$BR$48828,$K144,HData!$Z$3:$Z$48828,\"<>2\",HData!$Z$3:$Z$48828,\"<>3\",HData!$Z$3:$Z$48828,\"<>4\")","v":0},{"$f":"COUNTIFS(HData!$BT$3:$BT$48828,TRUE,HData!$BP$3:$BP$48828,$I144,HData!$BO$3:$BO$48828,F$124,HData!$F$3:$F$48828,$J144,HData!$BR$3:$BR$48828,$K144,HData!$Z$3:$Z$48828,\"<>2\",HData!$Z$3:$Z$48828,\"<>3\",HData!$Z$3:$Z$48828,\"<>4\")","v":0},{"$f":"COUNTIFS(HData!$BT$3:$BT$48828,TRUE,HData!$BP$3:$BP$48828,$I144,HData!$BO$3:$BO$48828,G$124,HData!$F$3:$F$48828,$J144,HData!$BR$3:$BR$48828,$K144,HData!$Z$3:$Z$48828,\"<>2\",HData!$Z$3:$Z$48828,\"<>3\",HData!$Z$3:$Z$48828,\"<>4\")","v":0},{"$f":"COUNTIFS(HData!$BT$3:$BT$48828,TRUE,HData!$BP$3:$BP$48828,$I144,HData!$BO$3:$BO$48828,H$124,HData!$F$3:$F$48828,$J144,HData!$BR$3:$BR$48828,$K144,HData!$Z$3:$Z$48828,\"<>2\",HData!$Z$3:$Z$48828,\"<>3\",HData!$Z$3:$Z$48828,\"<>4\")","v":0},"BME",0,2]
["White, sibling group of 2, with disability",{"$f":"COUNTIFS(HData!$BT$3:$BT$48828,TRUE,HData!$BP$3:$BP$48828,$I145,HData!$BO$3:$BO$48828,B$124,HData!$F$3:$F$48828,$J145,HData!$BR$3:$BR$48828,$K145,HData!$Z$3:$Z$48828,\"<>2\",HData!$Z$3:$Z$48828,\"<>3\",HData!$Z$3:$Z$48828,\"<>4\")","v":0},{"$f":"COUNTIFS(HData!$BT$3:$BT$48828,TRUE,HData!$BP$3:$BP$48828,$I145,HData!$BO$3:$BO$48828,C$124,HData!$F$3:$F$48828,$J145,HData!$BR$3:$BR$48828,$K145,HData!$Z$3:$Z$48828,\"<>2\",HData!$Z$3:$Z$48828,\"<>3\",HData!$Z$3:$Z$48828,\"<>4\")","v":0},{"$f":"COUNTIFS(HData!$BT$3:$BT$48828,TRUE,HData!$BP$3:$BP$48828,$I145,HData!$BO$3:$BO$48828,D$124,HData!$F$3:$F$48828,$J145,HData!$BR$3:$BR$48828,$K145,HData!$Z$3:$Z$48828,\"<>2\",HData!$Z$3:$Z$48828,\"<>3\",HData!$Z$3:$Z$48828,\"<>4\")","v":0},{"$f":"COUNTIFS(HData!$BT$3:$BT$48828,TRUE,HData!$BP$3:$BP$48828,$I145,HData!$BO$3:$BO$48828,E$124,HData!$F$3:$F$48828,$J145,HData!$BR$3:$BR$48828,$K145,HData!$Z$3:$Z$48828,\"<>2\",HData!$Z$3:$Z$48828,\"<>3\",HData!$Z$3:$Z$48828,\"<>4\")","v":0},{"$f":"COUNTIFS(HData!$BT$3:$BT$48828,TRUE,HData!$BP$3:$BP$48828,$I145,HData!$BO$3:$BO$48828,F$124,HData!$F$3:$F$48828,$J145,HData!$BR$3:$BR$48828,$K145,HData!$Z$3:$Z$48828,\"<>2\",HData!$Z$3:$Z$48828,\"<>3\",HData!$Z$3:$Z$48828,\"<>4\")","v":0},{"$f":"COUNTIFS(HData!$BT$3:$BT$48828,TRUE,HData!$BP$3:$BP$48828,$I145,HData!$BO$3:$BO$48828,G$124,HData!$F$3:$F$48828,$J145,HData!$BR$3:$BR$48828,$K145,HData!$Z$3:$Z$48828,\"<>2\",HData!$Z$3:$Z$48828,\"<>3\",HData!$Z$3:$Z$48828,\"<>4\")","v":0},{"$f":"COUNTIFS(HData!$BT$3:$BT$48828,TRUE,HData!$BP$3:$BP$48828,$I145,HData!$BO$3:$BO$48828,H$124,HData!$F$3:$F$48828,$J145,HData!$BR$3:$BR$48828,$K145,HData!$Z$3:$Z$48828,\"<>2\",HData!$Z$3:$Z$48828,\"<>3\",HData!$Z$3:$Z$48828,\"<>4\")","v":0},"White",1,2]
["BME, sibling group of 2, with disability",{"$f":"COUNTIFS(HData!$BT$3:$BT$48828,TRUE,HData!$BP$3:$BP$48828,$I146,HData!$BO$3:$BO$48828,B$124,HData!$F$3:$F$48828,$J146,HData!$BR$3:$BR$48828,$K146,HData!$Z$3:$Z$48828,\"<>2\",HData!$Z$3:$Z$48828,\"<>3\",HData!$Z$3:$Z$48828,\"<>4\")","v":0},{"$f":"COUNTIFS(HData!$BT$3:$BT$48828,TRUE,HData!$BP$3:$BP$48828,$I146,HData!$BO$3:$BO$48828,C$124,HData!$F$3:$F$48828,$J146,HData!$BR$3:$BR$48828,$K146,HData!$Z$3:$Z$48828,\"<>2\",HData!$Z$3:$Z$48828,\"<>3\",HData!$Z$3:$Z$48828,\"<>4\")","v":0},{"$f":"COUNTIFS(HData!$BT$3:$BT$48828,TRUE,HData!$BP$3:$BP$48828,$I146,HData!$BO$3:$BO$48828,D$124,HData!$F$3:$F$48828,$J146,HData!$BR$3:$BR$48828,$K146,HData!$Z$3:$Z$48828,\"<>2\",HData!$Z$3:$Z$48828,\"<>3\",HData!$Z$3:$Z$48828,\"<>4\")","v":0},{"$f":"COUNTIFS(HData!$BT$3:$BT$48828,TRUE,HData!$BP$3:$BP$48828,$I146,HData!$BO$3:$BO$48828,E$124,HData!$F$3:$F$48828,$J146,HData!$BR$3:$BR$48828,$K146,HData!$Z$3:$Z$48828,\"<>2\",HData!$Z$3:$Z$48828,\"<>3\",HData!$Z$3:$Z$48828,\"<>4\")","v":0},{"$f":"COUNTIFS(HData!$BT$3:$BT$48828,TRUE,HData!$BP$3:$BP$48828,$I146,HData!$BO$3:$BO$48828,F$124,HData!$F$3:$F$48828,$J146,HData!$BR$3:$BR$48828,$K146,HData!$Z$3:$Z$48828,\"<>2\",HData!$Z$3:$Z$48828,\"<>3\",HData!$Z$3:$Z$48828,\"<>4\")","v":0},{"$f":"COUNTIFS(HData!$BT$3:$BT$48828,TRUE,HData!$BP$3:$BP$48828,$I146,HData!$BO$3:$BO$48828,G$124,HData!$F$3:$F$48828,$J146,HData!$BR$3:$BR$48828,$K146,HData!$Z$3:$Z$48828,\"<>2\",HData!$Z$3:$Z$48828,\"<>3\",HData!$Z$3:$Z$48828,\"<>4\")","v":0},{"$f":"COUNTIFS(HData!$BT$3:$BT$48828,TRUE,HData!$BP$3:$BP$48828,$I146,HData!$BO$3:$BO$48828,H$124,HData!$F$3:$F$48828,$J146,HData!$BR$3:$BR$48828,$K146,HData!$Z$3:$Z$48828,\"<>2\",HData!$Z$3:$Z$48828,\"<>3\",HData!$Z$3:$Z$48828,\"<>4\")","v":0},"BME",1,2]
["White, sibling group of 3, no disability",{"$f":"COUNTIFS(HData!$BT$3:$BT$48828,TRUE,HData!$BP$3:$BP$48828,$I147,HData!$BO$3:$BO$48828,B$124,HData!$F$3:$F$48828,$J147,HData!$BR$3:$BR$48828,$K147,HData!$Z$3:$Z$48828,\"<>2\",HData!$Z$3:$Z$48828,\"<>3\",HData!$Z$3:$Z$48828,\"<>4\")","v":0},{"$f":"COUNTIFS(HData!$BT$3:$BT$48828,TRUE,HData!$BP$3:$BP$48828,$I147,HData!$BO$3:$BO$48828,C$124,HData!$F$3:$F$48828,$J147,HData!$BR$3:$BR$48828,$K147,HData!$Z$3:$Z$48828,\"<>2\",HData!$Z$3:$Z$48828,\"<>3\",HData!$Z$3:$Z$48828,\"<>4\")","v":0},{"$f":"COUNTIFS(HData!$BT$3:$BT$48828,TRUE,HData!$BP$3:$BP$48828,$I147,HData!$BO$3:$BO$48828,D$124,HData!$F$3:$F$48828,$J147,HData!$BR$3:$BR$48828,$K147,HData!$Z$3:$Z$48828,\"<>2\",HData!$Z$3:$Z$48828,\"<>3\",HData!$Z$3:$Z$48828,\"<>4\")","v":0},{"$f":"COUNTIFS(HData!$BT$3:$BT$48828,TRUE,HData!$BP$3:$BP$48828,$I147,HData!$BO$3:$BO$48828,E$124,HData!$F$3:$F$48828,$J147,HData!$BR$3:$BR$48828,$K147,HData!$Z$3:$Z$48828,\"<>2\",HData!$Z$3:$Z$48828,\"<>3\",HData!$Z$3:$Z$48828,\"<>4\")","v":0},{"$f":"COUNTIFS(HData!$BT$3:$BT$48828,TRUE,HData!$BP$3:$BP$48828,$I147,HData!$BO$3:$BO$48828,F$124,HData!$F$3:$F$48828,$J147,HData!$BR$3:$BR$48828,$K147,HData!$Z$3:$Z$48828,\"<>2\",HData!$Z$3:$Z$48828,\"<>3\",HData!$Z$3:$Z$48828,\"<>4\")","v":0},{"$f":"COUNTIFS(HData!$BT$3:$BT$48828,TRUE,HData!$BP$3:$BP$48828,$I147,HData!$BO$3:$BO$48828,G$124,HData!$F$3:$F$48828,$J147,HData!$BR$3:$BR$48828,$K147,HData!$Z$3:$Z$48828,\"<>2\",HData!$Z$3:$Z$48828,\"<>3\",HData!$Z$3:$Z$48828,\"<>4\")","v":0},{"$f":"COUNTIFS(HData!$BT$3:$BT$48828,TRUE,HData!$BP$3:$BP$48828,$I147,HData!$BO$3:$BO$48828,H$124,HData!$F$3:$F$48828,$J147,HData!$BR$3:$BR$48828,$K147,HData!$Z$3:$Z$48828,\"<>2\",HData!$Z$3:$Z$48828,\"<>3\",HData!$Z$3:$Z$48828,\"<>4\")","v":0},"White",0,3]
["BME, sibling group of 3, no disability",{"$f":"COUNTIFS(HData!$BT$3:$BT$48828,TRUE,HData!$BP$3:$BP$48828,$I148,HData!$BO$3:$BO$48828,B$124,HData!$F$3:$F$48828,$J148,HData!$BR$3:$BR$48828,$K148,HData!$Z$3:$Z$48828,\"<>2\",HData!$Z$3:$Z$48828,\"<>3\",HData!$Z$3:$Z$48828,\"<>4\")","v":0},{"$f":"COUNTIFS(HData!$BT$3:$BT$48828,TRUE,HData!$BP$3:$BP$48828,$I148,HData!$BO$3:$BO$48828,C$124,HData!$F$3:$F$48828,$J148,HData!$BR$3:$BR$48828,$K148,HData!$Z$3:$Z$48828,\"<>2\",HData!$Z$3:$Z$48828,\"<>3\",HData!$Z$3:$Z$48828,\"<>4\")","v":0},{"$f":"COUNTIFS(HData!$BT$3:$BT$48828,TRUE,HData!$BP$3:$BP$48828,$I148,HData!$BO$3:$BO$48828,D$124,HData!$F$3:$F$48828,$J148,HData!$BR$3:$BR$48828,$K148,HData!$Z$3:$Z$48828,\"<>2\",HData!$Z$3:$Z$48828,\"<>3\",HData!$Z$3:$Z$48828,\"<>4\")","v":0},{"$f":"COUNTIFS(HData!$BT$3:$BT$48828,TRUE,HData!$BP$3:$BP$48828,$I148,HData!$BO$3:$BO$48828,E$124,HData!$F$3:$F$48828,$J148,HData!$BR$3:$BR$48828,$K148,HData!$Z$3:$Z$48828,\"<>2\",HData!$Z$3:$Z$48828,\"<>3\",HData!$Z$3:$Z$48828,\"<>4\")","v":0},{"$f":"COUNTIFS(HData!$BT$3:$BT$48828,TRUE,HData!$BP$3:$BP$48828,$I148,HData!$BO$3:$BO$48828,F$124,HData!$F$3:$F$48828,$J148,HData!$BR$3:$BR$48828,$K148,HData!$Z$3:$Z$48828,\"<>2\",HData!$Z$3:$Z$48828,\"<>3\",HData!$Z$3:$Z$48828,\"<>4\")","v":0},{"$f":"COUNTIFS(HData!$BT$3:$BT$48828,TRUE,HData!$BP$3:$BP$48828,$I148,HData!$BO$3:$BO$48828,G$124,HData!$F$3:$F$48828,$J148,HData!$BR$3:$BR$48828,$K148,HData!$Z$3:$Z$48828,\"<>2\",HData!$Z$3:$Z$48828,\"<>3\",HData!$Z$3:$Z$48828,\"<>4\")","v":0},{"$f":"COUNTIFS(HData!$BT$3:$BT$48828,TRUE,HData!$BP$3:$BP$48828,$I148,HData!$BO$3:$BO$48828,H$124,HData!$F$3:$F$48828,$J148,HData!$BR$3:$BR$48828,$K148,HData!$Z$3:$Z$48828,\"<>2\",HData!$Z$3:$Z$48828,\"<>3\",HData!$Z$3:$Z$48828,\"<>4\")","v":0},"BME",0,3]
["White, sibling group of 3, with disability",{"$f":"COUNTIFS(HData!$BT$3:$BT$48828,TRUE,HData!$BP$3:$BP$48828,$I149,HData!$BO$3:$BO$48828,B$124,HData!$F$3:$F$48828,$J149,HData!$BR$3:$BR$48828,$K149,HData!$Z$3:$Z$48828,\"<>2\",HData!$Z$3:$Z$48828,\"<>3\",HData!$Z$3:$Z$48828,\"<>4\")","v":0},{"$f":"COUNTIFS(HData!$BT$3:$BT$48828,TRUE,HData!$BP$3:$BP$48828,$I149,HData!$BO$3:$BO$48828,C$124,HData!$F$3:$F$48828,$J149,HData!$BR$3:$BR$48828,$K149,HData!$Z$3:$Z$48828,\"<>2\",HData!$Z$3:$Z$48828,\"<>3\",HData!$Z$3:$Z$48828,\"<>4\")","v":0},{"$f":"COUNTIFS(HData!$BT$3:$BT$48828,TRUE,HData!$BP$3:$BP$48828,$I149,HData!$BO$3:$BO$48828,D$124,HData!$F$3:$F$48828,$J149,HData!$BR$3:$BR$48828,$K149,HData!$Z$3:$Z$48828,\"<>2\",HData!$Z$3:$Z$48828,\"<>3\",HData!$Z$3:$Z$48828,\"<>4\")","v":0},{"$f":"COUNTIFS(HData!$BT$3:$BT$48828,TRUE,HData!$BP$3:$BP$48828,$I149,HData!$BO$3:$BO$48828,E$124,HData!$F$3:$F$48828,$J149,HData!$BR$3:$BR$48828,$K149,HData!$Z$3:$Z$48828,\"<>2\",HData!$Z$3:$Z$48828,\"<>3\",HData!$Z$3:$Z$48828,\"<>4\")","v":0},{"$f":"COUNTIFS(HData!$BT$3:$BT$48828,TRUE,HData!$BP$3:$BP$48828,$I149,HData!$BO$3:$BO$48828,F$124,HData!$F$3:$F$48828,$J149,HData!$BR$3:$BR$48828,$K149,HData!$Z$3:$Z$48828,\"<>2\",HData!$Z$3:$Z$48828,\"<>3\",HData!$Z$3:$Z$48828,\"<>4\")","v":0},{"$f":"COUNTIFS(HData!$BT$3:$BT$48828,TRUE,HData!$BP$3:$BP$48828,$I149,HData!$BO$3:$BO$48828,G$124,HData!$F$3:$F$48828,$J149,HData!$BR$3:$BR$48828,$K149,HData!$Z$3:$Z$48828,\"<>2\",HData!$Z$3:$Z$48828,\"<>3\",HData!$Z$3:$Z$48828,\"<>4\")","v":0},{"$f":"COUNTIFS(HData!$BT$3:$BT$48828,TRUE,HData!$BP$3:$BP$48828,$I149,HData!$BO$3:$BO$48828,H$124,HData!$F$3:$F$48828,$J149,HData!$BR$3:$BR$48828,$K149,HData!$Z$3:$Z$48828,\"<>2\",HData!$Z$3:$Z$48828,\"<>3\",HData!$Z$3:$Z$48828,\"<>4\")","v":0},"White",1,3]
["BME, sibling group of 3, with disability",{"$f":"COUNTIFS(HData!$BT$3:$BT$48828,TRUE,HData!$BP$3:$BP$48828,$I150,HData!$BO$3:$BO$48828,B$124,HData!$F$3:$F$48828,$J150,HData!$BR$3:$BR$48828,$K150,HData!$Z$3:$Z$48828,\"<>2\",HData!$Z$3:$Z$48828,\"<>3\",HData!$Z$3:$Z$48828,\"<>4\")","v":0},{"$f":"COUNTIFS(HData!$BT$3:$BT$48828,TRUE,HData!$BP$3:$BP$48828,$I150,HData!$BO$3:$BO$48828,C$124,HData!$F$3:$F$48828,$J150,HData!$BR$3:$BR$48828,$K150,HData!$Z$3:$Z$48828,\"<>2\",HData!$Z$3:$Z$48828,\"<>3\",HData!$Z$3:$Z$48828,\"<>4\")","v":0},{"$f":"COUNTIFS(HData!$BT$3:$BT$48828,TRUE,HData!$BP$3:$BP$48828,$I150,HData!$BO$3:$BO$48828,D$124,HData!$F$3:$F$48828,$J150,HData!$BR$3:$BR$48828,$K150,HData!$Z$3:$Z$48828,\"<>2\",HData!$Z$3:$Z$48828,\"<>3\",HData!$Z$3:$Z$48828,\"<>4\")","v":0},{"$f":"COUNTIFS(HData!$BT$3:$BT$48828,TRUE,HData!$BP$3:$BP$48828,$I150,HData!$BO$3:$BO$48828,E$124,HData!$F$3:$F$48828,$J150,HData!$BR$3:$BR$48828,$K150,HData!$Z$3:$Z$48828,\"<>2\",HData!$Z$3:$Z$48828,\"<>3\",HData!$Z$3:$Z$48828,\"<>4\")","v":0},{"$f":"COUNTIFS(HData!$BT$3:$BT$48828,TRUE,HData!$BP$3:$BP$48828,$I150,HData!$BO$3:$BO$48828,F$124,HData!$F$3:$F$48828,$J150,HData!$BR$3:$BR$48828,$K150,HData!$Z$3:$Z$48828,\"<>2\",HData!$Z$3:$Z$48828,\"<>3\",HData!$Z$3:$Z$48828,\"<>4\")","v":0},{"$f":"COUNTIFS(HData!$BT$3:$BT$48828,TRUE,HData!$BP$3:$BP$48828,$I150,HData!$BO$3:$BO$48828,G$124,HData!$F$3:$F$48828,$J150,HData!$BR$3:$BR$48828,$K150,HData!$Z$3:$Z$48828,\"<>2\",HData!$Z$3:$Z$48828,\"<>3\",HData!$Z$3:$Z$48828,\"<>4\")","v":0},{"$f":"COUNTIFS(HData!$BT$3:$BT$48828,TRUE,HData!$BP$3:$BP$48828,$I150,HData!$BO$3:$BO$48828,H$124,HData!$F$3:$F$48828,$J150,HData!$BR$3:$BR$48828,$K150,HData!$Z$3:$Z$48828,\"<>2\",HData!$Z$3:$Z$48828,\"<>3\",HData!$Z$3:$Z$48828,\"<>4\")","v":0},"BME",1,3]
[]
["AVG DAYS WAITING (NOT YET PLACED)",0,1,2,3,4,5,">5","BME","Disability","Sibling"]
["White, single child, no disability",{"$f":"IF(B125>0,SUMIFS(HData!$AK$3:$AK$48828,HData!$BT$3:$BT$48828,TRUE,HData!$BP$3:$BP$48828,$I153,HData!$BO$3:$BO$48828,B$124,HData!$F$3:$F$48828,$J153,HData!$BR$3:$BR$48828,$K153)/B125,\"\")","v":""},{"$f":"IF(C125>0,SUMIFS(HData!$AK$3:$AK$48828,HData!$BT$3:$BT$48828,TRUE,HData!$BP$3:$BP$48828,$I153,HData!$BO$3:$BO$48828,C$124,HData!$F$3:$F$48828,$J153,HData!$BR$3:$BR$48828,$K153)/C125,\"\")","v":""},{"$f":"IF(D125>0,SUMIFS(HData!$AK$3:$AK$48828,HData!$BT$3:$BT$48828,TRUE,HData!$BP$3:$BP$48828,$I153,HData!$BO$3:$BO$48828,D$124,HData!$F$3:$F$48828,$J153,HData!$BR$3:$BR$48828,$K153)/D125,\"\")","v":""},{"$f":"IF(E125>0,SUMIFS(HData!$AK$3:$AK$48828,HData!$BT$3:$BT$48828,TRUE,HData!$BP$3:$BP$48828,$I153,HData!$BO$3:$BO$48828,E$124,HData!$F$3:$F$48828,$J153,HData!$BR$3:$BR$48828,$K153)/E125,\"\")","v":""},{"$f":"IF(F125>0,SUMIFS(HData!$AK$3:$AK$48828,HData!$BT$3:$BT$48828,TRUE,HData!$BP$3:$BP$48828,$I153,HData!$BO$3:$BO$48828,F$124,HData!$F$3:$F$48828,$J153,HData!$BR$3:$BR$48828,$K153)/F125,\"\")","v":""},{"$f":"IF(G125>0,SUMIFS(HData!$AK$3:$AK$48828,HData!$BT$3:$BT$48828,TRUE,HData!$BP$3:$BP$48828,$I153,HData!$BO$3:$BO$48828,G$124,HData!$F$3:$F$48828,$J153,HData!$BR$3:$BR$48828,$K153)/G125,\"\")","v":""},{"$f":"IF(H125>0,SUMIFS(HData!$AK$3:$AK$48828,HData!$BT$3:$BT$48828,TRUE,HData!$BP$3:$BP$48828,$I153,HData!$BO$3:$BO$48828,H$124,HData!$F$3:$F$48828,$J153,HData!$BR$3:$BR$48828,$K153)/H125,\"\")","v":""},"White",0,1]
["BME, single child, no disability",{"$f":"IF(B126>0,SUMIFS(HData!$AK$3:$AK$48828,HData!$BT$3:$BT$48828,TRUE,HData!$BP$3:$BP$48828,$I154,HData!$BO$3:$BO$48828,B$124,HData!$F$3:$F$48828,$J154,HData!$BR$3:$BR$48828,$K154)/B126,\"\")","v":""},{"$f":"IF(C126>0,SUMIFS(HData!$AK$3:$AK$48828,HData!$BT$3:$BT$48828,TRUE,HData!$BP$3:$BP$48828,$I154,HData!$BO$3:$BO$48828,C$124,HData!$F$3:$F$48828,$J154,HData!$BR$3:$BR$48828,$K154)/C126,\"\")","v":""},{"$f":"IF(D126>0,SUMIFS(HData!$AK$3:$AK$48828,HData!$BT$3:$BT$48828,TRUE,HData!$BP$3:$BP$48828,$I154,HData!$BO$3:$BO$48828,D$124,HData!$F$3:$F$48828,$J154,HData!$BR$3:$BR$48828,$K154)/D126,\"\")","v":""},{"$f":"IF(E126>0,SUMIFS(HData!$AK$3:$AK$48828,HData!$BT$3:$BT$48828,TRUE,HData!$BP$3:$BP$48828,$I154,HData!$BO$3:$BO$48828,E$124,HData!$F$3:$F$48828,$J154,HData!$BR$3:$BR$48828,$K154)/E126,\"\")","v":""},{"$f":"IF(F126>0,SUMIFS(HData!$AK$3:$AK$48828,HData!$BT$3:$BT$48828,TRUE,HData!$BP$3:$BP$48828,$I154,HData!$BO$3:$BO$48828,F$124,HData!$F$3:$F$48828,$J154,HData!$BR$3:$BR$48828,$K154)/F126,\"\")","v":""},{"$f":"IF(G126>0,SUMIFS(HData!$AK$3:$AK$48828,HData!$BT$3:$BT$48828,TRUE,HData!$BP$3:$BP$48828,$I154,HData!$BO$3:$BO$48828,G$124,HData!$F$3:$F$48828,$J154,HData!$BR$3:$BR$48828,$K154)/G126,\"\")","v":""},{"$f":"IF(H126>0,SUMIFS(HData!$AK$3:$AK$48828,HData!$BT$3:$BT$48828,TRUE,HData!$BP$3:$BP$48828,$I154,HData!$BO$3:$BO$48828,H$124,HData!$F$3:$F$48828,$J154,HData!$BR$3:$BR$48828,$K154)/H126,\"\")","v":""},"BME",0,1]
["White, single child, with disability",{"$f":"IF(B127>0,SUMIFS(HData!$AK$3:$AK$48828,HData!$BT$3:$BT$48828,TRUE,HData!$BP$3:$BP$48828,$I155,HData!$BO$3:$BO$48828,B$124,HData!$F$3:$F$48828,$J155,HData!$BR$3:$BR$48828,$K155)/B127,\"\")","v":""},{"$f":"IF(C127>0,SUMIFS(HData!$AK$3:$AK$48828,HData!$BT$3:$BT$48828,TRUE,HData!$BP$3:$BP$48828,$I155,HData!$BO$3:$BO$48828,C$124,HData!$F$3:$F$48828,$J155,HData!$BR$3:$BR$48828,$K155)/C127,\"\")","v":""},{"$f":"IF(D127>0,SUMIFS(HData!$AK$3:$AK$48828,HData!$BT$3:$BT$48828,TRUE,HData!$BP$3:$BP$48828,$I155,HData!$BO$3:$BO$48828,D$124,HData!$F$3:$F$48828,$J155,HData!$BR$3:$BR$48828,$K155)/D127,\"\")","v":""},{"$f":"IF(E127>0,SUMIFS(HData!$AK$3:$AK$48828,HData!$BT$3:$BT$48828,TRUE,HData!$BP$3:$BP$48828,$I155,HData!$BO$3:$BO$48828,E$124,HData!$F$3:$F$48828,$J155,HData!$BR$3:$BR$48828,$K155)/E127,\"\")","v":""},{"$f":"IF(F127>0,SUMIFS(HData!$AK$3:$AK$48828,HData!$BT$3:$BT$48828,TRUE,HData!$BP$3:$BP$48828,$I155,HData!$BO$3:$BO$48828,F$124,HData!$F$3:$F$48828,$J155,HData!$BR$3:$BR$48828,$K155)/F127,\"\")","v":""},{"$f":"IF(G127>0,SUMIFS(HData!$AK$3:$AK$48828,HData!$BT$3:$BT$48828,TRUE,HData!$BP$3:$BP$48828,$I155,HData!$BO$3:$BO$48828,G$124,HData!$F$3:$F$48828,$J155,HData!$BR$3:$BR$48828,$K155)/G127,\"\")","v":""},{"$f":"IF(H127>0,SUMIFS(HData!$AK$3:$AK$48828,HData!$BT$3:$BT$48828,TRUE,HData!$BP$3:$BP$48828,$I155,HData!$BO$3:$BO$48828,H$124,HData!$F$3:$F$48828,$J155,HData!$BR$3:$BR$48828,$K155)/H127,\"\")","v":""},"White",1,1]
["BME, single child, with disability",{"$f":"IF(B128>0,SUMIFS(HData!$AK$3:$AK$48828,HData!$BT$3:$BT$48828,TRUE,HData!$BP$3:$BP$48828,$I156,HData!$BO$3:$BO$48828,B$124,HData!$F$3:$F$48828,$J156,HData!$BR$3:$BR$48828,$K156)/B128,\"\")","v":""},{"$f":"IF(C128>0,SUMIFS(HData!$AK$3:$AK$48828,HData!$BT$3:$BT$48828,TRUE,HData!$BP$3:$BP$48828,$I156,HData!$BO$3:$BO$48828,C$124,HData!$F$3:$F$48828,$J156,HData!$BR$3:$BR$48828,$K156)/C128,\"\")","v":""},{"$f":"IF(D128>0,SUMIFS(HData!$AK$3:$AK$48828,HData!$BT$3:$BT$48828,TRUE,HData!$BP$3:$BP$48828,$I156,HData!$BO$3:$BO$48828,D$124,HData!$F$3:$F$48828,$J156,HData!$BR$3:$BR$48828,$K156)/D128,\"\")","v":""},{"$f":"IF(E128>0,SUMIFS(HData!$AK$3:$AK$48828,HData!$BT$3:$BT$48828,TRUE,HData!$BP$3:$BP$48828,$I156,HData!$BO$3:$BO$48828,E$124,HData!$F$3:$F$48828,$J156,HData!$BR$3:$BR$48828,$K156)/E128,\"\")","v":""},{"$f":"IF(F128>0,SUMIFS(HData!$AK$3:$AK$48828,HData!$BT$3:$BT$48828,TRUE,HData!$BP$3:$BP$48828,$I156,HData!$BO$3:$BO$48828,F$124,HData!$F$3:$F$48828,$J156,HData!$BR$3:$BR$48828,$K156)/F128,\"\")","v":""},{"$f":"IF(G128>0,SUMIFS(HData!$AK$3:$AK$48828,HData!$BT$3:$BT$48828,TRUE,HData!$BP$3:$BP$48828,$I156,HData!$BO$3:$BO$48828,G$124,HData!$F$3:$F$48828,$J156,HData!$BR$3:$BR$48828,$K156)/G128,\"\")","v":""},{"$f":"IF(H128>0,SUMIFS(HData!$AK$3:$AK$48828,HData!$BT$3:$BT$48828,TRUE,HData!$BP$3:$BP$48828,$I156,HData!$BO$3:$BO$48828,H$124,HData!$F$3:$F$48828,$J156,HData!$BR$3:$BR$48828,$K156)/H128,\"\")","v":""},"BME",1,1]
["White, sibling group of 2, no disability",{"$f":"IF(B129>0,SUMIFS(HData!$AK$3:$AK$48828,HData!$BT$3:$BT$48828,TRUE,HData!$BP$3:$BP$48828,$I157,HData!$BO$3:$BO$48828,B$124,HData!$F$3:$F$48828,$J157,HData!$BR$3:$BR$48828,$K157)/B129,\"\")","v":""},{"$f":"IF(C129>0,SUMIFS(HData!$AK$3:$AK$48828,HData!$BT$3:$BT$48828,TRUE,HData!$BP$3:$BP$48828,$I157,HData!$BO$3:$BO$48828,C$124,HData!$F$3:$F$48828,$J157,HData!$BR$3:$BR$48828,$K157)/C129,\"\")","v":""},{"$f":"IF(D129>0,SUMIFS(HData!$AK$3:$AK$48828,HData!$BT$3:$BT$48828,TRUE,HData!$BP$3:$BP$48828,$I157,HData!$BO$3:$BO$48828,D$124,HData!$F$3:$F$48828,$J157,HData!$BR$3:$BR$48828,$K157)/D129,\"\")","v":""},{"$f":"IF(E129>0,SUMIFS(HData!$AK$3:$AK$48828,HData!$BT$3:$BT$48828,TRUE,HData!$BP$3:$BP$48828,$I157,HData!$BO$3:$BO$48828,E$124,HData!$F$3:$F$48828,$J157,HData!$BR$3:$BR$48828,$K157)/E129,\"\")","v":""},{"$f":"IF(F129>0,SUMIFS(HData!$AK$3:$AK$48828,HData!$BT$3:$BT$48828,TRUE,HData!$BP$3:$BP$48828,$I157,HData!$BO$3:$BO$48828,F$124,HData!$F$3:$F$48828,$J157,HData!$BR$3:$BR$48828,$K157)/F129,\"\")","v":""},{"$f":"IF(G129>0,SUMIFS(HData!$AK$3:$AK$48828,HData!$BT$3:$BT$48828,TRUE,HData!$BP$3:$BP$48828,$I157,HData!$BO$3:$BO$48828,G$124,HData!$F$3:$F$48828,$J157,HData!$BR$3:$BR$48828,$K157)/G129,\"\")","v":""},{"$f":"IF(H129>0,SUMIFS(HData!$AK$3:$AK$48828,HData!$BT$3:$BT$48828,TRUE,HData!$BP$3:$BP$48828,$I157,HData!$BO$3:$BO$48828,H$124,HData!$F$3:$F$48828,$J157,HData!$BR$3:$BR$48828,$K157)/H129,\"\")","v":""},"White",0,2]
["BME, sibling group of 2, no disability",{"$f":"IF(B130>0,SUMIFS(HData!$AK$3:$AK$48828,HData!$BT$3:$BT$48828,TRUE,HData!$BP$3:$BP$48828,$I158,HData!$BO$3:$BO$48828,B$124,HData!$F$3:$F$48828,$J158,HData!$BR$3:$BR$48828,$K158)/B130,\"\")","v":""},{"$f":"IF(C130>0,SUMIFS(HData!$AK$3:$AK$48828,HData!$BT$3:$BT$48828,TRUE,HData!$BP$3:$BP$48828,$I158,HData!$BO$3:$BO$48828,C$124,HData!$F$3:$F$48828,$J158,HData!$BR$3:$BR$48828,$K158)/C130,\"\")","v":""},{"$f":"IF(D130>0,SUMIFS(HData!$AK$3:$AK$48828,HData!$BT$3:$BT$48828,TRUE,HData!$BP$3:$BP$48828,$I158,HData!$BO$3:$BO$48828,D$124,HData!$F$3:$F$48828,$J158,HData!$BR$3:$BR$48828,$K158)/D130,\"\")","v":""},{"$f":"IF(E130>0,SUMIFS(HData!$AK$3:$AK$48828,HData!$BT$3:$BT$48828,TRUE,HData!$BP$3:$BP$48828,$I158,HData!$BO$3:$BO$48828,E$124,HData!$F$3:$F$48828,$J158,HData!$BR$3:$BR$48828,$K158)/E130,\"\")","v":""},{"$f":"IF(F130>0,SUMIFS(HData!$AK$3:$AK$48828,HData!$BT$3:$BT$48828,TRUE,HData!$BP$3:$BP$48828,$I158,HData!$BO$3:$BO$48828,F$124,HData!$F$3:$F$48828,$J158,HData!$BR$3:$BR$48828,$K158)/F130,\"\")","v":""},{"$f":"IF(G130>0,SUMIFS(HData!$AK$3:$AK$48828,HData!$BT$3:$BT$48828,TRUE,HData!$BP$3:$BP$48828,$I158,HData!$BO$3:$BO$48828,G$124,HData!$F$3:$F$48828,$J158,HData!$BR$3:$BR$48828,$K158)/G130,\"\")","v":""},{"$f":"IF(H130>0,SUMIFS(HData!$AK$3:$AK$48828,HData!$BT$3:$BT$48828,TRUE,HData!$BP$3:$BP$48828,$I158,HData!$BO$3:$BO$48828,H$124,HData!$F$3:$F$48828,$J158,HData!$BR$3:$BR$48828,$K158)/H130,\"\")","v":""},"BME",0,2]
["White, sibling group of 2, with disability",{"$f":"IF(B131>0,SUMIFS(HData!$AK$3:$AK$48828,HData!$BT$3:$BT$48828,TRUE,HData!$BP$3:$BP$48828,$I159,HData!$BO$3:$BO$48828,B$124,HData!$F$3:$F$48828,$J159,HData!$BR$3:$BR$48828,$K159)/B131,\"\")","v":""},{"$f":"IF(C131>0,SUMIFS(HData!$AK$3:$AK$48828,HData!$BT$3:$BT$48828,TRUE,HData!$BP$3:$BP$48828,$I159,HData!$BO$3:$BO$48828,C$124,HData!$F$3:$F$48828,$J159,HData!$BR$3:$BR$48828,$K159)/C131,\"\")","v":""},{"$f":"IF(D131>0,SUMIFS(HData!$AK$3:$AK$48828,HData!$BT$3:$BT$48828,TRUE,HData!$BP$3:$BP$48828,$I159,HData!$BO$3:$BO$48828,D$124,HData!$F$3:$F$48828,$J159,HData!$BR$3:$BR$48828,$K159)/D131,\"\")","v":""},{"$f":"IF(E131>0,SUMIFS(HData!$AK$3:$AK$48828,HData!$BT$3:$BT$48828,TRUE,HData!$BP$3:$BP$48828,$I159,HData!$BO$3:$BO$48828,E$124,HData!$F$3:$F$48828,$J159,HData!$BR$3:$BR$48828,$K159)/E131,\"\")","v":""},{"$f":"IF(F131>0,SUMIFS(HData!$AK$3:$AK$48828,HData!$BT$3:$BT$48828,TRUE,HData!$BP$3:$BP$48828,$I159,HData!$BO$3:$BO$48828,F$124,HData!$F$3:$F$48828,$J159,HData!$BR$3:$BR$48828,$K159)/F131,\"\")","v":""},{"$f":"IF(G131>0,SUMIFS(HData!$AK$3:$AK$48828,HData!$BT$3:$BT$48828,TRUE,HData!$BP$3:$BP$48828,$I159,HData!$BO$3:$BO$48828,G$124,HData!$F$3:$F$48828,$J159,HData!$BR$3:$BR$48828,$K159)/G131,\"\")","v":""},{"$f":"IF(H131>0,SUMIFS(HData!$AK$3:$AK$48828,HData!$BT$3:$BT$48828,TRUE,HData!$BP$3:$BP$48828,$I159,HData!$BO$3:$BO$48828,H$124,HData!$F$3:$F$48828,$J159,HData!$BR$3:$BR$48828,$K159)/H131,\"\")","v":""},"White",1,2]
["BME, sibling group of 2, with disability",{"$f":"IF(B132>0,SUMIFS(HData!$AK$3:$AK$48828,HData!$BT$3:$BT$48828,TRUE,HData!$BP$3:$BP$48828,$I160,HData!$BO$3:$BO$48828,B$124,HData!$F$3:$F$48828,$J160,HData!$BR$3:$BR$48828,$K160)/B132,\"\")","v":""},{"$f":"IF(C132>0,SUMIFS(HData!$AK$3:$AK$48828,HData!$BT$3:$BT$48828,TRUE,HData!$BP$3:$BP$48828,$I160,HData!$BO$3:$BO$48828,C$124,HData!$F$3:$F$48828,$J160,HData!$BR$3:$BR$48828,$K160)/C132,\"\")","v":""},{"$f":"IF(D132>0,SUMIFS(HData!$AK$3:$AK$48828,HData!$BT$3:$BT$48828,TRUE,HData!$BP$3:$BP$48828,$I160,HData!$BO$3:$BO$48828,D$124,HData!$F$3:$F$48828,$J160,HData!$BR$3:$BR$48828,$K160)/D132,\"\")","v":""},{"$f":"IF(E132>0,SUMIFS(HData!$AK$3:$AK$48828,HData!$BT$3:$BT$48828,TRUE,HData!$BP$3:$BP$48828,$I160,HData!$BO$3:$BO$48828,E$124,HData!$F$3:$F$48828,$J160,HData!$BR$3:$BR$48828,$K160)/E132,\"\")","v":""},{"$f":"IF(F132>0,SUMIFS(HData!$AK$3:$AK$48828,HData!$BT$3:$BT$48828,TRUE,HData!$BP$3:$BP$48828,$I160,HData!$BO$3:$BO$48828,F$124,HData!$F$3:$F$48828,$J160,HData!$BR$3:$BR$48828,$K160)/F132,\"\")","v":""},{"$f":"IF(G132>0,SUMIFS(HData!$AK$3:$AK$48828,HData!$BT$3:$BT$48828,TRUE,HData!$BP$3:$BP$48828,$I160,HData!$BO$3:$BO$48828,G$124,HData!$F$3:$F$48828,$J160,HData!$BR$3:$BR$48828,$K160)/G132,\"\")","v":""},{"$f":"IF(H132>0,SUMIFS(HData!$AK$3:$AK$48828,HData!$BT$3:$BT$48828,TRUE,HData!$BP$3:$BP$48828,$I160,HData!$BO$3:$BO$48828,H$124,HData!$F$3:$F$48828,$J160,HData!$BR$3:$BR$48828,$K160)/H132,\"\")","v":""},"BME",1,2]
["White, sibling group of 3, no disability",{"$f":"IF(B133>0,SUMIFS(HData!$AK$3:$AK$48828,HData!$BT$3:$BT$48828,TRUE,HData!$BP$3:$BP$48828,$I161,HData!$BO$3:$BO$48828,B$124,HData!$F$3:$F$48828,$J161,HData!$BR$3:$BR$48828,$K161)/B133,\"\")","v":""},{"$f":"IF(C133>0,SUMIFS(HData!$AK$3:$AK$48828,HData!$BT$3:$BT$48828,TRUE,HData!$BP$3:$BP$48828,$I161,HData!$BO$3:$BO$48828,C$124,HData!$F$3:$F$48828,$J161,HData!$BR$3:$BR$48828,$K161)/C133,\"\")","v":""},{"$f":"IF(D133>0,SUMIFS(HData!$AK$3:$AK$48828,HData!$BT$3:$BT$48828,TRUE,HData!$BP$3:$BP$48828,$I161,HData!$BO$3:$BO$48828,D$124,HData!$F$3:$F$48828,$J161,HData!$BR$3:$BR$48828,$K161)/D133,\"\")","v":""},{"$f":"IF(E133>0,SUMIFS(HData!$AK$3:$AK$48828,HData!$BT$3:$BT$48828,TRUE,HData!$BP$3:$BP$48828,$I161,HData!$BO$3:$BO$48828,E$124,HData!$F$3:$F$48828,$J161,HData!$BR$3:$BR$48828,$K161)/E133,\"\")","v":""},{"$f":"IF(F133>0,SUMIFS(HData!$AK$3:$AK$48828,HData!$BT$3:$BT$48828,TRUE,HData!$BP$3:$BP$48828,$I161,HData!$BO$3:$BO$48828,F$124,HData!$F$3:$F$48828,$J161,HData!$BR$3:$BR$48828,$K161)/F133,\"\")","v":""},{"$f":"IF(G133>0,SUMIFS(HData!$AK$3:$AK$48828,HData!$BT$3:$BT$48828,TRUE,HData!$BP$3:$BP$48828,$I161,HData!$BO$3:$BO$48828,G$124,HData!$F$3:$F$48828,$J161,HData!$BR$3:$BR$48828,$K161)/G133,\"\")","v":""},{"$f":"IF(H133>0,SUMIFS(HData!$AK$3:$AK$48828,HData!$BT$3:$BT$48828,TRUE,HData!$BP$3:$BP$48828,$I161,HData!$BO$3:$BO$48828,H$124,HData!$F$3:$F$48828,$J161,HData!$BR$3:$BR$48828,$K161)/H133,\"\")","v":""},"White",0,3]
["BME, sibling group of 3, no disability",{"$f":"IF(B134>0,SUMIFS(HData!$AK$3:$AK$48828,HData!$BT$3:$BT$48828,TRUE,HData!$BP$3:$BP$48828,$I162,HData!$BO$3:$BO$48828,B$124,HData!$F$3:$F$48828,$J162,HData!$BR$3:$BR$48828,$K162)/B134,\"\")","v":""},{"$f":"IF(C134>0,SUMIFS(HData!$AK$3:$AK$48828,HData!$BT$3:$BT$48828,TRUE,HData!$BP$3:$BP$48828,$I162,HData!$BO$3:$BO$48828,C$124,HData!$F$3:$F$48828,$J162,HData!$BR$3:$BR$48828,$K162)/C134,\"\")","v":""},{"$f":"IF(D134>0,SUMIFS(HData!$AK$3:$AK$48828,HData!$BT$3:$BT$48828,TRUE,HData!$BP$3:$BP$48828,$I162,HData!$BO$3:$BO$48828,D$124,HData!$F$3:$F$48828,$J162,HData!$BR$3:$BR$48828,$K162)/D134,\"\")","v":""},{"$f":"IF(E134>0,SUMIFS(HData!$AK$3:$AK$48828,HData!$BT$3:$BT$48828,TRUE,HData!$BP$3:$BP$48828,$I162,HData!$BO$3:$BO$48828,E$124,HData!$F$3:$F$48828,$J162,HData!$BR$3:$BR$48828,$K162)/E134,\"\")","v":""},{"$f":"IF(F134>0,SUMIFS(HData!$AK$3:$AK$48828,HData!$BT$3:$BT$48828,TRUE,HData!$BP$3:$BP$48828,$I162,HData!$BO$3:$BO$48828,F$124,HData!$F$3:$F$48828,$J162,HData!$BR$3:$BR$48828,$K162)/F134,\"\")","v":""},{"$f":"IF(G134>0,SUMIFS(HData!$AK$3:$AK$48828,HData!$BT$3:$BT$48828,TRUE,HData!$BP$3:$BP$48828,$I162,HData!$BO$3:$BO$48828,G$124,HData!$F$3:$F$48828,$J162,HData!$BR$3:$BR$48828,$K162)/G134,\"\")","v":""},{"$f":"IF(H134>0,SUMIFS(HData!$AK$3:$AK$48828,HData!$BT$3:$BT$48828,TRUE,HData!$BP$3:$BP$48828,$I162,HData!$BO$3:$BO$48828,H$124,HData!$F$3:$F$48828,$J162,HData!$BR$3:$BR$48828,$K162)/H134,\"\")","v":""},"BME",0,3]
["White, sibling group of 3, with disability",{"$f":"IF(B135>0,SUMIFS(HData!$AK$3:$AK$48828,HData!$BT$3:$BT$48828,TRUE,HData!$BP$3:$BP$48828,$I163,HData!$BO$3:$BO$48828,B$124,HData!$F$3:$F$48828,$J163,HData!$BR$3:$BR$48828,$K163)/B135,\"\")","v":""},{"$f":"IF(C135>0,SUMIFS(HData!$AK$3:$AK$48828,HData!$BT$3:$BT$48828,TRUE,HData!$BP$3:$BP$48828,$I163,HData!$BO$3:$BO$48828,C$124,HData!$F$3:$F$48828,$J163,HData!$BR$3:$BR$48828,$K163)/C135,\"\")","v":""},{"$f":"IF(D135>0,SUMIFS(HData!$AK$3:$AK$48828,HData!$BT$3:$BT$48828,TRUE,HData!$BP$3:$BP$48828,$I163,HData!$BO$3:$BO$48828,D$124,HData!$F$3:$F$48828,$J163,HData!$BR$3:$BR$48828,$K163)/D135,\"\")","v":""},{"$f":"IF(E135>0,SUMIFS(HData!$AK$3:$AK$48828,HData!$BT$3:$BT$48828,TRUE,HData!$BP$3:$BP$48828,$I163,HData!$BO$3:$BO$48828,E$124,HData!$F$3:$F$48828,$J163,HData!$BR$3:$BR$48828,$K163)/E135,\"\")","v":""},{"$f":"IF(F135>0,SUMIFS(HData!$AK$3:$AK$48828,HData!$BT$3:$BT$48828,TRUE,HData!$BP$3:$BP$48828,$I163,HData!$BO$3:$BO$48828,F$124,HData!$F$3:$F$48828,$J163,HData!$BR$3:$BR$48828,$K163)/F135,\"\")","v":""},{"$f":"IF(G135>0,SUMIFS(HData!$AK$3:$AK$48828,HData!$BT$3:$BT$48828,TRUE,HData!$BP$3:$BP$48828,$I163,HData!$BO$3:$BO$48828,G$124,HData!$F$3:$F$48828,$J163,HData!$BR$3:$BR$48828,$K163)/G135,\"\")","v":""},{"$f":"IF(H135>0,SUMIFS(HData!$AK$3:$AK$48828,HData!$BT$3:$BT$48828,TRUE,HData!$BP$3:$BP$48828,$I163,HData!$BO$3:$BO$48828,H$124,HData!$F$3:$F$48828,$J163,HData!$BR$3:$BR$48828,$K163)/H135,\"\")","v":""},"White",1,3]
["BME, sibling group of 3, with disability",{"$f":"IF(B136>0,SUMIFS(HData!$AK$3:$AK$48828,HData!$BT$3:$BT$48828,TRUE,HData!$BP$3:$BP$48828,$I164,HData!$BO$3:$BO$48828,B$124,HData!$F$3:$F$48828,$J164,HData!$BR$3:$BR$48828,$K164)/B136,\"\")","v":""},{"$f":"IF(C136>0,SUMIFS(HData!$AK$3:$AK$48828,HData!$BT$3:$BT$48828,TRUE,HData!$BP$3:$BP$48828,$I164,HData!$BO$3:$BO$48828,C$124,HData!$F$3:$F$48828,$J164,HData!$BR$3:$BR$48828,$K164)/C136,\"\")","v":""},{"$f":"IF(D136>0,SUMIFS(HData!$AK$3:$AK$48828,HData!$BT$3:$BT$48828,TRUE,HData!$BP$3:$BP$48828,$I164,HData!$BO$3:$BO$48828,D$124,HData!$F$3:$F$48828,$J164,HData!$BR$3:$BR$48828,$K164)/D136,\"\")","v":""},{"$f":"IF(E136>0,SUMIFS(HData!$AK$3:$AK$48828,HData!$BT$3:$BT$48828,TRUE,HData!$BP$3:$BP$48828,$I164,HData!$BO$3:$BO$48828,E$124,HData!$F$3:$F$48828,$J164,HData!$BR$3:$BR$48828,$K164)/E136,\"\")","v":""},{"$f":"IF(F136>0,SUMIFS(HData!$AK$3:$AK$48828,HData!$BT$3:$BT$48828,TRUE,HData!$BP$3:$BP$48828,$I164,HData!$BO$3:$BO$48828,F$124,HData!$F$3:$F$48828,$J164,HData!$BR$3:$BR$48828,$K164)/F136,\"\")","v":""},{"$f":"IF(G136>0,SUMIFS(HData!$AK$3:$AK$48828,HData!$BT$3:$BT$48828,TRUE,HData!$BP$3:$BP$48828,$I164,HData!$BO$3:$BO$48828,G$124,HData!$F$3:$F$48828,$J164,HData!$BR$3:$BR$48828,$K164)/G136,\"\")","v":""},{"$f":"IF(H136>0,SUMIFS(HData!$AK$3:$AK$48828,HData!$BT$3:$BT$48828,TRUE,HData!$BP$3:$BP$48828,$I164,HData!$BO$3:$BO$48828,H$124,HData!$F$3:$F$48828,$J164,HData!$BR$3:$BR$48828,$K164)/H136,\"\")","v":""},"BME",1,3,null,"All children",{"$f":"IF(N136>0,SUMIFS(HData!$AZ$3:$AZ$48293,HData!$BT$3:$BT$48293,TRUE)/N136,\"\")","v":""}]
[]
["WAITING >18 MONTHS",0,1,2,3,4,5,">5","BME","Disability","Sibling"]
["White, single child, no disability",{"$f":"COUNTIFS(HData!$BT$3:$BT$48828,TRUE,HData!$BP$3:$BP$48828,$I167,HData!$BO$3:$BO$48828,B$124,HData!$F$3:$F$48828,$J167,HData!$BR$3:$BR$48828,$K167,HData!$AL$3:$AL$48828,\">=18\")","v":0},{"$f":"COUNTIFS(HData!$BT$3:$BT$48828,TRUE,HData!$BP$3:$BP$48828,$I167,HData!$BO$3:$BO$48828,C$124,HData!$F$3:$F$48828,$J167,HData!$BR$3:$BR$48828,$K167,HData!$AL$3:$AL$48828,\">=18\")","v":0},{"$f":"COUNTIFS(HData!$BT$3:$BT$48828,TRUE,HData!$BP$3:$BP$48828,$I167,HData!$BO$3:$BO$48828,D$124,HData!$F$3:$F$48828,$J167,HData!$BR$3:$BR$48828,$K167,HData!$AL$3:$AL$48828,\">=18\")","v":0},{"$f":"COUNTIFS(HData!$BT$3:$BT$48828,TRUE,HData!$BP$3:$BP$48828,$I167,HData!$BO$3:$BO$48828,E$124,HData!$F$3:$F$48828,$J167,HData!$BR$3:$BR$48828,$K167,HData!$AL$3:$AL$48828,\">=18\")","v":0},{"$f":"COUNTIFS(HData!$BT$3:$BT$48828,TRUE,HData!$BP$3:$BP$48828,$I167,HData!$BO$3:$BO$48828,F$124,HData!$F$3:$F$48828,$J167,HData!$BR$3:$BR$48828,$K167,HData!$AL$3:$AL$48828,\">=18\")","v":0},{"$f":"COUNTIFS(HData!$BT$3:$BT$48828,TRUE,HData!$BP$3:$BP$48828,$I167,HData!$BO$3:$BO$48828,G$124,HData!$F$3:$F$48828,$J167,HData!$BR$3:$BR$48828,$K167,HData!$AL$3:$AL$48828,\">=18\")","v":0},{"$f":"COUNTIFS(HData!$BT$3:$BT$48828,TRUE,HData!$BP$3:$BP$48828,$I167,HData!$BO$3:$BO$48828,H$124,HData!$F$3:$F$48828,$J167,HData!$BR$3:$BR$48828,$K167,HData!$AL$3:$AL$48828,\">=18\")","v":0},"White",0,1]
["BME, single child, no disability",{"$f":"COUNTIFS(HData!$BT$3:$BT$48828,TRUE,HData!$BP$3:$BP$48828,$I168,HData!$BO$3:$BO$48828,B$124,HData!$F$3:$F$48828,$J168,HData!$BR$3:$BR$48828,$K168,HData!$AL$3:$AL$48828,\">=18\")","v":0},{"$f":"COUNTIFS(HData!$BT$3:$BT$48828,TRUE,HData!$BP$3:$BP$48828,$I168,HData!$BO$3:$BO$48828,C$124,HData!$F$3:$F$48828,$J168,HData!$BR$3:$BR$48828,$K168,HData!$AL$3:$AL$48828,\">=18\")","v":0},{"$f":"COUNTIFS(HData!$BT$3:$BT$48828,TRUE,HData!$BP$3:$BP$48828,$I168,HData!$BO$3:$BO$48828,D$124,HData!$F$3:$F$48828,$J168,HData!$BR$3:$BR$48828,$K168,HData!$AL$3:$AL$48828,\">=18\")","v":0},{"$f":"COUNTIFS(HData!$BT$3:$BT$48828,TRUE,HData!$BP$3:$BP$48828,$I168,HData!$BO$3:$BO$48828,E$124,HData!$F$3:$F$48828,$J168,HData!$BR$3:$BR$48828,$K168,HData!$AL$3:$AL$48828,\">=18\")","v":0},{"$f":"COUNTIFS(HData!$BT$3:$BT$48828,TRUE,HData!$BP$3:$BP$48828,$I168,HData!$BO$3:$BO$48828,F$124,HData!$F$3:$F$48828,$J168,HData!$BR$3:$BR$48828,$K168,HData!$AL$3:$AL$48828,\">=18\")","v":0},{"$f":"COUNTIFS(HData!$BT$3:$BT$48828,TRUE,HData!$BP$3:$BP$48828,$I168,HData!$BO$3:$BO$48828,G$124,HData!$F$3:$F$48828,$J168,HData!$BR$3:$BR$48828,$K168,HData!$AL$3:$AL$48828,\">=18\")","v":0},{"$f":"COUNTIFS(HData!$BT$3:$BT$48828,TRUE,HData!$BP$3:$BP$48828,$I168,HData!$BO$3:$BO$48828,H$124,HData!$F$3:$F$48828,$J168,HData!$BR$3:$BR$48828,$K168,HData!$AL$3:$AL$48828,\">=18\")","v":0},"BME",0,1]
["White, single child, with disability",{"$f":"COUNTIFS(HData!$BT$3:$BT$48828,TRUE,HData!$BP$3:$BP$48828,$I169,HData!$BO$3:$BO$48828,B$124,HData!$F$3:$F$48828,$J169,HData!$BR$3:$BR$48828,$K169,HData!$AL$3:$AL$48828,\">=18\")","v":0},{"$f":"COUNTIFS(HData!$BT$3:$BT$48828,TRUE,HData!$BP$3:$BP$48828,$I169,HData!$BO$3:$BO$48828,C$124,HData!$F$3:$F$48828,$J169,HData!$BR$3:$BR$48828,$K169,HData!$AL$3:$AL$48828,\">=18\")","v":0},{"$f":"COUNTIFS(HData!$BT$3:$BT$48828,TRUE,HData!$BP$3:$BP$48828,$I169,HData!$BO$3:$BO$48828,D$124,HData!$F$3:$F$48828,$J169,HData!$BR$3:$BR$48828,$K169,HData!$AL$3:$AL$48828,\">=18\")","v":0},{"$f":"COUNTIFS(HData!$BT$3:$BT$48828,TRUE,HData!$BP$3:$BP$48828,$I169,HData!$BO$3:$BO$48828,E$124,HData!$F$3:$F$48828,$J169,HData!$BR$3:$BR$48828,$K169,HData!$AL$3:$AL$48828,\">=18\")","v":0},{"$f":"COUNTIFS(HData!$BT$3:$BT$48828,TRUE,HData!$BP$3:$BP$48828,$I169,HData!$BO$3:$BO$48828,F$124,HData!$F$3:$F$48828,$J169,HData!$BR$3:$BR$48828,$K169,HData!$AL$3:$AL$48828,\">=18\")","v":0},{"$f":"COUNTIFS(HData!$BT$3:$BT$48828,TRUE,HData!$BP$3:$BP$48828,$I169,HData!$BO$3:$BO$48828,G$124,HData!$F$3:$F$48828,$J169,HData!$BR$3:$BR$48828,$K169,HData!$AL$3:$AL$48828,\">=18\")","v":0},{"$f":"COUNTIFS(HData!$BT$3:$BT$48828,TRUE,HData!$BP$3:$BP$48828,$I169,HData!$BO$3:$BO$48828,H$124,HData!$F$3:$F$48828,$J169,HData!$BR$3:$BR$48828,$K169,HData!$AL$3:$AL$48828,\">=18\")","v":0},"White",1,1]
["BME, single child, with disability",{"$f":"COUNTIFS(HData!$BT$3:$BT$48828,TRUE,HData!$BP$3:$BP$48828,$I170,HData!$BO$3:$BO$48828,B$124,HData!$F$3:$F$48828,$J170,HData!$BR$3:$BR$48828,$K170,HData!$AL$3:$AL$48828,\">=18\")","v":0},{"$f":"COUNTIFS(HData!$BT$3:$BT$48828,TRUE,HData!$BP$3:$BP$48828,$I170,HData!$BO$3:$BO$48828,C$124,HData!$F$3:$F$48828,$J170,HData!$BR$3:$BR$48828,$K170,HData!$AL$3:$AL$48828,\">=18\")","v":0},{"$f":"COUNTIFS(HData!$BT$3:$BT$48828,TRUE,HData!$BP$3:$BP$48828,$I170,HData!$BO$3:$BO$48828,D$124,HData!$F$3:$F$48828,$J170,HData!$BR$3:$BR$48828,$K170,HData!$AL$3:$AL$48828,\">=18\")","v":0},{"$f":"COUNTIFS(HData!$BT$3:$BT$48828,TRUE,HData!$BP$3:$BP$48828,$I170,HData!$BO$3:$BO$48828,E$124,HData!$F$3:$F$48828,$J170,HData!$BR$3:$BR$48828,$K170,HData!$AL$3:$AL$48828,\">=18\")","v":0},{"$f":"COUNTIFS(HData!$BT$3:$BT$48828,TRUE,HData!$BP$3:$BP$48828,$I170,HData!$BO$3:$BO$48828,F$124,HData!$F$3:$F$48828,$J170,HData!$BR$3:$BR$48828,$K170,HData!$AL$3:$AL$48828,\">=18\")","v":0},{"$f":"COUNTIFS(HData!$BT$3:$BT$48828,TRUE,HData!$BP$3:$BP$48828,$I170,HData!$BO$3:$BO$48828,G$124,HData!$F$3:$F$48828,$J170,HData!$BR$3:$BR$48828,$K170,HData!$AL$3:$AL$48828,\">=18\")","v":0},{"$f":"COUNTIFS(HData!$BT$3:$BT$48828,TRUE,HData!$BP$3:$BP$48828,$I170,HData!$BO$3:$BO$48828,H$124,HData!$F$3:$F$48828,$J170,HData!$BR$3:$BR$48828,$K170,HData!$AL$3:$AL$48828,\">=18\")","v":0},"BME",1,1]
["White, sibling group of 2, no disability",{"$f":"COUNTIFS(HData!$BT$3:$BT$48828,TRUE,HData!$BP$3:$BP$48828,$I171,HData!$BO$3:$BO$48828,B$124,HData!$F$3:$F$48828,$J171,HData!$BR$3:$BR$48828,$K171,HData!$AL$3:$AL$48828,\">=18\")","v":0},{"$f":"COUNTIFS(HData!$BT$3:$BT$48828,TRUE,HData!$BP$3:$BP$48828,$I171,HData!$BO$3:$BO$48828,C$124,HData!$F$3:$F$48828,$J171,HData!$BR$3:$BR$48828,$K171,HData!$AL$3:$AL$48828,\">=18\")","v":0},{"$f":"COUNTIFS(HData!$BT$3:$BT$48828,TRUE,HData!$BP$3:$BP$48828,$I171,HData!$BO$3:$BO$48828,D$124,HData!$F$3:$F$48828,$J171,HData!$BR$3:$BR$48828,$K171,HData!$AL$3:$AL$48828,\">=18\")","v":0},{"$f":"COUNTIFS(HData!$BT$3:$BT$48828,TRUE,HData!$BP$3:$BP$48828,$I171,HData!$BO$3:$BO$48828,E$124,HData!$F$3:$F$48828,$J171,HData!$BR$3:$BR$48828,$K171,HData!$AL$3:$AL$48828,\">=18\")","v":0},{"$f":"COUNTIFS(HData!$BT$3:$BT$48828,TRUE,HData!$BP$3:$BP$48828,$I171,HData!$BO$3:$BO$48828,F$124,HData!$F$3:$F$48828,$J171,HData!$BR$3:$BR$48828,$K171,HData!$AL$3:$AL$48828,\">=18\")","v":0},{"$f":"COUNTIFS(HData!$BT$3:$BT$48828,TRUE,HData!$BP$3:$BP$48828,$I171,HData!$BO$3:$BO$48828,G$124,HData!$F$3:$F$48828,$J171,HData!$BR$3:$BR$48828,$K171,HData!$AL$3:$AL$48828,\">=18\")","v":0},{"$f":"COUNTIFS(HData!$BT$3:$BT$48828,TRUE,HData!$BP$3:$BP$48828,$I171,HData!$BO$3:$BO$48828,H$124,HData!$F$3:$F$48828,$J171,HData!$BR$3:$BR$48828,$K171,HData!$AL$3:$AL$48828,\">=18\")","v":0},"White",0,2]
["BME, sibling group of 2, no disability",{"$f":"COUNTIFS(HData!$BT$3:$BT$48828,TRUE,HData!$BP$3:$BP$48828,$I172,HData!$BO$3:$BO$48828,B$124,HData!$F$3:$F$48828,$J172,HData!$BR$3:$BR$48828,$K172,HData!$AL$3:$AL$48828,\">=18\")","v":0},{"$f":"COUNTIFS(HData!$BT$3:$BT$48828,TRUE,HData!$BP$3:$BP$48828,$I172,HData!$BO$3:$BO$48828,C$124,HData!$F$3:$F$48828,$J172,HData!$BR$3:$BR$48828,$K172,HData!$AL$3:$AL$48828,\">=18\")","v":0},{"$f":"COUNTIFS(HData!$BT$3:$BT$48828,TRUE,HData!$BP$3:$BP$48828,$I172,HData!$BO$3:$BO$48828,D$124,HData!$F$3:$F$48828,$J172,HData!$BR$3:$BR$48828,$K172,HData!$AL$3:$AL$48828,\">=18\")","v":0},{"$f":"COUNTIFS(HData!$BT$3:$BT$48828,TRUE,HData!$BP$3:$BP$48828,$I172,HData!$BO$3:$BO$48828,E$124,HData!$F$3:$F$48828,$J172,HData!$BR$3:$BR$48828,$K172,HData!$AL$3:$AL$48828,\">=18\")","v":0},{"$f":"COUNTIFS(HData!$BT$3:$BT$48828,TRUE,HData!$BP$3:$BP$48828,$I172,HData!$BO$3:$BO$48828,F$124,HData!$F$3:$F$48828,$J172,HData!$BR$3:$BR$48828,$K172,HData!$AL$3:$AL$48828,\">=18\")","v":0},{"$f":"COUNTIFS(HData!$BT$3:$BT$48828,TRUE,HData!$BP$3:$BP$48828,$I172,HData!$BO$3:$BO$48828,G$124,HData!$F$3:$F$48828,$J172,HData!$BR$3:$BR$48828,$K172,HData!$AL$3:$AL$48828,\">=18\")","v":0},{"$f":"COUNTIFS(HData!$BT$3:$BT$48828,TRUE,HData!$BP$3:$BP$48828,$I172,HData!$BO$3:$BO$48828,H$124,HData!$F$3:$F$48828,$J172,HData!$BR$3:$BR$48828,$K172,HData!$AL$3:$AL$48828,\">=18\")","v":0},"BME",0,2]
["White, sibling group of 2, with disability",{"$f":"COUNTIFS(HData!$BT$3:$BT$48828,TRUE,HData!$BP$3:$BP$48828,$I173,HData!$BO$3:$BO$48828,B$124,HData!$F$3:$F$48828,$J173,HData!$BR$3:$BR$48828,$K173,HData!$AL$3:$AL$48828,\">=18\")","v":0},{"$f":"COUNTIFS(HData!$BT$3:$BT$48828,TRUE,HData!$BP$3:$BP$48828,$I173,HData!$BO$3:$BO$48828,C$124,HData!$F$3:$F$48828,$J173,HData!$BR$3:$BR$48828,$K173,HData!$AL$3:$AL$48828,\">=18\")","v":0},{"$f":"COUNTIFS(HData!$BT$3:$BT$48828,TRUE,HData!$BP$3:$BP$48828,$I173,HData!$BO$3:$BO$48828,D$124,HData!$F$3:$F$48828,$J173,HData!$BR$3:$BR$48828,$K173,HData!$AL$3:$AL$48828,\">=18\")","v":0},{"$f":"COUNTIFS(HData!$BT$3:$BT$48828,TRUE,HData!$BP$3:$BP$48828,$I173,HData!$BO$3:$BO$48828,E$124,HData!$F$3:$F$48828,$J173,HData!$BR$3:$BR$48828,$K173,HData!$AL$3:$AL$48828,\">=18\")","v":0},{"$f":"COUNTIFS(HData!$BT$3:$BT$48828,TRUE,HData!$BP$3:$BP$48828,$I173,HData!$BO$3:$BO$48828,F$124,HData!$F$3:$F$48828,$J173,HData!$BR$3:$BR$48828,$K173,HData!$AL$3:$AL$48828,\">=18\")","v":0},{"$f":"COUNTIFS(HData!$BT$3:$BT$48828,TRUE,HData!$BP$3:$BP$48828,$I173,HData!$BO$3:$BO$48828,G$124,HData!$F$3:$F$48828,$J173,HData!$BR$3:$BR$48828,$K173,HData!$AL$3:$AL$48828,\">=18\")","v":0},{"$f":"COUNTIFS(HData!$BT$3:$BT$48828,TRUE,HData!$BP$3:$BP$48828,$I173,HData!$BO$3:$BO$48828,H$124,HData!$F$3:$F$48828,$J173,HData!$BR$3:$BR$48828,$K173,HData!$AL$3:$AL$48828,\">=18\")","v":0},"White",1,2]
["BME, sibling group of 2, with disability",{"$f":"COUNTIFS(HData!$BT$3:$BT$48828,TRUE,HData!$BP$3:$BP$48828,$I174,HData!$BO$3:$BO$48828,B$124,HData!$F$3:$F$48828,$J174,HData!$BR$3:$BR$48828,$K174,HData!$AL$3:$AL$48828,\">=18\")","v":0},{"$f":"COUNTIFS(HData!$BT$3:$BT$48828,TRUE,HData!$BP$3:$BP$48828,$I174,HData!$BO$3:$BO$48828,C$124,HData!$F$3:$F$48828,$J174,HData!$BR$3:$BR$48828,$K174,HData!$AL$3:$AL$48828,\">=18\")","v":0},{"$f":"COUNTIFS(HData!$BT$3:$BT$48828,TRUE,HData!$BP$3:$BP$48828,$I174,HData!$BO$3:$BO$48828,D$124,HData!$F$3:$F$48828,$J174,HData!$BR$3:$BR$48828,$K174,HData!$AL$3:$AL$48828,\">=18\")","v":0},{"$f":"COUNTIFS(HData!$BT$3:$BT$48828,TRUE,HData!$BP$3:$BP$48828,$I174,HData!$BO$3:$BO$48828,E$124,HData!$F$3:$F$48828,$J174,HData!$BR$3:$BR$48828,$K174,HData!$AL$3:$AL$48828,\">=18\")","v":0},{"$f":"COUNTIFS(HData!$BT$3:$BT$48828,TRUE,HData!$BP$3:$BP$48828,$I174,HData!$BO$3:$BO$48828,F$124,HData!$F$3:$F$48828,$J174,HData!$BR$3:$BR$48828,$K174,HData!$AL$3:$AL$48828,\">=18\")","v":0},{"$f":"COUNTIFS(HData!$BT$3:$BT$48828,TRUE,HData!$BP$3:$BP$48828,$I174,HData!$BO$3:$BO$48828,G$124,HData!$F$3:$F$48828,$J174,HData!$BR$3:$BR$48828,$K174,HData!$AL$3:$AL$48828,\">=18\")","v":0},{"$f":"COUNTIFS(HData!$BT$3:$BT$48828,TRUE,HData!$BP$3:$BP$48828,$I174,HData!$BO$3:$BO$48828,H$124,HData!$F$3:$F$48828,$J174,HData!$BR$3:$BR$48828,$K174,HData!$AL$3:$AL$48828,\">=18\")","v":0},"BME",1,2]
["White, sibling group of 3, no disability",{"$f":"COUNTIFS(HData!$BT$3:$BT$48828,TRUE,HData!$BP$3:$BP$48828,$I175,HData!$BO$3:$BO$48828,B$124,HData!$F$3:$F$48828,$J175,HData!$BR$3:$BR$48828,$K175,HData!$AL$3:$AL$48828,\">=18\")","v":0},{"$f":"COUNTIFS(HData!$BT$3:$BT$48828,TRUE,HData!$BP$3:$BP$48828,$I175,HData!$BO$3:$BO$48828,C$124,HData!$F$3:$F$48828,$J175,HData!$BR$3:$BR$48828,$K175,HData!$AL$3:$AL$48828,\">=18\")","v":0},{"$f":"COUNTIFS(HData!$BT$3:$BT$48828,TRUE,HData!$BP$3:$BP$48828,$I175,HData!$BO$3:$BO$48828,D$124,HData!$F$3:$F$48828,$J175,HData!$BR$3:$BR$48828,$K175,HData!$AL$3:$AL$48828,\">=18\")","v":0},{"$f":"COUNTIFS(HData!$BT$3:$BT$48828,TRUE,HData!$BP$3:$BP$48828,$I175,HData!$BO$3:$BO$48828,E$124,HData!$F$3:$F$48828,$J175,HData!$BR$3:$BR$48828,$K175,HData!$AL$3:$AL$48828,\">=18\")","v":0},{"$f":"COUNTIFS(HData!$BT$3:$BT$48828,TRUE,HData!$BP$3:$BP$48828,$I175,HData!$BO$3:$BO$48828,F$124,HData!$F$3:$F$48828,$J175,HData!$BR$3:$BR$48828,$K175,HData!$AL$3:$AL$48828,\">=18\")","v":0},{"$f":"COUNTIFS(HData!$BT$3:$BT$48828,TRUE,HData!$BP$3:$BP$48828,$I175,HData!$BO$3:$BO$48828,G$124,HData!$F$3:$F$48828,$J175,HData!$BR$3:$BR$48828,$K175,HData!$AL$3:$AL$48828,\">=18\")","v":0},{"$f":"COUNTIFS(HData!$BT$3:$BT$48828,TRUE,HData!$BP$3:$BP$48828,$I175,HData!$BO$3:$BO$48828,H$124,HData!$F$3:$F$48828,$J175,HData!$BR$3:$BR$48828,$K175,HData!$AL$3:$AL$48828,\">=18\")","v":0},"White",0,3]
["BME, sibling group of 3, no disability",{"$f":"COUNTIFS(HData!$BT$3:$BT$48828,TRUE,HData!$BP$3:$BP$48828,$I176,HData!$BO$3:$BO$48828,B$124,HData!$F$3:$F$48828,$J176,HData!$BR$3:$BR$48828,$K176,HData!$AL$3:$AL$48828,\">=18\")","v":0},{"$f":"COUNTIFS(HData!$BT$3:$BT$48828,TRUE,HData!$BP$3:$BP$48828,$I176,HData!$BO$3:$BO$48828,C$124,HData!$F$3:$F$48828,$J176,HData!$BR$3:$BR$48828,$K176,HData!$AL$3:$AL$48828,\">=18\")","v":0},{"$f":"COUNTIFS(HData!$BT$3:$BT$48828,TRUE,HData!$BP$3:$BP$48828,$I176,HData!$BO$3:$BO$48828,D$124,HData!$F$3:$F$48828,$J176,HData!$BR$3:$BR$48828,$K176,HData!$AL$3:$AL$48828,\">=18\")","v":0},{"$f":"COUNTIFS(HData!$BT$3:$BT$48828,TRUE,HData!$BP$3:$BP$48828,$I176,HData!$BO$3:$BO$48828,E$124,HData!$F$3:$F$48828,$J176,HData!$BR$3:$BR$48828,$K176,HData!$AL$3:$AL$48828,\">=18\")","v":0},{"$f":"COUNTIFS(HData!$BT$3:$BT$48828,TRUE,HData!$BP$3:$BP$48828,$I176,HData!$BO$3:$BO$48828,F$124,HData!$F$3:$F$48828,$J176,HData!$BR$3:$BR$48828,$K176,HData!$AL$3:$AL$48828,\">=18\")","v":0},{"$f":"COUNTIFS(HData!$BT$3:$BT$48828,TRUE,HData!$BP$3:$BP$48828,$I176,HData!$BO$3:$BO$48828,G$124,HData!$F$3:$F$48828,$J176,HData!$BR$3:$BR$48828,$K176,HData!$AL$3:$AL$48828,\">=18\")","v":0},{"$f":"COUNTIFS(HData!$BT$3:$BT$48828,TRUE,HData!$BP$3:$BP$48828,$I176,HData!$BO$3:$BO$48828,H$124,HData!$F$3:$F$48828,$J176,HData!$BR$3:$BR$48828,$K176,HData!$AL$3:$AL$48828,\">=18\")","v":0},"BME",0,3]
["White, sibling group of 3, with disability",{"$f":"COUNTIFS(HData!$BT$3:$BT$48828,TRUE,HData!$BP$3:$BP$48828,$I177,HData!$BO$3:$BO$48828,B$124,HData!$F$3:$F$48828,$J177,HData!$BR$3:$BR$48828,$K177,HData!$AL$3:$AL$48828,\">=18\")","v":0},{"$f":"COUNTIFS(HData!$BT$3:$BT$48828,TRUE,HData!$BP$3:$BP$48828,$I177,HData!$BO$3:$BO$48828,C$124,HData!$F$3:$F$48828,$J177,HData!$BR$3:$BR$48828,$K177,HData!$AL$3:$AL$48828,\">=18\")","v":0},{"$f":"COUNTIFS(HData!$BT$3:$BT$48828,TRUE,HData!$BP$3:$BP$48828,$I177,HData!$BO$3:$BO$48828,D$124,HData!$F$3:$F$48828,$J177,HData!$BR$3:$BR$48828,$K177,HData!$AL$3:$AL$48828,\">=18\")","v":0},{"$f":"COUNTIFS(HData!$BT$3:$BT$48828,TRUE,HData!$BP$3:$BP$48828,$I177,HData!$BO$3:$BO$48828,E$124,HData!$F$3:$F$48828,$J177,HData!$BR$3:$BR$48828,$K177,HData!$AL$3:$AL$48828,\">=18\")","v":0},{"$f":"COUNTIFS(HData!$BT$3:$BT$48828,TRUE,HData!$BP$3:$BP$48828,$I177,HData!$BO$3:$BO$48828,F$124,HData!$F$3:$F$48828,$J177,HData!$BR$3:$BR$48828,$K177,HData!$AL$3:$AL$48828,\">=18\")","v":0},{"$f":"COUNTIFS(HData!$BT$3:$BT$48828,TRUE,HData!$BP$3:$BP$48828,$I177,HData!$BO$3:$BO$48828,G$124,HData!$F$3:$F$48828,$J177,HData!$BR$3:$BR$48828,$K177,HData!$AL$3:$AL$48828,\">=18\")","v":0},{"$f":"COUNTIFS(HData!$BT$3:$BT$48828,TRUE,HData!$BP$3:$BP$48828,$I177,HData!$BO$3:$BO$48828,H$124,HData!$F$3:$F$48828,$J177,HData!$BR$3:$BR$48828,$K177,HData!$AL$3:$AL$48828,\">=18\")","v":0},"White",1,3]
["BME, sibling group of 3, with disability",{"$f":"COUNTIFS(HData!$BT$3:$BT$48828,TRUE,HData!$BP$3:$BP$48828,$I178,HData!$BO$3:$BO$48828,B$124,HData!$F$3:$F$48828,$J178,HData!$BR$3:$BR$48828,$K178,HData!$AL$3:$AL$48828,\">=18\")","v":0},{"$f":"COUNTIFS(HData!$BT$3:$BT$48828,TRUE,HData!$BP$3:$BP$48828,$I178,HData!$BO$3:$BO$48828,C$124,HData!$F$3:$F$48828,$J178,HData!$BR$3:$BR$48828,$K178,HData!$AL$3:$AL$48828,\">=18\")","v":0},{"$f":"COUNTIFS(HData!$BT$3:$BT$48828,TRUE,HData!$BP$3:$BP$48828,$I178,HData!$BO$3:$BO$48828,D$124,HData!$F$3:$F$48828,$J178,HData!$BR$3:$BR$48828,$K178,HData!$AL$3:$AL$48828,\">=18\")","v":0},{"$f":"COUNTIFS(HData!$BT$3:$BT$48828,TRUE,HData!$BP$3:$BP$48828,$I178,HData!$BO$3:$BO$48828,E$124,HData!$F$3:$F$48828,$J178,HData!$BR$3:$BR$48828,$K178,HData!$AL$3:$AL$48828,\">=18\")","v":0},{"$f":"COUNTIFS(HData!$BT$3:$BT$48828,TRUE,HData!$BP$3:$BP$48828,$I178,HData!$BO$3:$BO$48828,F$124,HData!$F$3:$F$48828,$J178,HData!$BR$3:$BR$48828,$K178,HData!$AL$3:$AL$48828,\">=18\")","v":0},{"$f":"COUNTIFS(HData!$BT$3:$BT$48828,TRUE,HData!$BP$3:$BP$48828,$I178,HData!$BO$3:$BO$48828,G$124,HData!$F$3:$F$48828,$J178,HData!$BR$3:$BR$48828,$K178,HData!$AL$3:$AL$48828,\">=18\")","v":0},{"$f":"COUNTIFS(HData!$BT$3:$BT$48828,TRUE,HData!$BP$3:$BP$48828,$I178,HData!$BO$3:$BO$48828,H$124,HData!$F$3:$F$48828,$J178,HData!$BR$3:$BR$48828,$K178,HData!$AL$3:$AL$48828,\">=18\")","v":0},"BME",1,3,null,"TOTAL",{"$f":"COUNTIFS(HData!$BT$3:$BT$48293,TRUE,HData!$AX$3:$AX$48293,\">=18\")","v":0},{"$f":"COUNTIFS(HData!$BT$3:$BT$48293,TRUE,HData!$AX$3:$AX$48293,\">=18\")","v":0}]
[]
["WAITING >18 MONTHS (active)",0,1,2,3,4,5,">5","BME","Disability","Sibling"]
["White, single child, no disability",{"$f":"COUNTIFS(HData!$BT$3:$BT$48828,TRUE,HData!$BP$3:$BP$48828,$I181,HData!$BO$3:$BO$48828,B$124,HData!$F$3:$F$48828,$J181,HData!$BR$3:$BR$48828,$K181,HData!$AL$3:$AL$48828,\">=18\",HData!$Z$3:$Z$48828,\"<>2\",HData!$Z$3:$Z$48828,\"<>3\",HData!$Z$3:$Z$48828,\"<>4\")","v":0},{"$f":"COUNTIFS(HData!$BT$3:$BT$48828,TRUE,HData!$BP$3:$BP$48828,$I181,HData!$BO$3:$BO$48828,C$124,HData!$F$3:$F$48828,$J181,HData!$BR$3:$BR$48828,$K181,HData!$AL$3:$AL$48828,\">=18\",HData!$Z$3:$Z$48828,\"<>2\",HData!$Z$3:$Z$48828,\"<>3\",HData!$Z$3:$Z$48828,\"<>4\")","v":0},{"$f":"COUNTIFS(HData!$BT$3:$BT$48828,TRUE,HData!$BP$3:$BP$48828,$I181,HData!$BO$3:$BO$48828,D$124,HData!$F$3:$F$48828,$J181,HData!$BR$3:$BR$48828,$K181,HData!$AL$3:$AL$48828,\">=18\",HData!$Z$3:$Z$48828,\"<>2\",HData!$Z$3:$Z$48828,\"<>3\",HData!$Z$3:$Z$48828,\"<>4\")","v":0},{"$f":"COUNTIFS(HData!$BT$3:$BT$48828,TRUE,HData!$BP$3:$BP$48828,$I181,HData!$BO$3:$BO$48828,E$124,HData!$F$3:$F$48828,$J181,HData!$BR$3:$BR$48828,$K181,HData!$AL$3:$AL$48828,\">=18\",HData!$Z$3:$Z$48828,\"<>2\",HData!$Z$3:$Z$48828,\"<>3\",HData!$Z$3:$Z$48828,\"<>4\")","v":0},{"$f":"COUNTIFS(HData!$BT$3:$BT$48828,TRUE,HData!$BP$3:$BP$48828,$I181,HData!$BO$3:$BO$48828,F$124,HData!$F$3:$F$48828,$J181,HData!$BR$3:$BR$48828,$K181,HData!$AL$3:$AL$48828,\">=18\",HData!$Z$3:$Z$48828,\"<>2\",HData!$Z$3:$Z$48828,\"<>3\",HData!$Z$3:$Z$48828,\"<>4\")","v":0},{"$f":"COUNTIFS(HData!$BT$3:$BT$48828,TRUE,HData!$BP$3:$BP$48828,$I181,HData!$BO$3:$BO$48828,G$124,HData!$F$3:$F$48828,$J181,HData!$BR$3:$BR$48828,$K181,HData!$AL$3:$AL$48828,\">=18\",HData!$Z$3:$Z$48828,\"<>2\",HData!$Z$3:$Z$48828,\"<>3\",HData!$Z$3:$Z$48828,\"<>4\")","v":0},{"$f":"COUNTIFS(HData!$BT$3:$BT$48828,TRUE,HData!$BP$3:$BP$48828,$I181,HData!$BO$3:$BO$48828,H$124,HData!$F$3:$F$48828,$J181,HData!$BR$3:$BR$48828,$K181,HData!$AL$3:$AL$48828,\">=18\",HData!$Z$3:$Z$48828,\"<>2\",HData!$Z$3:$Z$48828,\"<>3\",HData!$Z$3:$Z$48828,\"<>4\")","v":0},"White",0,1]
["BME, single child, no disability",{"$f":"COUNTIFS(HData!$BT$3:$BT$48828,TRUE,HData!$BP$3:$BP$48828,$I182,HData!$BO$3:$BO$48828,B$124,HData!$F$3:$F$48828,$J182,HData!$BR$3:$BR$48828,$K182,HData!$AL$3:$AL$48828,\">=18\",HData!$Z$3:$Z$48828,\"<>2\",HData!$Z$3:$Z$48828,\"<>3\",HData!$Z$3:$Z$48828,\"<>4\")","v":0},{"$f":"COUNTIFS(HData!$BT$3:$BT$48828,TRUE,HData!$BP$3:$BP$48828,$I182,HData!$BO$3:$BO$48828,C$124,HData!$F$3:$F$48828,$J182,HData!$BR$3:$BR$48828,$K182,HData!$AL$3:$AL$48828,\">=18\",HData!$Z$3:$Z$48828,\"<>2\",HData!$Z$3:$Z$48828,\"<>3\",HData!$Z$3:$Z$48828,\"<>4\")","v":0},{"$f":"COUNTIFS(HData!$BT$3:$BT$48828,TRUE,HData!$BP$3:$BP$48828,$I182,HData!$BO$3:$BO$48828,D$124,HData!$F$3:$F$48828,$J182,HData!$BR$3:$BR$48828,$K182,HData!$AL$3:$AL$48828,\">=18\",HData!$Z$3:$Z$48828,\"<>2\",HData!$Z$3:$Z$48828,\"<>3\",HData!$Z$3:$Z$48828,\"<>4\")","v":0},{"$f":"COUNTIFS(HData!$BT$3:$BT$48828,TRUE,HData!$BP$3:$BP$48828,$I182,HData!$BO$3:$BO$48828,E$124,HData!$F$3:$F$48828,$J182,HData!$BR$3:$BR$48828,$K182,HData!$AL$3:$AL$48828,\">=18\",HData!$Z$3:$Z$48828,\"<>2\",HData!$Z$3:$Z$48828,\"<>3\",HData!$Z$3:$Z$48828,\"<>4\")","v":0},{"$f":"COUNTIFS(HData!$BT$3:$BT$48828,TRUE,HData!$BP$3:$BP$48828,$I182,HData!$BO$3:$BO$48828,F$124,HData!$F$3:$F$48828,$J182,HData!$BR$3:$BR$48828,$K182,HData!$AL$3:$AL$48828,\">=18\",HData!$Z$3:$Z$48828,\"<>2\",HData!$Z$3:$Z$48828,\"<>3\",HData!$Z$3:$Z$48828,\"<>4\")","v":0},{"$f":"COUNTIFS(HData!$BT$3:$BT$48828,TRUE,HData!$BP$3:$BP$48828,$I182,HData!$BO$3:$BO$48828,G$124,HData!$F$3:$F$48828,$J182,HData!$BR$3:$BR$48828,$K182,HData!$AL$3:$AL$48828,\">=18\",HData!$Z$3:$Z$48828,\"<>2\",HData!$Z$3:$Z$48828,\"<>3\",HData!$Z$3:$Z$48828,\"<>4\")","v":0},{"$f":"COUNTIFS(HData!$BT$3:$BT$48828,TRUE,HData!$BP$3:$BP$48828,$I182,HData!$BO$3:$BO$48828,H$124,HData!$F$3:$F$48828,$J182,HData!$BR$3:$BR$48828,$K182,HData!$AL$3:$AL$48828,\">=18\",HData!$Z$3:$Z$48828,\"<>2\",HData!$Z$3:$Z$48828,\"<>3\",HData!$Z$3:$Z$48828,\"<>4\")","v":0},"BME",0,1]
["White, single child, with disability",{"$f":"COUNTIFS(HData!$BT$3:$BT$48828,TRUE,HData!$BP$3:$BP$48828,$I183,HData!$BO$3:$BO$48828,B$124,HData!$F$3:$F$48828,$J183,HData!$BR$3:$BR$48828,$K183,HData!$AL$3:$AL$48828,\">=18\",HData!$Z$3:$Z$48828,\"<>2\",HData!$Z$3:$Z$48828,\"<>3\",HData!$Z$3:$Z$48828,\"<>4\")","v":0},{"$f":"COUNTIFS(HData!$BT$3:$BT$48828,TRUE,HData!$BP$3:$BP$48828,$I183,HData!$BO$3:$BO$48828,C$124,HData!$F$3:$F$48828,$J183,HData!$BR$3:$BR$48828,$K183,HData!$AL$3:$AL$48828,\">=18\",HData!$Z$3:$Z$48828,\"<>2\",HData!$Z$3:$Z$48828,\"<>3\",HData!$Z$3:$Z$48828,\"<>4\")","v":0},{"$f":"COUNTIFS(HData!$BT$3:$BT$48828,TRUE,HData!$BP$3:$BP$48828,$I183,HData!$BO$3:$BO$48828,D$124,HData!$F$3:$F$48828,$J183,HData!$BR$3:$BR$48828,$K183,HData!$AL$3:$AL$48828,\">=18\",HData!$Z$3:$Z$48828,\"<>2\",HData!$Z$3:$Z$48828,\"<>3\",HData!$Z$3:$Z$48828,\"<>4\")","v":0},{"$f":"COUNTIFS(HData!$BT$3:$BT$48828,TRUE,HData!$BP$3:$BP$48828,$I183,HData!$BO$3:$BO$48828,E$124,HData!$F$3:$F$48828,$J183,HData!$BR$3:$BR$48828,$K183,HData!$AL$3:$AL$48828,\">=18\",HData!$Z$3:$Z$48828,\"<>2\",HData!$Z$3:$Z$48828,\"<>3\",HData!$Z$3:$Z$48828,\"<>4\")","v":0},{"$f":"COUNTIFS(HData!$BT$3:$BT$48828,TRUE,HData!$BP$3:$BP$48828,$I183,HData!$BO$3:$BO$48828,F$124,HData!$F$3:$F$48828,$J183,HData!$BR$3:$BR$48828,$K183,HData!$AL$3:$AL$48828,\">=18\",HData!$Z$3:$Z$48828,\"<>2\",HData!$Z$3:$Z$48828,\"<>3\",HData!$Z$3:$Z$48828,\"<>4\")","v":0},{"$f":"COUNTIFS(HData!$BT$3:$BT$48828,TRUE,HData!$BP$3:$BP$48828,$I183,HData!$BO$3:$BO$48828,G$124,HData!$F$3:$F$48828,$J183,HData!$BR$3:$BR$48828,$K183,HData!$AL$3:$AL$48828,\">=18\",HData!$Z$3:$Z$48828,\"<>2\",HData!$Z$3:$Z$48828,\"<>3\",HData!$Z$3:$Z$48828,\"<>4\")","v":0},{"$f":"COUNTIFS(HData!$BT$3:$BT$48828,TRUE,HData!$BP$3:$BP$48828,$I183,HData!$BO$3:$BO$48828,H$124,HData!$F$3:$F$48828,$J183,HData!$BR$3:$BR$48828,$K183,HData!$AL$3:$AL$48828,\">=18\",HData!$Z$3:$Z$48828,\"<>2\",HData!$Z$3:$Z$48828,\"<>3\",HData!$Z$3:$Z$48828,\"<>4\")","v":0},"White",1,1]
["BME, single child, with disability",{"$f":"COUNTIFS(HData!$BT$3:$BT$48828,TRUE,HData!$BP$3:$BP$48828,$I184,HData!$BO$3:$BO$48828,B$124,HData!$F$3:$F$48828,$J184,HData!$BR$3:$BR$48828,$K184,HData!$AL$3:$AL$48828,\">=18\",HData!$Z$3:$Z$48828,\"<>2\",HData!$Z$3:$Z$48828,\"<>3\",HData!$Z$3:$Z$48828,\"<>4\")","v":0},{"$f":"COUNTIFS(HData!$BT$3:$BT$48828,TRUE,HData!$BP$3:$BP$48828,$I184,HData!$BO$3:$BO$48828,C$124,HData!$F$3:$F$48828,$J184,HData!$BR$3:$BR$48828,$K184,HData!$AL$3:$AL$48828,\">=18\",HData!$Z$3:$Z$48828,\"<>2\",HData!$Z$3:$Z$48828,\"<>3\",HData!$Z$3:$Z$48828,\"<>4\")","v":0},{"$f":"COUNTIFS(HData!$BT$3:$BT$48828,TRUE,HData!$BP$3:$BP$48828,$I184,HData!$BO$3:$BO$48828,D$124,HData!$F$3:$F$48828,$J184,HData!$BR$3:$BR$48828,$K184,HData!$AL$3:$AL$48828,\">=18\",HData!$Z$3:$Z$48828,\"<>2\",HData!$Z$3:$Z$48828,\"<>3\",HData!$Z$3:$Z$48828,\"<>4\")","v":0},{"$f":"COUNTIFS(HData!$BT$3:$BT$48828,TRUE,HData!$BP$3:$BP$48828,$I184,HData!$BO$3:$BO$48828,E$124,HData!$F$3:$F$48828,$J184,HData!$BR$3:$BR$48828,$K184,HData!$AL$3:$AL$48828,\">=18\",HData!$Z$3:$Z$48828,\"<>2\",HData!$Z$3:$Z$48828,\"<>3\",HData!$Z$3:$Z$48828,\"<>4\")","v":0},{"$f":"COUNTIFS(HData!$BT$3:$BT$48828,TRUE,HData!$BP$3:$BP$48828,$I184,HData!$BO$3:$BO$48828,F$124,HData!$F$3:$F$48828,$J184,HData!$BR$3:$BR$48828,$K184,HData!$AL$3:$AL$48828,\">=18\",HData!$Z$3:$Z$48828,\"<>2\",HData!$Z$3:$Z$48828,\"<>3\",HData!$Z$3:$Z$48828,\"<>4\")","v":0},{"$f":"COUNTIFS(HData!$BT$3:$BT$48828,TRUE,HData!$BP$3:$BP$48828,$I184,HData!$BO$3:$BO$48828,G$124,HData!$F$3:$F$48828,$J184,HData!$BR$3:$BR$48828,$K184,HData!$AL$3:$AL$48828,\">=18\",HData!$Z$3:$Z$48828,\"<>2\",HData!$Z$3:$Z$48828,\"<>3\",HData!$Z$3:$Z$48828,\"<>4\")","v":0},{"$f":"COUNTIFS(HData!$BT$3:$BT$48828,TRUE,HData!$BP$3:$BP$48828,$I184,HData!$BO$3:$BO$48828,H$124,HData!$F$3:$F$48828,$J184,HData!$BR$3:$BR$48828,$K184,HData!$AL$3:$AL$48828,\">=18\",HData!$Z$3:$Z$48828,\"<>2\",HData!$Z$3:$Z$48828,\"<>3\",HData!$Z$3:$Z$48828,\"<>4\")","v":0},"BME",1,1]
["White, sibling group of 2, no disability",{"$f":"COUNTIFS(HData!$BT$3:$BT$48828,TRUE,HData!$BP$3:$BP$48828,$I185,HData!$BO$3:$BO$48828,B$124,HData!$F$3:$F$48828,$J185,HData!$BR$3:$BR$48828,$K185,HData!$AL$3:$AL$48828,\">=18\",HData!$Z$3:$Z$48828,\"<>2\",HData!$Z$3:$Z$48828,\"<>3\",HData!$Z$3:$Z$48828,\"<>4\")","v":0},{"$f":"COUNTIFS(HData!$BT$3:$BT$48828,TRUE,HData!$BP$3:$BP$48828,$I185,HData!$BO$3:$BO$48828,C$124,HData!$F$3:$F$48828,$J185,HData!$BR$3:$BR$48828,$K185,HData!$AL$3:$AL$48828,\">=18\",HData!$Z$3:$Z$48828,\"<>2\",HData!$Z$3:$Z$48828,\"<>3\",HData!$Z$3:$Z$48828,\"<>4\")","v":0},{"$f":"COUNTIFS(HData!$BT$3:$BT$48828,TRUE,HData!$BP$3:$BP$48828,$I185,HData!$BO$3:$BO$48828,D$124,HData!$F$3:$F$48828,$J185,HData!$BR$3:$BR$48828,$K185,HData!$AL$3:$AL$48828,\">=18\",HData!$Z$3:$Z$48828,\"<>2\",HData!$Z$3:$Z$48828,\"<>3\",HData!$Z$3:$Z$48828,\"<>4\")","v":0},{"$f":"COUNTIFS(HData!$BT$3:$BT$48828,TRUE,HData!$BP$3:$BP$48828,$I185,HData!$BO$3:$BO$48828,E$124,HData!$F$3:$F$48828,$J185,HData!$BR$3:$BR$48828,$K185,HData!$AL$3:$AL$48828,\">=18\",HData!$Z$3:$Z$48828,\"<>2\",HData!$Z$3:$Z$48828,\"<>3\",HData!$Z$3:$Z$48828,\"<>4\")","v":0},{"$f":"COUNTIFS(HData!$BT$3:$BT$48828,TRUE,HData!$BP$3:$BP$48828,$I185,HData!$BO$3:$BO$48828,F$124,HData!$F$3:$F$48828,$J185,HData!$BR$3:$BR$48828,$K185,HData!$AL$3:$AL$48828,\">=18\",HData!$Z$3:$Z$48828,\"<>2\",HData!$Z$3:$Z$48828,\"<>3\",HData!$Z$3:$Z$48828,\"<>4\")","v":0},{"$f":"COUNTIFS(HData!$BT$3:$BT$48828,TRUE,HData!$BP$3:$BP$48828,$I185,HData!$BO$3:$BO$48828,G$124,HData!$F$3:$F$48828,$J185,HData!$BR$3:$BR$48828,$K185,HData!$AL$3:$AL$48828,\">=18\",HData!$Z$3:$Z$48828,\"<>2\",HData!$Z$3:$Z$48828,\"<>3\",HData!$Z$3:$Z$48828,\"<>4\")","v":0},{"$f":"COUNTIFS(HData!$BT$3:$BT$48828,TRUE,HData!$BP$3:$BP$48828,$I185,HData!$BO$3:$BO$48828,H$124,HData!$F$3:$F$48828,$J185,HData!$BR$3:$BR$48828,$K185,HData!$AL$3:$AL$48828,\">=18\",HData!$Z$3:$Z$48828,\"<>2\",HData!$Z$3:$Z$48828,\"<>3\",HData!$Z$3:$Z$48828,\"<>4\")","v":0},"White",0,2]
["BME, sibling group of 2, no disability",{"$f":"COUNTIFS(HData!$BT$3:$BT$48828,TRUE,HData!$BP$3:$BP$48828,$I186,HData!$BO$3:$BO$48828,B$124,HData!$F$3:$F$48828,$J186,HData!$BR$3:$BR$48828,$K186,HData!$AL$3:$AL$48828,\">=18\",HData!$Z$3:$Z$48828,\"<>2\",HData!$Z$3:$Z$48828,\"<>3\",HData!$Z$3:$Z$48828,\"<>4\")","v":0},{"$f":"COUNTIFS(HData!$BT$3:$BT$48828,TRUE,HData!$BP$3:$BP$48828,$I186,HData!$BO$3:$BO$48828,C$124,HData!$F$3:$F$48828,$J186,HData!$BR$3:$BR$48828,$K186,HData!$AL$3:$AL$48828,\">=18\",HData!$Z$3:$Z$48828,\"<>2\",HData!$Z$3:$Z$48828,\"<>3\",HData!$Z$3:$Z$48828,\"<>4\")","v":0},{"$f":"COUNTIFS(HData!$BT$3:$BT$48828,TRUE,HData!$BP$3:$BP$48828,$I186,HData!$BO$3:$BO$48828,D$124,HData!$F$3:$F$48828,$J186,HData!$BR$3:$BR$48828,$K186,HData!$AL$3:$AL$48828,\">=18\",HData!$Z$3:$Z$48828,\"<>2\",HData!$Z$3:$Z$48828,\"<>3\",HData!$Z$3:$Z$48828,\"<>4\")","v":0},{"$f":"COUNTIFS(HData!$BT$3:$BT$48828,TRUE,HData!$BP$3:$BP$48828,$I186,HData!$BO$3:$BO$48828,E$124,HData!$F$3:$F$48828,$J186,HData!$BR$3:$BR$48828,$K186,HData!$AL$3:$AL$48828,\">=18\",HData!$Z$3:$Z$48828,\"<>2\",HData!$Z$3:$Z$48828,\"<>3\",HData!$Z$3:$Z$48828,\"<>4\")","v":0},{"$f":"COUNTIFS(HData!$BT$3:$BT$48828,TRUE,HData!$BP$3:$BP$48828,$I186,HData!$BO$3:$BO$48828,F$124,HData!$F$3:$F$48828,$J186,HData!$BR$3:$BR$48828,$K186,HData!$AL$3:$AL$48828,\">=18\",HData!$Z$3:$Z$48828,\"<>2\",HData!$Z$3:$Z$48828,\"<>3\",HData!$Z$3:$Z$48828,\"<>4\")","v":0},{"$f":"COUNTIFS(HData!$BT$3:$BT$48828,TRUE,HData!$BP$3:$BP$48828,$I186,HData!$BO$3:$BO$48828,G$124,HData!$F$3:$F$48828,$J186,HData!$BR$3:$BR$48828,$K186,HData!$AL$3:$AL$48828,\">=18\",HData!$Z$3:$Z$48828,\"<>2\",HData!$Z$3:$Z$48828,\"<>3\",HData!$Z$3:$Z$48828,\"<>4\")","v":0},{"$f":"COUNTIFS(HData!$BT$3:$BT$48828,TRUE,HData!$BP$3:$BP$48828,$I186,HData!$BO$3:$BO$48828,H$124,HData!$F$3:$F$48828,$J186,HData!$BR$3:$BR$48828,$K186,HData!$AL$3:$AL$48828,\">=18\",HData!$Z$3:$Z$48828,\"<>2\",HData!$Z$3:$Z$48828,\"<>3\",HData!$Z$3:$Z$48828,\"<>4\")","v":0},"BME",0,2]
["White, sibling group of 2, with disability",{"$f":"COUNTIFS(HData!$BT$3:$BT$48828,TRUE,HData!$BP$3:$BP$48828,$I187,HData!$BO$3:$BO$48828,B$124,HData!$F$3:$F$48828,$J187,HData!$BR$3:$BR$48828,$K187,HData!$AL$3:$AL$48828,\">=18\",HData!$Z$3:$Z$48828,\"<>2\",HData!$Z$3:$Z$48828,\"<>3\",HData!$Z$3:$Z$48828,\"<>4\")","v":0},{"$f":"COUNTIFS(HData!$BT$3:$BT$48828,TRUE,HData!$BP$3:$BP$48828,$I187,HData!$BO$3:$BO$48828,C$124,HData!$F$3:$F$48828,$J187,HData!$BR$3:$BR$48828,$K187,HData!$AL$3:$AL$48828,\">=18\",HData!$Z$3:$Z$48828,\"<>2\",HData!$Z$3:$Z$48828,\"<>3\",HData!$Z$3:$Z$48828,\"<>4\")","v":0},{"$f":"COUNTIFS(HData!$BT$3:$BT$48828,TRUE,HData!$BP$3:$BP$48828,$I187,HData!$BO$3:$BO$48828,D$124,HData!$F$3:$F$48828,$J187,HData!$BR$3:$BR$48828,$K187,HData!$AL$3:$AL$48828,\">=18\",HData!$Z$3:$Z$48828,\"<>2\",HData!$Z$3:$Z$48828,\"<>3\",HData!$Z$3:$Z$48828,\"<>4\")","v":0},{"$f":"COUNTIFS(HData!$BT$3:$BT$48828,TRUE,HData!$BP$3:$BP$48828,$I187,HData!$BO$3:$BO$48828,E$124,HData!$F$3:$F$48828,$J187,HData!$BR$3:$BR$48828,$K187,HData!$AL$3:$AL$48828,\">=18\",HData!$Z$3:$Z$48828,\"<>2\",HData!$Z$3:$Z$48828,\"<>3\",HData!$Z$3:$Z$48828,\"<>4\")","v":0},{"$f":"COUNTIFS(HData!$BT$3:$BT$48828,TRUE,HData!$BP$3:$BP$48828,$I187,HData!$BO$3:$BO$48828,F$124,HData!$F$3:$F$48828,$J187,HData!$BR$3:$BR$48828,$K187,HData!$AL$3:$AL$48828,\">=18\",HData!$Z$3:$Z$48828,\"<>2\",HData!$Z$3:$Z$48828,\"<>3\",HData!$Z$3:$Z$48828,\"<>4\")","v":0},{"$f":"COUNTIFS(HData!$BT$3:$BT$48828,TRUE,HData!$BP$3:$BP$48828,$I187,HData!$BO$3:$BO$48828,G$124,HData!$F$3:$F$48828,$J187,HData!$BR$3:$BR$48828,$K187,HData!$AL$3:$AL$48828,\">=18\",HData!$Z$3:$Z$48828,\"<>2\",HData!$Z$3:$Z$48828,\"<>3\",HData!$Z$3:$Z$48828,\"<>4\")","v":0},{"$f":"COUNTIFS(HData!$BT$3:$BT$48828,TRUE,HData!$BP$3:$BP$48828,$I187,HData!$BO$3:$BO$48828,H$124,HData!$F$3:$F$48828,$J187,HData!$BR$3:$BR$48828,$K187,HData!$AL$3:$AL$48828,\">=18\",HData!$Z$3:$Z$48828,\"<>2\",HData!$Z$3:$Z$48828,\"<>3\",HData!$Z$3:$Z$48828,\"<>4\")","v":0},"White",1,2]
["BME, sibling group of 2, with disability",{"$f":"COUNTIFS(HData!$BT$3:$BT$48828,TRUE,HData!$BP$3:$BP$48828,$I188,HData!$BO$3:$BO$48828,B$124,HData!$F$3:$F$48828,$J188,HData!$BR$3:$BR$48828,$K188,HData!$AL$3:$AL$48828,\">=18\",HData!$Z$3:$Z$48828,\"<>2\",HData!$Z$3:$Z$48828,\"<>3\",HData!$Z$3:$Z$48828,\"<>4\")","v":0},{"$f":"COUNTIFS(HData!$BT$3:$BT$48828,TRUE,HData!$BP$3:$BP$48828,$I188,HData!$BO$3:$BO$48828,C$124,HData!$F$3:$F$48828,$J188,HData!$BR$3:$BR$48828,$K188,HData!$AL$3:$AL$48828,\">=18\",HData!$Z$3:$Z$48828,\"<>2\",HData!$Z$3:$Z$48828,\"<>3\",HData!$Z$3:$Z$48828,\"<>4\")","v":0},{"$f":"COUNTIFS(HData!$BT$3:$BT$48828,TRUE,HData!$BP$3:$BP$48828,$I188,HData!$BO$3:$BO$48828,D$124,HData!$F$3:$F$48828,$J188,HData!$BR$3:$BR$48828,$K188,HData!$AL$3:$AL$48828,\">=18\",HData!$Z$3:$Z$48828,\"<>2\",HData!$Z$3:$Z$48828,\"<>3\",HData!$Z$3:$Z$48828,\"<>4\")","v":0},{"$f":"COUNTIFS(HData!$BT$3:$BT$48828,TRUE,HData!$BP$3:$BP$48828,$I188,HData!$BO$3:$BO$48828,E$124,HData!$F$3:$F$48828,$J188,HData!$BR$3:$BR$48828,$K188,HData!$AL$3:$AL$48828,\">=18\",HData!$Z$3:$Z$48828,\"<>2\",HData!$Z$3:$Z$48828,\"<>3\",HData!$Z$3:$Z$48828,\"<>4\")","v":0},{"$f":"COUNTIFS(HData!$BT$3:$BT$48828,TRUE,HData!$BP$3:$BP$48828,$I188,HData!$BO$3:$BO$48828,F$124,HData!$F$3:$F$48828,$J188,HData!$BR$3:$BR$48828,$K188,HData!$AL$3:$AL$48828,\">=18\",HData!$Z$3:$Z$48828,\"<>2\",HData!$Z$3:$Z$48828,\"<>3\",HData!$Z$3:$Z$48828,\"<>4\")","v":0},{"$f":"COUNTIFS(HData!$BT$3:$BT$48828,TRUE,HData!$BP$3:$BP$48828,$I188,HData!$BO$3:$BO$48828,G$124,HData!$F$3:$F$48828,$J188,HData!$BR$3:$BR$48828,$K188,HData!$AL$3:$AL$48828,\">=18\",HData!$Z$3:$Z$48828,\"<>2\",HData!$Z$3:$Z$48828,\"<>3\",HData!$Z$3:$Z$48828,\"<>4\")","v":0},{"$f":"COUNTIFS(HData!$BT$3:$BT$48828,TRUE,HData!$BP$3:$BP$48828,$I188,HData!$BO$3:$BO$48828,H$124,HData!$F$3:$F$48828,$J188,HData!$BR$3:$BR$48828,$K188,HData!$AL$3:$AL$48828,\">=18\",HData!$Z$3:$Z$48828,\"<>2\",HData!$Z$3:$Z$48828,\"<>3\",HData!$Z$3:$Z$48828,\"<>4\")","v":0},"BME",1,2]
["White, sibling group of 3, no disability",{"$f":"COUNTIFS(HData!$BT$3:$BT$48828,TRUE,HData!$BP$3:$BP$48828,$I189,HData!$BO$3:$BO$48828,B$124,HData!$F$3:$F$48828,$J189,HData!$BR$3:$BR$48828,$K189,HData!$AL$3:$AL$48828,\">=18\",HData!$Z$3:$Z$48828,\"<>2\",HData!$Z$3:$Z$48828,\"<>3\",HData!$Z$3:$Z$48828,\"<>4\")","v":0},{"$f":"COUNTIFS(HData!$BT$3:$BT$48828,TRUE,HData!$BP$3:$BP$48828,$I189,HData!$BO$3:$BO$48828,C$124,HData!$F$3:$F$48828,$J189,HData!$BR$3:$BR$48828,$K189,HData!$AL$3:$AL$48828,\">=18\",HData!$Z$3:$Z$48828,\"<>2\",HData!$Z$3:$Z$48828,\"<>3\",HData!$Z$3:$Z$48828,\"<>4\")","v":0},{"$f":"COUNTIFS(HData!$BT$3:$BT$48828,TRUE,HData!$BP$3:$BP$48828,$I189,HData!$BO$3:$BO$48828,D$124,HData!$F$3:$F$48828,$J189,HData!$BR$3:$BR$48828,$K189,HData!$AL$3:$AL$48828,\">=18\",HData!$Z$3:$Z$48828,\"<>2\",HData!$Z$3:$Z$48828,\"<>3\",HData!$Z$3:$Z$48828,\"<>4\")","v":0},{"$f":"COUNTIFS(HData!$BT$3:$BT$48828,TRUE,HData!$BP$3:$BP$48828,$I189,HData!$BO$3:$BO$48828,E$124,HData!$F$3:$F$48828,$J189,HData!$BR$3:$BR$48828,$K189,HData!$AL$3:$AL$48828,\">=18\",HData!$Z$3:$Z$48828,\"<>2\",HData!$Z$3:$Z$48828,\"<>3\",HData!$Z$3:$Z$48828,\"<>4\")","v":0},{"$f":"COUNTIFS(HData!$BT$3:$BT$48828,TRUE,HData!$BP$3:$BP$48828,$I189,HData!$BO$3:$BO$48828,F$124,HData!$F$3:$F$48828,$J189,HData!$BR$3:$BR$48828,$K189,HData!$AL$3:$AL$48828,\">=18\",HData!$Z$3:$Z$48828,\"<>2\",HData!$Z$3:$Z$48828,\"<>3\",HData!$Z$3:$Z$48828,\"<>4\")","v":0},{"$f":"COUNTIFS(HData!$BT$3:$BT$48828,TRUE,HData!$BP$3:$BP$48828,$I189,HData!$BO$3:$BO$48828,G$124,HData!$F$3:$F$48828,$J189,HData!$BR$3:$BR$48828,$K189,HData!$AL$3:$AL$48828,\">=18\",HData!$Z$3:$Z$48828,\"<>2\",HData!$Z$3:$Z$48828,\"<>3\",HData!$Z$3:$Z$48828,\"<>4\")","v":0},{"$f":"COUNTIFS(HData!$BT$3:$BT$48828,TRUE,HData!$BP$3:$BP$48828,$I189,HData!$BO$3:$BO$48828,H$124,HData!$F$3:$F$48828,$J189,HData!$BR$3:$BR$48828,$K189,HData!$AL$3:$AL$48828,\">=18\",HData!$Z$3:$Z$48828,\"<>2\",HData!$Z$3:$Z$48828,\"<>3\",HData!$Z$3:$Z$48828,\"<>4\")","v":0},"White",0,3]
["BME, sibling group of 3, no disability",{"$f":"COUNTIFS(HData!$BT$3:$BT$48828,TRUE,HData!$BP$3:$BP$48828,$I190,HData!$BO$3:$BO$48828,B$124,HData!$F$3:$F$48828,$J190,HData!$BR$3:$BR$48828,$K190,HData!$AL$3:$AL$48828,\">=18\",HData!$Z$3:$Z$48828,\"<>2\",HData!$Z$3:$Z$48828,\"<>3\",HData!$Z$3:$Z$48828,\"<>4\")","v":0},{"$f":"COUNTIFS(HData!$BT$3:$BT$48828,TRUE,HData!$BP$3:$BP$48828,$I190,HData!$BO$3:$BO$48828,C$124,HData!$F$3:$F$48828,$J190,HData!$BR$3:$BR$48828,$K190,HData!$AL$3:$AL$48828,\">=18\",HData!$Z$3:$Z$48828,\"<>2\",HData!$Z$3:$Z$48828,\"<>3\",HData!$Z$3:$Z$48828,\"<>4\")","v":0},{"$f":"COUNTIFS(HData!$BT$3:$BT$48828,TRUE,HData!$BP$3:$BP$48828,$I190,HData!$BO$3:$BO$48828,D$124,HData!$F$3:$F$48828,$J190,HData!$BR$3:$BR$48828,$K190,HData!$AL$3:$AL$48828,\">=18\",HData!$Z$3:$Z$48828,\"<>2\",HData!$Z$3:$Z$48828,\"<>3\",HData!$Z$3:$Z$48828,\"<>4\")","v":0},{"$f":"COUNTIFS(HData!$BT$3:$BT$48828,TRUE,HData!$BP$3:$BP$48828,$I190,HData!$BO$3:$BO$48828,E$124,HData!$F$3:$F$48828,$J190,HData!$BR$3:$BR$48828,$K190,HData!$AL$3:$AL$48828,\">=18\",HData!$Z$3:$Z$48828,\"<>2\",HData!$Z$3:$Z$48828,\"<>3\",HData!$Z$3:$Z$48828,\"<>4\")","v":0},{"$f":"COUNTIFS(HData!$BT$3:$BT$48828,TRUE,HData!$BP$3:$BP$48828,$I190,HData!$BO$3:$BO$48828,F$124,HData!$F$3:$F$48828,$J190,HData!$BR$3:$BR$48828,$K190,HData!$AL$3:$AL$48828,\">=18\",HData!$Z$3:$Z$48828,\"<>2\",HData!$Z$3:$Z$48828,\"<>3\",HData!$Z$3:$Z$48828,\"<>4\")","v":0},{"$f":"COUNTIFS(HData!$BT$3:$BT$48828,TRUE,HData!$BP$3:$BP$48828,$I190,HData!$BO$3:$BO$48828,G$124,HData!$F$3:$F$48828,$J190,HData!$BR$3:$BR$48828,$K190,HData!$AL$3:$AL$48828,\">=18\",HData!$Z$3:$Z$48828,\"<>2\",HData!$Z$3:$Z$48828,\"<>3\",HData!$Z$3:$Z$48828,\"<>4\")","v":0},{"$f":"COUNTIFS(HData!$BT$3:$BT$48828,TRUE,HData!$BP$3:$BP$48828,$I190,HData!$BO$3:$BO$48828,H$124,HData!$F$3:$F$48828,$J190,HData!$BR$3:$BR$48828,$K190,HData!$AL$3:$AL$48828,\">=18\",HData!$Z$3:$Z$48828,\"<>2\",HData!$Z$3:$Z$48828,\"<>3\",HData!$Z$3:$Z$48828,\"<>4\")","v":0},"BME",0,3]
["White, sibling group of 3, with disability",{"$f":"COUNTIFS(HData!$BT$3:$BT$48828,TRUE,HData!$BP$3:$BP$48828,$I191,HData!$BO$3:$BO$48828,B$124,HData!$F$3:$F$48828,$J191,HData!$BR$3:$BR$48828,$K191,HData!$AL$3:$AL$48828,\">=18\",HData!$Z$3:$Z$48828,\"<>2\",HData!$Z$3:$Z$48828,\"<>3\",HData!$Z$3:$Z$48828,\"<>4\")","v":0},{"$f":"COUNTIFS(HData!$BT$3:$BT$48828,TRUE,HData!$BP$3:$BP$48828,$I191,HData!$BO$3:$BO$48828,C$124,HData!$F$3:$F$48828,$J191,HData!$BR$3:$BR$48828,$K191,HData!$AL$3:$AL$48828,\">=18\",HData!$Z$3:$Z$48828,\"<>2\",HData!$Z$3:$Z$48828,\"<>3\",HData!$Z$3:$Z$48828,\"<>4\")","v":0},{"$f":"COUNTIFS(HData!$BT$3:$BT$48828,TRUE,HData!$BP$3:$BP$48828,$I191,HData!$BO$3:$BO$48828,D$124,HData!$F$3:$F$48828,$J191,HData!$BR$3:$BR$48828,$K191,HData!$AL$3:$AL$48828,\">=18\",HData!$Z$3:$Z$48828,\"<>2\",HData!$Z$3:$Z$48828,\"<>3\",HData!$Z$3:$Z$48828,\"<>4\")","v":0},{"$f":"COUNTIFS(HData!$BT$3:$BT$48828,TRUE,HData!$BP$3:$BP$48828,$I191,HData!$BO$3:$BO$48828,E$124,HData!$F$3:$F$48828,$J191,HData!$BR$3:$BR$48828,$K191,HData!$AL$3:$AL$48828,\">=18\",HData!$Z$3:$Z$48828,\"<>2\",HData!$Z$3:$Z$48828,\"<>3\",HData!$Z$3:$Z$48828,\"<>4\")","v":0},{"$f":"COUNTIFS(HData!$BT$3:$BT$48828,TRUE,HData!$BP$3:$BP$48828,$I191,HData!$BO$3:$BO$48828,F$124,HData!$F$3:$F$48828,$J191,HData!$BR$3:$BR$48828,$K191,HData!$AL$3:$AL$48828,\">=18\",HData!$Z$3:$Z$48828,\"<>2\",HData!$Z$3:$Z$48828,\"<>3\",HData!$Z$3:$Z$48828,\"<>4\")","v":0},{"$f":"COUNTIFS(HData!$BT$3:$BT$48828,TRUE,HData!$BP$3:$BP$48828,$I191,HData!$BO$3:$BO$48828,G$124,HData!$F$3:$F$48828,$J191,HData!$BR$3:$BR$48828,$K191,HData!$AL$3:$AL$48828,\">=18\",HData!$Z$3:$Z$48828,\"<>2\",HData!$Z$3:$Z$48828,\"<>3\",HData!$Z$3:$Z$48828,\"<>4\")","v":0},{"$f":"COUNTIFS(HData!$BT$3:$BT$48828,TRUE,HData!$BP$3:$BP$48828,$I191,HData!$BO$3:$BO$48828,H$124,HData!$F$3:$F$48828,$J191,HData!$BR$3:$BR$48828,$K191,HData!$AL$3:$AL$48828,\">=18\",HData!$Z$3:$Z$48828,\"<>2\",HData!$Z$3:$Z$48828,\"<>3\",HData!$Z$3:$Z$48828,\"<>4\")","v":0},"White",1,3]
["BME, sibling group of 3, with disability",{"$f":"COUNTIFS(HData!$BT$3:$BT$48828,TRUE,HData!$BP$3:$BP$48828,$I192,HData!$BO$3:$BO$48828,B$124,HData!$F$3:$F$48828,$J192,HData!$BR$3:$BR$48828,$K192,HData!$AL$3:$AL$48828,\">=18\",HData!$Z$3:$Z$48828,\"<>2\",HData!$Z$3:$Z$48828,\"<>3\",HData!$Z$3:$Z$48828,\"<>4\")","v":0},{"$f":"COUNTIFS(HData!$BT$3:$BT$48828,TRUE,HData!$BP$3:$BP$48828,$I192,HData!$BO$3:$BO$48828,C$124,HData!$F$3:$F$48828,$J192,HData!$BR$3:$BR$48828,$K192,HData!$AL$3:$AL$48828,\">=18\",HData!$Z$3:$Z$48828,\"<>2\",HData!$Z$3:$Z$48828,\"<>3\",HData!$Z$3:$Z$48828,\"<>4\")","v":0},{"$f":"COUNTIFS(HData!$BT$3:$BT$48828,TRUE,HData!$BP$3:$BP$48828,$I192,HData!$BO$3:$BO$48828,D$124,HData!$F$3:$F$48828,$J192,HData!$BR$3:$BR$48828,$K192,HData!$AL$3:$AL$48828,\">=18\",HData!$Z$3:$Z$48828,\"<>2\",HData!$Z$3:$Z$48828,\"<>3\",HData!$Z$3:$Z$48828,\"<>4\")","v":0},{"$f":"COUNTIFS(HData!$BT$3:$BT$48828,TRUE,HData!$BP$3:$BP$48828,$I192,HData!$BO$3:$BO$48828,E$124,HData!$F$3:$F$48828,$J192,HData!$BR$3:$BR$48828,$K192,HData!$AL$3:$AL$48828,\">=18\",HData!$Z$3:$Z$48828,\"<>2\",HData!$Z$3:$Z$48828,\"<>3\",HData!$Z$3:$Z$48828,\"<>4\")","v":0},{"$f":"COUNTIFS(HData!$BT$3:$BT$48828,TRUE,HData!$BP$3:$BP$48828,$I192,HData!$BO$3:$BO$48828,F$124,HData!$F$3:$F$48828,$J192,HData!$BR$3:$BR$48828,$K192,HData!$AL$3:$AL$48828,\">=18\",HData!$Z$3:$Z$48828,\"<>2\",HData!$Z$3:$Z$48828,\"<>3\",HData!$Z$3:$Z$48828,\"<>4\")","v":0},{"$f":"COUNTIFS(HData!$BT$3:$BT$48828,TRUE,HData!$BP$3:$BP$48828,$I192,HData!$BO$3:$BO$48828,G$124,HData!$F$3:$F$48828,$J192,HData!$BR$3:$BR$48828,$K192,HData!$AL$3:$AL$48828,\">=18\",HData!$Z$3:$Z$48828,\"<>2\",HData!$Z$3:$Z$48828,\"<>3\",HData!$Z$3:$Z$48828,\"<>4\")","v":0},{"$f":"COUNTIFS(HData!$BT$3:$BT$48828,TRUE,HData!$BP$3:$BP$48828,$I192,HData!$BO$3:$BO$48828,H$124,HData!$F$3:$F$48828,$J192,HData!$BR$3:$BR$48828,$K192,HData!$AL$3:$AL$48828,\">=18\",HData!$Z$3:$Z$48828,\"<>2\",HData!$Z$3:$Z$48828,\"<>3\",HData!$Z$3:$Z$48828,\"<>4\")","v":0},"BME",1,3]
[]
[null,"Age at PO"]
["NUMBER MATCHED",0,1,2,3,4,5,">5","BME","Disability","Sibling"]
["White, single child, no disability",{"$f":"COUNTIFS(HData!$P$3:$P$48828,\">=\"&SDate,HData!$P$3:$P$48828,\"<=\"&RDate,HData!$BP$3:$BP$48828,$I196,HData!$BK$3:$BK$48828,B$124,HData!$F$3:$F$48828,$J196,HData!$BR$3:$BR$48828,$K196)","v":0},{"$f":"COUNTIFS(HData!$P$3:$P$48828,\">=\"&SDate,HData!$P$3:$P$48828,\"<=\"&RDate,HData!$BP$3:$BP$48828,$I196,HData!$BK$3:$BK$48828,C$124,HData!$F$3:$F$48828,$J196,HData!$BR$3:$BR$48828,$K196)","v":0},{"$f":"COUNTIFS(HData!$P$3:$P$48828,\">=\"&SDate,HData!$P$3:$P$48828,\"<=\"&RDate,HData!$BP$3:$BP$48828,$I196,HData!$BK$3:$BK$48828,D$124,HData!$F$3:$F$48828,$J196,HData!$BR$3:$BR$48828,$K196)","v":0},{"$f":"COUNTIFS(HData!$P$3:$P$48828,\">=\"&SDate,HData!$P$3:$P$48828,\"<=\"&RDate,HData!$BP$3:$BP$48828,$I196,HData!$BK$3:$BK$48828,E$124,HData!$F$3:$F$48828,$J196,HData!$BR$3:$BR$48828,$K196)","v":0},{"$f":"COUNTIFS(HData!$P$3:$P$48828,\">=\"&SDate,HData!$P$3:$P$48828,\"<=\"&RDate,HData!$BP$3:$BP$48828,$I196,HData!$BK$3:$BK$48828,F$124,HData!$F$3:$F$48828,$J196,HData!$BR$3:$BR$48828,$K196)","v":0},{"$f":"COUNTIFS(HData!$P$3:$P$48828,\">=\"&SDate,HData!$P$3:$P$48828,\"<=\"&RDate,HData!$BP$3:$BP$48828,$I196,HData!$BK$3:$BK$48828,G$124,HData!$F$3:$F$48828,$J196,HData!$BR$3:$BR$48828,$K196)","v":0},{"$f":"COUNTIFS(HData!$P$3:$P$48828,\">=\"&SDate,HData!$P$3:$P$48828,\"<=\"&RDate,HData!$BP$3:$BP$48828,$I196,HData!$BK$3:$BK$48828,H$124,HData!$F$3:$F$48828,$J196,HData!$BR$3:$BR$48828,$K196)","v":0},"White",0,1]
["BME, single child, no disability",{"$f":"COUNTIFS(HData!$P$3:$P$48828,\">=\"&SDate,HData!$P$3:$P$48828,\"<=\"&RDate,HData!$BP$3:$BP$48828,$I197,HData!$BK$3:$BK$48828,B$124,HData!$F$3:$F$48828,$J197,HData!$BR$3:$BR$48828,$K197)","v":0},{"$f":"COUNTIFS(HData!$P$3:$P$48828,\">=\"&SDate,HData!$P$3:$P$48828,\"<=\"&RDate,HData!$BP$3:$BP$48828,$I197,HData!$BK$3:$BK$48828,C$124,HData!$F$3:$F$48828,$J197,HData!$BR$3:$BR$48828,$K197)","v":0},{"$f":"COUNTIFS(HData!$P$3:$P$48828,\">=\"&SDate,HData!$P$3:$P$48828,\"<=\"&RDate,HData!$BP$3:$BP$48828,$I197,HData!$BK$3:$BK$48828,D$124,HData!$F$3:$F$48828,$J197,HData!$BR$3:$BR$48828,$K197)","v":0},{"$f":"COUNTIFS(HData!$P$3:$P$48828,\">=\"&SDate,HData!$P$3:$P$48828,\"<=\"&RDate,HData!$BP$3:$BP$48828,$I197,HData!$BK$3:$BK$48828,E$124,HData!$F$3:$F$48828,$J197,HData!$BR$3:$BR$48828,$K197)","v":0},{"$f":"COUNTIFS(HData!$P$3:$P$48828,\">=\"&SDate,HData!$P$3:$P$48828,\"<=\"&RDate,HData!$BP$3:$BP$48828,$I197,HData!$BK$3:$BK$48828,F$124,HData!$F$3:$F$48828,$J197,HData!$BR$3:$BR$48828,$K197)","v":0},{"$f":"COUNTIFS(HData!$P$3:$P$48828,\">=\"&SDate,HData!$P$3:$P$48828,\"<=\"&RDate,HData!$BP$3:$BP$48828,$I197,HData!$BK$3:$BK$48828,G$124,HData!$F$3:$F$48828,$J197,HData!$BR$3:$BR$48828,$K197)","v":0},{"$f":"COUNTIFS(HData!$P$3:$P$48828,\">=\"&SDate,HData!$P$3:$P$48828,\"<=\"&RDate,HData!$BP$3:$BP$48828,$I197,HData!$BK$3:$BK$48828,H$124,HData!$F$3:$F$48828,$J197,HData!$BR$3:$BR$48828,$K197)","v":0},"BME",0,1]
["White, single child, with disability",{"$f":"COUNTIFS(HData!$P$3:$P$48828,\">=\"&SDate,HData!$P$3:$P$48828,\"<=\"&RDate,HData!$BP$3:$BP$48828,$I198,HData!$BK$3:$BK$48828,B$124,HData!$F$3:$F$48828,$J198,HData!$BR$3:$BR$48828,$K198)","v":0},{"$f":"COUNTIFS(HData!$P$3:$P$48828,\">=\"&SDate,HData!$P$3:$P$48828,\"<=\"&RDate,HData!$BP$3:$BP$48828,$I198,HData!$BK$3:$BK$48828,C$124,HData!$F$3:$F$48828,$J198,HData!$BR$3:$BR$48828,$K198)","v":0},{"$f":"COUNTIFS(HData!$P$3:$P$48828,\">=\"&SDate,HData!$P$3:$P$48828,\"<=\"&RDate,HData!$BP$3:$BP$48828,$I198,HData!$BK$3:$BK$48828,D$124,HData!$F$3:$F$48828,$J198,HData!$BR$3:$BR$48828,$K198)","v":0},{"$f":"COUNTIFS(HData!$P$3:$P$48828,\">=\"&SDate,HData!$P$3:$P$48828,\"<=\"&RDate,HData!$BP$3:$BP$48828,$I198,HData!$BK$3:$BK$48828,E$124,HData!$F$3:$F$48828,$J198,HData!$BR$3:$BR$48828,$K198)","v":0},{"$f":"COUNTIFS(HData!$P$3:$P$48828,\">=\"&SDate,HData!$P$3:$P$48828,\"<=\"&RDate,HData!$BP$3:$BP$48828,$I198,HData!$BK$3:$BK$48828,F$124,HData!$F$3:$F$48828,$J198,HData!$BR$3:$BR$48828,$K198)","v":0},{"$f":"COUNTIFS(HData!$P$3:$P$48828,\">=\"&SDate,HData!$P$3:$P$48828,\"<=\"&RDate,HData!$BP$3:$BP$48828,$I198,HData!$BK$3:$BK$48828,G$124,HData!$F$3:$F$48828,$J198,HData!$BR$3:$BR$48828,$K198)","v":0},{"$f":"COUNTIFS(HData!$P$3:$P$48828,\">=\"&SDate,HData!$P$3:$P$48828,\"<=\"&RDate,HData!$BP$3:$BP$48828,$I198,HData!$BK$3:$BK$48828,H$124,HData!$F$3:$F$48828,$J198,HData!$BR$3:$BR$48828,$K198)","v":0},"White",1,1]
["BME, single child, with disability",{"$f":"COUNTIFS(HData!$P$3:$P$48828,\">=\"&SDate,HData!$P$3:$P$48828,\"<=\"&RDate,HData!$BP$3:$BP$48828,$I199,HData!$BK$3:$BK$48828,B$124,HData!$F$3:$F$48828,$J199,HData!$BR$3:$BR$48828,$K199)","v":0},{"$f":"COUNTIFS(HData!$P$3:$P$48828,\">=\"&SDate,HData!$P$3:$P$48828,\"<=\"&RDate,HData!$BP$3:$BP$48828,$I199,HData!$BK$3:$BK$48828,C$124,HData!$F$3:$F$48828,$J199,HData!$BR$3:$BR$48828,$K199)","v":0},{"$f":"COUNTIFS(HData!$P$3:$P$48828,\">=\"&SDate,HData!$P$3:$P$48828,\"<=\"&RDate,HData!$BP$3:$BP$48828,$I199,HData!$BK$3:$BK$48828,D$124,HData!$F$3:$F$48828,$J199,HData!$BR$3:$BR$48828,$K199)","v":0},{"$f":"COUNTIFS(HData!$P$3:$P$48828,\">=\"&SDate,HData!$P$3:$P$48828,\"<=\"&RDate,HData!$BP$3:$BP$48828,$I199,HData!$BK$3:$BK$48828,E$124,HData!$F$3:$F$48828,$J199,HData!$BR$3:$BR$48828,$K199)","v":0},{"$f":"COUNTIFS(HData!$P$3:$P$48828,\">=\"&SDate,HData!$P$3:$P$48828,\"<=\"&RDate,HData!$BP$3:$BP$48828,$I199,HData!$BK$3:$BK$48828,F$124,HData!$F$3:$F$48828,$J199,HData!$BR$3:$BR$48828,$K199)","v":0},{"$f":"COUNTIFS(HData!$P$3:$P$48828,\">=\"&SDate,HData!$P$3:$P$48828,\"<=\"&RDate,HData!$BP$3:$BP$48828,$I199,HData!$BK$3:$BK$48828,G$124,HData!$F$3:$F$48828,$J199,HData!$BR$3:$BR$48828,$K199)","v":0},{"$f":"COUNTIFS(HData!$P$3:$P$48828,\">=\"&SDate,HData!$P$3:$P$48828,\"<=\"&RDate,HData!$BP$3:$BP$48828,$I199,HData!$BK$3:$BK$48828,H$124,HData!$F$3:$F$48828,$J199,HData!$BR$3:$BR$48828,$K199)","v":0},"BME",1,1]
["White, sibling group of 2, no disability",{"$f":"COUNTIFS(HData!$P$3:$P$48828,\">=\"&SDate,HData!$P$3:$P$48828,\"<=\"&RDate,HData!$BP$3:$BP$48828,$I200,HData!$BK$3:$BK$48828,B$124,HData!$F$3:$F$48828,$J200,HData!$BR$3:$BR$48828,$K200)","v":0},{"$f":"COUNTIFS(HData!$P$3:$P$48828,\">=\"&SDate,HData!$P$3:$P$48828,\"<=\"&RDate,HData!$BP$3:$BP$48828,$I200,HData!$BK$3:$BK$48828,C$124,HData!$F$3:$F$48828,$J200,HData!$BR$3:$BR$48828,$K200)","v":0},{"$f":"COUNTIFS(HData!$P$3:$P$48828,\">=\"&SDate,HData!$P$3:$P$48828,\"<=\"&RDate,HData!$BP$3:$BP$48828,$I200,HData!$BK$3:$BK$48828,D$124,HData!$F$3:$F$48828,$J200,HData!$BR$3:$BR$48828,$K200)","v":0},{"$f":"COUNTIFS(HData!$P$3:$P$48828,\">=\"&SDate,HData!$P$3:$P$48828,\"<=\"&RDate,HData!$BP$3:$BP$48828,$I200,HData!$BK$3:$BK$48828,E$124,HData!$F$3:$F$48828,$J200,HData!$BR$3:$BR$48828,$K200)","v":0},{"$f":"COUNTIFS(HData!$P$3:$P$48828,\">=\"&SDate,HData!$P$3:$P$48828,\"<=\"&RDate,HData!$BP$3:$BP$48828,$I200,HData!$BK$3:$BK$48828,F$124,HData!$F$3:$F$48828,$J200,HData!$BR$3:$BR$48828,$K200)","v":0},{"$f":"COUNTIFS(HData!$P$3:$P$48828,\">=\"&SDate,HData!$P$3:$P$48828,\"<=\"&RDate,HData!$BP$3:$BP$48828,$I200,HData!$BK$3:$BK$48828,G$124,HData!$F$3:$F$48828,$J200,HData!$BR$3:$BR$48828,$K200)","v":0},{"$f":"COUNTIFS(HData!$P$3:$P$48828,\">=\"&SDate,HData!$P$3:$P$48828,\"<=\"&RDate,HData!$BP$3:$BP$48828,$I200,HData!$BK$3:$BK$48828,H$124,HData!$F$3:$F$48828,$J200,HData!$BR$3:$BR$48828,$K200)","v":0},"White",0,2]
["BME, sibling group of 2, no disability",{"$f":"COUNTIFS(HData!$P$3:$P$48828,\">=\"&SDate,HData!$P$3:$P$48828,\"<=\"&RDate,HData!$BP$3:$BP$48828,$I201,HData!$BK$3:$BK$48828,B$124,HData!$F$3:$F$48828,$J201,HData!$BR$3:$BR$48828,$K201)","v":0},{"$f":"COUNTIFS(HData!$P$3:$P$48828,\">=\"&SDate,HData!$P$3:$P$48828,\"<=\"&RDate,HData!$BP$3:$BP$48828,$I201,HData!$BK$3:$BK$48828,C$124,HData!$F$3:$F$48828,$J201,HData!$BR$3:$BR$48828,$K201)","v":0},{"$f":"COUNTIFS(HData!$P$3:$P$48828,\">=\"&SDate,HData!$P$3:$P$48828,\"<=\"&RDate,HData!$BP$3:$BP$48828,$I201,HData!$BK$3:$BK$48828,D$124,HData!$F$3:$F$48828,$J201,HData!$BR$3:$BR$48828,$K201)","v":0},{"$f":"COUNTIFS(HData!$P$3:$P$48828,\">=\"&SDate,HData!$P$3:$P$48828,\"<=\"&RDate,HData!$BP$3:$BP$48828,$I201,HData!$BK$3:$BK$48828,E$124,HData!$F$3:$F$48828,$J201,HData!$BR$3:$BR$48828,$K201)","v":0},{"$f":"COUNTIFS(HData!$P$3:$P$48828,\">=\"&SDate,HData!$P$3:$P$48828,\"<=\"&RDate,HData!$BP$3:$BP$48828,$I201,HData!$BK$3:$BK$48828,F$124,HData!$F$3:$F$48828,$J201,HData!$BR$3:$BR$48828,$K201)","v":0},{"$f":"COUNTIFS(HData!$P$3:$P$48828,\">=\"&SDate,HData!$P$3:$P$48828,\"<=\"&RDate,HData!$BP$3:$BP$48828,$I201,HData!$BK$3:$BK$48828,G$124,HData!$F$3:$F$48828,$J201,HData!$BR$3:$BR$48828,$K201)","v":0},{"$f":"COUNTIFS(HData!$P$3:$P$48828,\">=\"&SDate,HData!$P$3:$P$48828,\"<=\"&RDate,HData!$BP$3:$BP$48828,$I201,HData!$BK$3:$BK$48828,H$124,HData!$F$3:$F$48828,$J201,HData!$BR$3:$BR$48828,$K201)","v":0},"BME",0,2]
["White, sibling group of 2, with disability",{"$f":"COUNTIFS(HData!$P$3:$P$48828,\">=\"&SDate,HData!$P$3:$P$48828,\"<=\"&RDate,HData!$BP$3:$BP$48828,$I202,HData!$BK$3:$BK$48828,B$124,HData!$F$3:$F$48828,$J202,HData!$BR$3:$BR$48828,$K202)","v":0},{"$f":"COUNTIFS(HData!$P$3:$P$48828,\">=\"&SDate,HData!$P$3:$P$48828,\"<=\"&RDate,HData!$BP$3:$BP$48828,$I202,HData!$BK$3:$BK$48828,C$124,HData!$F$3:$F$48828,$J202,HData!$BR$3:$BR$48828,$K202)","v":0},{"$f":"COUNTIFS(HData!$P$3:$P$48828,\">=\"&SDate,HData!$P$3:$P$48828,\"<=\"&RDate,HData!$BP$3:$BP$48828,$I202,HData!$BK$3:$BK$48828,D$124,HData!$F$3:$F$48828,$J202,HData!$BR$3:$BR$48828,$K202)","v":0},{"$f":"COUNTIFS(HData!$P$3:$P$48828,\">=\"&SDate,HData!$P$3:$P$48828,\"<=\"&RDate,HData!$BP$3:$BP$48828,$I202,HData!$BK$3:$BK$48828,E$124,HData!$F$3:$F$48828,$J202,HData!$BR$3:$BR$48828,$K202)","v":0},{"$f":"COUNTIFS(HData!$P$3:$P$48828,\">=\"&SDate,HData!$P$3:$P$48828,\"<=\"&RDate,HData!$BP$3:$BP$48828,$I202,HData!$BK$3:$BK$48828,F$124,HData!$F$3:$F$48828,$J202,HData!$BR$3:$BR$48828,$K202)","v":0},{"$f":"COUNTIFS(HData!$P$3:$P$48828,\">=\"&SDate,HData!$P$3:$P$48828,\"<=\"&RDate,HData!$BP$3:$BP$48828,$I202,HData!$BK$3:$BK$48828,G$124,HData!$F$3:$F$48828,$J202,HData!$BR$3:$BR$48828,$K202)","v":0},{"$f":"COUNTIFS(HData!$P$3:$P$48828,\">=\"&SDate,HData!$P$3:$P$48828,\"<=\"&RDate,HData!$BP$3:$BP$48828,$I202,HData!$BK$3:$BK$48828,H$124,HData!$F$3:$F$48828,$J202,HData!$BR$3:$BR$48828,$K202)","v":0},"White",1,2]
["BME, sibling group of 2, with disability",{"$f":"COUNTIFS(HData!$P$3:$P$48828,\">=\"&SDate,HData!$P$3:$P$48828,\"<=\"&RDate,HData!$BP$3:$BP$48828,$I203,HData!$BK$3:$BK$48828,B$124,HData!$F$3:$F$48828,$J203,HData!$BR$3:$BR$48828,$K203)","v":0},{"$f":"COUNTIFS(HData!$P$3:$P$48828,\">=\"&SDate,HData!$P$3:$P$48828,\"<=\"&RDate,HData!$BP$3:$BP$48828,$I203,HData!$BK$3:$BK$48828,C$124,HData!$F$3:$F$48828,$J203,HData!$BR$3:$BR$48828,$K203)","v":0},{"$f":"COUNTIFS(HData!$P$3:$P$48828,\">=\"&SDate,HData!$P$3:$P$48828,\"<=\"&RDate,HData!$BP$3:$BP$48828,$I203,HData!$BK$3:$BK$48828,D$124,HData!$F$3:$F$48828,$J203,HData!$BR$3:$BR$48828,$K203)","v":0},{"$f":"COUNTIFS(HData!$P$3:$P$48828,\">=\"&SDate,HData!$P$3:$P$48828,\"<=\"&RDate,HData!$BP$3:$BP$48828,$I203,HData!$BK$3:$BK$48828,E$124,HData!$F$3:$F$48828,$J203,HData!$BR$3:$BR$48828,$K203)","v":0},{"$f":"COUNTIFS(HData!$P$3:$P$48828,\">=\"&SDate,HData!$P$3:$P$48828,\"<=\"&RDate,HData!$BP$3:$BP$48828,$I203,HData!$BK$3:$BK$48828,F$124,HData!$F$3:$F$48828,$J203,HData!$BR$3:$BR$48828,$K203)","v":0},{"$f":"COUNTIFS(HData!$P$3:$P$48828,\">=\"&SDate,HData!$P$3:$P$48828,\"<=\"&RDate,HData!$BP$3:$BP$48828,$I203,HData!$BK$3:$BK$48828,G$124,HData!$F$3:$F$48828,$J203,HData!$BR$3:$BR$48828,$K203)","v":0},{"$f":"COUNTIFS(HData!$P$3:$P$48828,\">=\"&SDate,HData!$P$3:$P$48828,\"<=\"&RDate,HData!$BP$3:$BP$48828,$I203,HData!$BK$3:$BK$48828,H$124,HData!$F$3:$F$48828,$J203,HData!$BR$3:$BR$48828,$K203)","v":0},"BME",1,2]
["White, sibling group of 3, no disability",{"$f":"COUNTIFS(HData!$P$3:$P$48828,\">=\"&SDate,HData!$P$3:$P$48828,\"<=\"&RDate,HData!$BP$3:$BP$48828,$I204,HData!$BK$3:$BK$48828,B$124,HData!$F$3:$F$48828,$J204,HData!$BR$3:$BR$48828,$K204)","v":0},{"$f":"COUNTIFS(HData!$P$3:$P$48828,\">=\"&SDate,HData!$P$3:$P$48828,\"<=\"&RDate,HData!$BP$3:$BP$48828,$I204,HData!$BK$3:$BK$48828,C$124,HData!$F$3:$F$48828,$J204,HData!$BR$3:$BR$48828,$K204)","v":0},{"$f":"COUNTIFS(HData!$P$3:$P$48828,\">=\"&SDate,HData!$P$3:$P$48828,\"<=\"&RDate,HData!$BP$3:$BP$48828,$I204,HData!$BK$3:$BK$48828,D$124,HData!$F$3:$F$48828,$J204,HData!$BR$3:$BR$48828,$K204)","v":0},{"$f":"COUNTIFS(HData!$P$3:$P$48828,\">=\"&SDate,HData!$P$3:$P$48828,\"<=\"&RDate,HData!$BP$3:$BP$48828,$I204,HData!$BK$3:$BK$48828,E$124,HData!$F$3:$F$48828,$J204,HData!$BR$3:$BR$48828,$K204)","v":0},{"$f":"COUNTIFS(HData!$P$3:$P$48828,\">=\"&SDate,HData!$P$3:$P$48828,\"<=\"&RDate,HData!$BP$3:$BP$48828,$I204,HData!$BK$3:$BK$48828,F$124,HData!$F$3:$F$48828,$J204,HData!$BR$3:$BR$48828,$K204)","v":0},{"$f":"COUNTIFS(HData!$P$3:$P$48828,\">=\"&SDate,HData!$P$3:$P$48828,\"<=\"&RDate,HData!$BP$3:$BP$48828,$I204,HData!$BK$3:$BK$48828,G$124,HData!$F$3:$F$48828,$J204,HData!$BR$3:$BR$48828,$K204)","v":0},{"$f":"COUNTIFS(HData!$P$3:$P$48828,\">=\"&SDate,HData!$P$3:$P$48828,\"<=\"&RDate,HData!$BP$3:$BP$48828,$I204,HData!$BK$3:$BK$48828,H$124,HData!$F$3:$F$48828,$J204,HData!$BR$3:$BR$48828,$K204)","v":0},"White",0,3]
["BME, sibling group of 3, no disability",{"$f":"COUNTIFS(HData!$P$3:$P$48828,\">=\"&SDate,HData!$P$3:$P$48828,\"<=\"&RDate,HData!$BP$3:$BP$48828,$I205,HData!$BK$3:$BK$48828,B$124,HData!$F$3:$F$48828,$J205,HData!$BR$3:$BR$48828,$K205)","v":0},{"$f":"COUNTIFS(HData!$P$3:$P$48828,\">=\"&SDate,HData!$P$3:$P$48828,\"<=\"&RDate,HData!$BP$3:$BP$48828,$I205,HData!$BK$3:$BK$48828,C$124,HData!$F$3:$F$48828,$J205,HData!$BR$3:$BR$48828,$K205)","v":0},{"$f":"COUNTIFS(HData!$P$3:$P$48828,\">=\"&SDate,HData!$P$3:$P$48828,\"<=\"&RDate,HData!$BP$3:$BP$48828,$I205,HData!$BK$3:$BK$48828,D$124,HData!$F$3:$F$48828,$J205,HData!$BR$3:$BR$48828,$K205)","v":0},{"$f":"COUNTIFS(HData!$P$3:$P$48828,\">=\"&SDate,HData!$P$3:$P$48828,\"<=\"&RDate,HData!$BP$3:$BP$48828,$I205,HData!$BK$3:$BK$48828,E$124,HData!$F$3:$F$48828,$J205,HData!$BR$3:$BR$48828,$K205)","v":0},{"$f":"COUNTIFS(HData!$P$3:$P$48828,\">=\"&SDate,HData!$P$3:$P$48828,\"<=\"&RDate,HData!$BP$3:$BP$48828,$I205,HData!$BK$3:$BK$48828,F$124,HData!$F$3:$F$48828,$J205,HData!$BR$3:$BR$48828,$K205)","v":0},{"$f":"COUNTIFS(HData!$P$3:$P$48828,\">=\"&SDate,HData!$P$3:$P$48828,\"<=\"&RDate,HData!$BP$3:$BP$48828,$I205,HData!$BK$3:$BK$48828,G$124,HData!$F$3:$F$48828,$J205,HData!$BR$3:$BR$48828,$K205)","v":0},{"$f":"COUNTIFS(HData!$P$3:$P$48828,\">=\"&SDate,HData!$P$3:$P$48828,\"<=\"&RDate,HData!$BP$3:$BP$48828,$I205,HData!$BK$3:$BK$48828,H$124,HData!$F$3:$F$48828,$J205,HData!$BR$3:$BR$48828,$K205)","v":0},"BME",0,3]
["White, sibling group of 3, with disability",{"$f":"COUNTIFS(HData!$P$3:$P$48828,\">=\"&SDate,HData!$P$3:$P$48828,\"<=\"&RDate,HData!$BP$3:$BP$48828,$I206,HData!$BK$3:$BK$48828,B$124,HData!$F$3:$F$48828,$J206,HData!$BR$3:$BR$48828,$K206)","v":0},{"$f":"COUNTIFS(HData!$P$3:$P$48828,\">=\"&SDate,HData!$P$3:$P$48828,\"<=\"&RDate,HData!$BP$3:$BP$48828,$I206,HData!$BK$3:$BK$48828,C$124,HData!$F$3:$F$48828,$J206,HData!$BR$3:$BR$48828,$K206)","v":0},{"$f":"COUNTIFS(HData!$P$3:$P$48828,\">=\"&SDate,HData!$P$3:$P$48828,\"<=\"&RDate,HData!$BP$3:$BP$48828,$I206,HData!$BK$3:$BK$48828,D$124,HData!$F$3:$F$48828,$J206,HData!$BR$3:$BR$48828,$K206)","v":0},{"$f":"COUNTIFS(HData!$P$3:$P$48828,\">=\"&SDate,HData!$P$3:$P$48828,\"<=\"&RDate,HData!$BP$3:$BP$48828,$I206,HData!$BK$3:$BK$48828,E$124,HData!$F$3:$F$48828,$J206,HData!$BR$3:$BR$48828,$K206)","v":0},{"$f":"COUNTIFS(HData!$P$3:$P$48828,\">=\"&SDate,HData!$P$3:$P$48828,\"<=\"&RDate,HData!$BP$3:$BP$48828,$I206,HData!$BK$3:$BK$48828,F$124,HData!$F$3:$F$48828,$J206,HData!$BR$3:$BR$48828,$K206)","v":0},{"$f":"COUNTIFS(HData!$P$3:$P$48828,\">=\"&SDate,HData!$P$3:$P$48828,\"<=\"&RDate,HData!$BP$3:$BP$48828,$I206,HData!$BK$3:$BK$48828,G$124,HData!$F$3:$F$48828,$J206,HData!$BR$3:$BR$48828,$K206)","v":0},{"$f":"COUNTIFS(HData!$P$3:$P$48828,\">=\"&SDate,HData!$P$3:$P$48828,\"<=\"&RDate,HData!$BP$3:$BP$48828,$I206,HData!$BK$3:$BK$48828,H$124,HData!$F$3:$F$48828,$J206,HData!$BR$3:$BR$48828,$K206)","v":0},"White",1,3,null,null,null,"Check"]
["BME, sibling group of 3, with disability",{"$f":"COUNTIFS(HData!$P$3:$P$48828,\">=\"&SDate,HData!$P$3:$P$48828,\"<=\"&RDate,HData!$BP$3:$BP$48828,$I207,HData!$BK$3:$BK$48828,B$124,HData!$F$3:$F$48828,$J207,HData!$BR$3:$BR$48828,$K207)","v":0},{"$f":"COUNTIFS(HData!$P$3:$P$48828,\">=\"&SDate,HData!$P$3:$P$48828,\"<=\"&RDate,HData!$BP$3:$BP$48828,$I207,HData!$BK$3:$BK$48828,C$124,HData!$F$3:$F$48828,$J207,HData!$BR$3:$BR$48828,$K207)","v":0},{"$f":"COUNTIFS(HData!$P$3:$P$48828,\">=\"&SDate,HData!$P$3:$P$48828,\"<=\"&RDate,HData!$BP$3:$BP$48828,$I207,HData!$BK$3:$BK$48828,D$124,HData!$F$3:$F$48828,$J207,HData!$BR$3:$BR$48828,$K207)","v":0},{"$f":"COUNTIFS(HData!$P$3:$P$48828,\">=\"&SDate,HData!$P$3:$P$48828,\"<=\"&RDate,HData!$BP$3:$BP$48828,$I207,HData!$BK$3:$BK$48828,E$124,HData!$F$3:$F$48828,$J207,HData!$BR$3:$BR$48828,$K207)","v":0},{"$f":"COUNTIFS(HData!$P$3:$P$48828,\">=\"&SDate,HData!$P$3:$P$48828,\"<=\"&RDate,HData!$BP$3:$BP$48828,$I207,HData!$BK$3:$BK$48828,F$124,HData!$F$3:$F$48828,$J207,HData!$BR$3:$BR$48828,$K207)","v":0},{"$f":"COUNTIFS(HData!$P$3:$P$48828,\">=\"&SDate,HData!$P$3:$P$48828,\"<=\"&RDate,HData!$BP$3:$BP$48828,$I207,HData!$BK$3:$BK$48828,G$124,HData!$F$3:$F$48828,$J207,HData!$BR$3:$BR$48828,$K207)","v":0},{"$f":"COUNTIFS(HData!$P$3:$P$48828,\">=\"&SDate,HData!$P$3:$P$48828,\"<=\"&RDate,HData!$BP$3:$BP$48828,$I207,HData!$BK$3:$BK$48828,H$124,HData!$F$3:$F$48828,$J207,HData!$BR$3:$BR$48828,$K207)","v":0},"BME",1,3,null,"TOTAL",{"$f":"SUM(B196:H207)","v":0},{"$f":"COUNTIFS(HData!$P$3:$P$48293,\">=\"&SDate,HData!$P$3:$P$48293,\"<=\"&RDate,HData!$O$3:$O$48293,\"<>\")","v":0}]
[null,"Age at PO"]
["AVG PO TO MATCH",0,1,2,3,4,5,">5","BME","Disability","Sibling"]
["White, single child, no disability",{"$f":"IFERROR(SUMIFS(HData!$AT$3:$AT$48828,HData!$P$3:$P$48828,\">=\"&SDate,HData!$P$3:$P$48828,\"<=\"&RDate,HData!$BP$3:$BP$48828,$I210,HData!$BK$3:$BK$48828,B$124,HData!$F$3:$F$48828,$J210,HData!$BR$3:$BR$48828,$K210)/COUNTIFS(HData!$AT$3:$AT$48828,\">=0\",HData!$P$3:$P$48828,\">=\"&SDate,HData!$P$3:$P$48828,\"<=\"&RDate,HData!$BP$3:$BP$48828,$I210,HData!$BK$3:$BK$48828,B$124,HData!$F$3:$F$48828,$J210,HData!$BR$3:$BR$48828,$K210),\"\")","v":""},{"$f":"IFERROR(SUMIFS(HData!$AT$3:$AT$48828,HData!$P$3:$P$48828,\">=\"&SDate,HData!$P$3:$P$48828,\"<=\"&RDate,HData!$BP$3:$BP$48828,$I210,HData!$BK$3:$BK$48828,C$124,HData!$F$3:$F$48828,$J210,HData!$BR$3:$BR$48828,$K210)/COUNTIFS(HData!$AT$3:$AT$48828,\">=0\",HData!$P$3:$P$48828,\">=\"&SDate,HData!$P$3:$P$48828,\"<=\"&RDate,HData!$BP$3:$BP$48828,$I210,HData!$BK$3:$BK$48828,C$124,HData!$F$3:$F$48828,$J210,HData!$BR$3:$BR$48828,$K210),\"\")","v":""},{"$f":"IFERROR(SUMIFS(HData!$AT$3:$AT$48828,HData!$P$3:$P$48828,\">=\"&SDate,HData!$P$3:$P$48828,\"<=\"&RDate,HData!$BP$3:$BP$48828,$I210,HData!$BK$3:$BK$48828,D$124,HData!$F$3:$F$48828,$J210,HData!$BR$3:$BR$48828,$K210)/COUNTIFS(HData!$AT$3:$AT$48828,\">=0\",HData!$P$3:$P$48828,\">=\"&SDate,HData!$P$3:$P$48828,\"<=\"&RDate,HData!$BP$3:$BP$48828,$I210,HData!$BK$3:$BK$48828,D$124,HData!$F$3:$F$48828,$J210,HData!$BR$3:$BR$48828,$K210),\"\")","v":""},{"$f":"IFERROR(SUMIFS(HData!$AT$3:$AT$48828,HData!$P$3:$P$48828,\">=\"&SDate,HData!$P$3:$P$48828,\"<=\"&RDate,HData!$BP$3:$BP$48828,$I210,HData!$BK$3:$BK$48828,E$124,HData!$F$3:$F$48828,$J210,HData!$BR$3:$BR$48828,$K210)/COUNTIFS(HData!$AT$3:$AT$48828,\">=0\",HData!$P$3:$P$48828,\">=\"&SDate,HData!$P$3:$P$48828,\"<=\"&RDate,HData!$BP$3:$BP$48828,$I210,HData!$BK$3:$BK$48828,E$124,HData!$F$3:$F$48828,$J210,HData!$BR$3:$BR$48828,$K210),\"\")","v":""},{"$f":"IFERROR(SUMIFS(HData!$AT$3:$AT$48828,HData!$P$3:$P$48828,\">=\"&SDate,HData!$P$3:$P$48828,\"<=\"&RDate,HData!$BP$3:$BP$48828,$I210,HData!$BK$3:$BK$48828,F$124,HData!$F$3:$F$48828,$J210,HData!$BR$3:$BR$48828,$K210)/COUNTIFS(HData!$AT$3:$AT$48828,\">=0\",HData!$P$3:$P$48828,\">=\"&SDate,HData!$P$3:$P$48828,\"<=\"&RDate,HData!$BP$3:$BP$48828,$I210,HData!$BK$3:$BK$48828,F$124,HData!$F$3:$F$48828,$J210,HData!$BR$3:$BR$48828,$K210),\"\")","v":""},{"$f":"IFERROR(SUMIFS(HData!$AT$3:$AT$48828,HData!$P$3:$P$48828,\">=\"&SDate,HData!$P$3:$P$48828,\"<=\"&RDate,HData!$BP$3:$BP$48828,$I210,HData!$BK$3:$BK$48828,G$124,HData!$F$3:$F$48828,$J210,HData!$BR$3:$BR$48828,$K210)/COUNTIFS(HData!$AT$3:$AT$48828,\">=0\",HData!$P$3:$P$48828,\">=\"&SDate,HData!$P$3:$P$48828,\"<=\"&RDate,HData!$BP$3:$BP$48828,$I210,HData!$BK$3:$BK$48828,G$124,HData!$F$3:$F$48828,$J210,HData!$BR$3:$BR$48828,$K210),\"\")","v":""},{"$f":"IFERROR(SUMIFS(HData!$AT$3:$AT$48828,HData!$P$3:$P$48828,\">=\"&SDate,HData!$P$3:$P$48828,\"<=\"&RDate,HData!$BP$3:$BP$48828,$I210,HData!$BK$3:$BK$48828,H$124,HData!$F$3:$F$48828,$J210,HData!$BR$3:$BR$48828,$K210)/COUNTIFS(HData!$AT$3:$AT$48828,\">=0\",HData!$P$3:$P$48828,\">=\"&SDate,HData!$P$3:$P$48828,\"<=\"&RDate,HData!$BP$3:$BP$48828,$I210,HData!$BK$3:$BK$48828,H$124,HData!$F$3:$F$48828,$J210,HData!$BR$3:$BR$48828,$K210),\"\")","v":""},"White",0,1]
["BME, single child, no disability",{"$f":"IFERROR(SUMIFS(HData!$AT$3:$AT$48828,HData!$P$3:$P$48828,\">=\"&SDate,HData!$P$3:$P$48828,\"<=\"&RDate,HData!$BP$3:$BP$48828,$I211,HData!$BK$3:$BK$48828,B$124,HData!$F$3:$F$48828,$J211,HData!$BR$3:$BR$48828,$K211)/COUNTIFS(HData!$AT$3:$AT$48828,\">=0\",HData!$P$3:$P$48828,\">=\"&SDate,HData!$P$3:$P$48828,\"<=\"&RDate,HData!$BP$3:$BP$48828,$I211,HData!$BK$3:$BK$48828,B$124,HData!$F$3:$F$48828,$J211,HData!$BR$3:$BR$48828,$K211),\"\")","v":""},{"$f":"IFERROR(SUMIFS(HData!$AT$3:$AT$48828,HData!$P$3:$P$48828,\">=\"&SDate,HData!$P$3:$P$48828,\"<=\"&RDate,HData!$BP$3:$BP$48828,$I211,HData!$BK$3:$BK$48828,C$124,HData!$F$3:$F$48828,$J211,HData!$BR$3:$BR$48828,$K211)/COUNTIFS(HData!$AT$3:$AT$48828,\">=0\",HData!$P$3:$P$48828,\">=\"&SDate,HData!$P$3:$P$48828,\"<=\"&RDate,HData!$BP$3:$BP$48828,$I211,HData!$BK$3:$BK$48828,C$124,HData!$F$3:$F$48828,$J211,HData!$BR$3:$BR$48828,$K211),\"\")","v":""},{"$f":"IFERROR(SUMIFS(HData!$AT$3:$AT$48828,HData!$P$3:$P$48828,\">=\"&SDate,HData!$P$3:$P$48828,\"<=\"&RDate,HData!$BP$3:$BP$48828,$I211,HData!$BK$3:$BK$48828,D$124,HData!$F$3:$F$48828,$J211,HData!$BR$3:$BR$48828,$K211)/COUNTIFS(HData!$AT$3:$AT$48828,\">=0\",HData!$P$3:$P$48828,\">=\"&SDate,HData!$P$3:$P$48828,\"<=\"&RDate,HData!$BP$3:$BP$48828,$I211,HData!$BK$3:$BK$48828,D$124,HData!$F$3:$F$48828,$J211,HData!$BR$3:$BR$48828,$K211),\"\")","v":""},{"$f":"IFERROR(SUMIFS(HData!$AT$3:$AT$48828,HData!$P$3:$P$48828,\">=\"&SDate,HData!$P$3:$P$48828,\"<=\"&RDate,HData!$BP$3:$BP$48828,$I211,HData!$BK$3:$BK$48828,E$124,HData!$F$3:$F$48828,$J211,HData!$BR$3:$BR$48828,$K211)/COUNTIFS(HData!$AT$3:$AT$48828,\">=0\",HData!$P$3:$P$48828,\">=\"&SDate,HData!$P$3:$P$48828,\"<=\"&RDate,HData!$BP$3:$BP$48828,$I211,HData!$BK$3:$BK$48828,E$124,HData!$F$3:$F$48828,$J211,HData!$BR$3:$BR$48828,$K211),\"\")","v":""},{"$f":"IFERROR(SUMIFS(HData!$AT$3:$AT$48828,HData!$P$3:$P$48828,\">=\"&SDate,HData!$P$3:$P$48828,\"<=\"&RDate,HData!$BP$3:$BP$48828,$I211,HData!$BK$3:$BK$48828,F$124,HData!$F$3:$F$48828,$J211,HData!$BR$3:$BR$48828,$K211)/COUNTIFS(HData!$AT$3:$AT$48828,\">=0\",HData!$P$3:$P$48828,\">=\"&SDate,HData!$P$3:$P$48828,\"<=\"&RDate,HData!$BP$3:$BP$48828,$I211,HData!$BK$3:$BK$48828,F$124,HData!$F$3:$F$48828,$J211,HData!$BR$3:$BR$48828,$K211),\"\")","v":""},{"$f":"IFERROR(SUMIFS(HData!$AT$3:$AT$48828,HData!$P$3:$P$48828,\">=\"&SDate,HData!$P$3:$P$48828,\"<=\"&RDate,HData!$BP$3:$BP$48828,$I211,HData!$BK$3:$BK$48828,G$124,HData!$F$3:$F$48828,$J211,HData!$BR$3:$BR$48828,$K211)/COUNTIFS(HData!$AT$3:$AT$48828,\">=0\",HData!$P$3:$P$48828,\">=\"&SDate,HData!$P$3:$P$48828,\"<=\"&RDate,HData!$BP$3:$BP$48828,$I211,HData!$BK$3:$BK$48828,G$124,HData!$F$3:$F$48828,$J211,HData!$BR$3:$BR$48828,$K211),\"\")","v":""},{"$f":"IFERROR(SUMIFS(HData!$AT$3:$AT$48828,HData!$P$3:$P$48828,\">=\"&SDate,HData!$P$3:$P$48828,\"<=\"&RDate,HData!$BP$3:$BP$48828,$I211,HData!$BK$3:$BK$48828,H$124,HData!$F$3:$F$48828,$J211,HData!$BR$3:$BR$48828,$K211)/COUNTIFS(HData!$AT$3:$AT$48828,\">=0\",HData!$P$3:$P$48828,\">=\"&SDate,HData!$P$3:$P$48828,\"<=\"&RDate,HData!$BP$3:$BP$48828,$I211,HData!$BK$3:$BK$48828,H$124,HData!$F$3:$F$48828,$J211,HData!$BR$3:$BR$48828,$K211),\"\")","v":""},"BME",0,1]
["White, single child, with disability",{"$f":"IFERROR(SUMIFS(HData!$AT$3:$AT$48828,HData!$P$3:$P$48828,\">=\"&SDate,HData!$P$3:$P$48828,\"<=\"&RDate,HData!$BP$3:$BP$48828,$I212,HData!$BK$3:$BK$48828,B$124,HData!$F$3:$F$48828,$J212,HData!$BR$3:$BR$48828,$K212)/COUNTIFS(HData!$AT$3:$AT$48828,\">=0\",HData!$P$3:$P$48828,\">=\"&SDate,HData!$P$3:$P$48828,\"<=\"&RDate,HData!$BP$3:$BP$48828,$I212,HData!$BK$3:$BK$48828,B$124,HData!$F$3:$F$48828,$J212,HData!$BR$3:$BR$48828,$K212),\"\")","v":""},{"$f":"IFERROR(SUMIFS(HData!$AT$3:$AT$48828,HData!$P$3:$P$48828,\">=\"&SDate,HData!$P$3:$P$48828,\"<=\"&RDate,HData!$BP$3:$BP$48828,$I212,HData!$BK$3:$BK$48828,C$124,HData!$F$3:$F$48828,$J212,HData!$BR$3:$BR$48828,$K212)/COUNTIFS(HData!$AT$3:$AT$48828,\">=0\",HData!$P$3:$P$48828,\">=\"&SDate,HData!$P$3:$P$48828,\"<=\"&RDate,HData!$BP$3:$BP$48828,$I212,HData!$BK$3:$BK$48828,C$124,HData!$F$3:$F$48828,$J212,HData!$BR$3:$BR$48828,$K212),\"\")","v":""},{"$f":"IFERROR(SUMIFS(HData!$AT$3:$AT$48828,HData!$P$3:$P$48828,\">=\"&SDate,HData!$P$3:$P$48828,\"<=\"&RDate,HData!$BP$3:$BP$48828,$I212,HData!$BK$3:$BK$48828,D$124,HData!$F$3:$F$48828,$J212,HData!$BR$3:$BR$48828,$K212)/COUNTIFS(HData!$AT$3:$AT$48828,\">=0\",HData!$P$3:$P$48828,\">=\"&SDate,HData!$P$3:$P$48828,\"<=\"&RDate,HData!$BP$3:$BP$48828,$I212,HData!$BK$3:$BK$48828,D$124,HData!$F$3:$F$48828,$J212,HData!$BR$3:$BR$48828,$K212),\"\")","v":""},{"$f":"IFERROR(SUMIFS(HData!$AT$3:$AT$48828,HData!$P$3:$P$48828,\">=\"&SDate,HData!$P$3:$P$48828,\"<=\"&RDate,HData!$BP$3:$BP$48828,$I212,HData!$BK$3:$BK$48828,E$124,HData!$F$3:$F$48828,$J212,HData!$BR$3:$BR$48828,$K212)/COUNTIFS(HData!$AT$3:$AT$48828,\">=0\",HData!$P$3:$P$48828,\">=\"&SDate,HData!$P$3:$P$48828,\"<=\"&RDate,HData!$BP$3:$BP$48828,$I212,HData!$BK$3:$BK$48828,E$124,HData!$F$3:$F$48828,$J212,HData!$BR$3:$BR$48828,$K212),\"\")","v":""},{"$f":"IFERROR(SUMIFS(HData!$AT$3:$AT$48828,HData!$P$3:$P$48828,\">=\"&SDate,HData!$P$3:$P$48828,\"<=\"&RDate,HData!$BP$3:$BP$48828,$I212,HData!$BK$3:$BK$48828,F$124,HData!$F$3:$F$48828,$J212,HData!$BR$3:$BR$48828,$K212)/COUNTIFS(HData!$AT$3:$AT$48828,\">=0\",HData!$P$3:$P$48828,\">=\"&SDate,HData!$P$3:$P$48828,\"<=\"&RDate,HData!$BP$3:$BP$48828,$I212,HData!$BK$3:$BK$48828,F$124,HData!$F$3:$F$48828,$J212,HData!$BR$3:$BR$48828,$K212),\"\")","v":""},{"$f":"IFERROR(SUMIFS(HData!$AT$3:$AT$48828,HData!$P$3:$P$48828,\">=\"&SDate,HData!$P$3:$P$48828,\"<=\"&RDate,HData!$BP$3:$BP$48828,$I212,HData!$BK$3:$BK$48828,G$124,HData!$F$3:$F$48828,$J212,HData!$BR$3:$BR$48828,$K212)/COUNTIFS(HData!$AT$3:$AT$48828,\">=0\",HData!$P$3:$P$48828,\">=\"&SDate,HData!$P$3:$P$48828,\"<=\"&RDate,HData!$BP$3:$BP$48828,$I212,HData!$BK$3:$BK$48828,G$124,HData!$F$3:$F$48828,$J212,HData!$BR$3:$BR$48828,$K212),\"\")","v":""},{"$f":"IFERROR(SUMIFS(HData!$AT$3:$AT$48828,HData!$P$3:$P$48828,\">=\"&SDate,HData!$P$3:$P$48828,\"<=\"&RDate,HData!$BP$3:$BP$48828,$I212,HData!$BK$3:$BK$48828,H$124,HData!$F$3:$F$48828,$J212,HData!$BR$3:$BR$48828,$K212)/COUNTIFS(HData!$AT$3:$AT$48828,\">=0\",HData!$P$3:$P$48828,\">=\"&SDate,HData!$P$3:$P$48828,\"<=\"&RDate,HData!$BP$3:$BP$48828,$I212,HData!$BK$3:$BK$48828,H$124,HData!$F$3:$F$48828,$J212,HData!$BR$3:$BR$48828,$K212),\"\")","v":""},"White",1,1]
["BME, single child, with disability",{"$f":"IFERROR(SUMIFS(HData!$AT$3:$AT$48828,HData!$P$3:$P$48828,\">=\"&SDate,HData!$P$3:$P$48828,\"<=\"&RDate,HData!$BP$3:$BP$48828,$I213,HData!$BK$3:$BK$48828,B$124,HData!$F$3:$F$48828,$J213,HData!$BR$3:$BR$48828,$K213)/COUNTIFS(HData!$AT$3:$AT$48828,\">=0\",HData!$P$3:$P$48828,\">=\"&SDate,HData!$P$3:$P$48828,\"<=\"&RDate,HData!$BP$3:$BP$48828,$I213,HData!$BK$3:$BK$48828,B$124,HData!$F$3:$F$48828,$J213,HData!$BR$3:$BR$48828,$K213),\"\")","v":""},{"$f":"IFERROR(SUMIFS(HData!$AT$3:$AT$48828,HData!$P$3:$P$48828,\">=\"&SDate,HData!$P$3:$P$48828,\"<=\"&RDate,HData!$BP$3:$BP$48828,$I213,HData!$BK$3:$BK$48828,C$124,HData!$F$3:$F$48828,$J213,HData!$BR$3:$BR$48828,$K213)/COUNTIFS(HData!$AT$3:$AT$48828,\">=0\",HData!$P$3:$P$48828,\">=\"&SDate,HData!$P$3:$P$48828,\"<=\"&RDate,HData!$BP$3:$BP$48828,$I213,HData!$BK$3:$BK$48828,C$124,HData!$F$3:$F$48828,$J213,HData!$BR$3:$BR$48828,$K213),\"\")","v":""},{"$f":"IFERROR(SUMIFS(HData!$AT$3:$AT$48828,HData!$P$3:$P$48828,\">=\"&SDate,HData!$P$3:$P$48828,\"<=\"&RDate,HData!$BP$3:$BP$48828,$I213,HData!$BK$3:$BK$48828,D$124,HData!$F$3:$F$48828,$J213,HData!$BR$3:$BR$48828,$K213)/COUNTIFS(HData!$AT$3:$AT$48828,\">=0\",HData!$P$3:$P$48828,\">=\"&SDate,HData!$P$3:$P$48828,\"<=\"&RDate,HData!$BP$3:$BP$48828,$I213,HData!$BK$3:$BK$48828,D$124,HData!$F$3:$F$48828,$J213,HData!$BR$3:$BR$48828,$K213),\"\")","v":""},{"$f":"IFERROR(SUMIFS(HData!$AT$3:$AT$48828,HData!$P$3:$P$48828,\">=\"&SDate,HData!$P$3:$P$48828,\"<=\"&RDate,HData!$BP$3:$BP$48828,$I213,HData!$BK$3:$BK$48828,E$124,HData!$F$3:$F$48828,$J213,HData!$BR$3:$BR$48828,$K213)/COUNTIFS(HData!$AT$3:$AT$48828,\">=0\",HData!$P$3:$P$48828,\">=\"&SDate,HData!$P$3:$P$48828,\"<=\"&RDate,HData!$BP$3:$BP$48828,$I213,HData!$BK$3:$BK$48828,E$124,HData!$F$3:$F$48828,$J213,HData!$BR$3:$BR$48828,$K213),\"\")","v":""},{"$f":"IFERROR(SUMIFS(HData!$AT$3:$AT$48828,HData!$P$3:$P$48828,\">=\"&SDate,HData!$P$3:$P$48828,\"<=\"&RDate,HData!$BP$3:$BP$48828,$I213,HData!$BK$3:$BK$48828,F$124,HData!$F$3:$F$48828,$J213,HData!$BR$3:$BR$48828,$K213)/COUNTIFS(HData!$AT$3:$AT$48828,\">=0\",HData!$P$3:$P$48828,\">=\"&SDate,HData!$P$3:$P$48828,\"<=\"&RDate,HData!$BP$3:$BP$48828,$I213,HData!$BK$3:$BK$48828,F$124,HData!$F$3:$F$48828,$J213,HData!$BR$3:$BR$48828,$K213),\"\")","v":""},{"$f":"IFERROR(SUMIFS(HData!$AT$3:$AT$48828,HData!$P$3:$P$48828,\">=\"&SDate,HData!$P$3:$P$48828,\"<=\"&RDate,HData!$BP$3:$BP$48828,$I213,HData!$BK$3:$BK$48828,G$124,HData!$F$3:$F$48828,$J213,HData!$BR$3:$BR$48828,$K213)/COUNTIFS(HData!$AT$3:$AT$48828,\">=0\",HData!$P$3:$P$48828,\">=\"&SDate,HData!$P$3:$P$48828,\"<=\"&RDate,HData!$BP$3:$BP$48828,$I213,HData!$BK$3:$BK$48828,G$124,HData!$F$3:$F$48828,$J213,HData!$BR$3:$BR$48828,$K213),\"\")","v":""},{"$f":"IFERROR(SUMIFS(HData!$AT$3:$AT$48828,HData!$P$3:$P$48828,\">=\"&SDate,HData!$P$3:$P$48828,\"<=\"&RDate,HData!$BP$3:$BP$48828,$I213,HData!$BK$3:$BK$48828,H$124,HData!$F$3:$F$48828,$J213,HData!$BR$3:$BR$48828,$K213)/COUNTIFS(HData!$AT$3:$AT$48828,\">=0\",HData!$P$3:$P$48828,\">=\"&SDate,HData!$P$3:$P$48828,\"<=\"&RDate,HData!$BP$3:$BP$48828,$I213,HData!$BK$3:$BK$48828,H$124,HData!$F$3:$F$48828,$J213,HData!$BR$3:$BR$48828,$K213),\"\")","v":""},"BME",1,1]
["White, sibling group of 2, no disability",{"$f":"IFERROR(SUMIFS(HData!$AT$3:$AT$48828,HData!$P$3:$P$48828,\">=\"&SDate,HData!$P$3:$P$48828,\"<=\"&RDate,HData!$BP$3:$BP$48828,$I214,HData!$BK$3:$BK$48828,B$124,HData!$F$3:$F$48828,$J214,HData!$BR$3:$BR$48828,$K214)/COUNTIFS(HData!$AT$3:$AT$48828,\">=0\",HData!$P$3:$P$48828,\">=\"&SDate,HData!$P$3:$P$48828,\"<=\"&RDate,HData!$BP$3:$BP$48828,$I214,HData!$BK$3:$BK$48828,B$124,HData!$F$3:$F$48828,$J214,HData!$BR$3:$BR$48828,$K214),\"\")","v":""},{"$f":"IFERROR(SUMIFS(HData!$AT$3:$AT$48828,HData!$P$3:$P$48828,\">=\"&SDate,HData!$P$3:$P$48828,\"<=\"&RDate,HData!$BP$3:$BP$48828,$I214,HData!$BK$3:$BK$48828,C$124,HData!$F$3:$F$48828,$J214,HData!$BR$3:$BR$48828,$K214)/COUNTIFS(HData!$AT$3:$AT$48828,\">=0\",HData!$P$3:$P$48828,\">=\"&SDate,HData!$P$3:$P$48828,\"<=\"&RDate,HData!$BP$3:$BP$48828,$I214,HData!$BK$3:$BK$48828,C$124,HData!$F$3:$F$48828,$J214,HData!$BR$3:$BR$48828,$K214),\"\")","v":""},{"$f":"IFERROR(SUMIFS(HData!$AT$3:$AT$48828,HData!$P$3:$P$48828,\">=\"&SDate,HData!$P$3:$P$48828,\"<=\"&RDate,HData!$BP$3:$BP$48828,$I214,HData!$BK$3:$BK$48828,D$124,HData!$F$3:$F$48828,$J214,HData!$BR$3:$BR$48828,$K214)/COUNTIFS(HData!$AT$3:$AT$48828,\">=0\",HData!$P$3:$P$48828,\">=\"&SDate,HData!$P$3:$P$48828,\"<=\"&RDate,HData!$BP$3:$BP$48828,$I214,HData!$BK$3:$BK$48828,D$124,HData!$F$3:$F$48828,$J214,HData!$BR$3:$BR$48828,$K214),\"\")","v":""},{"$f":"IFERROR(SUMIFS(HData!$AT$3:$AT$48828,HData!$P$3:$P$48828,\">=\"&SDate,HData!$P$3:$P$48828,\"<=\"&RDate,HData!$BP$3:$BP$48828,$I214,HData!$BK$3:$BK$48828,E$124,HData!$F$3:$F$48828,$J214,HData!$BR$3:$BR$48828,$K214)/COUNTIFS(HData!$AT$3:$AT$48828,\">=0\",HData!$P$3:$P$48828,\">=\"&SDate,HData!$P$3:$P$48828,\"<=\"&RDate,HData!$BP$3:$BP$48828,$I214,HData!$BK$3:$BK$48828,E$124,HData!$F$3:$F$48828,$J214,HData!$BR$3:$BR$48828,$K214),\"\")","v":""},{"$f":"IFERROR(SUMIFS(HData!$AT$3:$AT$48828,HData!$P$3:$P$48828,\">=\"&SDate,HData!$P$3:$P$48828,\"<=\"&RDate,HData!$BP$3:$BP$48828,$I214,HData!$BK$3:$BK$48828,F$124,HData!$F$3:$F$48828,$J214,HData!$BR$3:$BR$48828,$K214)/COUNTIFS(HData!$AT$3:$AT$48828,\">=0\",HData!$P$3:$P$48828,\">=\"&SDate,HData!$P$3:$P$48828,\"<=\"&RDate,HData!$BP$3:$BP$48828,$I214,HData!$BK$3:$BK$48828,F$124,HData!$F$3:$F$48828,$J214,HData!$BR$3:$BR$48828,$K214),\"\")","v":""},{"$f":"IFERROR(SUMIFS(HData!$AT$3:$AT$48828,HData!$P$3:$P$48828,\">=\"&SDate,HData!$P$3:$P$48828,\"<=\"&RDate,HData!$BP$3:$BP$48828,$I214,HData!$BK$3:$BK$48828,G$124,HData!$F$3:$F$48828,$J214,HData!$BR$3:$BR$48828,$K214)/COUNTIFS(HData!$AT$3:$AT$48828,\">=0\",HData!$P$3:$P$48828,\">=\"&SDate,HData!$P$3:$P$48828,\"<=\"&RDate,HData!$BP$3:$BP$48828,$I214,HData!$BK$3:$BK$48828,G$124,HData!$F$3:$F$48828,$J214,HData!$BR$3:$BR$48828,$K214),\"\")","v":""},{"$f":"IFERROR(SUMIFS(HData!$AT$3:$AT$48828,HData!$P$3:$P$48828,\">=\"&SDate,HData!$P$3:$P$48828,\"<=\"&RDate,HData!$BP$3:$BP$48828,$I214,HData!$BK$3:$BK$48828,H$124,HData!$F$3:$F$48828,$J214,HData!$BR$3:$BR$48828,$K214)/COUNTIFS(HData!$AT$3:$AT$48828,\">=0\",HData!$P$3:$P$48828,\">=\"&SDate,HData!$P$3:$P$48828,\"<=\"&RDate,HData!$BP$3:$BP$48828,$I214,HData!$BK$3:$BK$48828,H$124,HData!$F$3:$F$48828,$J214,HData!$BR$3:$BR$48828,$K214),\"\")","v":""},"White",0,2]
["BME, sibling group of 2, no disability",{"$f":"IFERROR(SUMIFS(HData!$AT$3:$AT$48828,HData!$P$3:$P$48828,\">=\"&SDate,HData!$P$3:$P$48828,\"<=\"&RDate,HData!$BP$3:$BP$48828,$I215,HData!$BK$3:$BK$48828,B$124,HData!$F$3:$F$48828,$J215,HData!$BR$3:$BR$48828,$K215)/COUNTIFS(HData!$AT$3:$AT$48828,\">=0\",HData!$P$3:$P$48828,\">=\"&SDate,HData!$P$3:$P$48828,\"<=\"&RDate,HData!$BP$3:$BP$48828,$I215,HData!$BK$3:$BK$48828,B$124,HData!$F$3:$F$48828,$J215,HData!$BR$3:$BR$48828,$K215),\"\")","v":""},{"$f":"IFERROR(SUMIFS(HData!$AT$3:$AT$48828,HData!$P$3:$P$48828,\">=\"&SDate,HData!$P$3:$P$48828,\"<=\"&RDate,HData!$BP$3:$BP$48828,$I215,HData!$BK$3:$BK$48828,C$124,HData!$F$3:$F$48828,$J215,HData!$BR$3:$BR$48828,$K215)/COUNTIFS(HData!$AT$3:$AT$48828,\">=0\",HData!$P$3:$P$48828,\">=\"&SDate,HData!$P$3:$P$48828,\"<=\"&RDate,HData!$BP$3:$BP$48828,$I215,HData!$BK$3:$BK$48828,C$124,HData!$F$3:$F$48828,$J215,HData!$BR$3:$BR$48828,$K215),\"\")","v":""},{"$f":"IFERROR(SUMIFS(HData!$AT$3:$AT$48828,HData!$P$3:$P$48828,\">=\"&SDate,HData!$P$3:$P$48828,\"<=\"&RDate,HData!$BP$3:$BP$48828,$I215,HData!$BK$3:$BK$48828,D$124,HData!$F$3:$F$48828,$J215,HData!$BR$3:$BR$48828,$K215)/COUNTIFS(HData!$AT$3:$AT$48828,\">=0\",HData!$P$3:$P$48828,\">=\"&SDate,HData!$P$3:$P$48828,\"<=\"&RDate,HData!$BP$3:$BP$48828,$I215,HData!$BK$3:$BK$48828,D$124,HData!$F$3:$F$48828,$J215,HData!$BR$3:$BR$48828,$K215),\"\")","v":""},{"$f":"IFERROR(SUMIFS(HData!$AT$3:$AT$48828,HData!$P$3:$P$48828,\">=\"&SDate,HData!$P$3:$P$48828,\"<=\"&RDate,HData!$BP$3:$BP$48828,$I215,HData!$BK$3:$BK$48828,E$124,HData!$F$3:$F$48828,$J215,HData!$BR$3:$BR$48828,$K215)/COUNTIFS(HData!$AT$3:$AT$48828,\">=0\",HData!$P$3:$P$48828,\">=\"&SDate,HData!$P$3:$P$48828,\"<=\"&RDate,HData!$BP$3:$BP$48828,$I215,HData!$BK$3:$BK$48828,E$124,HData!$F$3:$F$48828,$J215,HData!$BR$3:$BR$48828,$K215),\"\")","v":""},{"$f":"IFERROR(SUMIFS(HData!$AT$3:$AT$48828,HData!$P$3:$P$48828,\">=\"&SDate,HData!$P$3:$P$48828,\"<=\"&RDate,HData!$BP$3:$BP$48828,$I215,HData!$BK$3:$BK$48828,F$124,HData!$F$3:$F$48828,$J215,HData!$BR$3:$BR$48828,$K215)/COUNTIFS(HData!$AT$3:$AT$48828,\">=0\",HData!$P$3:$P$48828,\">=\"&SDate,HData!$P$3:$P$48828,\"<=\"&RDate,HData!$BP$3:$BP$48828,$I215,HData!$BK$3:$BK$48828,F$124,HData!$F$3:$F$48828,$J215,HData!$BR$3:$BR$48828,$K215),\"\")","v":""},{"$f":"IFERROR(SUMIFS(HData!$AT$3:$AT$48828,HData!$P$3:$P$48828,\">=\"&SDate,HData!$P$3:$P$48828,\"<=\"&RDate,HData!$BP$3:$BP$48828,$I215,HData!$BK$3:$BK$48828,G$124,HData!$F$3:$F$48828,$J215,HData!$BR$3:$BR$48828,$K215)/COUNTIFS(HData!$AT$3:$AT$48828,\">=0\",HData!$P$3:$P$48828,\">=\"&SDate,HData!$P$3:$P$48828,\"<=\"&RDate,HData!$BP$3:$BP$48828,$I215,HData!$BK$3:$BK$48828,G$124,HData!$F$3:$F$48828,$J215,HData!$BR$3:$BR$48828,$K215),\"\")","v":""},{"$f":"IFERROR(SUMIFS(HData!$AT$3:$AT$48828,HData!$P$3:$P$48828,\">=\"&SDate,HData!$P$3:$P$48828,\"<=\"&RDate,HData!$BP$3:$BP$48828,$I215,HData!$BK$3:$BK$48828,H$124,HData!$F$3:$F$48828,$J215,HData!$BR$3:$BR$48828,$K215)/COUNTIFS(HData!$AT$3:$AT$48828,\">=0\",HData!$P$3:$P$48828,\">=\"&SDate,HData!$P$3:$P$48828,\"<=\"&RDate,HData!$BP$3:$BP$48828,$I215,HData!$BK$3:$BK$48828,H$124,HData!$F$3:$F$48828,$J215,HData!$BR$3:$BR$48828,$K215),\"\")","v":""},"BME",0,2]
["White, sibling group of 2, with disability",{"$f":"IFERROR(SUMIFS(HData!$AT$3:$AT$48828,HData!$P$3:$P$48828,\">=\"&SDate,HData!$P$3:$P$48828,\"<=\"&RDate,HData!$BP$3:$BP$48828,$I216,HData!$BK$3:$BK$48828,B$124,HData!$F$3:$F$48828,$J216,HData!$BR$3:$BR$48828,$K216)/COUNTIFS(HData!$AT$3:$AT$48828,\">=0\",HData!$P$3:$P$48828,\">=\"&SDate,HData!$P$3:$P$48828,\"<=\"&RDate,HData!$BP$3:$BP$48828,$I216,HData!$BK$3:$BK$48828,B$124,HData!$F$3:$F$48828,$J216,HData!$BR$3:$BR$48828,$K216),\"\")","v":""},{"$f":"IFERROR(SUMIFS(HData!$AT$3:$AT$48828,HData!$P$3:$P$48828,\">=\"&SDate,HData!$P$3:$P$48828,\"<=\"&RDate,HData!$BP$3:$BP$48828,$I216,HData!$BK$3:$BK$48828,C$124,HData!$F$3:$F$48828,$J216,HData!$BR$3:$BR$48828,$K216)/COUNTIFS(HData!$AT$3:$AT$48828,\">=0\",HData!$P$3:$P$48828,\">=\"&SDate,HData!$P$3:$P$48828,\"<=\"&RDate,HData!$BP$3:$BP$48828,$I216,HData!$BK$3:$BK$48828,C$124,HData!$F$3:$F$48828,$J216,HData!$BR$3:$BR$48828,$K216),\"\")","v":""},{"$f":"IFERROR(SUMIFS(HData!$AT$3:$AT$48828,HData!$P$3:$P$48828,\">=\"&SDate,HData!$P$3:$P$48828,\"<=\"&RDate,HData!$BP$3:$BP$48828,$I216,HData!$BK$3:$BK$48828,D$124,HData!$F$3:$F$48828,$J216,HData!$BR$3:$BR$48828,$K216)/COUNTIFS(HData!$AT$3:$AT$48828,\">=0\",HData!$P$3:$P$48828,\">=\"&SDate,HData!$P$3:$P$48828,\"<=\"&RDate,HData!$BP$3:$BP$48828,$I216,HData!$BK$3:$BK$48828,D$124,HData!$F$3:$F$48828,$J216,HData!$BR$3:$BR$48828,$K216),\"\")","v":""},{"$f":"IFERROR(SUMIFS(HData!$AT$3:$AT$48828,HData!$P$3:$P$48828,\">=\"&SDate,HData!$P$3:$P$48828,\"<=\"&RDate,HData!$BP$3:$BP$48828,$I216,HData!$BK$3:$BK$48828,E$124,HData!$F$3:$F$48828,$J216,HData!$BR$3:$BR$48828,$K216)/COUNTIFS(HData!$AT$3:$AT$48828,\">=0\",HData!$P$3:$P$48828,\">=\"&SDate,HData!$P$3:$P$48828,\"<=\"&RDate,HData!$BP$3:$BP$48828,$I216,HData!$BK$3:$BK$48828,E$124,HData!$F$3:$F$48828,$J216,HData!$BR$3:$BR$48828,$K216),\"\")","v":""},{"$f":"IFERROR(SUMIFS(HData!$AT$3:$AT$48828,HData!$P$3:$P$48828,\">=\"&SDate,HData!$P$3:$P$48828,\"<=\"&RDate,HData!$BP$3:$BP$48828,$I216,HData!$BK$3:$BK$48828,F$124,HData!$F$3:$F$48828,$J216,HData!$BR$3:$BR$48828,$K216)/COUNTIFS(HData!$AT$3:$AT$48828,\">=0\",HData!$P$3:$P$48828,\">=\"&SDate,HData!$P$3:$P$48828,\"<=\"&RDate,HData!$BP$3:$BP$48828,$I216,HData!$BK$3:$BK$48828,F$124,HData!$F$3:$F$48828,$J216,HData!$BR$3:$BR$48828,$K216),\"\")","v":""},{"$f":"IFERROR(SUMIFS(HData!$AT$3:$AT$48828,HData!$P$3:$P$48828,\">=\"&SDate,HData!$P$3:$P$48828,\"<=\"&RDate,HData!$BP$3:$BP$48828,$I216,HData!$BK$3:$BK$48828,G$124,HData!$F$3:$F$48828,$J216,HData!$BR$3:$BR$48828,$K216)/COUNTIFS(HData!$AT$3:$AT$48828,\">=0\",HData!$P$3:$P$48828,\">=\"&SDate,HData!$P$3:$P$48828,\"<=\"&RDate,HData!$BP$3:$BP$48828,$I216,HData!$BK$3:$BK$48828,G$124,HData!$F$3:$F$48828,$J216,HData!$BR$3:$BR$48828,$K216),\"\")","v":""},{"$f":"IFERROR(SUMIFS(HData!$AT$3:$AT$48828,HData!$P$3:$P$48828,\">=\"&SDate,HData!$P$3:$P$48828,\"<=\"&RDate,HData!$BP$3:$BP$48828,$I216,HData!$BK$3:$BK$48828,H$124,HData!$F$3:$F$48828,$J216,HData!$BR$3:$BR$48828,$K216)/COUNTIFS(HData!$AT$3:$AT$48828,\">=0\",HData!$P$3:$P$48828,\">=\"&SDate,HData!$P$3:$P$48828,\"<=\"&RDate,HData!$BP$3:$BP$48828,$I216,HData!$BK$3:$BK$48828,H$124,HData!$F$3:$F$48828,$J216,HData!$BR$3:$BR$48828,$K216),\"\")","v":""},"White",1,2]
["BME, sibling group of 2, with disability",{"$f":"IFERROR(SUMIFS(HData!$AT$3:$AT$48828,HData!$P$3:$P$48828,\">=\"&SDate,HData!$P$3:$P$48828,\"<=\"&RDate,HData!$BP$3:$BP$48828,$I217,HData!$BK$3:$BK$48828,B$124,HData!$F$3:$F$48828,$J217,HData!$BR$3:$BR$48828,$K217)/COUNTIFS(HData!$AT$3:$AT$48828,\">=0\",HData!$P$3:$P$48828,\">=\"&SDate,HData!$P$3:$P$48828,\"<=\"&RDate,HData!$BP$3:$BP$48828,$I217,HData!$BK$3:$BK$48828,B$124,HData!$F$3:$F$48828,$J217,HData!$BR$3:$BR$48828,$K217),\"\")","v":""},{"$f":"IFERROR(SUMIFS(HData!$AT$3:$AT$48828,HData!$P$3:$P$48828,\">=\"&SDate,HData!$P$3:$P$48828,\"<=\"&RDate,HData!$BP$3:$BP$48828,$I217,HData!$BK$3:$BK$48828,C$124,HData!$F$3:$F$48828,$J217,HData!$BR$3:$BR$48828,$K217)/COUNTIFS(HData!$AT$3:$AT$48828,\">=0\",HData!$P$3:$P$48828,\">=\"&SDate,HData!$P$3:$P$48828,\"<=\"&RDate,HData!$BP$3:$BP$48828,$I217,HData!$BK$3:$BK$48828,C$124,HData!$F$3:$F$48828,$J217,HData!$BR$3:$BR$48828,$K217),\"\")","v":""},{"$f":"IFERROR(SUMIFS(HData!$AT$3:$AT$48828,HData!$P$3:$P$48828,\">=\"&SDate,HData!$P$3:$P$48828,\"<=\"&RDate,HData!$BP$3:$BP$48828,$I217,HData!$BK$3:$BK$48828,D$124,HData!$F$3:$F$48828,$J217,HData!$BR$3:$BR$48828,$K217)/COUNTIFS(HData!$AT$3:$AT$48828,\">=0\",HData!$P$3:$P$48828,\">=\"&SDate,HData!$P$3:$P$48828,\"<=\"&RDate,HData!$BP$3:$BP$48828,$I217,HData!$BK$3:$BK$48828,D$124,HData!$F$3:$F$48828,$J217,HData!$BR$3:$BR$48828,$K217),\"\")","v":""},{"$f":"IFERROR(SUMIFS(HData!$AT$3:$AT$48828,HData!$P$3:$P$48828,\">=\"&SDate,HData!$P$3:$P$48828,\"<=\"&RDate,HData!$BP$3:$BP$48828,$I217,HData!$BK$3:$BK$48828,E$124,HData!$F$3:$F$48828,$J217,HData!$BR$3:$BR$48828,$K217)/COUNTIFS(HData!$AT$3:$AT$48828,\">=0\",HData!$P$3:$P$48828,\">=\"&SDate,HData!$P$3:$P$48828,\"<=\"&RDate,HData!$BP$3:$BP$48828,$I217,HData!$BK$3:$BK$48828,E$124,HData!$F$3:$F$48828,$J217,HData!$BR$3:$BR$48828,$K217),\"\")","v":""},{"$f":"IFERROR(SUMIFS(HData!$AT$3:$AT$48828,HData!$P$3:$P$48828,\">=\"&SDate,HData!$P$3:$P$48828,\"<=\"&RDate,HData!$BP$3:$BP$48828,$I217,HData!$BK$3:$BK$48828,F$124,HData!$F$3:$F$48828,$J217,HData!$BR$3:$BR$48828,$K217)/COUNTIFS(HData!$AT$3:$AT$48828,\">=0\",HData!$P$3:$P$48828,\">=\"&SDate,HData!$P$3:$P$48828,\"<=\"&RDate,HData!$BP$3:$BP$48828,$I217,HData!$BK$3:$BK$48828,F$124,HData!$F$3:$F$48828,$J217,HData!$BR$3:$BR$48828,$K217),\"\")","v":""},{"$f":"IFERROR(SUMIFS(HData!$AT$3:$AT$48828,HData!$P$3:$P$48828,\">=\"&SDate,HData!$P$3:$P$48828,\"<=\"&RDate,HData!$BP$3:$BP$48828,$I217,HData!$BK$3:$BK$48828,G$124,HData!$F$3:$F$48828,$J217,HData!$BR$3:$BR$48828,$K217)/COUNTIFS(HData!$AT$3:$AT$48828,\">=0\",HData!$P$3:$P$48828,\">=\"&SDate,HData!$P$3:$P$48828,\"<=\"&RDate,HData!$BP$3:$BP$48828,$I217,HData!$BK$3:$BK$48828,G$124,HData!$F$3:$F$48828,$J217,HData!$BR$3:$BR$48828,$K217),\"\")","v":""},{"$f":"IFERROR(SUMIFS(HData!$AT$3:$AT$48828,HData!$P$3:$P$48828,\">=\"&SDate,HData!$P$3:$P$48828,\"<=\"&RDate,HData!$BP$3:$BP$48828,$I217,HData!$BK$3:$BK$48828,H$124,HData!$F$3:$F$48828,$J217,HData!$BR$3:$BR$48828,$K217)/COUNTIFS(HData!$AT$3:$AT$48828,\">=0\",HData!$P$3:$P$48828,\">=\"&SDate,HData!$P$3:$P$48828,\"<=\"&RDate,HData!$BP$3:$BP$48828,$I217,HData!$BK$3:$BK$48828,H$124,HData!$F$3:$F$48828,$J217,HData!$BR$3:$BR$48828,$K217),\"\")","v":""},"BME",1,2]
["White, sibling group of 3, no disability",{"$f":"IFERROR(SUMIFS(HData!$AT$3:$AT$48828,HData!$P$3:$P$48828,\">=\"&SDate,HData!$P$3:$P$48828,\"<=\"&RDate,HData!$BP$3:$BP$48828,$I218,HData!$BK$3:$BK$48828,B$124,HData!$F$3:$F$48828,$J218,HData!$BR$3:$BR$48828,$K218)/COUNTIFS(HData!$AT$3:$AT$48828,\">=0\",HData!$P$3:$P$48828,\">=\"&SDate,HData!$P$3:$P$48828,\"<=\"&RDate,HData!$BP$3:$BP$48828,$I218,HData!$BK$3:$BK$48828,B$124,HData!$F$3:$F$48828,$J218,HData!$BR$3:$BR$48828,$K218),\"\")","v":""},{"$f":"IFERROR(SUMIFS(HData!$AT$3:$AT$48828,HData!$P$3:$P$48828,\">=\"&SDate,HData!$P$3:$P$48828,\"<=\"&RDate,HData!$BP$3:$BP$48828,$I218,HData!$BK$3:$BK$48828,C$124,HData!$F$3:$F$48828,$J218,HData!$BR$3:$BR$48828,$K218)/COUNTIFS(HData!$AT$3:$AT$48828,\">=0\",HData!$P$3:$P$48828,\">=\"&SDate,HData!$P$3:$P$48828,\"<=\"&RDate,HData!$BP$3:$BP$48828,$I218,HData!$BK$3:$BK$48828,C$124,HData!$F$3:$F$48828,$J218,HData!$BR$3:$BR$48828,$K218),\"\")","v":""},{"$f":"IFERROR(SUMIFS(HData!$AT$3:$AT$48828,HData!$P$3:$P$48828,\">=\"&SDate,HData!$P$3:$P$48828,\"<=\"&RDate,HData!$BP$3:$BP$48828,$I218,HData!$BK$3:$BK$48828,D$124,HData!$F$3:$F$48828,$J218,HData!$BR$3:$BR$48828,$K218)/COUNTIFS(HData!$AT$3:$AT$48828,\">=0\",HData!$P$3:$P$48828,\">=\"&SDate,HData!$P$3:$P$48828,\"<=\"&RDate,HData!$BP$3:$BP$48828,$I218,HData!$BK$3:$BK$48828,D$124,HData!$F$3:$F$48828,$J218,HData!$BR$3:$BR$48828,$K218),\"\")","v":""},{"$f":"IFERROR(SUMIFS(HData!$AT$3:$AT$48828,HData!$P$3:$P$48828,\">=\"&SDate,HData!$P$3:$P$48828,\"<=\"&RDate,HData!$BP$3:$BP$48828,$I218,HData!$BK$3:$BK$48828,E$124,HData!$F$3:$F$48828,$J218,HData!$BR$3:$BR$48828,$K218)/COUNTIFS(HData!$AT$3:$AT$48828,\">=0\",HData!$P$3:$P$48828,\">=\"&SDate,HData!$P$3:$P$48828,\"<=\"&RDate,HData!$BP$3:$BP$48828,$I218,HData!$BK$3:$BK$48828,E$124,HData!$F$3:$F$48828,$J218,HData!$BR$3:$BR$48828,$K218),\"\")","v":""},{"$f":"IFERROR(SUMIFS(HData!$AT$3:$AT$48828,HData!$P$3:$P$48828,\">=\"&SDate,HData!$P$3:$P$48828,\"<=\"&RDate,HData!$BP$3:$BP$48828,$I218,HData!$BK$3:$BK$48828,F$124,HData!$F$3:$F$48828,$J218,HData!$BR$3:$BR$48828,$K218)/COUNTIFS(HData!$AT$3:$AT$48828,\">=0\",HData!$P$3:$P$48828,\">=\"&SDate,HData!$P$3:$P$48828,\"<=\"&RDate,HData!$BP$3:$BP$48828,$I218,HData!$BK$3:$BK$48828,F$124,HData!$F$3:$F$48828,$J218,HData!$BR$3:$BR$48828,$K218),\"\")","v":""},{"$f":"IFERROR(SUMIFS(HData!$AT$3:$AT$48828,HData!$P$3:$P$48828,\">=\"&SDate,HData!$P$3:$P$48828,\"<=\"&RDate,HData!$BP$3:$BP$48828,$I218,HData!$BK$3:$BK$48828,G$124,HData!$F$3:$F$48828,$J218,HData!$BR$3:$BR$48828,$K218)/COUNTIFS(HData!$AT$3:$AT$48828,\">=0\",HData!$P$3:$P$48828,\">=\"&SDate,HData!$P$3:$P$48828,\"<=\"&RDate,HData!$BP$3:$BP$48828,$I218,HData!$BK$3:$BK$48828,G$124,HData!$F$3:$F$48828,$J218,HData!$BR$3:$BR$48828,$K218),\"\")","v":""},{"$f":"IFERROR(SUMIFS(HData!$AT$3:$AT$48828,HData!$P$3:$P$48828,\">=\"&SDate,HData!$P$3:$P$48828,\"<=\"&RDate,HData!$BP$3:$BP$48828,$I218,HData!$BK$3:$BK$48828,H$124,HData!$F$3:$F$48828,$J218,HData!$BR$3:$BR$48828,$K218)/COUNTIFS(HData!$AT$3:$AT$48828,\">=0\",HData!$P$3:$P$48828,\">=\"&SDate,HData!$P$3:$P$48828,\"<=\"&RDate,HData!$BP$3:$BP$48828,$I218,HData!$BK$3:$BK$48828,H$124,HData!$F$3:$F$48828,$J218,HData!$BR$3:$BR$48828,$K218),\"\")","v":""},"White",0,3]
["BME, sibling group of 3, no disability",{"$f":"IFERROR(SUMIFS(HData!$AT$3:$AT$48828,HData!$P$3:$P$48828,\">=\"&SDate,HData!$P$3:$P$48828,\"<=\"&RDate,HData!$BP$3:$BP$48828,$I219,HData!$BK$3:$BK$48828,B$124,HData!$F$3:$F$48828,$J219,HData!$BR$3:$BR$48828,$K219)/COUNTIFS(HData!$AT$3:$AT$48828,\">=0\",HData!$P$3:$P$48828,\">=\"&SDate,HData!$P$3:$P$48828,\"<=\"&RDate,HData!$BP$3:$BP$48828,$I219,HData!$BK$3:$BK$48828,B$124,HData!$F$3:$F$48828,$J219,HData!$BR$3:$BR$48828,$K219),\"\")","v":""},{"$f":"IFERROR(SUMIFS(HData!$AT$3:$AT$48828,HData!$P$3:$P$48828,\">=\"&SDate,HData!$P$3:$P$48828,\"<=\"&RDate,HData!$BP$3:$BP$48828,$I219,HData!$BK$3:$BK$48828,C$124,HData!$F$3:$F$48828,$J219,HData!$BR$3:$BR$48828,$K219)/COUNTIFS(HData!$AT$3:$AT$48828,\">=0\",HData!$P$3:$P$48828,\">=\"&SDate,HData!$P$3:$P$48828,\"<=\"&RDate,HData!$BP$3:$BP$48828,$I219,HData!$BK$3:$BK$48828,C$124,HData!$F$3:$F$48828,$J219,HData!$BR$3:$BR$48828,$K219),\"\")","v":""},{"$f":"IFERROR(SUMIFS(HData!$AT$3:$AT$48828,HData!$P$3:$P$48828,\">=\"&SDate,HData!$P$3:$P$48828,\"<=\"&RDate,HData!$BP$3:$BP$48828,$I219,HData!$BK$3:$BK$48828,D$124,HData!$F$3:$F$48828,$J219,HData!$BR$3:$BR$48828,$K219)/COUNTIFS(HData!$AT$3:$AT$48828,\">=0\",HData!$P$3:$P$48828,\">=\"&SDate,HData!$P$3:$P$48828,\"<=\"&RDate,HData!$BP$3:$BP$48828,$I219,HData!$BK$3:$BK$48828,D$124,HData!$F$3:$F$48828,$J219,HData!$BR$3:$BR$48828,$K219),\"\")","v":""},{"$f":"IFERROR(SUMIFS(HData!$AT$3:$AT$48828,HData!$P$3:$P$48828,\">=\"&SDate,HData!$P$3:$P$48828,\"<=\"&RDate,HData!$BP$3:$BP$48828,$I219,HData!$BK$3:$BK$48828,E$124,HData!$F$3:$F$48828,$J219,HData!$BR$3:$BR$48828,$K219)/COUNTIFS(HData!$AT$3:$AT$48828,\">=0\",HData!$P$3:$P$48828,\">=\"&SDate,HData!$P$3:$P$48828,\"<=\"&RDate,HData!$BP$3:$BP$48828,$I219,HData!$BK$3:$BK$48828,E$124,HData!$F$3:$F$48828,$J219,HData!$BR$3:$BR$48828,$K219),\"\")","v":""},{"$f":"IFERROR(SUMIFS(HData!$AT$3:$AT$48828,HData!$P$3:$P$48828,\">=\"&SDate,HData!$P$3:$P$48828,\"<=\"&RDate,HData!$BP$3:$BP$48828,$I219,HData!$BK$3:$BK$48828,F$124,HData!$F$3:$F$48828,$J219,HData!$BR$3:$BR$48828,$K219)/COUNTIFS(HData!$AT$3:$AT$48828,\">=0\",HData!$P$3:$P$48828,\">=\"&SDate,HData!$P$3:$P$48828,\"<=\"&RDate,HData!$BP$3:$BP$48828,$I219,HData!$BK$3:$BK$48828,F$124,HData!$F$3:$F$48828,$J219,HData!$BR$3:$BR$48828,$K219),\"\")","v":""},{"$f":"IFERROR(SUMIFS(HData!$AT$3:$AT$48828,HData!$P$3:$P$48828,\">=\"&SDate,HData!$P$3:$P$48828,\"<=\"&RDate,HData!$BP$3:$BP$48828,$I219,HData!$BK$3:$BK$48828,G$124,HData!$F$3:$F$48828,$J219,HData!$BR$3:$BR$48828,$K219)/COUNTIFS(HData!$AT$3:$AT$48828,\">=0\",HData!$P$3:$P$48828,\">=\"&SDate,HData!$P$3:$P$48828,\"<=\"&RDate,HData!$BP$3:$BP$48828,$I219,HData!$BK$3:$BK$48828,G$124,HData!$F$3:$F$48828,$J219,HData!$BR$3:$BR$48828,$K219),\"\")","v":""},{"$f":"IFERROR(SUMIFS(HData!$AT$3:$AT$48828,HData!$P$3:$P$48828,\">=\"&SDate,HData!$P$3:$P$48828,\"<=\"&RDate,HData!$BP$3:$BP$48828,$I219,HData!$BK$3:$BK$48828,H$124,HData!$F$3:$F$48828,$J219,HData!$BR$3:$BR$48828,$K219)/COUNTIFS(HData!$AT$3:$AT$48828,\">=0\",HData!$P$3:$P$48828,\">=\"&SDate,HData!$P$3:$P$48828,\"<=\"&RDate,HData!$BP$3:$BP$48828,$I219,HData!$BK$3:$BK$48828,H$124,HData!$F$3:$F$48828,$J219,HData!$BR$3:$BR$48828,$K219),\"\")","v":""},"BME",0,3]
["White, sibling group of 3, with disability",{"$f":"IFERROR(SUMIFS(HData!$AT$3:$AT$48828,HData!$P$3:$P$48828,\">=\"&SDate,HData!$P$3:$P$48828,\"<=\"&RDate,HData!$BP$3:$BP$48828,$I220,HData!$BK$3:$BK$48828,B$124,HData!$F$3:$F$48828,$J220,HData!$BR$3:$BR$48828,$K220)/COUNTIFS(HData!$AT$3:$AT$48828,\">=0\",HData!$P$3:$P$48828,\">=\"&SDate,HData!$P$3:$P$48828,\"<=\"&RDate,HData!$BP$3:$BP$48828,$I220,HData!$BK$3:$BK$48828,B$124,HData!$F$3:$F$48828,$J220,HData!$BR$3:$BR$48828,$K220),\"\")","v":""},{"$f":"IFERROR(SUMIFS(HData!$AT$3:$AT$48828,HData!$P$3:$P$48828,\">=\"&SDate,HData!$P$3:$P$48828,\"<=\"&RDate,HData!$BP$3:$BP$48828,$I220,HData!$BK$3:$BK$48828,C$124,HData!$F$3:$F$48828,$J220,HData!$BR$3:$BR$48828,$K220)/COUNTIFS(HData!$AT$3:$AT$48828,\">=0\",HData!$P$3:$P$48828,\">=\"&SDate,HData!$P$3:$P$48828,\"<=\"&RDate,HData!$BP$3:$BP$48828,$I220,HData!$BK$3:$BK$48828,C$124,HData!$F$3:$F$48828,$J220,HData!$BR$3:$BR$48828,$K220),\"\")","v":""},{"$f":"IFERROR(SUMIFS(HData!$AT$3:$AT$48828,HData!$P$3:$P$48828,\">=\"&SDate,HData!$P$3:$P$48828,\"<=\"&RDate,HData!$BP$3:$BP$48828,$I220,HData!$BK$3:$BK$48828,D$124,HData!$F$3:$F$48828,$J220,HData!$BR$3:$BR$48828,$K220)/COUNTIFS(HData!$AT$3:$AT$48828,\">=0\",HData!$P$3:$P$48828,\">=\"&SDate,HData!$P$3:$P$48828,\"<=\"&RDate,HData!$BP$3:$BP$48828,$I220,HData!$BK$3:$BK$48828,D$124,HData!$F$3:$F$48828,$J220,HData!$BR$3:$BR$48828,$K220),\"\")","v":""},{"$f":"IFERROR(SUMIFS(HData!$AT$3:$AT$48828,HData!$P$3:$P$48828,\">=\"&SDate,HData!$P$3:$P$48828,\"<=\"&RDate,HData!$BP$3:$BP$48828,$I220,HData!$BK$3:$BK$48828,E$124,HData!$F$3:$F$48828,$J220,HData!$BR$3:$BR$48828,$K220)/COUNTIFS(HData!$AT$3:$AT$48828,\">=0\",HData!$P$3:$P$48828,\">=\"&SDate,HData!$P$3:$P$48828,\"<=\"&RDate,HData!$BP$3:$BP$48828,$I220,HData!$BK$3:$BK$48828,E$124,HData!$F$3:$F$48828,$J220,HData!$BR$3:$BR$48828,$K220),\"\")","v":""},{"$f":"IFERROR(SUMIFS(HData!$AT$3:$AT$48828,HData!$P$3:$P$48828,\">=\"&SDate,HData!$P$3:$P$48828,\"<=\"&RDate,HData!$BP$3:$BP$48828,$I220,HData!$BK$3:$BK$48828,F$124,HData!$F$3:$F$48828,$J220,HData!$BR$3:$BR$48828,$K220)/COUNTIFS(HData!$AT$3:$AT$48828,\">=0\",HData!$P$3:$P$48828,\">=\"&SDate,HData!$P$3:$P$48828,\"<=\"&RDate,HData!$BP$3:$BP$48828,$I220,HData!$BK$3:$BK$48828,F$124,HData!$F$3:$F$48828,$J220,HData!$BR$3:$BR$48828,$K220),\"\")","v":""},{"$f":"IFERROR(SUMIFS(HData!$AT$3:$AT$48828,HData!$P$3:$P$48828,\">=\"&SDate,HData!$P$3:$P$48828,\"<=\"&RDate,HData!$BP$3:$BP$48828,$I220,HData!$BK$3:$BK$48828,G$124,HData!$F$3:$F$48828,$J220,HData!$BR$3:$BR$48828,$K220)/COUNTIFS(HData!$AT$3:$AT$48828,\">=0\",HData!$P$3:$P$48828,\">=\"&SDate,HData!$P$3:$P$48828,\"<=\"&RDate,HData!$BP$3:$BP$48828,$I220,HData!$BK$3:$BK$48828,G$124,HData!$F$3:$F$48828,$J220,HData!$BR$3:$BR$48828,$K220),\"\")","v":""},{"$f":"IFERROR(SUMIFS(HData!$AT$3:$AT$48828,HData!$P$3:$P$48828,\">=\"&SDate,HData!$P$3:$P$48828,\"<=\"&RDate,HData!$BP$3:$BP$48828,$I220,HData!$BK$3:$BK$48828,H$124,HData!$F$3:$F$48828,$J220,HData!$BR$3:$BR$48828,$K220)/COUNTIFS(HData!$AT$3:$AT$48828,\">=0\",HData!$P$3:$P$48828,\">=\"&SDate,HData!$P$3:$P$48828,\"<=\"&RDate,HData!$BP$3:$BP$48828,$I220,HData!$BK$3:$BK$48828,H$124,HData!$F$3:$F$48828,$J220,HData!$BR$3:$BR$48828,$K220),\"\")","v":""},"White",1,3]
["BME, sibling group of 3, with disability",{"$f":"IFERROR(SUMIFS(HData!$AT$3:$AT$48828,HData!$P$3:$P$48828,\">=\"&SDate,HData!$P$3:$P$48828,\"<=\"&RDate,HData!$BP$3:$BP$48828,$I221,HData!$BK$3:$BK$48828,B$124,HData!$F$3:$F$48828,$J221,HData!$BR$3:$BR$48828,$K221)/COUNTIFS(HData!$AT$3:$AT$48828,\">=0\",HData!$P$3:$P$48828,\">=\"&SDate,HData!$P$3:$P$48828,\"<=\"&RDate,HData!$BP$3:$BP$48828,$I221,HData!$BK$3:$BK$48828,B$124,HData!$F$3:$F$48828,$J221,HData!$BR$3:$BR$48828,$K221),\"\")","v":""},{"$f":"IFERROR(SUMIFS(HData!$AT$3:$AT$48828,HData!$P$3:$P$48828,\">=\"&SDate,HData!$P$3:$P$48828,\"<=\"&RDate,HData!$BP$3:$BP$48828,$I221,HData!$BK$3:$BK$48828,C$124,HData!$F$3:$F$48828,$J221,HData!$BR$3:$BR$48828,$K221)/COUNTIFS(HData!$AT$3:$AT$48828,\">=0\",HData!$P$3:$P$48828,\">=\"&SDate,HData!$P$3:$P$48828,\"<=\"&RDate,HData!$BP$3:$BP$48828,$I221,HData!$BK$3:$BK$48828,C$124,HData!$F$3:$F$48828,$J221,HData!$BR$3:$BR$48828,$K221),\"\")","v":""},{"$f":"IFERROR(SUMIFS(HData!$AT$3:$AT$48828,HData!$P$3:$P$48828,\">=\"&SDate,HData!$P$3:$P$48828,\"<=\"&RDate,HData!$BP$3:$BP$48828,$I221,HData!$BK$3:$BK$48828,D$124,HData!$F$3:$F$48828,$J221,HData!$BR$3:$BR$48828,$K221)/COUNTIFS(HData!$AT$3:$AT$48828,\">=0\",HData!$P$3:$P$48828,\">=\"&SDate,HData!$P$3:$P$48828,\"<=\"&RDate,HData!$BP$3:$BP$48828,$I221,HData!$BK$3:$BK$48828,D$124,HData!$F$3:$F$48828,$J221,HData!$BR$3:$BR$48828,$K221),\"\")","v":""},{"$f":"IFERROR(SUMIFS(HData!$AT$3:$AT$48828,HData!$P$3:$P$48828,\">=\"&SDate,HData!$P$3:$P$48828,\"<=\"&RDate,HData!$BP$3:$BP$48828,$I221,HData!$BK$3:$BK$48828,E$124,HData!$F$3:$F$48828,$J221,HData!$BR$3:$BR$48828,$K221)/COUNTIFS(HData!$AT$3:$AT$48828,\">=0\",HData!$P$3:$P$48828,\">=\"&SDate,HData!$P$3:$P$48828,\"<=\"&RDate,HData!$BP$3:$BP$48828,$I221,HData!$BK$3:$BK$48828,E$124,HData!$F$3:$F$48828,$J221,HData!$BR$3:$BR$48828,$K221),\"\")","v":""},{"$f":"IFERROR(SUMIFS(HData!$AT$3:$AT$48828,HData!$P$3:$P$48828,\">=\"&SDate,HData!$P$3:$P$48828,\"<=\"&RDate,HData!$BP$3:$BP$48828,$I221,HData!$BK$3:$BK$48828,F$124,HData!$F$3:$F$48828,$J221,HData!$BR$3:$BR$48828,$K221)/COUNTIFS(HData!$AT$3:$AT$48828,\">=0\",HData!$P$3:$P$48828,\">=\"&SDate,HData!$P$3:$P$48828,\"<=\"&RDate,HData!$BP$3:$BP$48828,$I221,HData!$BK$3:$BK$48828,F$124,HData!$F$3:$F$48828,$J221,HData!$BR$3:$BR$48828,$K221),\"\")","v":""},{"$f":"IFERROR(SUMIFS(HData!$AT$3:$AT$48828,HData!$P$3:$P$48828,\">=\"&SDate,HData!$P$3:$P$48828,\"<=\"&RDate,HData!$BP$3:$BP$48828,$I221,HData!$BK$3:$BK$48828,G$124,HData!$F$3:$F$48828,$J221,HData!$BR$3:$BR$48828,$K221)/COUNTIFS(HData!$AT$3:$AT$48828,\">=0\",HData!$P$3:$P$48828,\">=\"&SDate,HData!$P$3:$P$48828,\"<=\"&RDate,HData!$BP$3:$BP$48828,$I221,HData!$BK$3:$BK$48828,G$124,HData!$F$3:$F$48828,$J221,HData!$BR$3:$BR$48828,$K221),\"\")","v":""},{"$f":"IFERROR(SUMIFS(HData!$AT$3:$AT$48828,HData!$P$3:$P$48828,\">=\"&SDate,HData!$P$3:$P$48828,\"<=\"&RDate,HData!$BP$3:$BP$48828,$I221,HData!$BK$3:$BK$48828,H$124,HData!$F$3:$F$48828,$J221,HData!$BR$3:$BR$48828,$K221)/COUNTIFS(HData!$AT$3:$AT$48828,\">=0\",HData!$P$3:$P$48828,\">=\"&SDate,HData!$P$3:$P$48828,\"<=\"&RDate,HData!$BP$3:$BP$48828,$I221,HData!$BK$3:$BK$48828,H$124,HData!$F$3:$F$48828,$J221,HData!$BR$3:$BR$48828,$K221),\"\")","v":""},"BME",1,3]
[null,"Age at PO"]
["PO TO MATCH >4 MONTHS",0,1,2,3,4,5,">5","BME","Disability","Sibling"]
["White, single child, no disability",{"$f":"IF(B196>0,COUNTIFS(HData!$P$3:$P$48828,\">=\"&SDate,HData!$P$3:$P$48828,\"<=\"&RDate,HData!$BP$3:$BP$48828,$I224,HData!$BK$3:$BK$48828,B$124,HData!$F$3:$F$48828,$J224,HData!$BR$3:$BR$48828,$K224,HData!$AU$3:$AU$48828,\">=4\")/B196,\"\")","v":""},{"$f":"IF(C196>0,COUNTIFS(HData!$P$3:$P$48828,\">=\"&SDate,HData!$P$3:$P$48828,\"<=\"&RDate,HData!$BP$3:$BP$48828,$I224,HData!$BK$3:$BK$48828,C$124,HData!$F$3:$F$48828,$J224,HData!$BR$3:$BR$48828,$K224,HData!$AU$3:$AU$48828,\">=4\")/C196,\"\")","v":""},{"$f":"IF(D196>0,COUNTIFS(HData!$P$3:$P$48828,\">=\"&SDate,HData!$P$3:$P$48828,\"<=\"&RDate,HData!$BP$3:$BP$48828,$I224,HData!$BK$3:$BK$48828,D$124,HData!$F$3:$F$48828,$J224,HData!$BR$3:$BR$48828,$K224,HData!$AU$3:$AU$48828,\">=4\")/D196,\"\")","v":""},{"$f":"IF(E196>0,COUNTIFS(HData!$P$3:$P$48828,\">=\"&SDate,HData!$P$3:$P$48828,\"<=\"&RDate,HData!$BP$3:$BP$48828,$I224,HData!$BK$3:$BK$48828,E$124,HData!$F$3:$F$48828,$J224,HData!$BR$3:$BR$48828,$K224,HData!$AU$3:$AU$48828,\">=4\")/E196,\"\")","v":""},{"$f":"IF(F196>0,COUNTIFS(HData!$P$3:$P$48828,\">=\"&SDate,HData!$P$3:$P$48828,\"<=\"&RDate,HData!$BP$3:$BP$48828,$I224,HData!$BK$3:$BK$48828,F$124,HData!$F$3:$F$48828,$J224,HData!$BR$3:$BR$48828,$K224,HData!$AU$3:$AU$48828,\">=4\")/F196,\"\")","v":""},{"$f":"IF(G196>0,COUNTIFS(HData!$P$3:$P$48828,\">=\"&SDate,HData!$P$3:$P$48828,\"<=\"&RDate,HData!$BP$3:$BP$48828,$I224,HData!$BK$3:$BK$48828,G$124,HData!$F$3:$F$48828,$J224,HData!$BR$3:$BR$48828,$K224,HData!$AU$3:$AU$48828,\">=4\")/G196,\"\")","v":""},{"$f":"IF(H196>0,COUNTIFS(HData!$P$3:$P$48828,\">=\"&SDate,HData!$P$3:$P$48828,\"<=\"&RDate,HData!$BP$3:$BP$48828,$I224,HData!$BK$3:$BK$48828,H$124,HData!$F$3:$F$48828,$J224,HData!$BR$3:$BR$48828,$K224,HData!$AU$3:$AU$48828,\">=4\")/H196,\"\")","v":""},"White",0,1]
["BME, single child, no disability",{"$f":"IF(B197>0,COUNTIFS(HData!$P$3:$P$48828,\">=\"&SDate,HData!$P$3:$P$48828,\"<=\"&RDate,HData!$BP$3:$BP$48828,$I225,HData!$BK$3:$BK$48828,B$124,HData!$F$3:$F$48828,$J225,HData!$BR$3:$BR$48828,$K225,HData!$AU$3:$AU$48828,\">=4\")/B197,\"\")","v":""},{"$f":"IF(C197>0,COUNTIFS(HData!$P$3:$P$48828,\">=\"&SDate,HData!$P$3:$P$48828,\"<=\"&RDate,HData!$BP$3:$BP$48828,$I225,HData!$BK$3:$BK$48828,C$124,HData!$F$3:$F$48828,$J225,HData!$BR$3:$BR$48828,$K225,HData!$AU$3:$AU$48828,\">=4\")/C197,\"\")","v":""},{"$f":"IF(D197>0,COUNTIFS(HData!$P$3:$P$48828,\">=\"&SDate,HData!$P$3:$P$48828,\"<=\"&RDate,HData!$BP$3:$BP$48828,$I225,HData!$BK$3:$BK$48828,D$124,HData!$F$3:$F$48828,$J225,HData!$BR$3:$BR$48828,$K225,HData!$AU$3:$AU$48828,\">=4\")/D197,\"\")","v":""},{"$f":"IF(E197>0,COUNTIFS(HData!$P$3:$P$48828,\">=\"&SDate,HData!$P$3:$P$48828,\"<=\"&RDate,HData!$BP$3:$BP$48828,$I225,HData!$BK$3:$BK$48828,E$124,HData!$F$3:$F$48828,$J225,HData!$BR$3:$BR$48828,$K225,HData!$AU$3:$AU$48828,\">=4\")/E197,\"\")","v":""},{"$f":"IF(F197>0,COUNTIFS(HData!$P$3:$P$48828,\">=\"&SDate,HData!$P$3:$P$48828,\"<=\"&RDate,HData!$BP$3:$BP$48828,$I225,HData!$BK$3:$BK$48828,F$124,HData!$F$3:$F$48828,$J225,HData!$BR$3:$BR$48828,$K225,HData!$AU$3:$AU$48828,\">=4\")/F197,\"\")","v":""},{"$f":"IF(G197>0,COUNTIFS(HData!$P$3:$P$48828,\">=\"&SDate,HData!$P$3:$P$48828,\"<=\"&RDate,HData!$BP$3:$BP$48828,$I225,HData!$BK$3:$BK$48828,G$124,HData!$F$3:$F$48828,$J225,HData!$BR$3:$BR$48828,$K225,HData!$AU$3:$AU$48828,\">=4\")/G197,\"\")","v":""},{"$f":"IF(H197>0,COUNTIFS(HData!$P$3:$P$48828,\">=\"&SDate,HData!$P$3:$P$48828,\"<=\"&RDate,HData!$BP$3:$BP$48828,$I225,HData!$BK$3:$BK$48828,H$124,HData!$F$3:$F$48828,$J225,HData!$BR$3:$BR$48828,$K225,HData!$AU$3:$AU$48828,\">=4\")/H197,\"\")","v":""},"BME",0,1]
["White, single child, with disability",{"$f":"IF(B198>0,COUNTIFS(HData!$P$3:$P$48828,\">=\"&SDate,HData!$P$3:$P$48828,\"<=\"&RDate,HData!$BP$3:$BP$48828,$I226,HData!$BK$3:$BK$48828,B$124,HData!$F$3:$F$48828,$J226,HData!$BR$3:$BR$48828,$K226,HData!$AU$3:$AU$48828,\">=4\")/B198,\"\")","v":""},{"$f":"IF(C198>0,COUNTIFS(HData!$P$3:$P$48828,\">=\"&SDate,HData!$P$3:$P$48828,\"<=\"&RDate,HData!$BP$3:$BP$48828,$I226,HData!$BK$3:$BK$48828,C$124,HData!$F$3:$F$48828,$J226,HData!$BR$3:$BR$48828,$K226,HData!$AU$3:$AU$48828,\">=4\")/C198,\"\")","v":""},{"$f":"IF(D198>0,COUNTIFS(HData!$P$3:$P$48828,\">=\"&SDate,HData!$P$3:$P$48828,\"<=\"&RDate,HData!$BP$3:$BP$48828,$I226,HData!$BK$3:$BK$48828,D$124,HData!$F$3:$F$48828,$J226,HData!$BR$3:$BR$48828,$K226,HData!$AU$3:$AU$48828,\">=4\")/D198,\"\")","v":""},{"$f":"IF(E198>0,COUNTIFS(HData!$P$3:$P$48828,\">=\"&SDate,HData!$P$3:$P$48828,\"<=\"&RDate,HData!$BP$3:$BP$48828,$I226,HData!$BK$3:$BK$48828,E$124,HData!$F$3:$F$48828,$J226,HData!$BR$3:$BR$48828,$K226,HData!$AU$3:$AU$48828,\">=4\")/E198,\"\")","v":""},{"$f":"IF(F198>0,COUNTIFS(HData!$P$3:$P$48828,\">=\"&SDate,HData!$P$3:$P$48828,\"<=\"&RDate,HData!$BP$3:$BP$48828,$I226,HData!$BK$3:$BK$48828,F$124,HData!$F$3:$F$48828,$J226,HData!$BR$3:$BR$48828,$K226,HData!$AU$3:$AU$48828,\">=4\")/F198,\"\")","v":""},{"$f":"IF(G198>0,COUNTIFS(HData!$P$3:$P$48828,\">=\"&SDate,HData!$P$3:$P$48828,\"<=\"&RDate,HData!$BP$3:$BP$48828,$I226,HData!$BK$3:$BK$48828,G$124,HData!$F$3:$F$48828,$J226,HData!$BR$3:$BR$48828,$K226,HData!$AU$3:$AU$48828,\">=4\")/G198,\"\")","v":""},{"$f":"IF(H198>0,COUNTIFS(HData!$P$3:$P$48828,\">=\"&SDate,HData!$P$3:$P$48828,\"<=\"&RDate,HData!$BP$3:$BP$48828,$I226,HData!$BK$3:$BK$48828,H$124,HData!$F$3:$F$48828,$J226,HData!$BR$3:$BR$48828,$K226,HData!$AU$3:$AU$48828,\">=4\")/H198,\"\")","v":""},"White",1,1]
["BME, single child, with disability",{"$f":"IF(B199>0,COUNTIFS(HData!$P$3:$P$48828,\">=\"&SDate,HData!$P$3:$P$48828,\"<=\"&RDate,HData!$BP$3:$BP$48828,$I227,HData!$BK$3:$BK$48828,B$124,HData!$F$3:$F$48828,$J227,HData!$BR$3:$BR$48828,$K227,HData!$AU$3:$AU$48828,\">=4\")/B199,\"\")","v":""},{"$f":"IF(C199>0,COUNTIFS(HData!$P$3:$P$48828,\">=\"&SDate,HData!$P$3:$P$48828,\"<=\"&RDate,HData!$BP$3:$BP$48828,$I227,HData!$BK$3:$BK$48828,C$124,HData!$F$3:$F$48828,$J227,HData!$BR$3:$BR$48828,$K227,HData!$AU$3:$AU$48828,\">=4\")/C199,\"\")","v":""},{"$f":"IF(D199>0,COUNTIFS(HData!$P$3:$P$48828,\">=\"&SDate,HData!$P$3:$P$48828,\"<=\"&RDate,HData!$BP$3:$BP$48828,$I227,HData!$BK$3:$BK$48828,D$124,HData!$F$3:$F$48828,$J227,HData!$BR$3:$BR$48828,$K227,HData!$AU$3:$AU$48828,\">=4\")/D199,\"\")","v":""},{"$f":"IF(E199>0,COUNTIFS(HData!$P$3:$P$48828,\">=\"&SDate,HData!$P$3:$P$48828,\"<=\"&RDate,HData!$BP$3:$BP$48828,$I227,HData!$BK$3:$BK$48828,E$124,HData!$F$3:$F$48828,$J227,HData!$BR$3:$BR$48828,$K227,HData!$AU$3:$AU$48828,\">=4\")/E199,\"\")","v":""},{"$f":"IF(F199>0,COUNTIFS(HData!$P$3:$P$48828,\">=\"&SDate,HData!$P$3:$P$48828,\"<=\"&RDate,HData!$BP$3:$BP$48828,$I227,HData!$BK$3:$BK$48828,F$124,HData!$F$3:$F$48828,$J227,HData!$BR$3:$BR$48828,$K227,HData!$AU$3:$AU$48828,\">=4\")/F199,\"\")","v":""},{"$f":"IF(G199>0,COUNTIFS(HData!$P$3:$P$48828,\">=\"&SDate,HData!$P$3:$P$48828,\"<=\"&RDate,HData!$BP$3:$BP$48828,$I227,HData!$BK$3:$BK$48828,G$124,HData!$F$3:$F$48828,$J227,HData!$BR$3:$BR$48828,$K227,HData!$AU$3:$AU$48828,\">=4\")/G199,\"\")","v":""},{"$f":"IF(H199>0,COUNTIFS(HData!$P$3:$P$48828,\">=\"&SDate,HData!$P$3:$P$48828,\"<=\"&RDate,HData!$BP$3:$BP$48828,$I227,HData!$BK$3:$BK$48828,H$124,HData!$F$3:$F$48828,$J227,HData!$BR$3:$BR$48828,$K227,HData!$AU$3:$AU$48828,\">=4\")/H199,\"\")","v":""},"BME",1,1]
["White, sibling group of 2, no disability",{"$f":"IF(B200>0,COUNTIFS(HData!$P$3:$P$48828,\">=\"&SDate,HData!$P$3:$P$48828,\"<=\"&RDate,HData!$BP$3:$BP$48828,$I228,HData!$BK$3:$BK$48828,B$124,HData!$F$3:$F$48828,$J228,HData!$BR$3:$BR$48828,$K228,HData!$AU$3:$AU$48828,\">=4\")/B200,\"\")","v":""},{"$f":"IF(C200>0,COUNTIFS(HData!$P$3:$P$48828,\">=\"&SDate,HData!$P$3:$P$48828,\"<=\"&RDate,HData!$BP$3:$BP$48828,$I228,HData!$BK$3:$BK$48828,C$124,HData!$F$3:$F$48828,$J228,HData!$BR$3:$BR$48828,$K228,HData!$AU$3:$AU$48828,\">=4\")/C200,\"\")","v":""},{"$f":"IF(D200>0,COUNTIFS(HData!$P$3:$P$48828,\">=\"&SDate,HData!$P$3:$P$48828,\"<=\"&RDate,HData!$BP$3:$BP$48828,$I228,HData!$BK$3:$BK$48828,D$124,HData!$F$3:$F$48828,$J228,HData!$BR$3:$BR$48828,$K228,HData!$AU$3:$AU$48828,\">=4\")/D200,\"\")","v":""},{"$f":"IF(E200>0,COUNTIFS(HData!$P$3:$P$48828,\">=\"&SDate,HData!$P$3:$P$48828,\"<=\"&RDate,HData!$BP$3:$BP$48828,$I228,HData!$BK$3:$BK$48828,E$124,HData!$F$3:$F$48828,$J228,HData!$BR$3:$BR$48828,$K228,HData!$AU$3:$AU$48828,\">=4\")/E200,\"\")","v":""},{"$f":"IF(F200>0,COUNTIFS(HData!$P$3:$P$48828,\">=\"&SDate,HData!$P$3:$P$48828,\"<=\"&RDate,HData!$BP$3:$BP$48828,$I228,HData!$BK$3:$BK$48828,F$124,HData!$F$3:$F$48828,$J228,HData!$BR$3:$BR$48828,$K228,HData!$AU$3:$AU$48828,\">=4\")/F200,\"\")","v":""},{"$f":"IF(G200>0,COUNTIFS(HData!$P$3:$P$48828,\">=\"&SDate,HData!$P$3:$P$48828,\"<=\"&RDate,HData!$BP$3:$BP$48828,$I228,HData!$BK$3:$BK$48828,G$124,HData!$F$3:$F$48828,$J228,HData!$BR$3:$BR$48828,$K228,HData!$AU$3:$AU$48828,\">=4\")/G200,\"\")","v":""},{"$f":"IF(H200>0,COUNTIFS(HData!$P$3:$P$48828,\">=\"&SDate,HData!$P$3:$P$48828,\"<=\"&RDate,HData!$BP$3:$BP$48828,$I228,HData!$BK$3:$BK$48828,H$124,HData!$F$3:$F$48828,$J228,HData!$BR$3:$BR$48828,$K228,HData!$AU$3:$AU$48828,\">=4\")/H200,\"\")","v":""},"White",0,2]
["BME, sibling group of 2, no disability",{"$f":"IF(B201>0,COUNTIFS(HData!$P$3:$P$48828,\">=\"&SDate,HData!$P$3:$P$48828,\"<=\"&RDate,HData!$BP$3:$BP$48828,$I229,HData!$BK$3:$BK$48828,B$124,HData!$F$3:$F$48828,$J229,HData!$BR$3:$BR$48828,$K229,HData!$AU$3:$AU$48828,\">=4\")/B201,\"\")","v":""},{"$f":"IF(C201>0,COUNTIFS(HData!$P$3:$P$48828,\">=\"&SDate,HData!$P$3:$P$48828,\"<=\"&RDate,HData!$BP$3:$BP$48828,$I229,HData!$BK$3:$BK$48828,C$124,HData!$F$3:$F$48828,$J229,HData!$BR$3:$BR$48828,$K229,HData!$AU$3:$AU$48828,\">=4\")/C201,\"\")","v":""},{"$f":"IF(D201>0,COUNTIFS(HData!$P$3:$P$48828,\">=\"&SDate,HData!$P$3:$P$48828,\"<=\"&RDate,HData!$BP$3:$BP$48828,$I229,HData!$BK$3:$BK$48828,D$124,HData!$F$3:$F$48828,$J229,HData!$BR$3:$BR$48828,$K229,HData!$AU$3:$AU$48828,\">=4\")/D201,\"\")","v":""},{"$f":"IF(E201>0,COUNTIFS(HData!$P$3:$P$48828,\">=\"&SDate,HData!$P$3:$P$48828,\"<=\"&RDate,HData!$BP$3:$BP$48828,$I229,HData!$BK$3:$BK$48828,E$124,HData!$F$3:$F$48828,$J229,HData!$BR$3:$BR$48828,$K229,HData!$AU$3:$AU$48828,\">=4\")/E201,\"\")","v":""},{"$f":"IF(F201>0,COUNTIFS(HData!$P$3:$P$48828,\">=\"&SDate,HData!$P$3:$P$48828,\"<=\"&RDate,HData!$BP$3:$BP$48828,$I229,HData!$BK$3:$BK$48828,F$124,HData!$F$3:$F$48828,$J229,HData!$BR$3:$BR$48828,$K229,HData!$AU$3:$AU$48828,\">=4\")/F201,\"\")","v":""},{"$f":"IF(G201>0,COUNTIFS(HData!$P$3:$P$48828,\">=\"&SDate,HData!$P$3:$P$48828,\"<=\"&RDate,HData!$BP$3:$BP$48828,$I229,HData!$BK$3:$BK$48828,G$124,HData!$F$3:$F$48828,$J229,HData!$BR$3:$BR$48828,$K229,HData!$AU$3:$AU$48828,\">=4\")/G201,\"\")","v":""},{"$f":"IF(H201>0,COUNTIFS(HData!$P$3:$P$48828,\">=\"&SDate,HData!$P$3:$P$48828,\"<=\"&RDate,HData!$BP$3:$BP$48828,$I229,HData!$BK$3:$BK$48828,H$124,HData!$F$3:$F$48828,$J229,HData!$BR$3:$BR$48828,$K229,HData!$AU$3:$AU$48828,\">=4\")/H201,\"\")","v":""},"BME",0,2]
["White, sibling group of 2, with disability",{"$f":"IF(B202>0,COUNTIFS(HData!$P$3:$P$48828,\">=\"&SDate,HData!$P$3:$P$48828,\"<=\"&RDate,HData!$BP$3:$BP$48828,$I230,HData!$BK$3:$BK$48828,B$124,HData!$F$3:$F$48828,$J230,HData!$BR$3:$BR$48828,$K230,HData!$AU$3:$AU$48828,\">=4\")/B202,\"\")","v":""},{"$f":"IF(C202>0,COUNTIFS(HData!$P$3:$P$48828,\">=\"&SDate,HData!$P$3:$P$48828,\"<=\"&RDate,HData!$BP$3:$BP$48828,$I230,HData!$BK$3:$BK$48828,C$124,HData!$F$3:$F$48828,$J230,HData!$BR$3:$BR$48828,$K230,HData!$AU$3:$AU$48828,\">=4\")/C202,\"\")","v":""},{"$f":"IF(D202>0,COUNTIFS(HData!$P$3:$P$48828,\">=\"&SDate,HData!$P$3:$P$48828,\"<=\"&RDate,HData!$BP$3:$BP$48828,$I230,HData!$BK$3:$BK$48828,D$124,HData!$F$3:$F$48828,$J230,HData!$BR$3:$BR$48828,$K230,HData!$AU$3:$AU$48828,\">=4\")/D202,\"\")","v":""},{"$f":"IF(E202>0,COUNTIFS(HData!$P$3:$P$48828,\">=\"&SDate,HData!$P$3:$P$48828,\"<=\"&RDate,HData!$BP$3:$BP$48828,$I230,HData!$BK$3:$BK$48828,E$124,HData!$F$3:$F$48828,$J230,HData!$BR$3:$BR$48828,$K230,HData!$AU$3:$AU$48828,\">=4\")/E202,\"\")","v":""},{"$f":"IF(F202>0,COUNTIFS(HData!$P$3:$P$48828,\">=\"&SDate,HData!$P$3:$P$48828,\"<=\"&RDate,HData!$BP$3:$BP$48828,$I230,HData!$BK$3:$BK$48828,F$124,HData!$F$3:$F$48828,$J230,HData!$BR$3:$BR$48828,$K230,HData!$AU$3:$AU$48828,\">=4\")/F202,\"\")","v":""},{"$f":"IF(G202>0,COUNTIFS(HData!$P$3:$P$48828,\">=\"&SDate,HData!$P$3:$P$48828,\"<=\"&RDate,HData!$BP$3:$BP$48828,$I230,HData!$BK$3:$BK$48828,G$124,HData!$F$3:$F$48828,$J230,HData!$BR$3:$BR$48828,$K230,HData!$AU$3:$AU$48828,\">=4\")/G202,\"\")","v":""},{"$f":"IF(H202>0,COUNTIFS(HData!$P$3:$P$48828,\">=\"&SDate,HData!$P$3:$P$48828,\"<=\"&RDate,HData!$BP$3:$BP$48828,$I230,HData!$BK$3:$BK$48828,H$124,HData!$F$3:$F$48828,$J230,HData!$BR$3:$BR$48828,$K230,HData!$AU$3:$AU$48828,\">=4\")/H202,\"\")","v":""},"White",1,2]
["BME, sibling group of 2, with disability",{"$f":"IF(B203>0,COUNTIFS(HData!$P$3:$P$48828,\">=\"&SDate,HData!$P$3:$P$48828,\"<=\"&RDate,HData!$BP$3:$BP$48828,$I231,HData!$BK$3:$BK$48828,B$124,HData!$F$3:$F$48828,$J231,HData!$BR$3:$BR$48828,$K231,HData!$AU$3:$AU$48828,\">=4\")/B203,\"\")","v":""},{"$f":"IF(C203>0,COUNTIFS(HData!$P$3:$P$48828,\">=\"&SDate,HData!$P$3:$P$48828,\"<=\"&RDate,HData!$BP$3:$BP$48828,$I231,HData!$BK$3:$BK$48828,C$124,HData!$F$3:$F$48828,$J231,HData!$BR$3:$BR$48828,$K231,HData!$AU$3:$AU$48828,\">=4\")/C203,\"\")","v":""},{"$f":"IF(D203>0,COUNTIFS(HData!$P$3:$P$48828,\">=\"&SDate,HData!$P$3:$P$48828,\"<=\"&RDate,HData!$BP$3:$BP$48828,$I231,HData!$BK$3:$BK$48828,D$124,HData!$F$3:$F$48828,$J231,HData!$BR$3:$BR$48828,$K231,HData!$AU$3:$AU$48828,\">=4\")/D203,\"\")","v":""},{"$f":"IF(E203>0,COUNTIFS(HData!$P$3:$P$48828,\">=\"&SDate,HData!$P$3:$P$48828,\"<=\"&RDate,HData!$BP$3:$BP$48828,$I231,HData!$BK$3:$BK$48828,E$124,HData!$F$3:$F$48828,$J231,HData!$BR$3:$BR$48828,$K231,HData!$AU$3:$AU$48828,\">=4\")/E203,\"\")","v":""},{"$f":"IF(F203>0,COUNTIFS(HData!$P$3:$P$48828,\">=\"&SDate,HData!$P$3:$P$48828,\"<=\"&RDate,HData!$BP$3:$BP$48828,$I231,HData!$BK$3:$BK$48828,F$124,HData!$F$3:$F$48828,$J231,HData!$BR$3:$BR$48828,$K231,HData!$AU$3:$AU$48828,\">=4\")/F203,\"\")","v":""},{"$f":"IF(G203>0,COUNTIFS(HData!$P$3:$P$48828,\">=\"&SDate,HData!$P$3:$P$48828,\"<=\"&RDate,HData!$BP$3:$BP$48828,$I231,HData!$BK$3:$BK$48828,G$124,HData!$F$3:$F$48828,$J231,HData!$BR$3:$BR$48828,$K231,HData!$AU$3:$AU$48828,\">=4\")/G203,\"\")","v":""},{"$f":"IF(H203>0,COUNTIFS(HData!$P$3:$P$48828,\">=\"&SDate,HData!$P$3:$P$48828,\"<=\"&RDate,HData!$BP$3:$BP$48828,$I231,HData!$BK$3:$BK$48828,H$124,HData!$F$3:$F$48828,$J231,HData!$BR$3:$BR$48828,$K231,HData!$AU$3:$AU$48828,\">=4\")/H203,\"\")","v":""},"BME",1,2]
["White, sibling group of 3, no disability",{"$f":"IF(B204>0,COUNTIFS(HData!$P$3:$P$48828,\">=\"&SDate,HData!$P$3:$P$48828,\"<=\"&RDate,HData!$BP$3:$BP$48828,$I232,HData!$BK$3:$BK$48828,B$124,HData!$F$3:$F$48828,$J232,HData!$BR$3:$BR$48828,$K232,HData!$AU$3:$AU$48828,\">=4\")/B204,\"\")","v":""},{"$f":"IF(C204>0,COUNTIFS(HData!$P$3:$P$48828,\">=\"&SDate,HData!$P$3:$P$48828,\"<=\"&RDate,HData!$BP$3:$BP$48828,$I232,HData!$BK$3:$BK$48828,C$124,HData!$F$3:$F$48828,$J232,HData!$BR$3:$BR$48828,$K232,HData!$AU$3:$AU$48828,\">=4\")/C204,\"\")","v":""},{"$f":"IF(D204>0,COUNTIFS(HData!$P$3:$P$48828,\">=\"&SDate,HData!$P$3:$P$48828,\"<=\"&RDate,HData!$BP$3:$BP$48828,$I232,HData!$BK$3:$BK$48828,D$124,HData!$F$3:$F$48828,$J232,HData!$BR$3:$BR$48828,$K232,HData!$AU$3:$AU$48828,\">=4\")/D204,\"\")","v":""},{"$f":"IF(E204>0,COUNTIFS(HData!$P$3:$P$48828,\">=\"&SDate,HData!$P$3:$P$48828,\"<=\"&RDate,HData!$BP$3:$BP$48828,$I232,HData!$BK$3:$BK$48828,E$124,HData!$F$3:$F$48828,$J232,HData!$BR$3:$BR$48828,$K232,HData!$AU$3:$AU$48828,\">=4\")/E204,\"\")","v":""},{"$f":"IF(F204>0,COUNTIFS(HData!$P$3:$P$48828,\">=\"&SDate,HData!$P$3:$P$48828,\"<=\"&RDate,HData!$BP$3:$BP$48828,$I232,HData!$BK$3:$BK$48828,F$124,HData!$F$3:$F$48828,$J232,HData!$BR$3:$BR$48828,$K232,HData!$AU$3:$AU$48828,\">=4\")/F204,\"\")","v":""},{"$f":"IF(G204>0,COUNTIFS(HData!$P$3:$P$48828,\">=\"&SDate,HData!$P$3:$P$48828,\"<=\"&RDate,HData!$BP$3:$BP$48828,$I232,HData!$BK$3:$BK$48828,G$124,HData!$F$3:$F$48828,$J232,HData!$BR$3:$BR$48828,$K232,HData!$AU$3:$AU$48828,\">=4\")/G204,\"\")","v":""},{"$f":"IF(H204>0,COUNTIFS(HData!$P$3:$P$48828,\">=\"&SDate,HData!$P$3:$P$48828,\"<=\"&RDate,HData!$BP$3:$BP$48828,$I232,HData!$BK$3:$BK$48828,H$124,HData!$F$3:$F$48828,$J232,HData!$BR$3:$BR$48828,$K232,HData!$AU$3:$AU$48828,\">=4\")/H204,\"\")","v":""},"White",0,3]
["BME, sibling group of 3, no disability",{"$f":"IF(B205>0,COUNTIFS(HData!$P$3:$P$48828,\">=\"&SDate,HData!$P$3:$P$48828,\"<=\"&RDate,HData!$BP$3:$BP$48828,$I233,HData!$BK$3:$BK$48828,B$124,HData!$F$3:$F$48828,$J233,HData!$BR$3:$BR$48828,$K233,HData!$AU$3:$AU$48828,\">=4\")/B205,\"\")","v":""},{"$f":"IF(C205>0,COUNTIFS(HData!$P$3:$P$48828,\">=\"&SDate,HData!$P$3:$P$48828,\"<=\"&RDate,HData!$BP$3:$BP$48828,$I233,HData!$BK$3:$BK$48828,C$124,HData!$F$3:$F$48828,$J233,HData!$BR$3:$BR$48828,$K233,HData!$AU$3:$AU$48828,\">=4\")/C205,\"\")","v":""},{"$f":"IF(D205>0,COUNTIFS(HData!$P$3:$P$48828,\">=\"&SDate,HData!$P$3:$P$48828,\"<=\"&RDate,HData!$BP$3:$BP$48828,$I233,HData!$BK$3:$BK$48828,D$124,HData!$F$3:$F$48828,$J233,HData!$BR$3:$BR$48828,$K233,HData!$AU$3:$AU$48828,\">=4\")/D205,\"\")","v":""},{"$f":"IF(E205>0,COUNTIFS(HData!$P$3:$P$48828,\">=\"&SDate,HData!$P$3:$P$48828,\"<=\"&RDate,HData!$BP$3:$BP$48828,$I233,HData!$BK$3:$BK$48828,E$124,HData!$F$3:$F$48828,$J233,HData!$BR$3:$BR$48828,$K233,HData!$AU$3:$AU$48828,\">=4\")/E205,\"\")","v":""},{"$f":"IF(F205>0,COUNTIFS(HData!$P$3:$P$48828,\">=\"&SDate,HData!$P$3:$P$48828,\"<=\"&RDate,HData!$BP$3:$BP$48828,$I233,HData!$BK$3:$BK$48828,F$124,HData!$F$3:$F$48828,$J233,HData!$BR$3:$BR$48828,$K233,HData!$AU$3:$AU$48828,\">=4\")/F205,\"\")","v":""},{"$f":"IF(G205>0,COUNTIFS(HData!$P$3:$P$48828,\">=\"&SDate,HData!$P$3:$P$48828,\"<=\"&RDate,HData!$BP$3:$BP$48828,$I233,HData!$BK$3:$BK$48828,G$124,HData!$F$3:$F$48828,$J233,HData!$BR$3:$BR$48828,$K233,HData!$AU$3:$AU$48828,\">=4\")/G205,\"\")","v":""},{"$f":"IF(H205>0,COUNTIFS(HData!$P$3:$P$48828,\">=\"&SDate,HData!$P$3:$P$48828,\"<=\"&RDate,HData!$BP$3:$BP$48828,$I233,HData!$BK$3:$BK$48828,H$124,HData!$F$3:$F$48828,$J233,HData!$BR$3:$BR$48828,$K233,HData!$AU$3:$AU$48828,\">=4\")/H205,\"\")","v":""},"BME",0,3]
["White, sibling group of 3, with disability",{"$f":"IF(B206>0,COUNTIFS(HData!$P$3:$P$48828,\">=\"&SDate,HData!$P$3:$P$48828,\"<=\"&RDate,HData!$BP$3:$BP$48828,$I234,HData!$BK$3:$BK$48828,B$124,HData!$F$3:$F$48828,$J234,HData!$BR$3:$BR$48828,$K234,HData!$AU$3:$AU$48828,\">=4\")/B206,\"\")","v":""},{"$f":"IF(C206>0,COUNTIFS(HData!$P$3:$P$48828,\">=\"&SDate,HData!$P$3:$P$48828,\"<=\"&RDate,HData!$BP$3:$BP$48828,$I234,HData!$BK$3:$BK$48828,C$124,HData!$F$3:$F$48828,$J234,HData!$BR$3:$BR$48828,$K234,HData!$AU$3:$AU$48828,\">=4\")/C206,\"\")","v":""},{"$f":"IF(D206>0,COUNTIFS(HData!$P$3:$P$48828,\">=\"&SDate,HData!$P$3:$P$48828,\"<=\"&RDate,HData!$BP$3:$BP$48828,$I234,HData!$BK$3:$BK$48828,D$124,HData!$F$3:$F$48828,$J234,HData!$BR$3:$BR$48828,$K234,HData!$AU$3:$AU$48828,\">=4\")/D206,\"\")","v":""},{"$f":"IF(E206>0,COUNTIFS(HData!$P$3:$P$48828,\">=\"&SDate,HData!$P$3:$P$48828,\"<=\"&RDate,HData!$BP$3:$BP$48828,$I234,HData!$BK$3:$BK$48828,E$124,HData!$F$3:$F$48828,$J234,HData!$BR$3:$BR$48828,$K234,HData!$AU$3:$AU$48828,\">=4\")/E206,\"\")","v":""},{"$f":"IF(F206>0,COUNTIFS(HData!$P$3:$P$48828,\">=\"&SDate,HData!$P$3:$P$48828,\"<=\"&RDate,HData!$BP$3:$BP$48828,$I234,HData!$BK$3:$BK$48828,F$124,HData!$F$3:$F$48828,$J234,HData!$BR$3:$BR$48828,$K234,HData!$AU$3:$AU$48828,\">=4\")/F206,\"\")","v":""},{"$f":"IF(G206>0,COUNTIFS(HData!$P$3:$P$48828,\">=\"&SDate,HData!$P$3:$P$48828,\"<=\"&RDate,HData!$BP$3:$BP$48828,$I234,HData!$BK$3:$BK$48828,G$124,HData!$F$3:$F$48828,$J234,HData!$BR$3:$BR$48828,$K234,HData!$AU$3:$AU$48828,\">=4\")/G206,\"\")","v":""},{"$f":"IF(H206>0,COUNTIFS(HData!$P$3:$P$48828,\">=\"&SDate,HData!$P$3:$P$48828,\"<=\"&RDate,HData!$BP$3:$BP$48828,$I234,HData!$BK$3:$BK$48828,H$124,HData!$F$3:$F$48828,$J234,HData!$BR$3:$BR$48828,$K234,HData!$AU$3:$AU$48828,\">=4\")/H206,\"\")","v":""},"White",1,3]
["BME, sibling group of 3, with disability",{"$f":"IF(B207>0,COUNTIFS(HData!$P$3:$P$48828,\">=\"&SDate,HData!$P$3:$P$48828,\"<=\"&RDate,HData!$BP$3:$BP$48828,$I235,HData!$BK$3:$BK$48828,B$124,HData!$F$3:$F$48828,$J235,HData!$BR$3:$BR$48828,$K235,HData!$AU$3:$AU$48828,\">=4\")/B207,\"\")","v":""},{"$f":"IF(C207>0,COUNTIFS(HData!$P$3:$P$48828,\">=\"&SDate,HData!$P$3:$P$48828,\"<=\"&RDate,HData!$BP$3:$BP$48828,$I235,HData!$BK$3:$BK$48828,C$124,HData!$F$3:$F$48828,$J235,HData!$BR$3:$BR$48828,$K235,HData!$AU$3:$AU$48828,\">=4\")/C207,\"\")","v":""},{"$f":"IF(D207>0,COUNTIFS(HData!$P$3:$P$48828,\">=\"&SDate,HData!$P$3:$P$48828,\"<=\"&RDate,HData!$BP$3:$BP$48828,$I235,HData!$BK$3:$BK$48828,D$124,HData!$F$3:$F$48828,$J235,HData!$BR$3:$BR$48828,$K235,HData!$AU$3:$AU$48828,\">=4\")/D207,\"\")","v":""},{"$f":"IF(E207>0,COUNTIFS(HData!$P$3:$P$48828,\">=\"&SDate,HData!$P$3:$P$48828,\"<=\"&RDate,HData!$BP$3:$BP$48828,$I235,HData!$BK$3:$BK$48828,E$124,HData!$F$3:$F$48828,$J235,HData!$BR$3:$BR$48828,$K235,HData!$AU$3:$AU$48828,\">=4\")/E207,\"\")","v":""},{"$f":"IF(F207>0,COUNTIFS(HData!$P$3:$P$48828,\">=\"&SDate,HData!$P$3:$P$48828,\"<=\"&RDate,HData!$BP$3:$BP$48828,$I235,HData!$BK$3:$BK$48828,F$124,HData!$F$3:$F$48828,$J235,HData!$BR$3:$BR$48828,$K235,HData!$AU$3:$AU$48828,\">=4\")/F207,\"\")","v":""},{"$f":"IF(G207>0,COUNTIFS(HData!$P$3:$P$48828,\">=\"&SDate,HData!$P$3:$P$48828,\"<=\"&RDate,HData!$BP$3:$BP$48828,$I235,HData!$BK$3:$BK$48828,G$124,HData!$F$3:$F$48828,$J235,HData!$BR$3:$BR$48828,$K235,HData!$AU$3:$AU$48828,\">=4\")/G207,\"\")","v":""},{"$f":"IF(H207>0,COUNTIFS(HData!$P$3:$P$48828,\">=\"&SDate,HData!$P$3:$P$48828,\"<=\"&RDate,HData!$BP$3:$BP$48828,$I235,HData!$BK$3:$BK$48828,H$124,HData!$F$3:$F$48828,$J235,HData!$BR$3:$BR$48828,$K235,HData!$AU$3:$AU$48828,\">=4\")/H207,\"\")","v":""},"BME",1,3,null,"TOTAL",{"$f":"COUNTIFS(HData!$P$3:$P$48293,\">=\"&SDate,HData!$P$3:$P$48293,\"<=\"&RDate,HData!$AU$3:$AU$48293,\">=4\")","v":0}]
[]
[null,"Age at PO"]
["NUMBER PLACED",0,1,2,3,4,5,">5","BME","Disability","Sibling"]
["White, single child, no disability",{"$f":"COUNTIFS(HData!$R$3:$R$48812,\">=\"&SDate,HData!$R$3:$R$48812,\"<=\"&RDate,HData!$BP$3:$BP$48812,$I239,HData!$BK$3:$BK$48812,B$124,HData!$F$3:$F$48812,$J239,HData!$BR$3:$BR$48812,$K239)","v":0},{"$f":"COUNTIFS(HData!$R$3:$R$48812,\">=\"&SDate,HData!$R$3:$R$48812,\"<=\"&RDate,HData!$BP$3:$BP$48812,$I239,HData!$BK$3:$BK$48812,C$124,HData!$F$3:$F$48812,$J239,HData!$BR$3:$BR$48812,$K239)","v":0},{"$f":"COUNTIFS(HData!$R$3:$R$48812,\">=\"&SDate,HData!$R$3:$R$48812,\"<=\"&RDate,HData!$BP$3:$BP$48812,$I239,HData!$BK$3:$BK$48812,D$124,HData!$F$3:$F$48812,$J239,HData!$BR$3:$BR$48812,$K239)","v":0},{"$f":"COUNTIFS(HData!$R$3:$R$48812,\">=\"&SDate,HData!$R$3:$R$48812,\"<=\"&RDate,HData!$BP$3:$BP$48812,$I239,HData!$BK$3:$BK$48812,E$124,HData!$F$3:$F$48812,$J239,HData!$BR$3:$BR$48812,$K239)","v":0},{"$f":"COUNTIFS(HData!$R$3:$R$48812,\">=\"&SDate,HData!$R$3:$R$48812,\"<=\"&RDate,HData!$BP$3:$BP$48812,$I239,HData!$BK$3:$BK$48812,F$124,HData!$F$3:$F$48812,$J239,HData!$BR$3:$BR$48812,$K239)","v":0},{"$f":"COUNTIFS(HData!$R$3:$R$48812,\">=\"&SDate,HData!$R$3:$R$48812,\"<=\"&RDate,HData!$BP$3:$BP$48812,$I239,HData!$BK$3:$BK$48812,G$124,HData!$F$3:$F$48812,$J239,HData!$BR$3:$BR$48812,$K239)","v":0},{"$f":"COUNTIFS(HData!$R$3:$R$48812,\">=\"&SDate,HData!$R$3:$R$48812,\"<=\"&RDate,HData!$BP$3:$BP$48812,$I239,HData!$BK$3:$BK$48812,H$124,HData!$F$3:$F$48812,$J239,HData!$BR$3:$BR$48812,$K239)","v":0},"White",0,1]
["BME, single child, no disability",{"$f":"COUNTIFS(HData!$R$3:$R$48812,\">=\"&SDate,HData!$R$3:$R$48812,\"<=\"&RDate,HData!$BP$3:$BP$48812,$I240,HData!$BK$3:$BK$48812,B$124,HData!$F$3:$F$48812,$J240,HData!$BR$3:$BR$48812,$K240)","v":0},{"$f":"COUNTIFS(HData!$R$3:$R$48812,\">=\"&SDate,HData!$R$3:$R$48812,\"<=\"&RDate,HData!$BP$3:$BP$48812,$I240,HData!$BK$3:$BK$48812,C$124,HData!$F$3:$F$48812,$J240,HData!$BR$3:$BR$48812,$K240)","v":0},{"$f":"COUNTIFS(HData!$R$3:$R$48812,\">=\"&SDate,HData!$R$3:$R$48812,\"<=\"&RDate,HData!$BP$3:$BP$48812,$I240,HData!$BK$3:$BK$48812,D$124,HData!$F$3:$F$48812,$J240,HData!$BR$3:$BR$48812,$K240)","v":0},{"$f":"COUNTIFS(HData!$R$3:$R$48812,\">=\"&SDate,HData!$R$3:$R$48812,\"<=\"&RDate,HData!$BP$3:$BP$48812,$I240,HData!$BK$3:$BK$48812,E$124,HData!$F$3:$F$48812,$J240,HData!$BR$3:$BR$48812,$K240)","v":0},{"$f":"COUNTIFS(HData!$R$3:$R$48812,\">=\"&SDate,HData!$R$3:$R$48812,\"<=\"&RDate,HData!$BP$3:$BP$48812,$I240,HData!$BK$3:$BK$48812,F$124,HData!$F$3:$F$48812,$J240,HData!$BR$3:$BR$48812,$K240)","v":0},{"$f":"COUNTIFS(HData!$R$3:$R$48812,\">=\"&SDate,HData!$R$3:$R$48812,\"<=\"&RDate,HData!$BP$3:$BP$48812,$I240,HData!$BK$3:$BK$48812,G$124,HData!$F$3:$F$48812,$J240,HData!$BR$3:$BR$48812,$K240)","v":0},{"$f":"COUNTIFS(HData!$R$3:$R$48812,\">=\"&SDate,HData!$R$3:$R$48812,\"<=\"&RDate,HData!$BP$3:$BP$48812,$I240,HData!$BK$3:$BK$48812,H$124,HData!$F$3:$F$48812,$J240,HData!$BR$3:$BR$48812,$K240)","v":0},"BME",0,1]
["White, single child, with disability",{"$f":"COUNTIFS(HData!$R$3:$R$48812,\">=\"&SDate,HData!$R$3:$R$48812,\"<=\"&RDate,HData!$BP$3:$BP$48812,$I241,HData!$BK$3:$BK$48812,B$124,HData!$F$3:$F$48812,$J241,HData!$BR$3:$BR$48812,$K241)","v":0},{"$f":"COUNTIFS(HData!$R$3:$R$48812,\">=\"&SDate,HData!$R$3:$R$48812,\"<=\"&RDate,HData!$BP$3:$BP$48812,$I241,HData!$BK$3:$BK$48812,C$124,HData!$F$3:$F$48812,$J241,HData!$BR$3:$BR$48812,$K241)","v":0},{"$f":"COUNTIFS(HData!$R$3:$R$48812,\">=\"&SDate,HData!$R$3:$R$48812,\"<=\"&RDate,HData!$BP$3:$BP$48812,$I241,HData!$BK$3:$BK$48812,D$124,HData!$F$3:$F$48812,$J241,HData!$BR$3:$BR$48812,$K241)","v":0},{"$f":"COUNTIFS(HData!$R$3:$R$48812,\">=\"&SDate,HData!$R$3:$R$48812,\"<=\"&RDate,HData!$BP$3:$BP$48812,$I241,HData!$BK$3:$BK$48812,E$124,HData!$F$3:$F$48812,$J241,HData!$BR$3:$BR$48812,$K241)","v":0},{"$f":"COUNTIFS(HData!$R$3:$R$48812,\">=\"&SDate,HData!$R$3:$R$48812,\"<=\"&RDate,HData!$BP$3:$BP$48812,$I241,HData!$BK$3:$BK$48812,F$124,HData!$F$3:$F$48812,$J241,HData!$BR$3:$BR$48812,$K241)","v":0},{"$f":"COUNTIFS(HData!$R$3:$R$48812,\">=\"&SDate,HData!$R$3:$R$48812,\"<=\"&RDate,HData!$BP$3:$BP$48812,$I241,HData!$BK$3:$BK$48812,G$124,HData!$F$3:$F$48812,$J241,HData!$BR$3:$BR$48812,$K241)","v":0},{"$f":"COUNTIFS(HData!$R$3:$R$48812,\">=\"&SDate,HData!$R$3:$R$48812,\"<=\"&RDate,HData!$BP$3:$BP$48812,$I241,HData!$BK$3:$BK$48812,H$124,HData!$F$3:$F$48812,$J241,HData!$BR$3:$BR$48812,$K241)","v":0},"White",1,1]
["BME, single child, with disability",{"$f":"COUNTIFS(HData!$R$3:$R$48812,\">=\"&SDate,HData!$R$3:$R$48812,\"<=\"&RDate,HData!$BP$3:$BP$48812,$I242,HData!$BK$3:$BK$48812,B$124,HData!$F$3:$F$48812,$J242,HData!$BR$3:$BR$48812,$K242)","v":0},{"$f":"COUNTIFS(HData!$R$3:$R$48812,\">=\"&SDate,HData!$R$3:$R$48812,\"<=\"&RDate,HData!$BP$3:$BP$48812,$I242,HData!$BK$3:$BK$48812,C$124,HData!$F$3:$F$48812,$J242,HData!$BR$3:$BR$48812,$K242)","v":0},{"$f":"COUNTIFS(HData!$R$3:$R$48812,\">=\"&SDate,HData!$R$3:$R$48812,\"<=\"&RDate,HData!$BP$3:$BP$48812,$I242,HData!$BK$3:$BK$48812,D$124,HData!$F$3:$F$48812,$J242,HData!$BR$3:$BR$48812,$K242)","v":0},{"$f":"COUNTIFS(HData!$R$3:$R$48812,\">=\"&SDate,HData!$R$3:$R$48812,\"<=\"&RDate,HData!$BP$3:$BP$48812,$I242,HData!$BK$3:$BK$48812,E$124,HData!$F$3:$F$48812,$J242,HData!$BR$3:$BR$48812,$K242)","v":0},{"$f":"COUNTIFS(HData!$R$3:$R$48812,\">=\"&SDate,HData!$R$3:$R$48812,\"<=\"&RDate,HData!$BP$3:$BP$48812,$I242,HData!$BK$3:$BK$48812,F$124,HData!$F$3:$F$48812,$J242,HData!$BR$3:$BR$48812,$K242)","v":0},{"$f":"COUNTIFS(HData!$R$3:$R$48812,\">=\"&SDate,HData!$R$3:$R$48812,\"<=\"&RDate,HData!$BP$3:$BP$48812,$I242,HData!$BK$3:$BK$48812,G$124,HData!$F$3:$F$48812,$J242,HData!$BR$3:$BR$48812,$K242)","v":0},{"$f":"COUNTIFS(HData!$R$3:$R$48812,\">=\"&SDate,HData!$R$3:$R$48812,\"<=\"&RDate,HData!$BP$3:$BP$48812,$I242,HData!$BK$3:$BK$48812,H$124,HData!$F$3:$F$48812,$J242,HData!$BR$3:$BR$48812,$K242)","v":0},"BME",1,1]
["White, sibling group of 2, no disability",{"$f":"COUNTIFS(HData!$R$3:$R$48812,\">=\"&SDate,HData!$R$3:$R$48812,\"<=\"&RDate,HData!$BP$3:$BP$48812,$I243,HData!$BK$3:$BK$48812,B$124,HData!$F$3:$F$48812,$J243,HData!$BR$3:$BR$48812,$K243)","v":0},{"$f":"COUNTIFS(HData!$R$3:$R$48812,\">=\"&SDate,HData!$R$3:$R$48812,\"<=\"&RDate,HData!$BP$3:$BP$48812,$I243,HData!$BK$3:$BK$48812,C$124,HData!$F$3:$F$48812,$J243,HData!$BR$3:$BR$48812,$K243)","v":0},{"$f":"COUNTIFS(HData!$R$3:$R$48812,\">=\"&SDate,HData!$R$3:$R$48812,\"<=\"&RDate,HData!$BP$3:$BP$48812,$I243,HData!$BK$3:$BK$48812,D$124,HData!$F$3:$F$48812,$J243,HData!$BR$3:$BR$48812,$K243)","v":0},{"$f":"COUNTIFS(HData!$R$3:$R$48812,\">=\"&SDate,HData!$R$3:$R$48812,\"<=\"&RDate,HData!$BP$3:$BP$48812,$I243,HData!$BK$3:$BK$48812,E$124,HData!$F$3:$F$48812,$J243,HData!$BR$3:$BR$48812,$K243)","v":0},{"$f":"COUNTIFS(HData!$R$3:$R$48812,\">=\"&SDate,HData!$R$3:$R$48812,\"<=\"&RDate,HData!$BP$3:$BP$48812,$I243,HData!$BK$3:$BK$48812,F$124,HData!$F$3:$F$48812,$J243,HData!$BR$3:$BR$48812,$K243)","v":0},{"$f":"COUNTIFS(HData!$R$3:$R$48812,\">=\"&SDate,HData!$R$3:$R$48812,\"<=\"&RDate,HData!$BP$3:$BP$48812,$I243,HData!$BK$3:$BK$48812,G$124,HData!$F$3:$F$48812,$J243,HData!$BR$3:$BR$48812,$K243)","v":0},{"$f":"COUNTIFS(HData!$R$3:$R$48812,\">=\"&SDate,HData!$R$3:$R$48812,\"<=\"&RDate,HData!$BP$3:$BP$48812,$I243,HData!$BK$3:$BK$48812,H$124,HData!$F$3:$F$48812,$J243,HData!$BR$3:$BR$48812,$K243)","v":0},"White",0,2]
["BME, sibling group of 2, no disability",{"$f":"COUNTIFS(HData!$R$3:$R$48812,\">=\"&SDate,HData!$R$3:$R$48812,\"<=\"&RDate,HData!$BP$3:$BP$48812,$I244,HData!$BK$3:$BK$48812,B$124,HData!$F$3:$F$48812,$J244,HData!$BR$3:$BR$48812,$K244)","v":0},{"$f":"COUNTIFS(HData!$R$3:$R$48812,\">=\"&SDate,HData!$R$3:$R$48812,\"<=\"&RDate,HData!$BP$3:$BP$48812,$I244,HData!$BK$3:$BK$48812,C$124,HData!$F$3:$F$48812,$J244,HData!$BR$3:$BR$48812,$K244)","v":0},{"$f":"COUNTIFS(HData!$R$3:$R$48812,\">=\"&SDate,HData!$R$3:$R$48812,\"<=\"&RDate,HData!$BP$3:$BP$48812,$I244,HData!$BK$3:$BK$48812,D$124,HData!$F$3:$F$48812,$J244,HData!$BR$3:$BR$48812,$K244)","v":0},{"$f":"COUNTIFS(HData!$R$3:$R$48812,\">=\"&SDate,HData!$R$3:$R$48812,\"<=\"&RDate,HData!$BP$3:$BP$48812,$I244,HData!$BK$3:$BK$48812,E$124,HData!$F$3:$F$48812,$J244,HData!$BR$3:$BR$48812,$K244)","v":0},{"$f":"COUNTIFS(HData!$R$3:$R$48812,\">=\"&SDate,HData!$R$3:$R$48812,\"<=\"&RDate,HData!$BP$3:$BP$48812,$I244,HData!$BK$3:$BK$48812,F$124,HData!$F$3:$F$48812,$J244,HData!$BR$3:$BR$48812,$K244)","v":0},{"$f":"COUNTIFS(HData!$R$3:$R$48812,\">=\"&SDate,HData!$R$3:$R$48812,\"<=\"&RDate,HData!$BP$3:$BP$48812,$I244,HData!$BK$3:$BK$48812,G$124,HData!$F$3:$F$48812,$J244,HData!$BR$3:$BR$48812,$K244)","v":0},{"$f":"COUNTIFS(HData!$R$3:$R$48812,\">=\"&SDate,HData!$R$3:$R$48812,\"<=\"&RDate,HData!$BP$3:$BP$48812,$I244,HData!$BK$3:$BK$48812,H$124,HData!$F$3:$F$48812,$J244,HData!$BR$3:$BR$48812,$K244)","v":0},"BME",0,2]
["White, sibling group of 2, with disability",{"$f":"COUNTIFS(HData!$R$3:$R$48812,\">=\"&SDate,HData!$R$3:$R$48812,\"<=\"&RDate,HData!$BP$3:$BP$48812,$I245,HData!$BK$3:$BK$48812,B$124,HData!$F$3:$F$48812,$J245,HData!$BR$3:$BR$48812,$K245)","v":0},{"$f":"COUNTIFS(HData!$R$3:$R$48812,\">=\"&SDate,HData!$R$3:$R$48812,\"<=\"&RDate,HData!$BP$3:$BP$48812,$I245,HData!$BK$3:$BK$48812,C$124,HData!$F$3:$F$48812,$J245,HData!$BR$3:$BR$48812,$K245)","v":0},{"$f":"COUNTIFS(HData!$R$3:$R$48812,\">=\"&SDate,HData!$R$3:$R$48812,\"<=\"&RDate,HData!$BP$3:$BP$48812,$I245,HData!$BK$3:$BK$48812,D$124,HData!$F$3:$F$48812,$J245,HData!$BR$3:$BR$48812,$K245)","v":0},{"$f":"COUNTIFS(HData!$R$3:$R$48812,\">=\"&SDate,HData!$R$3:$R$48812,\"<=\"&RDate,HData!$BP$3:$BP$48812,$I245,HData!$BK$3:$BK$48812,E$124,HData!$F$3:$F$48812,$J245,HData!$BR$3:$BR$48812,$K245)","v":0},{"$f":"COUNTIFS(HData!$R$3:$R$48812,\">=\"&SDate,HData!$R$3:$R$48812,\"<=\"&RDate,HData!$BP$3:$BP$48812,$I245,HData!$BK$3:$BK$48812,F$124,HData!$F$3:$F$48812,$J245,HData!$BR$3:$BR$48812,$K245)","v":0},{"$f":"COUNTIFS(HData!$R$3:$R$48812,\">=\"&SDate,HData!$R$3:$R$48812,\"<=\"&RDate,HData!$BP$3:$BP$48812,$I245,HData!$BK$3:$BK$48812,G$124,HData!$F$3:$F$48812,$J245,HData!$BR$3:$BR$48812,$K245)","v":0},{"$f":"COUNTIFS(HData!$R$3:$R$48812,\">=\"&SDate,HData!$R$3:$R$48812,\"<=\"&RDate,HData!$BP$3:$BP$48812,$I245,HData!$BK$3:$BK$48812,H$124,HData!$F$3:$F$48812,$J245,HData!$BR$3:$BR$48812,$K245)","v":0},"White",1,2]
["BME, sibling group of 2, with disability",{"$f":"COUNTIFS(HData!$R$3:$R$48812,\">=\"&SDate,HData!$R$3:$R$48812,\"<=\"&RDate,HData!$BP$3:$BP$48812,$I246,HData!$BK$3:$BK$48812,B$124,HData!$F$3:$F$48812,$J246,HData!$BR$3:$BR$48812,$K246)","v":0},{"$f":"COUNTIFS(HData!$R$3:$R$48812,\">=\"&SDate,HData!$R$3:$R$48812,\"<=\"&RDate,HData!$BP$3:$BP$48812,$I246,HData!$BK$3:$BK$48812,C$124,HData!$F$3:$F$48812,$J246,HData!$BR$3:$BR$48812,$K246)","v":0},{"$f":"COUNTIFS(HData!$R$3:$R$48812,\">=\"&SDate,HData!$R$3:$R$48812,\"<=\"&RDate,HData!$BP$3:$BP$48812,$I246,HData!$BK$3:$BK$48812,D$124,HData!$F$3:$F$48812,$J246,HData!$BR$3:$BR$48812,$K246)","v":0},{"$f":"COUNTIFS(HData!$R$3:$R$48812,\">=\"&SDate,HData!$R$3:$R$48812,\"<=\"&RDate,HData!$BP$3:$BP$48812,$I246,HData!$BK$3:$BK$48812,E$124,HData!$F$3:$F$48812,$J246,HData!$BR$3:$BR$48812,$K246)","v":0},{"$f":"COUNTIFS(HData!$R$3:$R$48812,\">=\"&SDate,HData!$R$3:$R$48812,\"<=\"&RDate,HData!$BP$3:$BP$48812,$I246,HData!$BK$3:$BK$48812,F$124,HData!$F$3:$F$48812,$J246,HData!$BR$3:$BR$48812,$K246)","v":0},{"$f":"COUNTIFS(HData!$R$3:$R$48812,\">=\"&SDate,HData!$R$3:$R$48812,\"<=\"&RDate,HData!$BP$3:$BP$48812,$I246,HData!$BK$3:$BK$48812,G$124,HData!$F$3:$F$48812,$J246,HData!$BR$3:$BR$48812,$K246)","v":0},{"$f":"COUNTIFS(HData!$R$3:$R$48812,\">=\"&SDate,HData!$R$3:$R$48812,\"<=\"&RDate,HData!$BP$3:$BP$48812,$I246,HData!$BK$3:$BK$48812,H$124,HData!$F$3:$F$48812,$J246,HData!$BR$3:$BR$48812,$K246)","v":0},"BME",1,2]
["White, sibling group of 3, no disability",{"$f":"COUNTIFS(HData!$R$3:$R$48812,\">=\"&SDate,HData!$R$3:$R$48812,\"<=\"&RDate,HData!$BP$3:$BP$48812,$I247,HData!$BK$3:$BK$48812,B$124,HData!$F$3:$F$48812,$J247,HData!$BR$3:$BR$48812,$K247)","v":0},{"$f":"COUNTIFS(HData!$R$3:$R$48812,\">=\"&SDate,HData!$R$3:$R$48812,\"<=\"&RDate,HData!$BP$3:$BP$48812,$I247,HData!$BK$3:$BK$48812,C$124,HData!$F$3:$F$48812,$J247,HData!$BR$3:$BR$48812,$K247)","v":0},{"$f":"COUNTIFS(HData!$R$3:$R$48812,\">=\"&SDate,HData!$R$3:$R$48812,\"<=\"&RDate,HData!$BP$3:$BP$48812,$I247,HData!$BK$3:$BK$48812,D$124,HData!$F$3:$F$48812,$J247,HData!$BR$3:$BR$48812,$K247)","v":0},{"$f":"COUNTIFS(HData!$R$3:$R$48812,\">=\"&SDate,HData!$R$3:$R$48812,\"<=\"&RDate,HData!$BP$3:$BP$48812,$I247,HData!$BK$3:$BK$48812,E$124,HData!$F$3:$F$48812,$J247,HData!$BR$3:$BR$48812,$K247)","v":0},{"$f":"COUNTIFS(HData!$R$3:$R$48812,\">=\"&SDate,HData!$R$3:$R$48812,\"<=\"&RDate,HData!$BP$3:$BP$48812,$I247,HData!$BK$3:$BK$48812,F$124,HData!$F$3:$F$48812,$J247,HData!$BR$3:$BR$48812,$K247)","v":0},{"$f":"COUNTIFS(HData!$R$3:$R$48812,\">=\"&SDate,HData!$R$3:$R$48812,\"<=\"&RDate,HData!$BP$3:$BP$48812,$I247,HData!$BK$3:$BK$48812,G$124,HData!$F$3:$F$48812,$J247,HData!$BR$3:$BR$48812,$K247)","v":0},{"$f":"COUNTIFS(HData!$R$3:$R$48812,\">=\"&SDate,HData!$R$3:$R$48812,\"<=\"&RDate,HData!$BP$3:$BP$48812,$I247,HData!$BK$3:$BK$48812,H$124,HData!$F$3:$F$48812,$J247,HData!$BR$3:$BR$48812,$K247)","v":0},"White",0,3]
["BME, sibling group of 3, no disability",{"$f":"COUNTIFS(HData!$R$3:$R$48812,\">=\"&SDate,HData!$R$3:$R$48812,\"<=\"&RDate,HData!$BP$3:$BP$48812,$I248,HData!$BK$3:$BK$48812,B$124,HData!$F$3:$F$48812,$J248,HData!$BR$3:$BR$48812,$K248)","v":0},{"$f":"COUNTIFS(HData!$R$3:$R$48812,\">=\"&SDate,HData!$R$3:$R$48812,\"<=\"&RDate,HData!$BP$3:$BP$48812,$I248,HData!$BK$3:$BK$48812,C$124,HData!$F$3:$F$48812,$J248,HData!$BR$3:$BR$48812,$K248)","v":0},{"$f":"COUNTIFS(HData!$R$3:$R$48812,\">=\"&SDate,HData!$R$3:$R$48812,\"<=\"&RDate,HData!$BP$3:$BP$48812,$I248,HData!$BK$3:$BK$48812,D$124,HData!$F$3:$F$48812,$J248,HData!$BR$3:$BR$48812,$K248)","v":0},{"$f":"COUNTIFS(HData!$R$3:$R$48812,\">=\"&SDate,HData!$R$3:$R$48812,\"<=\"&RDate,HData!$BP$3:$BP$48812,$I248,HData!$BK$3:$BK$48812,E$124,HData!$F$3:$F$48812,$J248,HData!$BR$3:$BR$48812,$K248)","v":0},{"$f":"COUNTIFS(HData!$R$3:$R$48812,\">=\"&SDate,HData!$R$3:$R$48812,\"<=\"&RDate,HData!$BP$3:$BP$48812,$I248,HData!$BK$3:$BK$48812,F$124,HData!$F$3:$F$48812,$J248,HData!$BR$3:$BR$48812,$K248)","v":0},{"$f":"COUNTIFS(HData!$R$3:$R$48812,\">=\"&SDate,HData!$R$3:$R$48812,\"<=\"&RDate,HData!$BP$3:$BP$48812,$I248,HData!$BK$3:$BK$48812,G$124,HData!$F$3:$F$48812,$J248,HData!$BR$3:$BR$48812,$K248)","v":0},{"$f":"COUNTIFS(HData!$R$3:$R$48812,\">=\"&SDate,HData!$R$3:$R$48812,\"<=\"&RDate,HData!$BP$3:$BP$48812,$I248,HData!$BK$3:$BK$48812,H$124,HData!$F$3:$F$48812,$J248,HData!$BR$3:$BR$48812,$K248)","v":0},"BME",0,3]
["White, sibling group of 3, with disability",{"$f":"COUNTIFS(HData!$R$3:$R$48812,\">=\"&SDate,HData!$R$3:$R$48812,\"<=\"&RDate,HData!$BP$3:$BP$48812,$I249,HData!$BK$3:$BK$48812,B$124,HData!$F$3:$F$48812,$J249,HData!$BR$3:$BR$48812,$K249)","v":0},{"$f":"COUNTIFS(HData!$R$3:$R$48812,\">=\"&SDate,HData!$R$3:$R$48812,\"<=\"&RDate,HData!$BP$3:$BP$48812,$I249,HData!$BK$3:$BK$48812,C$124,HData!$F$3:$F$48812,$J249,HData!$BR$3:$BR$48812,$K249)","v":0},{"$f":"COUNTIFS(HData!$R$3:$R$48812,\">=\"&SDate,HData!$R$3:$R$48812,\"<=\"&RDate,HData!$BP$3:$BP$48812,$I249,HData!$BK$3:$BK$48812,D$124,HData!$F$3:$F$48812,$J249,HData!$BR$3:$BR$48812,$K249)","v":0},{"$f":"COUNTIFS(HData!$R$3:$R$48812,\">=\"&SDate,HData!$R$3:$R$48812,\"<=\"&RDate,HData!$BP$3:$BP$48812,$I249,HData!$BK$3:$BK$48812,E$124,HData!$F$3:$F$48812,$J249,HData!$BR$3:$BR$48812,$K249)","v":0},{"$f":"COUNTIFS(HData!$R$3:$R$48812,\">=\"&SDate,HData!$R$3:$R$48812,\"<=\"&RDate,HData!$BP$3:$BP$48812,$I249,HData!$BK$3:$BK$48812,F$124,HData!$F$3:$F$48812,$J249,HData!$BR$3:$BR$48812,$K249)","v":0},{"$f":"COUNTIFS(HData!$R$3:$R$48812,\">=\"&SDate,HData!$R$3:$R$48812,\"<=\"&RDate,HData!$BP$3:$BP$48812,$I249,HData!$BK$3:$BK$48812,G$124,HData!$F$3:$F$48812,$J249,HData!$BR$3:$BR$48812,$K249)","v":0},{"$f":"COUNTIFS(HData!$R$3:$R$48812,\">=\"&SDate,HData!$R$3:$R$48812,\"<=\"&RDate,HData!$BP$3:$BP$48812,$I249,HData!$BK$3:$BK$48812,H$124,HData!$F$3:$F$48812,$J249,HData!$BR$3:$BR$48812,$K249)","v":0},"White",1,3,null,null,null,"Check"]
["BME, sibling group of 3, with disability",{"$f":"COUNTIFS(HData!$R$3:$R$48812,\">=\"&SDate,HData!$R$3:$R$48812,\"<=\"&RDate,HData!$BP$3:$BP$48812,$I250,HData!$BK$3:$BK$48812,B$124,HData!$F$3:$F$48812,$J250,HData!$BR$3:$BR$48812,$K250)","v":0},{"$f":"COUNTIFS(HData!$R$3:$R$48812,\">=\"&SDate,HData!$R$3:$R$48812,\"<=\"&RDate,HData!$BP$3:$BP$48812,$I250,HData!$BK$3:$BK$48812,C$124,HData!$F$3:$F$48812,$J250,HData!$BR$3:$BR$48812,$K250)","v":0},{"$f":"COUNTIFS(HData!$R$3:$R$48812,\">=\"&SDate,HData!$R$3:$R$48812,\"<=\"&RDate,HData!$BP$3:$BP$48812,$I250,HData!$BK$3:$BK$48812,D$124,HData!$F$3:$F$48812,$J250,HData!$BR$3:$BR$48812,$K250)","v":0},{"$f":"COUNTIFS(HData!$R$3:$R$48812,\">=\"&SDate,HData!$R$3:$R$48812,\"<=\"&RDate,HData!$BP$3:$BP$48812,$I250,HData!$BK$3:$BK$48812,E$124,HData!$F$3:$F$48812,$J250,HData!$BR$3:$BR$48812,$K250)","v":0},{"$f":"COUNTIFS(HData!$R$3:$R$48812,\">=\"&SDate,HData!$R$3:$R$48812,\"<=\"&RDate,HData!$BP$3:$BP$48812,$I250,HData!$BK$3:$BK$48812,F$124,HData!$F$3:$F$48812,$J250,HData!$BR$3:$BR$48812,$K250)","v":0},{"$f":"COUNTIFS(HData!$R$3:$R$48812,\">=\"&SDate,HData!$R$3:$R$48812,\"<=\"&RDate,HData!$BP$3:$BP$48812,$I250,HData!$BK$3:$BK$48812,G$124,HData!$F$3:$F$48812,$J250,HData!$BR$3:$BR$48812,$K250)","v":0},{"$f":"COUNTIFS(HData!$R$3:$R$48812,\">=\"&SDate,HData!$R$3:$R$48812,\"<=\"&RDate,HData!$BP$3:$BP$48812,$I250,HData!$BK$3:$BK$48812,H$124,HData!$F$3:$F$48812,$J250,HData!$BR$3:$BR$48812,$K250)","v":0},"BME",1,3,null,"TOTAL",{"$f":"SUM(B239:H250)","v":0},{"$f":"COUNTIFS(HData!$P$3:$P$48293,\">=\"&SDate,HData!$P$3:$P$48293,\"<=\"&RDate,HData!$O$3:$O$48293,\"<>\")","v":0}]
[null,"Age at PO"]
["AVG BLA TO PLACEMENT",0,1,2,3,4,5,">5","BME","Disability","Sibling"]
["White, single child, no disability",{"$f":"IFERROR(SUMIFS(HData!$AG$3:$AG$48828,HData!$R$3:$R$48828,\">=\"&SDate,HData!$R$3:$R$48828,\"<=\"&RDate,HData!$BP$3:$BP$48828,$I253,HData!$BK$3:$BK$48828,B$124,HData!$F$3:$F$48828,$J253,HData!$BR$3:$BR$48828,$K253)/COUNTIFS(HData!$AG$3:$AG$48828,\">=0\",HData!$R$3:$R$48828,\">=\"&SDate,HData!$R$3:$R$48828,\"<=\"&RDate,HData!$BP$3:$BP$48828,$I253,HData!$BK$3:$BK$48828,B$124,HData!$F$3:$F$48828,$J253,HData!$BR$3:$BR$48828,$K253),\"\")","v":""},{"$f":"IFERROR(SUMIFS(HData!$AG$3:$AG$48828,HData!$R$3:$R$48828,\">=\"&SDate,HData!$R$3:$R$48828,\"<=\"&RDate,HData!$BP$3:$BP$48828,$I253,HData!$BK$3:$BK$48828,C$124,HData!$F$3:$F$48828,$J253,HData!$BR$3:$BR$48828,$K253)/COUNTIFS(HData!$AG$3:$AG$48828,\">=0\",HData!$R$3:$R$48828,\">=\"&SDate,HData!$R$3:$R$48828,\"<=\"&RDate,HData!$BP$3:$BP$48828,$I253,HData!$BK$3:$BK$48828,C$124,HData!$F$3:$F$48828,$J253,HData!$BR$3:$BR$48828,$K253),\"\")","v":""},{"$f":"IFERROR(SUMIFS(HData!$AG$3:$AG$48828,HData!$R$3:$R$48828,\">=\"&SDate,HData!$R$3:$R$48828,\"<=\"&RDate,HData!$BP$3:$BP$48828,$I253,HData!$BK$3:$BK$48828,D$124,HData!$F$3:$F$48828,$J253,HData!$BR$3:$BR$48828,$K253)/COUNTIFS(HData!$AG$3:$AG$48828,\">=0\",HData!$R$3:$R$48828,\">=\"&SDate,HData!$R$3:$R$48828,\"<=\"&RDate,HData!$BP$3:$BP$48828,$I253,HData!$BK$3:$BK$48828,D$124,HData!$F$3:$F$48828,$J253,HData!$BR$3:$BR$48828,$K253),\"\")","v":""},{"$f":"IFERROR(SUMIFS(HData!$AG$3:$AG$48828,HData!$R$3:$R$48828,\">=\"&SDate,HData!$R$3:$R$48828,\"<=\"&RDate,HData!$BP$3:$BP$48828,$I253,HData!$BK$3:$BK$48828,E$124,HData!$F$3:$F$48828,$J253,HData!$BR$3:$BR$48828,$K253)/COUNTIFS(HData!$AG$3:$AG$48828,\">=0\",HData!$R$3:$R$48828,\">=\"&SDate,HData!$R$3:$R$48828,\"<=\"&RDate,HData!$BP$3:$BP$48828,$I253,HData!$BK$3:$BK$48828,E$124,HData!$F$3:$F$48828,$J253,HData!$BR$3:$BR$48828,$K253),\"\")","v":""},{"$f":"IFERROR(SUMIFS(HData!$AG$3:$AG$48828,HData!$R$3:$R$48828,\">=\"&SDate,HData!$R$3:$R$48828,\"<=\"&RDate,HData!$BP$3:$BP$48828,$I253,HData!$BK$3:$BK$48828,F$124,HData!$F$3:$F$48828,$J253,HData!$BR$3:$BR$48828,$K253)/COUNTIFS(HData!$AG$3:$AG$48828,\">=0\",HData!$R$3:$R$48828,\">=\"&SDate,HData!$R$3:$R$48828,\"<=\"&RDate,HData!$BP$3:$BP$48828,$I253,HData!$BK$3:$BK$48828,F$124,HData!$F$3:$F$48828,$J253,HData!$BR$3:$BR$48828,$K253),\"\")","v":""},{"$f":"IFERROR(SUMIFS(HData!$AG$3:$AG$48828,HData!$R$3:$R$48828,\">=\"&SDate,HData!$R$3:$R$48828,\"<=\"&RDate,HData!$BP$3:$BP$48828,$I253,HData!$BK$3:$BK$48828,G$124,HData!$F$3:$F$48828,$J253,HData!$BR$3:$BR$48828,$K253)/COUNTIFS(HData!$AG$3:$AG$48828,\">=0\",HData!$R$3:$R$48828,\">=\"&SDate,HData!$R$3:$R$48828,\"<=\"&RDate,HData!$BP$3:$BP$48828,$I253,HData!$BK$3:$BK$48828,G$124,HData!$F$3:$F$48828,$J253,HData!$BR$3:$BR$48828,$K253),\"\")","v":""},{"$f":"IFERROR(SUMIFS(HData!$AG$3:$AG$48828,HData!$R$3:$R$48828,\">=\"&SDate,HData!$R$3:$R$48828,\"<=\"&RDate,HData!$BP$3:$BP$48828,$I253,HData!$BK$3:$BK$48828,H$124,HData!$F$3:$F$48828,$J253,HData!$BR$3:$BR$48828,$K253)/COUNTIFS(HData!$AG$3:$AG$48828,\">=0\",HData!$R$3:$R$48828,\">=\"&SDate,HData!$R$3:$R$48828,\"<=\"&RDate,HData!$BP$3:$BP$48828,$I253,HData!$BK$3:$BK$48828,H$124,HData!$F$3:$F$48828,$J253,HData!$BR$3:$BR$48828,$K253),\"\")","v":""},"White",0,1]
["BME, single child, no disability",{"$f":"IFERROR(SUMIFS(HData!$AG$3:$AG$48828,HData!$R$3:$R$48828,\">=\"&SDate,HData!$R$3:$R$48828,\"<=\"&RDate,HData!$BP$3:$BP$48828,$I254,HData!$BK$3:$BK$48828,B$124,HData!$F$3:$F$48828,$J254,HData!$BR$3:$BR$48828,$K254)/COUNTIFS(HData!$AG$3:$AG$48828,\">=0\",HData!$R$3:$R$48828,\">=\"&SDate,HData!$R$3:$R$48828,\"<=\"&RDate,HData!$BP$3:$BP$48828,$I254,HData!$BK$3:$BK$48828,B$124,HData!$F$3:$F$48828,$J254,HData!$BR$3:$BR$48828,$K254),\"\")","v":""},{"$f":"IFERROR(SUMIFS(HData!$AG$3:$AG$48828,HData!$R$3:$R$48828,\">=\"&SDate,HData!$R$3:$R$48828,\"<=\"&RDate,HData!$BP$3:$BP$48828,$I254,HData!$BK$3:$BK$48828,C$124,HData!$F$3:$F$48828,$J254,HData!$BR$3:$BR$48828,$K254)/COUNTIFS(HData!$AG$3:$AG$48828,\">=0\",HData!$R$3:$R$48828,\">=\"&SDate,HData!$R$3:$R$48828,\"<=\"&RDate,HData!$BP$3:$BP$48828,$I254,HData!$BK$3:$BK$48828,C$124,HData!$F$3:$F$48828,$J254,HData!$BR$3:$BR$48828,$K254),\"\")","v":""},{"$f":"IFERROR(SUMIFS(HData!$AG$3:$AG$48828,HData!$R$3:$R$48828,\">=\"&SDate,HData!$R$3:$R$48828,\"<=\"&RDate,HData!$BP$3:$BP$48828,$I254,HData!$BK$3:$BK$48828,D$124,HData!$F$3:$F$48828,$J254,HData!$BR$3:$BR$48828,$K254)/COUNTIFS(HData!$AG$3:$AG$48828,\">=0\",HData!$R$3:$R$48828,\">=\"&SDate,HData!$R$3:$R$48828,\"<=\"&RDate,HData!$BP$3:$BP$48828,$I254,HData!$BK$3:$BK$48828,D$124,HData!$F$3:$F$48828,$J254,HData!$BR$3:$BR$48828,$K254),\"\")","v":""},{"$f":"IFERROR(SUMIFS(HData!$AG$3:$AG$48828,HData!$R$3:$R$48828,\">=\"&SDate,HData!$R$3:$R$48828,\"<=\"&RDate,HData!$BP$3:$BP$48828,$I254,HData!$BK$3:$BK$48828,E$124,HData!$F$3:$F$48828,$J254,HData!$BR$3:$BR$48828,$K254)/COUNTIFS(HData!$AG$3:$AG$48828,\">=0\",HData!$R$3:$R$48828,\">=\"&SDate,HData!$R$3:$R$48828,\"<=\"&RDate,HData!$BP$3:$BP$48828,$I254,HData!$BK$3:$BK$48828,E$124,HData!$F$3:$F$48828,$J254,HData!$BR$3:$BR$48828,$K254),\"\")","v":""},{"$f":"IFERROR(SUMIFS(HData!$AG$3:$AG$48828,HData!$R$3:$R$48828,\">=\"&SDate,HData!$R$3:$R$48828,\"<=\"&RDate,HData!$BP$3:$BP$48828,$I254,HData!$BK$3:$BK$48828,F$124,HData!$F$3:$F$48828,$J254,HData!$BR$3:$BR$48828,$K254)/COUNTIFS(HData!$AG$3:$AG$48828,\">=0\",HData!$R$3:$R$48828,\">=\"&SDate,HData!$R$3:$R$48828,\"<=\"&RDate,HData!$BP$3:$BP$48828,$I254,HData!$BK$3:$BK$48828,F$124,HData!$F$3:$F$48828,$J254,HData!$BR$3:$BR$48828,$K254),\"\")","v":""},{"$f":"IFERROR(SUMIFS(HData!$AG$3:$AG$48828,HData!$R$3:$R$48828,\">=\"&SDate,HData!$R$3:$R$48828,\"<=\"&RDate,HData!$BP$3:$BP$48828,$I254,HData!$BK$3:$BK$48828,G$124,HData!$F$3:$F$48828,$J254,HData!$BR$3:$BR$48828,$K254)/COUNTIFS(HData!$AG$3:$AG$48828,\">=0\",HData!$R$3:$R$48828,\">=\"&SDate,HData!$R$3:$R$48828,\"<=\"&RDate,HData!$BP$3:$BP$48828,$I254,HData!$BK$3:$BK$48828,G$124,HData!$F$3:$F$48828,$J254,HData!$BR$3:$BR$48828,$K254),\"\")","v":""},{"$f":"IFERROR(SUMIFS(HData!$AG$3:$AG$48828,HData!$R$3:$R$48828,\">=\"&SDate,HData!$R$3:$R$48828,\"<=\"&RDate,HData!$BP$3:$BP$48828,$I254,HData!$BK$3:$BK$48828,H$124,HData!$F$3:$F$48828,$J254,HData!$BR$3:$BR$48828,$K254)/COUNTIFS(HData!$AG$3:$AG$48828,\">=0\",HData!$R$3:$R$48828,\">=\"&SDate,HData!$R$3:$R$48828,\"<=\"&RDate,HData!$BP$3:$BP$48828,$I254,HData!$BK$3:$BK$48828,H$124,HData!$F$3:$F$48828,$J254,HData!$BR$3:$BR$48828,$K254),\"\")","v":""},"BME",0,1]
["White, single child, with disability",{"$f":"IFERROR(SUMIFS(HData!$AG$3:$AG$48828,HData!$R$3:$R$48828,\">=\"&SDate,HData!$R$3:$R$48828,\"<=\"&RDate,HData!$BP$3:$BP$48828,$I255,HData!$BK$3:$BK$48828,B$124,HData!$F$3:$F$48828,$J255,HData!$BR$3:$BR$48828,$K255)/COUNTIFS(HData!$AG$3:$AG$48828,\">=0\",HData!$R$3:$R$48828,\">=\"&SDate,HData!$R$3:$R$48828,\"<=\"&RDate,HData!$BP$3:$BP$48828,$I255,HData!$BK$3:$BK$48828,B$124,HData!$F$3:$F$48828,$J255,HData!$BR$3:$BR$48828,$K255),\"\")","v":""},{"$f":"IFERROR(SUMIFS(HData!$AG$3:$AG$48828,HData!$R$3:$R$48828,\">=\"&SDate,HData!$R$3:$R$48828,\"<=\"&RDate,HData!$BP$3:$BP$48828,$I255,HData!$BK$3:$BK$48828,C$124,HData!$F$3:$F$48828,$J255,HData!$BR$3:$BR$48828,$K255)/COUNTIFS(HData!$AG$3:$AG$48828,\">=0\",HData!$R$3:$R$48828,\">=\"&SDate,HData!$R$3:$R$48828,\"<=\"&RDate,HData!$BP$3:$BP$48828,$I255,HData!$BK$3:$BK$48828,C$124,HData!$F$3:$F$48828,$J255,HData!$BR$3:$BR$48828,$K255),\"\")","v":""},{"$f":"IFERROR(SUMIFS(HData!$AG$3:$AG$48828,HData!$R$3:$R$48828,\">=\"&SDate,HData!$R$3:$R$48828,\"<=\"&RDate,HData!$BP$3:$BP$48828,$I255,HData!$BK$3:$BK$48828,D$124,HData!$F$3:$F$48828,$J255,HData!$BR$3:$BR$48828,$K255)/COUNTIFS(HData!$AG$3:$AG$48828,\">=0\",HData!$R$3:$R$48828,\">=\"&SDate,HData!$R$3:$R$48828,\"<=\"&RDate,HData!$BP$3:$BP$48828,$I255,HData!$BK$3:$BK$48828,D$124,HData!$F$3:$F$48828,$J255,HData!$BR$3:$BR$48828,$K255),\"\")","v":""},{"$f":"IFERROR(SUMIFS(HData!$AG$3:$AG$48828,HData!$R$3:$R$48828,\">=\"&SDate,HData!$R$3:$R$48828,\"<=\"&RDate,HData!$BP$3:$BP$48828,$I255,HData!$BK$3:$BK$48828,E$124,HData!$F$3:$F$48828,$J255,HData!$BR$3:$BR$48828,$K255)/COUNTIFS(HData!$AG$3:$AG$48828,\">=0\",HData!$R$3:$R$48828,\">=\"&SDate,HData!$R$3:$R$48828,\"<=\"&RDate,HData!$BP$3:$BP$48828,$I255,HData!$BK$3:$BK$48828,E$124,HData!$F$3:$F$48828,$J255,HData!$BR$3:$BR$48828,$K255),\"\")","v":""},{"$f":"IFERROR(SUMIFS(HData!$AG$3:$AG$48828,HData!$R$3:$R$48828,\">=\"&SDate,HData!$R$3:$R$48828,\"<=\"&RDate,HData!$BP$3:$BP$48828,$I255,HData!$BK$3:$BK$48828,F$124,HData!$F$3:$F$48828,$J255,HData!$BR$3:$BR$48828,$K255)/COUNTIFS(HData!$AG$3:$AG$48828,\">=0\",HData!$R$3:$R$48828,\">=\"&SDate,HData!$R$3:$R$48828,\"<=\"&RDate,HData!$BP$3:$BP$48828,$I255,HData!$BK$3:$BK$48828,F$124,HData!$F$3:$F$48828,$J255,HData!$BR$3:$BR$48828,$K255),\"\")","v":""},{"$f":"IFERROR(SUMIFS(HData!$AG$3:$AG$48828,HData!$R$3:$R$48828,\">=\"&SDate,HData!$R$3:$R$48828,\"<=\"&RDate,HData!$BP$3:$BP$48828,$I255,HData!$BK$3:$BK$48828,G$124,HData!$F$3:$F$48828,$J255,HData!$BR$3:$BR$48828,$K255)/COUNTIFS(HData!$AG$3:$AG$48828,\">=0\",HData!$R$3:$R$48828,\">=\"&SDate,HData!$R$3:$R$48828,\"<=\"&RDate,HData!$BP$3:$BP$48828,$I255,HData!$BK$3:$BK$48828,G$124,HData!$F$3:$F$48828,$J255,HData!$BR$3:$BR$48828,$K255),\"\")","v":""},{"$f":"IFERROR(SUMIFS(HData!$AG$3:$AG$48828,HData!$R$3:$R$48828,\">=\"&SDate,HData!$R$3:$R$48828,\"<=\"&RDate,HData!$BP$3:$BP$48828,$I255,HData!$BK$3:$BK$48828,H$124,HData!$F$3:$F$48828,$J255,HData!$BR$3:$BR$48828,$K255)/COUNTIFS(HData!$AG$3:$AG$48828,\">=0\",HData!$R$3:$R$48828,\">=\"&SDate,HData!$R$3:$R$48828,\"<=\"&RDate,HData!$BP$3:$BP$48828,$I255,HData!$BK$3:$BK$48828,H$124,HData!$F$3:$F$48828,$J255,HData!$BR$3:$BR$48828,$K255),\"\")","v":""},"White",1,1]
["BME, single child, with disability",{"$f":"IFERROR(SUMIFS(HData!$AG$3:$AG$48828,HData!$R$3:$R$48828,\">=\"&SDate,HData!$R$3:$R$48828,\"<=\"&RDate,HData!$BP$3:$BP$48828,$I256,HData!$BK$3:$BK$48828,B$124,HData!$F$3:$F$48828,$J256,HData!$BR$3:$BR$48828,$K256)/COUNTIFS(HData!$AG$3:$AG$48828,\">=0\",HData!$R$3:$R$48828,\">=\"&SDate,HData!$R$3:$R$48828,\"<=\"&RDate,HData!$BP$3:$BP$48828,$I256,HData!$BK$3:$BK$48828,B$124,HData!$F$3:$F$48828,$J256,HData!$BR$3:$BR$48828,$K256),\"\")","v":""},{"$f":"IFERROR(SUMIFS(HData!$AG$3:$AG$48828,HData!$R$3:$R$48828,\">=\"&SDate,HData!$R$3:$R$48828,\"<=\"&RDate,HData!$BP$3:$BP$48828,$I256,HData!$BK$3:$BK$48828,C$124,HData!$F$3:$F$48828,$J256,HData!$BR$3:$BR$48828,$K256)/COUNTIFS(HData!$AG$3:$AG$48828,\">=0\",HData!$R$3:$R$48828,\">=\"&SDate,HData!$R$3:$R$48828,\"<=\"&RDate,HData!$BP$3:$BP$48828,$I256,HData!$BK$3:$BK$48828,C$124,HData!$F$3:$F$48828,$J256,HData!$BR$3:$BR$48828,$K256),\"\")","v":""},{"$f":"IFERROR(SUMIFS(HData!$AG$3:$AG$48828,HData!$R$3:$R$48828,\">=\"&SDate,HData!$R$3:$R$48828,\"<=\"&RDate,HData!$BP$3:$BP$48828,$I256,HData!$BK$3:$BK$48828,D$124,HData!$F$3:$F$48828,$J256,HData!$BR$3:$BR$48828,$K256)/COUNTIFS(HData!$AG$3:$AG$48828,\">=0\",HData!$R$3:$R$48828,\">=\"&SDate,HData!$R$3:$R$48828,\"<=\"&RDate,HData!$BP$3:$BP$48828,$I256,HData!$BK$3:$BK$48828,D$124,HData!$F$3:$F$48828,$J256,HData!$BR$3:$BR$48828,$K256),\"\")","v":""},{"$f":"IFERROR(SUMIFS(HData!$AG$3:$AG$48828,HData!$R$3:$R$48828,\">=\"&SDate,HData!$R$3:$R$48828,\"<=\"&RDate,HData!$BP$3:$BP$48828,$I256,HData!$BK$3:$BK$48828,E$124,HData!$F$3:$F$48828,$J256,HData!$BR$3:$BR$48828,$K256)/COUNTIFS(HData!$AG$3:$AG$48828,\">=0\",HData!$R$3:$R$48828,\">=\"&SDate,HData!$R$3:$R$48828,\"<=\"&RDate,HData!$BP$3:$BP$48828,$I256,HData!$BK$3:$BK$48828,E$124,HData!$F$3:$F$48828,$J256,HData!$BR$3:$BR$48828,$K256),\"\")","v":""},{"$f":"IFERROR(SUMIFS(HData!$AG$3:$AG$48828,HData!$R$3:$R$48828,\">=\"&SDate,HData!$R$3:$R$48828,\"<=\"&RDate,HData!$BP$3:$BP$48828,$I256,HData!$BK$3:$BK$48828,F$124,HData!$F$3:$F$48828,$J256,HData!$BR$3:$BR$48828,$K256)/COUNTIFS(HData!$AG$3:$AG$48828,\">=0\",HData!$R$3:$R$48828,\">=\"&SDate,HData!$R$3:$R$48828,\"<=\"&RDate,HData!$BP$3:$BP$48828,$I256,HData!$BK$3:$BK$48828,F$124,HData!$F$3:$F$48828,$J256,HData!$BR$3:$BR$48828,$K256),\"\")","v":""},{"$f":"IFERROR(SUMIFS(HData!$AG$3:$AG$48828,HData!$R$3:$R$48828,\">=\"&SDate,HData!$R$3:$R$48828,\"<=\"&RDate,HData!$BP$3:$BP$48828,$I256,HData!$BK$3:$BK$48828,G$124,HData!$F$3:$F$48828,$J256,HData!$BR$3:$BR$48828,$K256)/COUNTIFS(HData!$AG$3:$AG$48828,\">=0\",HData!$R$3:$R$48828,\">=\"&SDate,HData!$R$3:$R$48828,\"<=\"&RDate,HData!$BP$3:$BP$48828,$I256,HData!$BK$3:$BK$48828,G$124,HData!$F$3:$F$48828,$J256,HData!$BR$3:$BR$48828,$K256),\"\")","v":""},{"$f":"IFERROR(SUMIFS(HData!$AG$3:$AG$48828,HData!$R$3:$R$48828,\">=\"&SDate,HData!$R$3:$R$48828,\"<=\"&RDate,HData!$BP$3:$BP$48828,$I256,HData!$BK$3:$BK$48828,H$124,HData!$F$3:$F$48828,$J256,HData!$BR$3:$BR$48828,$K256)/COUNTIFS(HData!$AG$3:$AG$48828,\">=0\",HData!$R$3:$R$48828,\">=\"&SDate,HData!$R$3:$R$48828,\"<=\"&RDate,HData!$BP$3:$BP$48828,$I256,HData!$BK$3:$BK$48828,H$124,HData!$F$3:$F$48828,$J256,HData!$BR$3:$BR$48828,$K256),\"\")","v":""},"BME",1,1]
["White, sibling group of 2, no disability",{"$f":"IFERROR(SUMIFS(HData!$AG$3:$AG$48828,HData!$R$3:$R$48828,\">=\"&SDate,HData!$R$3:$R$48828,\"<=\"&RDate,HData!$BP$3:$BP$48828,$I257,HData!$BK$3:$BK$48828,B$124,HData!$F$3:$F$48828,$J257,HData!$BR$3:$BR$48828,$K257)/COUNTIFS(HData!$AG$3:$AG$48828,\">=0\",HData!$R$3:$R$48828,\">=\"&SDate,HData!$R$3:$R$48828,\"<=\"&RDate,HData!$BP$3:$BP$48828,$I257,HData!$BK$3:$BK$48828,B$124,HData!$F$3:$F$48828,$J257,HData!$BR$3:$BR$48828,$K257),\"\")","v":""},{"$f":"IFERROR(SUMIFS(HData!$AG$3:$AG$48828,HData!$R$3:$R$48828,\">=\"&SDate,HData!$R$3:$R$48828,\"<=\"&RDate,HData!$BP$3:$BP$48828,$I257,HData!$BK$3:$BK$48828,C$124,HData!$F$3:$F$48828,$J257,HData!$BR$3:$BR$48828,$K257)/COUNTIFS(HData!$AG$3:$AG$48828,\">=0\",HData!$R$3:$R$48828,\">=\"&SDate,HData!$R$3:$R$48828,\"<=\"&RDate,HData!$BP$3:$BP$48828,$I257,HData!$BK$3:$BK$48828,C$124,HData!$F$3:$F$48828,$J257,HData!$BR$3:$BR$48828,$K257),\"\")","v":""},{"$f":"IFERROR(SUMIFS(HData!$AG$3:$AG$48828,HData!$R$3:$R$48828,\">=\"&SDate,HData!$R$3:$R$48828,\"<=\"&RDate,HData!$BP$3:$BP$48828,$I257,HData!$BK$3:$BK$48828,D$124,HData!$F$3:$F$48828,$J257,HData!$BR$3:$BR$48828,$K257)/COUNTIFS(HData!$AG$3:$AG$48828,\">=0\",HData!$R$3:$R$48828,\">=\"&SDate,HData!$R$3:$R$48828,\"<=\"&RDate,HData!$BP$3:$BP$48828,$I257,HData!$BK$3:$BK$48828,D$124,HData!$F$3:$F$48828,$J257,HData!$BR$3:$BR$48828,$K257),\"\")","v":""},{"$f":"IFERROR(SUMIFS(HData!$AG$3:$AG$48828,HData!$R$3:$R$48828,\">=\"&SDate,HData!$R$3:$R$48828,\"<=\"&RDate,HData!$BP$3:$BP$48828,$I257,HData!$BK$3:$BK$48828,E$124,HData!$F$3:$F$48828,$J257,HData!$BR$3:$BR$48828,$K257)/COUNTIFS(HData!$AG$3:$AG$48828,\">=0\",HData!$R$3:$R$48828,\">=\"&SDate,HData!$R$3:$R$48828,\"<=\"&RDate,HData!$BP$3:$BP$48828,$I257,HData!$BK$3:$BK$48828,E$124,HData!$F$3:$F$48828,$J257,HData!$BR$3:$BR$48828,$K257),\"\")","v":""},{"$f":"IFERROR(SUMIFS(HData!$AG$3:$AG$48828,HData!$R$3:$R$48828,\">=\"&SDate,HData!$R$3:$R$48828,\"<=\"&RDate,HData!$BP$3:$BP$48828,$I257,HData!$BK$3:$BK$48828,F$124,HData!$F$3:$F$48828,$J257,HData!$BR$3:$BR$48828,$K257)/COUNTIFS(HData!$AG$3:$AG$48828,\">=0\",HData!$R$3:$R$48828,\">=\"&SDate,HData!$R$3:$R$48828,\"<=\"&RDate,HData!$BP$3:$BP$48828,$I257,HData!$BK$3:$BK$48828,F$124,HData!$F$3:$F$48828,$J257,HData!$BR$3:$BR$48828,$K257),\"\")","v":""},{"$f":"IFERROR(SUMIFS(HData!$AG$3:$AG$48828,HData!$R$3:$R$48828,\">=\"&SDate,HData!$R$3:$R$48828,\"<=\"&RDate,HData!$BP$3:$BP$48828,$I257,HData!$BK$3:$BK$48828,G$124,HData!$F$3:$F$48828,$J257,HData!$BR$3:$BR$48828,$K257)/COUNTIFS(HData!$AG$3:$AG$48828,\">=0\",HData!$R$3:$R$48828,\">=\"&SDate,HData!$R$3:$R$48828,\"<=\"&RDate,HData!$BP$3:$BP$48828,$I257,HData!$BK$3:$BK$48828,G$124,HData!$F$3:$F$48828,$J257,HData!$BR$3:$BR$48828,$K257),\"\")","v":""},{"$f":"IFERROR(SUMIFS(HData!$AG$3:$AG$48828,HData!$R$3:$R$48828,\">=\"&SDate,HData!$R$3:$R$48828,\"<=\"&RDate,HData!$BP$3:$BP$48828,$I257,HData!$BK$3:$BK$48828,H$124,HData!$F$3:$F$48828,$J257,HData!$BR$3:$BR$48828,$K257)/COUNTIFS(HData!$AG$3:$AG$48828,\">=0\",HData!$R$3:$R$48828,\">=\"&SDate,HData!$R$3:$R$48828,\"<=\"&RDate,HData!$BP$3:$BP$48828,$I257,HData!$BK$3:$BK$48828,H$124,HData!$F$3:$F$48828,$J257,HData!$BR$3:$BR$48828,$K257),\"\")","v":""},"White",0,2]
["BME, sibling group of 2, no disability",{"$f":"IFERROR(SUMIFS(HData!$AG$3:$AG$48828,HData!$R$3:$R$48828,\">=\"&SDate,HData!$R$3:$R$48828,\"<=\"&RDate,HData!$BP$3:$BP$48828,$I258,HData!$BK$3:$BK$48828,B$124,HData!$F$3:$F$48828,$J258,HData!$BR$3:$BR$48828,$K258)/COUNTIFS(HData!$AG$3:$AG$48828,\">=0\",HData!$R$3:$R$48828,\">=\"&SDate,HData!$R$3:$R$48828,\"<=\"&RDate,HData!$BP$3:$BP$48828,$I258,HData!$BK$3:$BK$48828,B$124,HData!$F$3:$F$48828,$J258,HData!$BR$3:$BR$48828,$K258),\"\")","v":""},{"$f":"IFERROR(SUMIFS(HData!$AG$3:$AG$48828,HData!$R$3:$R$48828,\">=\"&SDate,HData!$R$3:$R$48828,\"<=\"&RDate,HData!$BP$3:$BP$48828,$I258,HData!$BK$3:$BK$48828,C$124,HData!$F$3:$F$48828,$J258,HData!$BR$3:$BR$48828,$K258)/COUNTIFS(HData!$AG$3:$AG$48828,\">=0\",HData!$R$3:$R$48828,\">=\"&SDate,HData!$R$3:$R$48828,\"<=\"&RDate,HData!$BP$3:$BP$48828,$I258,HData!$BK$3:$BK$48828,C$124,HData!$F$3:$F$48828,$J258,HData!$BR$3:$BR$48828,$K258),\"\")","v":""},{"$f":"IFERROR(SUMIFS(HData!$AG$3:$AG$48828,HData!$R$3:$R$48828,\">=\"&SDate,HData!$R$3:$R$48828,\"<=\"&RDate,HData!$BP$3:$BP$48828,$I258,HData!$BK$3:$BK$48828,D$124,HData!$F$3:$F$48828,$J258,HData!$BR$3:$BR$48828,$K258)/COUNTIFS(HData!$AG$3:$AG$48828,\">=0\",HData!$R$3:$R$48828,\">=\"&SDate,HData!$R$3:$R$48828,\"<=\"&RDate,HData!$BP$3:$BP$48828,$I258,HData!$BK$3:$BK$48828,D$124,HData!$F$3:$F$48828,$J258,HData!$BR$3:$BR$48828,$K258),\"\")","v":""},{"$f":"IFERROR(SUMIFS(HData!$AG$3:$AG$48828,HData!$R$3:$R$48828,\">=\"&SDate,HData!$R$3:$R$48828,\"<=\"&RDate,HData!$BP$3:$BP$48828,$I258,HData!$BK$3:$BK$48828,E$124,HData!$F$3:$F$48828,$J258,HData!$BR$3:$BR$48828,$K258)/COUNTIFS(HData!$AG$3:$AG$48828,\">=0\",HData!$R$3:$R$48828,\">=\"&SDate,HData!$R$3:$R$48828,\"<=\"&RDate,HData!$BP$3:$BP$48828,$I258,HData!$BK$3:$BK$48828,E$124,HData!$F$3:$F$48828,$J258,HData!$BR$3:$BR$48828,$K258),\"\")","v":""},{"$f":"IFERROR(SUMIFS(HData!$AG$3:$AG$48828,HData!$R$3:$R$48828,\">=\"&SDate,HData!$R$3:$R$48828,\"<=\"&RDate,HData!$BP$3:$BP$48828,$I258,HData!$BK$3:$BK$48828,F$124,HData!$F$3:$F$48828,$J258,HData!$BR$3:$BR$48828,$K258)/COUNTIFS(HData!$AG$3:$AG$48828,\">=0\",HData!$R$3:$R$48828,\">=\"&SDate,HData!$R$3:$R$48828,\"<=\"&RDate,HData!$BP$3:$BP$48828,$I258,HData!$BK$3:$BK$48828,F$124,HData!$F$3:$F$48828,$J258,HData!$BR$3:$BR$48828,$K258),\"\")","v":""},{"$f":"IFERROR(SUMIFS(HData!$AG$3:$AG$48828,HData!$R$3:$R$48828,\">=\"&SDate,HData!$R$3:$R$48828,\"<=\"&RDate,HData!$BP$3:$BP$48828,$I258,HData!$BK$3:$BK$48828,G$124,HData!$F$3:$F$48828,$J258,HData!$BR$3:$BR$48828,$K258)/COUNTIFS(HData!$AG$3:$AG$48828,\">=0\",HData!$R$3:$R$48828,\">=\"&SDate,HData!$R$3:$R$48828,\"<=\"&RDate,HData!$BP$3:$BP$48828,$I258,HData!$BK$3:$BK$48828,G$124,HData!$F$3:$F$48828,$J258,HData!$BR$3:$BR$48828,$K258),\"\")","v":""},{"$f":"IFERROR(SUMIFS(HData!$AG$3:$AG$48828,HData!$R$3:$R$48828,\">=\"&SDate,HData!$R$3:$R$48828,\"<=\"&RDate,HData!$BP$3:$BP$48828,$I258,HData!$BK$3:$BK$48828,H$124,HData!$F$3:$F$48828,$J258,HData!$BR$3:$BR$48828,$K258)/COUNTIFS(HData!$AG$3:$AG$48828,\">=0\",HData!$R$3:$R$48828,\">=\"&SDate,HData!$R$3:$R$48828,\"<=\"&RDate,HData!$BP$3:$BP$48828,$I258,HData!$BK$3:$BK$48828,H$124,HData!$F$3:$F$48828,$J258,HData!$BR$3:$BR$48828,$K258),\"\")","v":""},"BME",0,2]
["White, sibling group of 2, with disability",{"$f":"IFERROR(SUMIFS(HData!$AG$3:$AG$48828,HData!$R$3:$R$48828,\">=\"&SDate,HData!$R$3:$R$48828,\"<=\"&RDate,HData!$BP$3:$BP$48828,$I259,HData!$BK$3:$BK$48828,B$124,HData!$F$3:$F$48828,$J259,HData!$BR$3:$BR$48828,$K259)/COUNTIFS(HData!$AG$3:$AG$48828,\">=0\",HData!$R$3:$R$48828,\">=\"&SDate,HData!$R$3:$R$48828,\"<=\"&RDate,HData!$BP$3:$BP$48828,$I259,HData!$BK$3:$BK$48828,B$124,HData!$F$3:$F$48828,$J259,HData!$BR$3:$BR$48828,$K259),\"\")","v":""},{"$f":"IFERROR(SUMIFS(HData!$AG$3:$AG$48828,HData!$R$3:$R$48828,\">=\"&SDate,HData!$R$3:$R$48828,\"<=\"&RDate,HData!$BP$3:$BP$48828,$I259,HData!$BK$3:$BK$48828,C$124,HData!$F$3:$F$48828,$J259,HData!$BR$3:$BR$48828,$K259)/COUNTIFS(HData!$AG$3:$AG$48828,\">=0\",HData!$R$3:$R$48828,\">=\"&SDate,HData!$R$3:$R$48828,\"<=\"&RDate,HData!$BP$3:$BP$48828,$I259,HData!$BK$3:$BK$48828,C$124,HData!$F$3:$F$48828,$J259,HData!$BR$3:$BR$48828,$K259),\"\")","v":""},{"$f":"IFERROR(SUMIFS(HData!$AG$3:$AG$48828,HData!$R$3:$R$48828,\">=\"&SDate,HData!$R$3:$R$48828,\"<=\"&RDate,HData!$BP$3:$BP$48828,$I259,HData!$BK$3:$BK$48828,D$124,HData!$F$3:$F$48828,$J259,HData!$BR$3:$BR$48828,$K259)/COUNTIFS(HData!$AG$3:$AG$48828,\">=0\",HData!$R$3:$R$48828,\">=\"&SDate,HData!$R$3:$R$48828,\"<=\"&RDate,HData!$BP$3:$BP$48828,$I259,HData!$BK$3:$BK$48828,D$124,HData!$F$3:$F$48828,$J259,HData!$BR$3:$BR$48828,$K259),\"\")","v":""},{"$f":"IFERROR(SUMIFS(HData!$AG$3:$AG$48828,HData!$R$3:$R$48828,\">=\"&SDate,HData!$R$3:$R$48828,\"<=\"&RDate,HData!$BP$3:$BP$48828,$I259,HData!$BK$3:$BK$48828,E$124,HData!$F$3:$F$48828,$J259,HData!$BR$3:$BR$48828,$K259)/COUNTIFS(HData!$AG$3:$AG$48828,\">=0\",HData!$R$3:$R$48828,\">=\"&SDate,HData!$R$3:$R$48828,\"<=\"&RDate,HData!$BP$3:$BP$48828,$I259,HData!$BK$3:$BK$48828,E$124,HData!$F$3:$F$48828,$J259,HData!$BR$3:$BR$48828,$K259),\"\")","v":""},{"$f":"IFERROR(SUMIFS(HData!$AG$3:$AG$48828,HData!$R$3:$R$48828,\">=\"&SDate,HData!$R$3:$R$48828,\"<=\"&RDate,HData!$BP$3:$BP$48828,$I259,HData!$BK$3:$BK$48828,F$124,HData!$F$3:$F$48828,$J259,HData!$BR$3:$BR$48828,$K259)/COUNTIFS(HData!$AG$3:$AG$48828,\">=0\",HData!$R$3:$R$48828,\">=\"&SDate,HData!$R$3:$R$48828,\"<=\"&RDate,HData!$BP$3:$BP$48828,$I259,HData!$BK$3:$BK$48828,F$124,HData!$F$3:$F$48828,$J259,HData!$BR$3:$BR$48828,$K259),\"\")","v":""},{"$f":"IFERROR(SUMIFS(HData!$AG$3:$AG$48828,HData!$R$3:$R$48828,\">=\"&SDate,HData!$R$3:$R$48828,\"<=\"&RDate,HData!$BP$3:$BP$48828,$I259,HData!$BK$3:$BK$48828,G$124,HData!$F$3:$F$48828,$J259,HData!$BR$3:$BR$48828,$K259)/COUNTIFS(HData!$AG$3:$AG$48828,\">=0\",HData!$R$3:$R$48828,\">=\"&SDate,HData!$R$3:$R$48828,\"<=\"&RDate,HData!$BP$3:$BP$48828,$I259,HData!$BK$3:$BK$48828,G$124,HData!$F$3:$F$48828,$J259,HData!$BR$3:$BR$48828,$K259),\"\")","v":""},{"$f":"IFERROR(SUMIFS(HData!$AG$3:$AG$48828,HData!$R$3:$R$48828,\">=\"&SDate,HData!$R$3:$R$48828,\"<=\"&RDate,HData!$BP$3:$BP$48828,$I259,HData!$BK$3:$BK$48828,H$124,HData!$F$3:$F$48828,$J259,HData!$BR$3:$BR$48828,$K259)/COUNTIFS(HData!$AG$3:$AG$48828,\">=0\",HData!$R$3:$R$48828,\">=\"&SDate,HData!$R$3:$R$48828,\"<=\"&RDate,HData!$BP$3:$BP$48828,$I259,HData!$BK$3:$BK$48828,H$124,HData!$F$3:$F$48828,$J259,HData!$BR$3:$BR$48828,$K259),\"\")","v":""},"White",1,2]
["BME, sibling group of 2, with disability",{"$f":"IFERROR(SUMIFS(HData!$AG$3:$AG$48828,HData!$R$3:$R$48828,\">=\"&SDate,HData!$R$3:$R$48828,\"<=\"&RDate,HData!$BP$3:$BP$48828,$I260,HData!$BK$3:$BK$48828,B$124,HData!$F$3:$F$48828,$J260,HData!$BR$3:$BR$48828,$K260)/COUNTIFS(HData!$AG$3:$AG$48828,\">=0\",HData!$R$3:$R$48828,\">=\"&SDate,HData!$R$3:$R$48828,\"<=\"&RDate,HData!$BP$3:$BP$48828,$I260,HData!$BK$3:$BK$48828,B$124,HData!$F$3:$F$48828,$J260,HData!$BR$3:$BR$48828,$K260),\"\")","v":""},{"$f":"IFERROR(SUMIFS(HData!$AG$3:$AG$48828,HData!$R$3:$R$48828,\">=\"&SDate,HData!$R$3:$R$48828,\"<=\"&RDate,HData!$BP$3:$BP$48828,$I260,HData!$BK$3:$BK$48828,C$124,HData!$F$3:$F$48828,$J260,HData!$BR$3:$BR$48828,$K260)/COUNTIFS(HData!$AG$3:$AG$48828,\">=0\",HData!$R$3:$R$48828,\">=\"&SDate,HData!$R$3:$R$48828,\"<=\"&RDate,HData!$BP$3:$BP$48828,$I260,HData!$BK$3:$BK$48828,C$124,HData!$F$3:$F$48828,$J260,HData!$BR$3:$BR$48828,$K260),\"\")","v":""},{"$f":"IFERROR(SUMIFS(HData!$AG$3:$AG$48828,HData!$R$3:$R$48828,\">=\"&SDate,HData!$R$3:$R$48828,\"<=\"&RDate,HData!$BP$3:$BP$48828,$I260,HData!$BK$3:$BK$48828,D$124,HData!$F$3:$F$48828,$J260,HData!$BR$3:$BR$48828,$K260)/COUNTIFS(HData!$AG$3:$AG$48828,\">=0\",HData!$R$3:$R$48828,\">=\"&SDate,HData!$R$3:$R$48828,\"<=\"&RDate,HData!$BP$3:$BP$48828,$I260,HData!$BK$3:$BK$48828,D$124,HData!$F$3:$F$48828,$J260,HData!$BR$3:$BR$48828,$K260),\"\")","v":""},{"$f":"IFERROR(SUMIFS(HData!$AG$3:$AG$48828,HData!$R$3:$R$48828,\">=\"&SDate,HData!$R$3:$R$48828,\"<=\"&RDate,HData!$BP$3:$BP$48828,$I260,HData!$BK$3:$BK$48828,E$124,HData!$F$3:$F$48828,$J260,HData!$BR$3:$BR$48828,$K260)/COUNTIFS(HData!$AG$3:$AG$48828,\">=0\",HData!$R$3:$R$48828,\">=\"&SDate,HData!$R$3:$R$48828,\"<=\"&RDate,HData!$BP$3:$BP$48828,$I260,HData!$BK$3:$BK$48828,E$124,HData!$F$3:$F$48828,$J260,HData!$BR$3:$BR$48828,$K260),\"\")","v":""},{"$f":"IFERROR(SUMIFS(HData!$AG$3:$AG$48828,HData!$R$3:$R$48828,\">=\"&SDate,HData!$R$3:$R$48828,\"<=\"&RDate,HData!$BP$3:$BP$48828,$I260,HData!$BK$3:$BK$48828,F$124,HData!$F$3:$F$48828,$J260,HData!$BR$3:$BR$48828,$K260)/COUNTIFS(HData!$AG$3:$AG$48828,\">=0\",HData!$R$3:$R$48828,\">=\"&SDate,HData!$R$3:$R$48828,\"<=\"&RDate,HData!$BP$3:$BP$48828,$I260,HData!$BK$3:$BK$48828,F$124,HData!$F$3:$F$48828,$J260,HData!$BR$3:$BR$48828,$K260),\"\")","v":""},{"$f":"IFERROR(SUMIFS(HData!$AG$3:$AG$48828,HData!$R$3:$R$48828,\">=\"&SDate,HData!$R$3:$R$48828,\"<=\"&RDate,HData!$BP$3:$BP$48828,$I260,HData!$BK$3:$BK$48828,G$124,HData!$F$3:$F$48828,$J260,HData!$BR$3:$BR$48828,$K260)/COUNTIFS(HData!$AG$3:$AG$48828,\">=0\",HData!$R$3:$R$48828,\">=\"&SDate,HData!$R$3:$R$48828,\"<=\"&RDate,HData!$BP$3:$BP$48828,$I260,HData!$BK$3:$BK$48828,G$124,HData!$F$3:$F$48828,$J260,HData!$BR$3:$BR$48828,$K260),\"\")","v":""},{"$f":"IFERROR(SUMIFS(HData!$AG$3:$AG$48828,HData!$R$3:$R$48828,\">=\"&SDate,HData!$R$3:$R$48828,\"<=\"&RDate,HData!$BP$3:$BP$48828,$I260,HData!$BK$3:$BK$48828,H$124,HData!$F$3:$F$48828,$J260,HData!$BR$3:$BR$48828,$K260)/COUNTIFS(HData!$AG$3:$AG$48828,\">=0\",HData!$R$3:$R$48828,\">=\"&SDate,HData!$R$3:$R$48828,\"<=\"&RDate,HData!$BP$3:$BP$48828,$I260,HData!$BK$3:$BK$48828,H$124,HData!$F$3:$F$48828,$J260,HData!$BR$3:$BR$48828,$K260),\"\")","v":""},"BME",1,2]
["White, sibling group of 3, no disability",{"$f":"IFERROR(SUMIFS(HData!$AG$3:$AG$48828,HData!$R$3:$R$48828,\">=\"&SDate,HData!$R$3:$R$48828,\"<=\"&RDate,HData!$BP$3:$BP$48828,$I261,HData!$BK$3:$BK$48828,B$124,HData!$F$3:$F$48828,$J261,HData!$BR$3:$BR$48828,$K261)/COUNTIFS(HData!$AG$3:$AG$48828,\">=0\",HData!$R$3:$R$48828,\">=\"&SDate,HData!$R$3:$R$48828,\"<=\"&RDate,HData!$BP$3:$BP$48828,$I261,HData!$BK$3:$BK$48828,B$124,HData!$F$3:$F$48828,$J261,HData!$BR$3:$BR$48828,$K261),\"\")","v":""},{"$f":"IFERROR(SUMIFS(HData!$AG$3:$AG$48828,HData!$R$3:$R$48828,\">=\"&SDate,HData!$R$3:$R$48828,\"<=\"&RDate,HData!$BP$3:$BP$48828,$I261,HData!$BK$3:$BK$48828,C$124,HData!$F$3:$F$48828,$J261,HData!$BR$3:$BR$48828,$K261)/COUNTIFS(HData!$AG$3:$AG$48828,\">=0\",HData!$R$3:$R$48828,\">=\"&SDate,HData!$R$3:$R$48828,\"<=\"&RDate,HData!$BP$3:$BP$48828,$I261,HData!$BK$3:$BK$48828,C$124,HData!$F$3:$F$48828,$J261,HData!$BR$3:$BR$48828,$K261),\"\")","v":""},{"$f":"IFERROR(SUMIFS(HData!$AG$3:$AG$48828,HData!$R$3:$R$48828,\">=\"&SDate,HData!$R$3:$R$48828,\"<=\"&RDate,HData!$BP$3:$BP$48828,$I261,HData!$BK$3:$BK$48828,D$124,HData!$F$3:$F$48828,$J261,HData!$BR$3:$BR$48828,$K261)/COUNTIFS(HData!$AG$3:$AG$48828,\">=0\",HData!$R$3:$R$48828,\">=\"&SDate,HData!$R$3:$R$48828,\"<=\"&RDate,HData!$BP$3:$BP$48828,$I261,HData!$BK$3:$BK$48828,D$124,HData!$F$3:$F$48828,$J261,HData!$BR$3:$BR$48828,$K261),\"\")","v":""},{"$f":"IFERROR(SUMIFS(HData!$AG$3:$AG$48828,HData!$R$3:$R$48828,\">=\"&SDate,HData!$R$3:$R$48828,\"<=\"&RDate,HData!$BP$3:$BP$48828,$I261,HData!$BK$3:$BK$48828,E$124,HData!$F$3:$F$48828,$J261,HData!$BR$3:$BR$48828,$K261)/COUNTIFS(HData!$AG$3:$AG$48828,\">=0\",HData!$R$3:$R$48828,\">=\"&SDate,HData!$R$3:$R$48828,\"<=\"&RDate,HData!$BP$3:$BP$48828,$I261,HData!$BK$3:$BK$48828,E$124,HData!$F$3:$F$48828,$J261,HData!$BR$3:$BR$48828,$K261),\"\")","v":""},{"$f":"IFERROR(SUMIFS(HData!$AG$3:$AG$48828,HData!$R$3:$R$48828,\">=\"&SDate,HData!$R$3:$R$48828,\"<=\"&RDate,HData!$BP$3:$BP$48828,$I261,HData!$BK$3:$BK$48828,F$124,HData!$F$3:$F$48828,$J261,HData!$BR$3:$BR$48828,$K261)/COUNTIFS(HData!$AG$3:$AG$48828,\">=0\",HData!$R$3:$R$48828,\">=\"&SDate,HData!$R$3:$R$48828,\"<=\"&RDate,HData!$BP$3:$BP$48828,$I261,HData!$BK$3:$BK$48828,F$124,HData!$F$3:$F$48828,$J261,HData!$BR$3:$BR$48828,$K261),\"\")","v":""},{"$f":"IFERROR(SUMIFS(HData!$AG$3:$AG$48828,HData!$R$3:$R$48828,\">=\"&SDate,HData!$R$3:$R$48828,\"<=\"&RDate,HData!$BP$3:$BP$48828,$I261,HData!$BK$3:$BK$48828,G$124,HData!$F$3:$F$48828,$J261,HData!$BR$3:$BR$48828,$K261)/COUNTIFS(HData!$AG$3:$AG$48828,\">=0\",HData!$R$3:$R$48828,\">=\"&SDate,HData!$R$3:$R$48828,\"<=\"&RDate,HData!$BP$3:$BP$48828,$I261,HData!$BK$3:$BK$48828,G$124,HData!$F$3:$F$48828,$J261,HData!$BR$3:$BR$48828,$K261),\"\")","v":""},{"$f":"IFERROR(SUMIFS(HData!$AG$3:$AG$48828,HData!$R$3:$R$48828,\">=\"&SDate,HData!$R$3:$R$48828,\"<=\"&RDate,HData!$BP$3:$BP$48828,$I261,HData!$BK$3:$BK$48828,H$124,HData!$F$3:$F$48828,$J261,HData!$BR$3:$BR$48828,$K261)/COUNTIFS(HData!$AG$3:$AG$48828,\">=0\",HData!$R$3:$R$48828,\">=\"&SDate,HData!$R$3:$R$48828,\"<=\"&RDate,HData!$BP$3:$BP$48828,$I261,HData!$BK$3:$BK$48828,H$124,HData!$F$3:$F$48828,$J261,HData!$BR$3:$BR$48828,$K261),\"\")","v":""},"White",0,3]
["BME, sibling group of 3, no disability",{"$f":"IFERROR(SUMIFS(HData!$AG$3:$AG$48828,HData!$R$3:$R$48828,\">=\"&SDate,HData!$R$3:$R$48828,\"<=\"&RDate,HData!$BP$3:$BP$48828,$I262,HData!$BK$3:$BK$48828,B$124,HData!$F$3:$F$48828,$J262,HData!$BR$3:$BR$48828,$K262)/COUNTIFS(HData!$AG$3:$AG$48828,\">=0\",HData!$R$3:$R$48828,\">=\"&SDate,HData!$R$3:$R$48828,\"<=\"&RDate,HData!$BP$3:$BP$48828,$I262,HData!$BK$3:$BK$48828,B$124,HData!$F$3:$F$48828,$J262,HData!$BR$3:$BR$48828,$K262),\"\")","v":""},{"$f":"IFERROR(SUMIFS(HData!$AG$3:$AG$48828,HData!$R$3:$R$48828,\">=\"&SDate,HData!$R$3:$R$48828,\"<=\"&RDate,HData!$BP$3:$BP$48828,$I262,HData!$BK$3:$BK$48828,C$124,HData!$F$3:$F$48828,$J262,HData!$BR$3:$BR$48828,$K262)/COUNTIFS(HData!$AG$3:$AG$48828,\">=0\",HData!$R$3:$R$48828,\">=\"&SDate,HData!$R$3:$R$48828,\"<=\"&RDate,HData!$BP$3:$BP$48828,$I262,HData!$BK$3:$BK$48828,C$124,HData!$F$3:$F$48828,$J262,HData!$BR$3:$BR$48828,$K262),\"\")","v":""},{"$f":"IFERROR(SUMIFS(HData!$AG$3:$AG$48828,HData!$R$3:$R$48828,\">=\"&SDate,HData!$R$3:$R$48828,\"<=\"&RDate,HData!$BP$3:$BP$48828,$I262,HData!$BK$3:$BK$48828,D$124,HData!$F$3:$F$48828,$J262,HData!$BR$3:$BR$48828,$K262)/COUNTIFS(HData!$AG$3:$AG$48828,\">=0\",HData!$R$3:$R$48828,\">=\"&SDate,HData!$R$3:$R$48828,\"<=\"&RDate,HData!$BP$3:$BP$48828,$I262,HData!$BK$3:$BK$48828,D$124,HData!$F$3:$F$48828,$J262,HData!$BR$3:$BR$48828,$K262),\"\")","v":""},{"$f":"IFERROR(SUMIFS(HData!$AG$3:$AG$48828,HData!$R$3:$R$48828,\">=\"&SDate,HData!$R$3:$R$48828,\"<=\"&RDate,HData!$BP$3:$BP$48828,$I262,HData!$BK$3:$BK$48828,E$124,HData!$F$3:$F$48828,$J262,HData!$BR$3:$BR$48828,$K262)/COUNTIFS(HData!$AG$3:$AG$48828,\">=0\",HData!$R$3:$R$48828,\">=\"&SDate,HData!$R$3:$R$48828,\"<=\"&RDate,HData!$BP$3:$BP$48828,$I262,HData!$BK$3:$BK$48828,E$124,HData!$F$3:$F$48828,$J262,HData!$BR$3:$BR$48828,$K262),\"\")","v":""},{"$f":"IFERROR(SUMIFS(HData!$AG$3:$AG$48828,HData!$R$3:$R$48828,\">=\"&SDate,HData!$R$3:$R$48828,\"<=\"&RDate,HData!$BP$3:$BP$48828,$I262,HData!$BK$3:$BK$48828,F$124,HData!$F$3:$F$48828,$J262,HData!$BR$3:$BR$48828,$K262)/COUNTIFS(HData!$AG$3:$AG$48828,\">=0\",HData!$R$3:$R$48828,\">=\"&SDate,HData!$R$3:$R$48828,\"<=\"&RDate,HData!$BP$3:$BP$48828,$I262,HData!$BK$3:$BK$48828,F$124,HData!$F$3:$F$48828,$J262,HData!$BR$3:$BR$48828,$K262),\"\")","v":""},{"$f":"IFERROR(SUMIFS(HData!$AG$3:$AG$48828,HData!$R$3:$R$48828,\">=\"&SDate,HData!$R$3:$R$48828,\"<=\"&RDate,HData!$BP$3:$BP$48828,$I262,HData!$BK$3:$BK$48828,G$124,HData!$F$3:$F$48828,$J262,HData!$BR$3:$BR$48828,$K262)/COUNTIFS(HData!$AG$3:$AG$48828,\">=0\",HData!$R$3:$R$48828,\">=\"&SDate,HData!$R$3:$R$48828,\"<=\"&RDate,HData!$BP$3:$BP$48828,$I262,HData!$BK$3:$BK$48828,G$124,HData!$F$3:$F$48828,$J262,HData!$BR$3:$BR$48828,$K262),\"\")","v":""},{"$f":"IFERROR(SUMIFS(HData!$AG$3:$AG$48828,HData!$R$3:$R$48828,\">=\"&SDate,HData!$R$3:$R$48828,\"<=\"&RDate,HData!$BP$3:$BP$48828,$I262,HData!$BK$3:$BK$48828,H$124,HData!$F$3:$F$48828,$J262,HData!$BR$3:$BR$48828,$K262)/COUNTIFS(HData!$AG$3:$AG$48828,\">=0\",HData!$R$3:$R$48828,\">=\"&SDate,HData!$R$3:$R$48828,\"<=\"&RDate,HData!$BP$3:$BP$48828,$I262,HData!$BK$3:$BK$48828,H$124,HData!$F$3:$F$48828,$J262,HData!$BR$3:$BR$48828,$K262),\"\")","v":""},"BME",0,3]
["White, sibling group of 3, with disability",{"$f":"IFERROR(SUMIFS(HData!$AG$3:$AG$48828,HData!$R$3:$R$48828,\">=\"&SDate,HData!$R$3:$R$48828,\"<=\"&RDate,HData!$BP$3:$BP$48828,$I263,HData!$BK$3:$BK$48828,B$124,HData!$F$3:$F$48828,$J263,HData!$BR$3:$BR$48828,$K263)/COUNTIFS(HData!$AG$3:$AG$48828,\">=0\",HData!$R$3:$R$48828,\">=\"&SDate,HData!$R$3:$R$48828,\"<=\"&RDate,HData!$BP$3:$BP$48828,$I263,HData!$BK$3:$BK$48828,B$124,HData!$F$3:$F$48828,$J263,HData!$BR$3:$BR$48828,$K263),\"\")","v":""},{"$f":"IFERROR(SUMIFS(HData!$AG$3:$AG$48828,HData!$R$3:$R$48828,\">=\"&SDate,HData!$R$3:$R$48828,\"<=\"&RDate,HData!$BP$3:$BP$48828,$I263,HData!$BK$3:$BK$48828,C$124,HData!$F$3:$F$48828,$J263,HData!$BR$3:$BR$48828,$K263)/COUNTIFS(HData!$AG$3:$AG$48828,\">=0\",HData!$R$3:$R$48828,\">=\"&SDate,HData!$R$3:$R$48828,\"<=\"&RDate,HData!$BP$3:$BP$48828,$I263,HData!$BK$3:$BK$48828,C$124,HData!$F$3:$F$48828,$J263,HData!$BR$3:$BR$48828,$K263),\"\")","v":""},{"$f":"IFERROR(SUMIFS(HData!$AG$3:$AG$48828,HData!$R$3:$R$48828,\">=\"&SDate,HData!$R$3:$R$48828,\"<=\"&RDate,HData!$BP$3:$BP$48828,$I263,HData!$BK$3:$BK$48828,D$124,HData!$F$3:$F$48828,$J263,HData!$BR$3:$BR$48828,$K263)/COUNTIFS(HData!$AG$3:$AG$48828,\">=0\",HData!$R$3:$R$48828,\">=\"&SDate,HData!$R$3:$R$48828,\"<=\"&RDate,HData!$BP$3:$BP$48828,$I263,HData!$BK$3:$BK$48828,D$124,HData!$F$3:$F$48828,$J263,HData!$BR$3:$BR$48828,$K263),\"\")","v":""},{"$f":"IFERROR(SUMIFS(HData!$AG$3:$AG$48828,HData!$R$3:$R$48828,\">=\"&SDate,HData!$R$3:$R$48828,\"<=\"&RDate,HData!$BP$3:$BP$48828,$I263,HData!$BK$3:$BK$48828,E$124,HData!$F$3:$F$48828,$J263,HData!$BR$3:$BR$48828,$K263)/COUNTIFS(HData!$AG$3:$AG$48828,\">=0\",HData!$R$3:$R$48828,\">=\"&SDate,HData!$R$3:$R$48828,\"<=\"&RDate,HData!$BP$3:$BP$48828,$I263,HData!$BK$3:$BK$48828,E$124,HData!$F$3:$F$48828,$J263,HData!$BR$3:$BR$48828,$K263),\"\")","v":""},{"$f":"IFERROR(SUMIFS(HData!$AG$3:$AG$48828,HData!$R$3:$R$48828,\">=\"&SDate,HData!$R$3:$R$48828,\"<=\"&RDate,HData!$BP$3:$BP$48828,$I263,HData!$BK$3:$BK$48828,F$124,HData!$F$3:$F$48828,$J263,HData!$BR$3:$BR$48828,$K263)/COUNTIFS(HData!$AG$3:$AG$48828,\">=0\",HData!$R$3:$R$48828,\">=\"&SDate,HData!$R$3:$R$48828,\"<=\"&RDate,HData!$BP$3:$BP$48828,$I263,HData!$BK$3:$BK$48828,F$124,HData!$F$3:$F$48828,$J263,HData!$BR$3:$BR$48828,$K263),\"\")","v":""},{"$f":"IFERROR(SUMIFS(HData!$AG$3:$AG$48828,HData!$R$3:$R$48828,\">=\"&SDate,HData!$R$3:$R$48828,\"<=\"&RDate,HData!$BP$3:$BP$48828,$I263,HData!$BK$3:$BK$48828,G$124,HData!$F$3:$F$48828,$J263,HData!$BR$3:$BR$48828,$K263)/COUNTIFS(HData!$AG$3:$AG$48828,\">=0\",HData!$R$3:$R$48828,\">=\"&SDate,HData!$R$3:$R$48828,\"<=\"&RDate,HData!$BP$3:$BP$48828,$I263,HData!$BK$3:$BK$48828,G$124,HData!$F$3:$F$48828,$J263,HData!$BR$3:$BR$48828,$K263),\"\")","v":""},{"$f":"IFERROR(SUMIFS(HData!$AG$3:$AG$48828,HData!$R$3:$R$48828,\">=\"&SDate,HData!$R$3:$R$48828,\"<=\"&RDate,HData!$BP$3:$BP$48828,$I263,HData!$BK$3:$BK$48828,H$124,HData!$F$3:$F$48828,$J263,HData!$BR$3:$BR$48828,$K263)/COUNTIFS(HData!$AG$3:$AG$48828,\">=0\",HData!$R$3:$R$48828,\">=\"&SDate,HData!$R$3:$R$48828,\"<=\"&RDate,HData!$BP$3:$BP$48828,$I263,HData!$BK$3:$BK$48828,H$124,HData!$F$3:$F$48828,$J263,HData!$BR$3:$BR$48828,$K263),\"\")","v":""},"White",1,3]
["BME, sibling group of 3, with disability",{"$f":"IFERROR(SUMIFS(HData!$AG$3:$AG$48828,HData!$R$3:$R$48828,\">=\"&SDate,HData!$R$3:$R$48828,\"<=\"&RDate,HData!$BP$3:$BP$48828,$I264,HData!$BK$3:$BK$48828,B$124,HData!$F$3:$F$48828,$J264,HData!$BR$3:$BR$48828,$K264)/COUNTIFS(HData!$AG$3:$AG$48828,\">=0\",HData!$R$3:$R$48828,\">=\"&SDate,HData!$R$3:$R$48828,\"<=\"&RDate,HData!$BP$3:$BP$48828,$I264,HData!$BK$3:$BK$48828,B$124,HData!$F$3:$F$48828,$J264,HData!$BR$3:$BR$48828,$K264),\"\")","v":""},{"$f":"IFERROR(SUMIFS(HData!$AG$3:$AG$48828,HData!$R$3:$R$48828,\">=\"&SDate,HData!$R$3:$R$48828,\"<=\"&RDate,HData!$BP$3:$BP$48828,$I264,HData!$BK$3:$BK$48828,C$124,HData!$F$3:$F$48828,$J264,HData!$BR$3:$BR$48828,$K264)/COUNTIFS(HData!$AG$3:$AG$48828,\">=0\",HData!$R$3:$R$48828,\">=\"&SDate,HData!$R$3:$R$48828,\"<=\"&RDate,HData!$BP$3:$BP$48828,$I264,HData!$BK$3:$BK$48828,C$124,HData!$F$3:$F$48828,$J264,HData!$BR$3:$BR$48828,$K264),\"\")","v":""},{"$f":"IFERROR(SUMIFS(HData!$AG$3:$AG$48828,HData!$R$3:$R$48828,\">=\"&SDate,HData!$R$3:$R$48828,\"<=\"&RDate,HData!$BP$3:$BP$48828,$I264,HData!$BK$3:$BK$48828,D$124,HData!$F$3:$F$48828,$J264,HData!$BR$3:$BR$48828,$K264)/COUNTIFS(HData!$AG$3:$AG$48828,\">=0\",HData!$R$3:$R$48828,\">=\"&SDate,HData!$R$3:$R$48828,\"<=\"&RDate,HData!$BP$3:$BP$48828,$I264,HData!$BK$3:$BK$48828,D$124,HData!$F$3:$F$48828,$J264,HData!$BR$3:$BR$48828,$K264),\"\")","v":""},{"$f":"IFERROR(SUMIFS(HData!$AG$3:$AG$48828,HData!$R$3:$R$48828,\">=\"&SDate,HData!$R$3:$R$48828,\"<=\"&RDate,HData!$BP$3:$BP$48828,$I264,HData!$BK$3:$BK$48828,E$124,HData!$F$3:$F$48828,$J264,HData!$BR$3:$BR$48828,$K264)/COUNTIFS(HData!$AG$3:$AG$48828,\">=0\",HData!$R$3:$R$48828,\">=\"&SDate,HData!$R$3:$R$48828,\"<=\"&RDate,HData!$BP$3:$BP$48828,$I264,HData!$BK$3:$BK$48828,E$124,HData!$F$3:$F$48828,$J264,HData!$BR$3:$BR$48828,$K264),\"\")","v":""},{"$f":"IFERROR(SUMIFS(HData!$AG$3:$AG$48828,HData!$R$3:$R$48828,\">=\"&SDate,HData!$R$3:$R$48828,\"<=\"&RDate,HData!$BP$3:$BP$48828,$I264,HData!$BK$3:$BK$48828,F$124,HData!$F$3:$F$48828,$J264,HData!$BR$3:$BR$48828,$K264)/COUNTIFS(HData!$AG$3:$AG$48828,\">=0\",HData!$R$3:$R$48828,\">=\"&SDate,HData!$R$3:$R$48828,\"<=\"&RDate,HData!$BP$3:$BP$48828,$I264,HData!$BK$3:$BK$48828,F$124,HData!$F$3:$F$48828,$J264,HData!$BR$3:$BR$48828,$K264),\"\")","v":""},{"$f":"IFERROR(SUMIFS(HData!$AG$3:$AG$48828,HData!$R$3:$R$48828,\">=\"&SDate,HData!$R$3:$R$48828,\"<=\"&RDate,HData!$BP$3:$BP$48828,$I264,HData!$BK$3:$BK$48828,G$124,HData!$F$3:$F$48828,$J264,HData!$BR$3:$BR$48828,$K264)/COUNTIFS(HData!$AG$3:$AG$48828,\">=0\",HData!$R$3:$R$48828,\">=\"&SDate,HData!$R$3:$R$48828,\"<=\"&RDate,HData!$BP$3:$BP$48828,$I264,HData!$BK$3:$BK$48828,G$124,HData!$F$3:$F$48828,$J264,HData!$BR$3:$BR$48828,$K264),\"\")","v":""},{"$f":"IFERROR(SUMIFS(HData!$AG$3:$AG$48828,HData!$R$3:$R$48828,\">=\"&SDate,HData!$R$3:$R$48828,\"<=\"&RDate,HData!$BP$3:$BP$48828,$I264,HData!$BK$3:$BK$48828,H$124,HData!$F$3:$F$48828,$J264,HData!$BR$3:$BR$48828,$K264)/COUNTIFS(HData!$AG$3:$AG$48828,\">=0\",HData!$R$3:$R$48828,\">=\"&SDate,HData!$R$3:$R$48828,\"<=\"&RDate,HData!$BP$3:$BP$48828,$I264,HData!$BK$3:$BK$48828,H$124,HData!$F$3:$F$48828,$J264,HData!$BR$3:$BR$48828,$K264),\"\")","v":""},"BME",1,3]
[null,"Age at PO"]
["BLA TO PLACEMENT > 14 MONTHS",0,1,2,3,4,5,">5","BME","Disability","Sibling"]
["White, single child, no disability",{"$f":"IF(B239>0,COUNTIFS(HData!$R$3:$R$48828,\">=\"&SDate,HData!$R$3:$R$48828,\"<=\"&RDate,HData!$BP$3:$BP$48828,$I267,HData!$BK$3:$BK$48828,B$124,HData!$F$3:$F$48828,$J267,HData!$BR$3:$BR$48828,$K267,HData!$AI$3:$AI$48828,\">=14\")/B239,\"\")","v":""},{"$f":"IF(C239>0,COUNTIFS(HData!$R$3:$R$48828,\">=\"&SDate,HData!$R$3:$R$48828,\"<=\"&RDate,HData!$BP$3:$BP$48828,$I267,HData!$BK$3:$BK$48828,C$124,HData!$F$3:$F$48828,$J267,HData!$BR$3:$BR$48828,$K267,HData!$AI$3:$AI$48828,\">=14\")/C239,\"\")","v":""},{"$f":"IF(D239>0,COUNTIFS(HData!$R$3:$R$48828,\">=\"&SDate,HData!$R$3:$R$48828,\"<=\"&RDate,HData!$BP$3:$BP$48828,$I267,HData!$BK$3:$BK$48828,D$124,HData!$F$3:$F$48828,$J267,HData!$BR$3:$BR$48828,$K267,HData!$AI$3:$AI$48828,\">=14\")/D239,\"\")","v":""},{"$f":"IF(E239>0,COUNTIFS(HData!$R$3:$R$48828,\">=\"&SDate,HData!$R$3:$R$48828,\"<=\"&RDate,HData!$BP$3:$BP$48828,$I267,HData!$BK$3:$BK$48828,E$124,HData!$F$3:$F$48828,$J267,HData!$BR$3:$BR$48828,$K267,HData!$AI$3:$AI$48828,\">=14\")/E239,\"\")","v":""},{"$f":"IF(F239>0,COUNTIFS(HData!$R$3:$R$48828,\">=\"&SDate,HData!$R$3:$R$48828,\"<=\"&RDate,HData!$BP$3:$BP$48828,$I267,HData!$BK$3:$BK$48828,F$124,HData!$F$3:$F$48828,$J267,HData!$BR$3:$BR$48828,$K267,HData!$AI$3:$AI$48828,\">=14\")/F239,\"\")","v":""},{"$f":"IF(G239>0,COUNTIFS(HData!$R$3:$R$48828,\">=\"&SDate,HData!$R$3:$R$48828,\"<=\"&RDate,HData!$BP$3:$BP$48828,$I267,HData!$BK$3:$BK$48828,G$124,HData!$F$3:$F$48828,$J267,HData!$BR$3:$BR$48828,$K267,HData!$AI$3:$AI$48828,\">=14\")/G239,\"\")","v":""},{"$f":"IF(H239>0,COUNTIFS(HData!$R$3:$R$48828,\">=\"&SDate,HData!$R$3:$R$48828,\"<=\"&RDate,HData!$BP$3:$BP$48828,$I267,HData!$BK$3:$BK$48828,H$124,HData!$F$3:$F$48828,$J267,HData!$BR$3:$BR$48828,$K267,HData!$AI$3:$AI$48828,\">=14\")/H239,\"\")","v":""},"White",0,1]
["BME, single child, no disability",{"$f":"IF(B240>0,COUNTIFS(HData!$R$3:$R$48828,\">=\"&SDate,HData!$R$3:$R$48828,\"<=\"&RDate,HData!$BP$3:$BP$48828,$I268,HData!$BK$3:$BK$48828,B$124,HData!$F$3:$F$48828,$J268,HData!$BR$3:$BR$48828,$K268,HData!$AI$3:$AI$48828,\">=14\")/B240,\"\")","v":""},{"$f":"IF(C240>0,COUNTIFS(HData!$R$3:$R$48828,\">=\"&SDate,HData!$R$3:$R$48828,\"<=\"&RDate,HData!$BP$3:$BP$48828,$I268,HData!$BK$3:$BK$48828,C$124,HData!$F$3:$F$48828,$J268,HData!$BR$3:$BR$48828,$K268,HData!$AI$3:$AI$48828,\">=14\")/C240,\"\")","v":""},{"$f":"IF(D240>0,COUNTIFS(HData!$R$3:$R$48828,\">=\"&SDate,HData!$R$3:$R$48828,\"<=\"&RDate,HData!$BP$3:$BP$48828,$I268,HData!$BK$3:$BK$48828,D$124,HData!$F$3:$F$48828,$J268,HData!$BR$3:$BR$48828,$K268,HData!$AI$3:$AI$48828,\">=14\")/D240,\"\")","v":""},{"$f":"IF(E240>0,COUNTIFS(HData!$R$3:$R$48828,\">=\"&SDate,HData!$R$3:$R$48828,\"<=\"&RDate,HData!$BP$3:$BP$48828,$I268,HData!$BK$3:$BK$48828,E$124,HData!$F$3:$F$48828,$J268,HData!$BR$3:$BR$48828,$K268,HData!$AI$3:$AI$48828,\">=14\")/E240,\"\")","v":""},{"$f":"IF(F240>0,COUNTIFS(HData!$R$3:$R$48828,\">=\"&SDate,HData!$R$3:$R$48828,\"<=\"&RDate,HData!$BP$3:$BP$48828,$I268,HData!$BK$3:$BK$48828,F$124,HData!$F$3:$F$48828,$J268,HData!$BR$3:$BR$48828,$K268,HData!$AI$3:$AI$48828,\">=14\")/F240,\"\")","v":""},{"$f":"IF(G240>0,COUNTIFS(HData!$R$3:$R$48828,\">=\"&SDate,HData!$R$3:$R$48828,\"<=\"&RDate,HData!$BP$3:$BP$48828,$I268,HData!$BK$3:$BK$48828,G$124,HData!$F$3:$F$48828,$J268,HData!$BR$3:$BR$48828,$K268,HData!$AI$3:$AI$48828,\">=14\")/G240,\"\")","v":""},{"$f":"IF(H240>0,COUNTIFS(HData!$R$3:$R$48828,\">=\"&SDate,HData!$R$3:$R$48828,\"<=\"&RDate,HData!$BP$3:$BP$48828,$I268,HData!$BK$3:$BK$48828,H$124,HData!$F$3:$F$48828,$J268,HData!$BR$3:$BR$48828,$K268,HData!$AI$3:$AI$48828,\">=14\")/H240,\"\")","v":""},"BME",0,1]
["White, single child, with disability",{"$f":"IF(B241>0,COUNTIFS(HData!$R$3:$R$48828,\">=\"&SDate,HData!$R$3:$R$48828,\"<=\"&RDate,HData!$BP$3:$BP$48828,$I269,HData!$BK$3:$BK$48828,B$124,HData!$F$3:$F$48828,$J269,HData!$BR$3:$BR$48828,$K269,HData!$AI$3:$AI$48828,\">=14\")/B241,\"\")","v":""},{"$f":"IF(C241>0,COUNTIFS(HData!$R$3:$R$48828,\">=\"&SDate,HData!$R$3:$R$48828,\"<=\"&RDate,HData!$BP$3:$BP$48828,$I269,HData!$BK$3:$BK$48828,C$124,HData!$F$3:$F$48828,$J269,HData!$BR$3:$BR$48828,$K269,HData!$AI$3:$AI$48828,\">=14\")/C241,\"\")","v":""},{"$f":"IF(D241>0,COUNTIFS(HData!$R$3:$R$48828,\">=\"&SDate,HData!$R$3:$R$48828,\"<=\"&RDate,HData!$BP$3:$BP$48828,$I269,HData!$BK$3:$BK$48828,D$124,HData!$F$3:$F$48828,$J269,HData!$BR$3:$BR$48828,$K269,HData!$AI$3:$AI$48828,\">=14\")/D241,\"\")","v":""},{"$f":"IF(E241>0,COUNTIFS(HData!$R$3:$R$48828,\">=\"&SDate,HData!$R$3:$R$48828,\"<=\"&RDate,HData!$BP$3:$BP$48828,$I269,HData!$BK$3:$BK$48828,E$124,HData!$F$3:$F$48828,$J269,HData!$BR$3:$BR$48828,$K269,HData!$AI$3:$AI$48828,\">=14\")/E241,\"\")","v":""},{"$f":"IF(F241>0,COUNTIFS(HData!$R$3:$R$48828,\">=\"&SDate,HData!$R$3:$R$48828,\"<=\"&RDate,HData!$BP$3:$BP$48828,$I269,HData!$BK$3:$BK$48828,F$124,HData!$F$3:$F$48828,$J269,HData!$BR$3:$BR$48828,$K269,HData!$AI$3:$AI$48828,\">=14\")/F241,\"\")","v":""},{"$f":"IF(G241>0,COUNTIFS(HData!$R$3:$R$48828,\">=\"&SDate,HData!$R$3:$R$48828,\"<=\"&RDate,HData!$BP$3:$BP$48828,$I269,HData!$BK$3:$BK$48828,G$124,HData!$F$3:$F$48828,$J269,HData!$BR$3:$BR$48828,$K269,HData!$AI$3:$AI$48828,\">=14\")/G241,\"\")","v":""},{"$f":"IF(H241>0,COUNTIFS(HData!$R$3:$R$48828,\">=\"&SDate,HData!$R$3:$R$48828,\"<=\"&RDate,HData!$BP$3:$BP$48828,$I269,HData!$BK$3:$BK$48828,H$124,HData!$F$3:$F$48828,$J269,HData!$BR$3:$BR$48828,$K269,HData!$AI$3:$AI$48828,\">=14\")/H241,\"\")","v":""},"White",1,1]
["BME, single child, with disability",{"$f":"IF(B242>0,COUNTIFS(HData!$R$3:$R$48828,\">=\"&SDate,HData!$R$3:$R$48828,\"<=\"&RDate,HData!$BP$3:$BP$48828,$I270,HData!$BK$3:$BK$48828,B$124,HData!$F$3:$F$48828,$J270,HData!$BR$3:$BR$48828,$K270,HData!$AI$3:$AI$48828,\">=14\")/B242,\"\")","v":""},{"$f":"IF(C242>0,COUNTIFS(HData!$R$3:$R$48828,\">=\"&SDate,HData!$R$3:$R$48828,\"<=\"&RDate,HData!$BP$3:$BP$48828,$I270,HData!$BK$3:$BK$48828,C$124,HData!$F$3:$F$48828,$J270,HData!$BR$3:$BR$48828,$K270,HData!$AI$3:$AI$48828,\">=14\")/C242,\"\")","v":""},{"$f":"IF(D242>0,COUNTIFS(HData!$R$3:$R$48828,\">=\"&SDate,HData!$R$3:$R$48828,\"<=\"&RDate,HData!$BP$3:$BP$48828,$I270,HData!$BK$3:$BK$48828,D$124,HData!$F$3:$F$48828,$J270,HData!$BR$3:$BR$48828,$K270,HData!$AI$3:$AI$48828,\">=14\")/D242,\"\")","v":""},{"$f":"IF(E242>0,COUNTIFS(HData!$R$3:$R$48828,\">=\"&SDate,HData!$R$3:$R$48828,\"<=\"&RDate,HData!$BP$3:$BP$48828,$I270,HData!$BK$3:$BK$48828,E$124,HData!$F$3:$F$48828,$J270,HData!$BR$3:$BR$48828,$K270,HData!$AI$3:$AI$48828,\">=14\")/E242,\"\")","v":""},{"$f":"IF(F242>0,COUNTIFS(HData!$R$3:$R$48828,\">=\"&SDate,HData!$R$3:$R$48828,\"<=\"&RDate,HData!$BP$3:$BP$48828,$I270,HData!$BK$3:$BK$48828,F$124,HData!$F$3:$F$48828,$J270,HData!$BR$3:$BR$48828,$K270,HData!$AI$3:$AI$48828,\">=14\")/F242,\"\")","v":""},{"$f":"IF(G242>0,COUNTIFS(HData!$R$3:$R$48828,\">=\"&SDate,HData!$R$3:$R$48828,\"<=\"&RDate,HData!$BP$3:$BP$48828,$I270,HData!$BK$3:$BK$48828,G$124,HData!$F$3:$F$48828,$J270,HData!$BR$3:$BR$48828,$K270,HData!$AI$3:$AI$48828,\">=14\")/G242,\"\")","v":""},{"$f":"IF(H242>0,COUNTIFS(HData!$R$3:$R$48828,\">=\"&SDate,HData!$R$3:$R$48828,\"<=\"&RDate,HData!$BP$3:$BP$48828,$I270,HData!$BK$3:$BK$48828,H$124,HData!$F$3:$F$48828,$J270,HData!$BR$3:$BR$48828,$K270,HData!$AI$3:$AI$48828,\">=14\")/H242,\"\")","v":""},"BME",1,1]
["White, sibling group of 2, no disability",{"$f":"IF(B243>0,COUNTIFS(HData!$R$3:$R$48828,\">=\"&SDate,HData!$R$3:$R$48828,\"<=\"&RDate,HData!$BP$3:$BP$48828,$I271,HData!$BK$3:$BK$48828,B$124,HData!$F$3:$F$48828,$J271,HData!$BR$3:$BR$48828,$K271,HData!$AI$3:$AI$48828,\">=14\")/B243,\"\")","v":""},{"$f":"IF(C243>0,COUNTIFS(HData!$R$3:$R$48828,\">=\"&SDate,HData!$R$3:$R$48828,\"<=\"&RDate,HData!$BP$3:$BP$48828,$I271,HData!$BK$3:$BK$48828,C$124,HData!$F$3:$F$48828,$J271,HData!$BR$3:$BR$48828,$K271,HData!$AI$3:$AI$48828,\">=14\")/C243,\"\")","v":""},{"$f":"IF(D243>0,COUNTIFS(HData!$R$3:$R$48828,\">=\"&SDate,HData!$R$3:$R$48828,\"<=\"&RDate,HData!$BP$3:$BP$48828,$I271,HData!$BK$3:$BK$48828,D$124,HData!$F$3:$F$48828,$J271,HData!$BR$3:$BR$48828,$K271,HData!$AI$3:$AI$48828,\">=14\")/D243,\"\")","v":""},{"$f":"IF(E243>0,COUNTIFS(HData!$R$3:$R$48828,\">=\"&SDate,HData!$R$3:$R$48828,\"<=\"&RDate,HData!$BP$3:$BP$48828,$I271,HData!$BK$3:$BK$48828,E$124,HData!$F$3:$F$48828,$J271,HData!$BR$3:$BR$48828,$K271,HData!$AI$3:$AI$48828,\">=14\")/E243,\"\")","v":""},{"$f":"IF(F243>0,COUNTIFS(HData!$R$3:$R$48828,\">=\"&SDate,HData!$R$3:$R$48828,\"<=\"&RDate,HData!$BP$3:$BP$48828,$I271,HData!$BK$3:$BK$48828,F$124,HData!$F$3:$F$48828,$J271,HData!$BR$3:$BR$48828,$K271,HData!$AI$3:$AI$48828,\">=14\")/F243,\"\")","v":""},{"$f":"IF(G243>0,COUNTIFS(HData!$R$3:$R$48828,\">=\"&SDate,HData!$R$3:$R$48828,\"<=\"&RDate,HData!$BP$3:$BP$48828,$I271,HData!$BK$3:$BK$48828,G$124,HData!$F$3:$F$48828,$J271,HData!$BR$3:$BR$48828,$K271,HData!$AI$3:$AI$48828,\">=14\")/G243,\"\")","v":""},{"$f":"IF(H243>0,COUNTIFS(HData!$R$3:$R$48828,\">=\"&SDate,HData!$R$3:$R$48828,\"<=\"&RDate,HData!$BP$3:$BP$48828,$I271,HData!$BK$3:$BK$48828,H$124,HData!$F$3:$F$48828,$J271,HData!$BR$3:$BR$48828,$K271,HData!$AI$3:$AI$48828,\">=14\")/H243,\"\")","v":""},"White",0,2]
["BME, sibling group of 2, no disability",{"$f":"IF(B244>0,COUNTIFS(HData!$R$3:$R$48828,\">=\"&SDate,HData!$R$3:$R$48828,\"<=\"&RDate,HData!$BP$3:$BP$48828,$I272,HData!$BK$3:$BK$48828,B$124,HData!$F$3:$F$48828,$J272,HData!$BR$3:$BR$48828,$K272,HData!$AI$3:$AI$48828,\">=14\")/B244,\"\")","v":""},{"$f":"IF(C244>0,COUNTIFS(HData!$R$3:$R$48828,\">=\"&SDate,HData!$R$3:$R$48828,\"<=\"&RDate,HData!$BP$3:$BP$48828,$I272,HData!$BK$3:$BK$48828,C$124,HData!$F$3:$F$48828,$J272,HData!$BR$3:$BR$48828,$K272,HData!$AI$3:$AI$48828,\">=14\")/C244,\"\")","v":""},{"$f":"IF(D244>0,COUNTIFS(HData!$R$3:$R$48828,\">=\"&SDate,HData!$R$3:$R$48828,\"<=\"&RDate,HData!$BP$3:$BP$48828,$I272,HData!$BK$3:$BK$48828,D$124,HData!$F$3:$F$48828,$J272,HData!$BR$3:$BR$48828,$K272,HData!$AI$3:$AI$48828,\">=14\")/D244,\"\")","v":""},{"$f":"IF(E244>0,COUNTIFS(HData!$R$3:$R$48828,\">=\"&SDate,HData!$R$3:$R$48828,\"<=\"&RDate,HData!$BP$3:$BP$48828,$I272,HData!$BK$3:$BK$48828,E$124,HData!$F$3:$F$48828,$J272,HData!$BR$3:$BR$48828,$K272,HData!$AI$3:$AI$48828,\">=14\")/E244,\"\")","v":""},{"$f":"IF(F244>0,COUNTIFS(HData!$R$3:$R$48828,\">=\"&SDate,HData!$R$3:$R$48828,\"<=\"&RDate,HData!$BP$3:$BP$48828,$I272,HData!$BK$3:$BK$48828,F$124,HData!$F$3:$F$48828,$J272,HData!$BR$3:$BR$48828,$K272,HData!$AI$3:$AI$48828,\">=14\")/F244,\"\")","v":""},{"$f":"IF(G244>0,COUNTIFS(HData!$R$3:$R$48828,\">=\"&SDate,HData!$R$3:$R$48828,\"<=\"&RDate,HData!$BP$3:$BP$48828,$I272,HData!$BK$3:$BK$48828,G$124,HData!$F$3:$F$48828,$J272,HData!$BR$3:$BR$48828,$K272,HData!$AI$3:$AI$48828,\">=14\")/G244,\"\")","v":""},{"$f":"IF(H244>0,COUNTIFS(HData!$R$3:$R$48828,\">=\"&SDate,HData!$R$3:$R$48828,\"<=\"&RDate,HData!$BP$3:$BP$48828,$I272,HData!$BK$3:$BK$48828,H$124,HData!$F$3:$F$48828,$J272,HData!$BR$3:$BR$48828,$K272,HData!$AI$3:$AI$48828,\">=14\")/H244,\"\")","v":""},"BME",0,2]
["White, sibling group of 2, with disability",{"$f":"IF(B245>0,COUNTIFS(HData!$R$3:$R$48828,\">=\"&SDate,HData!$R$3:$R$48828,\"<=\"&RDate,HData!$BP$3:$BP$48828,$I273,HData!$BK$3:$BK$48828,B$124,HData!$F$3:$F$48828,$J273,HData!$BR$3:$BR$48828,$K273,HData!$AI$3:$AI$48828,\">=14\")/B245,\"\")","v":""},{"$f":"IF(C245>0,COUNTIFS(HData!$R$3:$R$48828,\">=\"&SDate,HData!$R$3:$R$48828,\"<=\"&RDate,HData!$BP$3:$BP$48828,$I273,HData!$BK$3:$BK$48828,C$124,HData!$F$3:$F$48828,$J273,HData!$BR$3:$BR$48828,$K273,HData!$AI$3:$AI$48828,\">=14\")/C245,\"\")","v":""},{"$f":"IF(D245>0,COUNTIFS(HData!$R$3:$R$48828,\">=\"&SDate,HData!$R$3:$R$48828,\"<=\"&RDate,HData!$BP$3:$BP$48828,$I273,HData!$BK$3:$BK$48828,D$124,HData!$F$3:$F$48828,$J273,HData!$BR$3:$BR$48828,$K273,HData!$AI$3:$AI$48828,\">=14\")/D245,\"\")","v":""},{"$f":"IF(E245>0,COUNTIFS(HData!$R$3:$R$48828,\">=\"&SDate,HData!$R$3:$R$48828,\"<=\"&RDate,HData!$BP$3:$BP$48828,$I273,HData!$BK$3:$BK$48828,E$124,HData!$F$3:$F$48828,$J273,HData!$BR$3:$BR$48828,$K273,HData!$AI$3:$AI$48828,\">=14\")/E245,\"\")","v":""},{"$f":"IF(F245>0,COUNTIFS(HData!$R$3:$R$48828,\">=\"&SDate,HData!$R$3:$R$48828,\"<=\"&RDate,HData!$BP$3:$BP$48828,$I273,HData!$BK$3:$BK$48828,F$124,HData!$F$3:$F$48828,$J273,HData!$BR$3:$BR$48828,$K273,HData!$AI$3:$AI$48828,\">=14\")/F245,\"\")","v":""},{"$f":"IF(G245>0,COUNTIFS(HData!$R$3:$R$48828,\">=\"&SDate,HData!$R$3:$R$48828,\"<=\"&RDate,HData!$BP$3:$BP$48828,$I273,HData!$BK$3:$BK$48828,G$124,HData!$F$3:$F$48828,$J273,HData!$BR$3:$BR$48828,$K273,HData!$AI$3:$AI$48828,\">=14\")/G245,\"\")","v":""},{"$f":"IF(H245>0,COUNTIFS(HData!$R$3:$R$48828,\">=\"&SDate,HData!$R$3:$R$48828,\"<=\"&RDate,HData!$BP$3:$BP$48828,$I273,HData!$BK$3:$BK$48828,H$124,HData!$F$3:$F$48828,$J273,HData!$BR$3:$BR$48828,$K273,HData!$AI$3:$AI$48828,\">=14\")/H245,\"\")","v":""},"White",1,2]
["BME, sibling group of 2, with disability",{"$f":"IF(B246>0,COUNTIFS(HData!$R$3:$R$48828,\">=\"&SDate,HData!$R$3:$R$48828,\"<=\"&RDate,HData!$BP$3:$BP$48828,$I274,HData!$BK$3:$BK$48828,B$124,HData!$F$3:$F$48828,$J274,HData!$BR$3:$BR$48828,$K274,HData!$AI$3:$AI$48828,\">=14\")/B246,\"\")","v":""},{"$f":"IF(C246>0,COUNTIFS(HData!$R$3:$R$48828,\">=\"&SDate,HData!$R$3:$R$48828,\"<=\"&RDate,HData!$BP$3:$BP$48828,$I274,HData!$BK$3:$BK$48828,C$124,HData!$F$3:$F$48828,$J274,HData!$BR$3:$BR$48828,$K274,HData!$AI$3:$AI$48828,\">=14\")/C246,\"\")","v":""},{"$f":"IF(D246>0,COUNTIFS(HData!$R$3:$R$48828,\">=\"&SDate,HData!$R$3:$R$48828,\"<=\"&RDate,HData!$BP$3:$BP$48828,$I274,HData!$BK$3:$BK$48828,D$124,HData!$F$3:$F$48828,$J274,HData!$BR$3:$BR$48828,$K274,HData!$AI$3:$AI$48828,\">=14\")/D246,\"\")","v":""},{"$f":"IF(E246>0,COUNTIFS(HData!$R$3:$R$48828,\">=\"&SDate,HData!$R$3:$R$48828,\"<=\"&RDate,HData!$BP$3:$BP$48828,$I274,HData!$BK$3:$BK$48828,E$124,HData!$F$3:$F$48828,$J274,HData!$BR$3:$BR$48828,$K274,HData!$AI$3:$AI$48828,\">=14\")/E246,\"\")","v":""},{"$f":"IF(F246>0,COUNTIFS(HData!$R$3:$R$48828,\">=\"&SDate,HData!$R$3:$R$48828,\"<=\"&RDate,HData!$BP$3:$BP$48828,$I274,HData!$BK$3:$BK$48828,F$124,HData!$F$3:$F$48828,$J274,HData!$BR$3:$BR$48828,$K274,HData!$AI$3:$AI$48828,\">=14\")/F246,\"\")","v":""},{"$f":"IF(G246>0,COUNTIFS(HData!$R$3:$R$48828,\">=\"&SDate,HData!$R$3:$R$48828,\"<=\"&RDate,HData!$BP$3:$BP$48828,$I274,HData!$BK$3:$BK$48828,G$124,HData!$F$3:$F$48828,$J274,HData!$BR$3:$BR$48828,$K274,HData!$AI$3:$AI$48828,\">=14\")/G246,\"\")","v":""},{"$f":"IF(H246>0,COUNTIFS(HData!$R$3:$R$48828,\">=\"&SDate,HData!$R$3:$R$48828,\"<=\"&RDate,HData!$BP$3:$BP$48828,$I274,HData!$BK$3:$BK$48828,H$124,HData!$F$3:$F$48828,$J274,HData!$BR$3:$BR$48828,$K274,HData!$AI$3:$AI$48828,\">=14\")/H246,\"\")","v":""},"BME",1,2]
["White, sibling group of 3, no disability",{"$f":"IF(B247>0,COUNTIFS(HData!$R$3:$R$48828,\">=\"&SDate,HData!$R$3:$R$48828,\"<=\"&RDate,HData!$BP$3:$BP$48828,$I275,HData!$BK$3:$BK$48828,B$124,HData!$F$3:$F$48828,$J275,HData!$BR$3:$BR$48828,$K275,HData!$AI$3:$AI$48828,\">=14\")/B247,\"\")","v":""},{"$f":"IF(C247>0,COUNTIFS(HData!$R$3:$R$48828,\">=\"&SDate,HData!$R$3:$R$48828,\"<=\"&RDate,HData!$BP$3:$BP$48828,$I275,HData!$BK$3:$BK$48828,C$124,HData!$F$3:$F$48828,$J275,HData!$BR$3:$BR$48828,$K275,HData!$AI$3:$AI$48828,\">=14\")/C247,\"\")","v":""},{"$f":"IF(D247>0,COUNTIFS(HData!$R$3:$R$48828,\">=\"&SDate,HData!$R$3:$R$48828,\"<=\"&RDate,HData!$BP$3:$BP$48828,$I275,HData!$BK$3:$BK$48828,D$124,HData!$F$3:$F$48828,$J275,HData!$BR$3:$BR$48828,$K275,HData!$AI$3:$AI$48828,\">=14\")/D247,\"\")","v":""},{"$f":"IF(E247>0,COUNTIFS(HData!$R$3:$R$48828,\">=\"&SDate,HData!$R$3:$R$48828,\"<=\"&RDate,HData!$BP$3:$BP$48828,$I275,HData!$BK$3:$BK$48828,E$124,HData!$F$3:$F$48828,$J275,HData!$BR$3:$BR$48828,$K275,HData!$AI$3:$AI$48828,\">=14\")/E247,\"\")","v":""},{"$f":"IF(F247>0,COUNTIFS(HData!$R$3:$R$48828,\">=\"&SDate,HData!$R$3:$R$48828,\"<=\"&RDate,HData!$BP$3:$BP$48828,$I275,HData!$BK$3:$BK$48828,F$124,HData!$F$3:$F$48828,$J275,HData!$BR$3:$BR$48828,$K275,HData!$AI$3:$AI$48828,\">=14\")/F247,\"\")","v":""},{"$f":"IF(G247>0,COUNTIFS(HData!$R$3:$R$48828,\">=\"&SDate,HData!$R$3:$R$48828,\"<=\"&RDate,HData!$BP$3:$BP$48828,$I275,HData!$BK$3:$BK$48828,G$124,HData!$F$3:$F$48828,$J275,HData!$BR$3:$BR$48828,$K275,HData!$AI$3:$AI$48828,\">=14\")/G247,\"\")","v":""},{"$f":"IF(H247>0,COUNTIFS(HData!$R$3:$R$48828,\">=\"&SDate,HData!$R$3:$R$48828,\"<=\"&RDate,HData!$BP$3:$BP$48828,$I275,HData!$BK$3:$BK$48828,H$124,HData!$F$3:$F$48828,$J275,HData!$BR$3:$BR$48828,$K275,HData!$AI$3:$AI$48828,\">=14\")/H247,\"\")","v":""},"White",0,3]
["BME, sibling group of 3, no disability",{"$f":"IF(B248>0,COUNTIFS(HData!$R$3:$R$48828,\">=\"&SDate,HData!$R$3:$R$48828,\"<=\"&RDate,HData!$BP$3:$BP$48828,$I276,HData!$BK$3:$BK$48828,B$124,HData!$F$3:$F$48828,$J276,HData!$BR$3:$BR$48828,$K276,HData!$AI$3:$AI$48828,\">=14\")/B248,\"\")","v":""},{"$f":"IF(C248>0,COUNTIFS(HData!$R$3:$R$48828,\">=\"&SDate,HData!$R$3:$R$48828,\"<=\"&RDate,HData!$BP$3:$BP$48828,$I276,HData!$BK$3:$BK$48828,C$124,HData!$F$3:$F$48828,$J276,HData!$BR$3:$BR$48828,$K276,HData!$AI$3:$AI$48828,\">=14\")/C248,\"\")","v":""},{"$f":"IF(D248>0,COUNTIFS(HData!$R$3:$R$48828,\">=\"&SDate,HData!$R$3:$R$48828,\"<=\"&RDate,HData!$BP$3:$BP$48828,$I276,HData!$BK$3:$BK$48828,D$124,HData!$F$3:$F$48828,$J276,HData!$BR$3:$BR$48828,$K276,HData!$AI$3:$AI$48828,\">=14\")/D248,\"\")","v":""},{"$f":"IF(E248>0,COUNTIFS(HData!$R$3:$R$48828,\">=\"&SDate,HData!$R$3:$R$48828,\"<=\"&RDate,HData!$BP$3:$BP$48828,$I276,HData!$BK$3:$BK$48828,E$124,HData!$F$3:$F$48828,$J276,HData!$BR$3:$BR$48828,$K276,HData!$AI$3:$AI$48828,\">=14\")/E248,\"\")","v":""},{"$f":"IF(F248>0,COUNTIFS(HData!$R$3:$R$48828,\">=\"&SDate,HData!$R$3:$R$48828,\"<=\"&RDate,HData!$BP$3:$BP$48828,$I276,HData!$BK$3:$BK$48828,F$124,HData!$F$3:$F$48828,$J276,HData!$BR$3:$BR$48828,$K276,HData!$AI$3:$AI$48828,\">=14\")/F248,\"\")","v":""},{"$f":"IF(G248>0,COUNTIFS(HData!$R$3:$R$48828,\">=\"&SDate,HData!$R$3:$R$48828,\"<=\"&RDate,HData!$BP$3:$BP$48828,$I276,HData!$BK$3:$BK$48828,G$124,HData!$F$3:$F$48828,$J276,HData!$BR$3:$BR$48828,$K276,HData!$AI$3:$AI$48828,\">=14\")/G248,\"\")","v":""},{"$f":"IF(H248>0,COUNTIFS(HData!$R$3:$R$48828,\">=\"&SDate,HData!$R$3:$R$48828,\"<=\"&RDate,HData!$BP$3:$BP$48828,$I276,HData!$BK$3:$BK$48828,H$124,HData!$F$3:$F$48828,$J276,HData!$BR$3:$BR$48828,$K276,HData!$AI$3:$AI$48828,\">=14\")/H248,\"\")","v":""},"BME",0,3]
["White, sibling group of 3, with disability",{"$f":"IF(B249>0,COUNTIFS(HData!$R$3:$R$48828,\">=\"&SDate,HData!$R$3:$R$48828,\"<=\"&RDate,HData!$BP$3:$BP$48828,$I277,HData!$BK$3:$BK$48828,B$124,HData!$F$3:$F$48828,$J277,HData!$BR$3:$BR$48828,$K277,HData!$AI$3:$AI$48828,\">=14\")/B249,\"\")","v":""},{"$f":"IF(C249>0,COUNTIFS(HData!$R$3:$R$48828,\">=\"&SDate,HData!$R$3:$R$48828,\"<=\"&RDate,HData!$BP$3:$BP$48828,$I277,HData!$BK$3:$BK$48828,C$124,HData!$F$3:$F$48828,$J277,HData!$BR$3:$BR$48828,$K277,HData!$AI$3:$AI$48828,\">=14\")/C249,\"\")","v":""},{"$f":"IF(D249>0,COUNTIFS(HData!$R$3:$R$48828,\">=\"&SDate,HData!$R$3:$R$48828,\"<=\"&RDate,HData!$BP$3:$BP$48828,$I277,HData!$BK$3:$BK$48828,D$124,HData!$F$3:$F$48828,$J277,HData!$BR$3:$BR$48828,$K277,HData!$AI$3:$AI$48828,\">=14\")/D249,\"\")","v":""},{"$f":"IF(E249>0,COUNTIFS(HData!$R$3:$R$48828,\">=\"&SDate,HData!$R$3:$R$48828,\"<=\"&RDate,HData!$BP$3:$BP$48828,$I277,HData!$BK$3:$BK$48828,E$124,HData!$F$3:$F$48828,$J277,HData!$BR$3:$BR$48828,$K277,HData!$AI$3:$AI$48828,\">=14\")/E249,\"\")","v":""},{"$f":"IF(F249>0,COUNTIFS(HData!$R$3:$R$48828,\">=\"&SDate,HData!$R$3:$R$48828,\"<=\"&RDate,HData!$BP$3:$BP$48828,$I277,HData!$BK$3:$BK$48828,F$124,HData!$F$3:$F$48828,$J277,HData!$BR$3:$BR$48828,$K277,HData!$AI$3:$AI$48828,\">=14\")/F249,\"\")","v":""},{"$f":"IF(G249>0,COUNTIFS(HData!$R$3:$R$48828,\">=\"&SDate,HData!$R$3:$R$48828,\"<=\"&RDate,HData!$BP$3:$BP$48828,$I277,HData!$BK$3:$BK$48828,G$124,HData!$F$3:$F$48828,$J277,HData!$BR$3:$BR$48828,$K277,HData!$AI$3:$AI$48828,\">=14\")/G249,\"\")","v":""},{"$f":"IF(H249>0,COUNTIFS(HData!$R$3:$R$48828,\">=\"&SDate,HData!$R$3:$R$48828,\"<=\"&RDate,HData!$BP$3:$BP$48828,$I277,HData!$BK$3:$BK$48828,H$124,HData!$F$3:$F$48828,$J277,HData!$BR$3:$BR$48828,$K277,HData!$AI$3:$AI$48828,\">=14\")/H249,\"\")","v":""},"White",1,3]
["BME, sibling group of 3, with disability",{"$f":"IF(B250>0,COUNTIFS(HData!$R$3:$R$48828,\">=\"&SDate,HData!$R$3:$R$48828,\"<=\"&RDate,HData!$BP$3:$BP$48828,$I278,HData!$BK$3:$BK$48828,B$124,HData!$F$3:$F$48828,$J278,HData!$BR$3:$BR$48828,$K278,HData!$AI$3:$AI$48828,\">=14\")/B250,\"\")","v":""},{"$f":"IF(C250>0,COUNTIFS(HData!$R$3:$R$48828,\">=\"&SDate,HData!$R$3:$R$48828,\"<=\"&RDate,HData!$BP$3:$BP$48828,$I278,HData!$BK$3:$BK$48828,C$124,HData!$F$3:$F$48828,$J278,HData!$BR$3:$BR$48828,$K278,HData!$AI$3:$AI$48828,\">=14\")/C250,\"\")","v":""},{"$f":"IF(D250>0,COUNTIFS(HData!$R$3:$R$48828,\">=\"&SDate,HData!$R$3:$R$48828,\"<=\"&RDate,HData!$BP$3:$BP$48828,$I278,HData!$BK$3:$BK$48828,D$124,HData!$F$3:$F$48828,$J278,HData!$BR$3:$BR$48828,$K278,HData!$AI$3:$AI$48828,\">=14\")/D250,\"\")","v":""},{"$f":"IF(E250>0,COUNTIFS(HData!$R$3:$R$48828,\">=\"&SDate,HData!$R$3:$R$48828,\"<=\"&RDate,HData!$BP$3:$BP$48828,$I278,HData!$BK$3:$BK$48828,E$124,HData!$F$3:$F$48828,$J278,HData!$BR$3:$BR$48828,$K278,HData!$AI$3:$AI$48828,\">=14\")/E250,\"\")","v":""},{"$f":"IF(F250>0,COUNTIFS(HData!$R$3:$R$48828,\">=\"&SDate,HData!$R$3:$R$48828,\"<=\"&RDate,HData!$BP$3:$BP$48828,$I278,HData!$BK$3:$BK$48828,F$124,HData!$F$3:$F$48828,$J278,HData!$BR$3:$BR$48828,$K278,HData!$AI$3:$AI$48828,\">=14\")/F250,\"\")","v":""},{"$f":"IF(G250>0,COUNTIFS(HData!$R$3:$R$48828,\">=\"&SDate,HData!$R$3:$R$48828,\"<=\"&RDate,HData!$BP$3:$BP$48828,$I278,HData!$BK$3:$BK$48828,G$124,HData!$F$3:$F$48828,$J278,HData!$BR$3:$BR$48828,$K278,HData!$AI$3:$AI$48828,\">=14\")/G250,\"\")","v":""},{"$f":"IF(H250>0,COUNTIFS(HData!$R$3:$R$48828,\">=\"&SDate,HData!$R$3:$R$48828,\"<=\"&RDate,HData!$BP$3:$BP$48828,$I278,HData!$BK$3:$BK$48828,H$124,HData!$F$3:$F$48828,$J278,HData!$BR$3:$BR$48828,$K278,HData!$AI$3:$AI$48828,\">=14\")/H250,\"\")","v":""},"BME",1,3]
[null,"Age at PO"]
["CHILDREN GRANTED A PO",0,1,2,3,4,5,">5","BME","Disability","Sibling"]
["White, single child, no disability",{"$f":"COUNTIFS(HData!$O$3:$O$48828,\">=\"&SDate,HData!$O$3:$O$48828,\"<=\"&RDate,HData!$BP$3:$BP$48828,$I281,HData!$BK$3:$BK$48828,B$124,HData!$F$3:$F$48828,$J281,HData!$BR$3:$BR$48828,$K281,HData!$AB$3:$AB$48828,TRUE)","v":0},{"$f":"COUNTIFS(HData!$O$3:$O$48828,\">=\"&SDate,HData!$O$3:$O$48828,\"<=\"&RDate,HData!$BP$3:$BP$48828,$I281,HData!$BK$3:$BK$48828,C$124,HData!$F$3:$F$48828,$J281,HData!$BR$3:$BR$48828,$K281,HData!$AB$3:$AB$48828,TRUE)","v":0},{"$f":"COUNTIFS(HData!$O$3:$O$48828,\">=\"&SDate,HData!$O$3:$O$48828,\"<=\"&RDate,HData!$BP$3:$BP$48828,$I281,HData!$BK$3:$BK$48828,D$124,HData!$F$3:$F$48828,$J281,HData!$BR$3:$BR$48828,$K281,HData!$AB$3:$AB$48828,TRUE)","v":0},{"$f":"COUNTIFS(HData!$O$3:$O$48828,\">=\"&SDate,HData!$O$3:$O$48828,\"<=\"&RDate,HData!$BP$3:$BP$48828,$I281,HData!$BK$3:$BK$48828,E$124,HData!$F$3:$F$48828,$J281,HData!$BR$3:$BR$48828,$K281,HData!$AB$3:$AB$48828,TRUE)","v":0},{"$f":"COUNTIFS(HData!$O$3:$O$48828,\">=\"&SDate,HData!$O$3:$O$48828,\"<=\"&RDate,HData!$BP$3:$BP$48828,$I281,HData!$BK$3:$BK$48828,F$124,HData!$F$3:$F$48828,$J281,HData!$BR$3:$BR$48828,$K281,HData!$AB$3:$AB$48828,TRUE)","v":0},{"$f":"COUNTIFS(HData!$O$3:$O$48828,\">=\"&SDate,HData!$O$3:$O$48828,\"<=\"&RDate,HData!$BP$3:$BP$48828,$I281,HData!$BK$3:$BK$48828,G$124,HData!$F$3:$F$48828,$J281,HData!$BR$3:$BR$48828,$K281,HData!$AB$3:$AB$48828,TRUE)","v":0},{"$f":"COUNTIFS(HData!$O$3:$O$48828,\">=\"&SDate,HData!$O$3:$O$48828,\"<=\"&RDate,HData!$BP$3:$BP$48828,$I281,HData!$BK$3:$BK$48828,H$124,HData!$F$3:$F$48828,$J281,HData!$BR$3:$BR$48828,$K281,HData!$AB$3:$AB$48828,TRUE)","v":0},"White",0,1]
["BME, single child, no disability",{"$f":"COUNTIFS(HData!$O$3:$O$48828,\">=\"&SDate,HData!$O$3:$O$48828,\"<=\"&RDate,HData!$BP$3:$BP$48828,$I282,HData!$BK$3:$BK$48828,B$124,HData!$F$3:$F$48828,$J282,HData!$BR$3:$BR$48828,$K282,HData!$AB$3:$AB$48828,TRUE)","v":0},{"$f":"COUNTIFS(HData!$O$3:$O$48828,\">=\"&SDate,HData!$O$3:$O$48828,\"<=\"&RDate,HData!$BP$3:$BP$48828,$I282,HData!$BK$3:$BK$48828,C$124,HData!$F$3:$F$48828,$J282,HData!$BR$3:$BR$48828,$K282,HData!$AB$3:$AB$48828,TRUE)","v":0},{"$f":"COUNTIFS(HData!$O$3:$O$48828,\">=\"&SDate,HData!$O$3:$O$48828,\"<=\"&RDate,HData!$BP$3:$BP$48828,$I282,HData!$BK$3:$BK$48828,D$124,HData!$F$3:$F$48828,$J282,HData!$BR$3:$BR$48828,$K282,HData!$AB$3:$AB$48828,TRUE)","v":0},{"$f":"COUNTIFS(HData!$O$3:$O$48828,\">=\"&SDate,HData!$O$3:$O$48828,\"<=\"&RDate,HData!$BP$3:$BP$48828,$I282,HData!$BK$3:$BK$48828,E$124,HData!$F$3:$F$48828,$J282,HData!$BR$3:$BR$48828,$K282,HData!$AB$3:$AB$48828,TRUE)","v":0},{"$f":"COUNTIFS(HData!$O$3:$O$48828,\">=\"&SDate,HData!$O$3:$O$48828,\"<=\"&RDate,HData!$BP$3:$BP$48828,$I282,HData!$BK$3:$BK$48828,F$124,HData!$F$3:$F$48828,$J282,HData!$BR$3:$BR$48828,$K282,HData!$AB$3:$AB$48828,TRUE)","v":0},{"$f":"COUNTIFS(HData!$O$3:$O$48828,\">=\"&SDate,HData!$O$3:$O$48828,\"<=\"&RDate,HData!$BP$3:$BP$48828,$I282,HData!$BK$3:$BK$48828,G$124,HData!$F$3:$F$48828,$J282,HData!$BR$3:$BR$48828,$K282,HData!$AB$3:$AB$48828,TRUE)","v":0},{"$f":"COUNTIFS(HData!$O$3:$O$48828,\">=\"&SDate,HData!$O$3:$O$48828,\"<=\"&RDate,HData!$BP$3:$BP$48828,$I282,HData!$BK$3:$BK$48828,H$124,HData!$F$3:$F$48828,$J282,HData!$BR$3:$BR$48828,$K282,HData!$AB$3:$AB$48828,TRUE)","v":0},"BME",0,1]
["White, single child, with disability",{"$f":"COUNTIFS(HData!$O$3:$O$48828,\">=\"&SDate,HData!$O$3:$O$48828,\"<=\"&RDate,HData!$BP$3:$BP$48828,$I283,HData!$BK$3:$BK$48828,B$124,HData!$F$3:$F$48828,$J283,HData!$BR$3:$BR$48828,$K283,HData!$AB$3:$AB$48828,TRUE)","v":0},{"$f":"COUNTIFS(HData!$O$3:$O$48828,\">=\"&SDate,HData!$O$3:$O$48828,\"<=\"&RDate,HData!$BP$3:$BP$48828,$I283,HData!$BK$3:$BK$48828,C$124,HData!$F$3:$F$48828,$J283,HData!$BR$3:$BR$48828,$K283,HData!$AB$3:$AB$48828,TRUE)","v":0},{"$f":"COUNTIFS(HData!$O$3:$O$48828,\">=\"&SDate,HData!$O$3:$O$48828,\"<=\"&RDate,HData!$BP$3:$BP$48828,$I283,HData!$BK$3:$BK$48828,D$124,HData!$F$3:$F$48828,$J283,HData!$BR$3:$BR$48828,$K283,HData!$AB$3:$AB$48828,TRUE)","v":0},{"$f":"COUNTIFS(HData!$O$3:$O$48828,\">=\"&SDate,HData!$O$3:$O$48828,\"<=\"&RDate,HData!$BP$3:$BP$48828,$I283,HData!$BK$3:$BK$48828,E$124,HData!$F$3:$F$48828,$J283,HData!$BR$3:$BR$48828,$K283,HData!$AB$3:$AB$48828,TRUE)","v":0},{"$f":"COUNTIFS(HData!$O$3:$O$48828,\">=\"&SDate,HData!$O$3:$O$48828,\"<=\"&RDate,HData!$BP$3:$BP$48828,$I283,HData!$BK$3:$BK$48828,F$124,HData!$F$3:$F$48828,$J283,HData!$BR$3:$BR$48828,$K283,HData!$AB$3:$AB$48828,TRUE)","v":0},{"$f":"COUNTIFS(HData!$O$3:$O$48828,\">=\"&SDate,HData!$O$3:$O$48828,\"<=\"&RDate,HData!$BP$3:$BP$48828,$I283,HData!$BK$3:$BK$48828,G$124,HData!$F$3:$F$48828,$J283,HData!$BR$3:$BR$48828,$K283,HData!$AB$3:$AB$48828,TRUE)","v":0},{"$f":"COUNTIFS(HData!$O$3:$O$48828,\">=\"&SDate,HData!$O$3:$O$48828,\"<=\"&RDate,HData!$BP$3:$BP$48828,$I283,HData!$BK$3:$BK$48828,H$124,HData!$F$3:$F$48828,$J283,HData!$BR$3:$BR$48828,$K283,HData!$AB$3:$AB$48828,TRUE)","v":0},"White",1,1]
["BME, single child, with disability",{"$f":"COUNTIFS(HData!$O$3:$O$48828,\">=\"&SDate,HData!$O$3:$O$48828,\"<=\"&RDate,HData!$BP$3:$BP$48828,$I284,HData!$BK$3:$BK$48828,B$124,HData!$F$3:$F$48828,$J284,HData!$BR$3:$BR$48828,$K284,HData!$AB$3:$AB$48828,TRUE)","v":0},{"$f":"COUNTIFS(HData!$O$3:$O$48828,\">=\"&SDate,HData!$O$3:$O$48828,\"<=\"&RDate,HData!$BP$3:$BP$48828,$I284,HData!$BK$3:$BK$48828,C$124,HData!$F$3:$F$48828,$J284,HData!$BR$3:$BR$48828,$K284,HData!$AB$3:$AB$48828,TRUE)","v":0},{"$f":"COUNTIFS(HData!$O$3:$O$48828,\">=\"&SDate,HData!$O$3:$O$48828,\"<=\"&RDate,HData!$BP$3:$BP$48828,$I284,HData!$BK$3:$BK$48828,D$124,HData!$F$3:$F$48828,$J284,HData!$BR$3:$BR$48828,$K284,HData!$AB$3:$AB$48828,TRUE)","v":0},{"$f":"COUNTIFS(HData!$O$3:$O$48828,\">=\"&SDate,HData!$O$3:$O$48828,\"<=\"&RDate,HData!$BP$3:$BP$48828,$I284,HData!$BK$3:$BK$48828,E$124,HData!$F$3:$F$48828,$J284,HData!$BR$3:$BR$48828,$K284,HData!$AB$3:$AB$48828,TRUE)","v":0},{"$f":"COUNTIFS(HData!$O$3:$O$48828,\">=\"&SDate,HData!$O$3:$O$48828,\"<=\"&RDate,HData!$BP$3:$BP$48828,$I284,HData!$BK$3:$BK$48828,F$124,HData!$F$3:$F$48828,$J284,HData!$BR$3:$BR$48828,$K284,HData!$AB$3:$AB$48828,TRUE)","v":0},{"$f":"COUNTIFS(HData!$O$3:$O$48828,\">=\"&SDate,HData!$O$3:$O$48828,\"<=\"&RDate,HData!$BP$3:$BP$48828,$I284,HData!$BK$3:$BK$48828,G$124,HData!$F$3:$F$48828,$J284,HData!$BR$3:$BR$48828,$K284,HData!$AB$3:$AB$48828,TRUE)","v":0},{"$f":"COUNTIFS(HData!$O$3:$O$48828,\">=\"&SDate,HData!$O$3:$O$48828,\"<=\"&RDate,HData!$BP$3:$BP$48828,$I284,HData!$BK$3:$BK$48828,H$124,HData!$F$3:$F$48828,$J284,HData!$BR$3:$BR$48828,$K284,HData!$AB$3:$AB$48828,TRUE)","v":0},"BME",1,1]
["White, sibling group of 2, no disability",{"$f":"COUNTIFS(HData!$O$3:$O$48828,\">=\"&SDate,HData!$O$3:$O$48828,\"<=\"&RDate,HData!$BP$3:$BP$48828,$I285,HData!$BK$3:$BK$48828,B$124,HData!$F$3:$F$48828,$J285,HData!$BR$3:$BR$48828,$K285,HData!$AB$3:$AB$48828,TRUE)","v":0},{"$f":"COUNTIFS(HData!$O$3:$O$48828,\">=\"&SDate,HData!$O$3:$O$48828,\"<=\"&RDate,HData!$BP$3:$BP$48828,$I285,HData!$BK$3:$BK$48828,C$124,HData!$F$3:$F$48828,$J285,HData!$BR$3:$BR$48828,$K285,HData!$AB$3:$AB$48828,TRUE)","v":0},{"$f":"COUNTIFS(HData!$O$3:$O$48828,\">=\"&SDate,HData!$O$3:$O$48828,\"<=\"&RDate,HData!$BP$3:$BP$48828,$I285,HData!$BK$3:$BK$48828,D$124,HData!$F$3:$F$48828,$J285,HData!$BR$3:$BR$48828,$K285,HData!$AB$3:$AB$48828,TRUE)","v":0},{"$f":"COUNTIFS(HData!$O$3:$O$48828,\">=\"&SDate,HData!$O$3:$O$48828,\"<=\"&RDate,HData!$BP$3:$BP$48828,$I285,HData!$BK$3:$BK$48828,E$124,HData!$F$3:$F$48828,$J285,HData!$BR$3:$BR$48828,$K285,HData!$AB$3:$AB$48828,TRUE)","v":0},{"$f":"COUNTIFS(HData!$O$3:$O$48828,\">=\"&SDate,HData!$O$3:$O$48828,\"<=\"&RDate,HData!$BP$3:$BP$48828,$I285,HData!$BK$3:$BK$48828,F$124,HData!$F$3:$F$48828,$J285,HData!$BR$3:$BR$48828,$K285,HData!$AB$3:$AB$48828,TRUE)","v":0},{"$f":"COUNTIFS(HData!$O$3:$O$48828,\">=\"&SDate,HData!$O$3:$O$48828,\"<=\"&RDate,HData!$BP$3:$BP$48828,$I285,HData!$BK$3:$BK$48828,G$124,HData!$F$3:$F$48828,$J285,HData!$BR$3:$BR$48828,$K285,HData!$AB$3:$AB$48828,TRUE)","v":0},{"$f":"COUNTIFS(HData!$O$3:$O$48828,\">=\"&SDate,HData!$O$3:$O$48828,\"<=\"&RDate,HData!$BP$3:$BP$48828,$I285,HData!$BK$3:$BK$48828,H$124,HData!$F$3:$F$48828,$J285,HData!$BR$3:$BR$48828,$K285,HData!$AB$3:$AB$48828,TRUE)","v":0},"White",0,2]
["BME, sibling group of 2, no disability",{"$f":"COUNTIFS(HData!$O$3:$O$48828,\">=\"&SDate,HData!$O$3:$O$48828,\"<=\"&RDate,HData!$BP$3:$BP$48828,$I286,HData!$BK$3:$BK$48828,B$124,HData!$F$3:$F$48828,$J286,HData!$BR$3:$BR$48828,$K286,HData!$AB$3:$AB$48828,TRUE)","v":0},{"$f":"COUNTIFS(HData!$O$3:$O$48828,\">=\"&SDate,HData!$O$3:$O$48828,\"<=\"&RDate,HData!$BP$3:$BP$48828,$I286,HData!$BK$3:$BK$48828,C$124,HData!$F$3:$F$48828,$J286,HData!$BR$3:$BR$48828,$K286,HData!$AB$3:$AB$48828,TRUE)","v":0},{"$f":"COUNTIFS(HData!$O$3:$O$48828,\">=\"&SDate,HData!$O$3:$O$48828,\"<=\"&RDate,HData!$BP$3:$BP$48828,$I286,HData!$BK$3:$BK$48828,D$124,HData!$F$3:$F$48828,$J286,HData!$BR$3:$BR$48828,$K286,HData!$AB$3:$AB$48828,TRUE)","v":0},{"$f":"COUNTIFS(HData!$O$3:$O$48828,\">=\"&SDate,HData!$O$3:$O$48828,\"<=\"&RDate,HData!$BP$3:$BP$48828,$I286,HData!$BK$3:$BK$48828,E$124,HData!$F$3:$F$48828,$J286,HData!$BR$3:$BR$48828,$K286,HData!$AB$3:$AB$48828,TRUE)","v":0},{"$f":"COUNTIFS(HData!$O$3:$O$48828,\">=\"&SDate,HData!$O$3:$O$48828,\"<=\"&RDate,HData!$BP$3:$BP$48828,$I286,HData!$BK$3:$BK$48828,F$124,HData!$F$3:$F$48828,$J286,HData!$BR$3:$BR$48828,$K286,HData!$AB$3:$AB$48828,TRUE)","v":0},{"$f":"COUNTIFS(HData!$O$3:$O$48828,\">=\"&SDate,HData!$O$3:$O$48828,\"<=\"&RDate,HData!$BP$3:$BP$48828,$I286,HData!$BK$3:$BK$48828,G$124,HData!$F$3:$F$48828,$J286,HData!$BR$3:$BR$48828,$K286,HData!$AB$3:$AB$48828,TRUE)","v":0},{"$f":"COUNTIFS(HData!$O$3:$O$48828,\">=\"&SDate,HData!$O$3:$O$48828,\"<=\"&RDate,HData!$BP$3:$BP$48828,$I286,HData!$BK$3:$BK$48828,H$124,HData!$F$3:$F$48828,$J286,HData!$BR$3:$BR$48828,$K286,HData!$AB$3:$AB$48828,TRUE)","v":0},"BME",0,2]
["White, sibling group of 2, with disability",{"$f":"COUNTIFS(HData!$O$3:$O$48828,\">=\"&SDate,HData!$O$3:$O$48828,\"<=\"&RDate,HData!$BP$3:$BP$48828,$I287,HData!$BK$3:$BK$48828,B$124,HData!$F$3:$F$48828,$J287,HData!$BR$3:$BR$48828,$K287,HData!$AB$3:$AB$48828,TRUE)","v":0},{"$f":"COUNTIFS(HData!$O$3:$O$48828,\">=\"&SDate,HData!$O$3:$O$48828,\"<=\"&RDate,HData!$BP$3:$BP$48828,$I287,HData!$BK$3:$BK$48828,C$124,HData!$F$3:$F$48828,$J287,HData!$BR$3:$BR$48828,$K287,HData!$AB$3:$AB$48828,TRUE)","v":0},{"$f":"COUNTIFS(HData!$O$3:$O$48828,\">=\"&SDate,HData!$O$3:$O$48828,\"<=\"&RDate,HData!$BP$3:$BP$48828,$I287,HData!$BK$3:$BK$48828,D$124,HData!$F$3:$F$48828,$J287,HData!$BR$3:$BR$48828,$K287,HData!$AB$3:$AB$48828,TRUE)","v":0},{"$f":"COUNTIFS(HData!$O$3:$O$48828,\">=\"&SDate,HData!$O$3:$O$48828,\"<=\"&RDate,HData!$BP$3:$BP$48828,$I287,HData!$BK$3:$BK$48828,E$124,HData!$F$3:$F$48828,$J287,HData!$BR$3:$BR$48828,$K287,HData!$AB$3:$AB$48828,TRUE)","v":0},{"$f":"COUNTIFS(HData!$O$3:$O$48828,\">=\"&SDate,HData!$O$3:$O$48828,\"<=\"&RDate,HData!$BP$3:$BP$48828,$I287,HData!$BK$3:$BK$48828,F$124,HData!$F$3:$F$48828,$J287,HData!$BR$3:$BR$48828,$K287,HData!$AB$3:$AB$48828,TRUE)","v":0},{"$f":"COUNTIFS(HData!$O$3:$O$48828,\">=\"&SDate,HData!$O$3:$O$48828,\"<=\"&RDate,HData!$BP$3:$BP$48828,$I287,HData!$BK$3:$BK$48828,G$124,HData!$F$3:$F$48828,$J287,HData!$BR$3:$BR$48828,$K287,HData!$AB$3:$AB$48828,TRUE)","v":0},{"$f":"COUNTIFS(HData!$O$3:$O$48828,\">=\"&SDate,HData!$O$3:$O$48828,\"<=\"&RDate,HData!$BP$3:$BP$48828,$I287,HData!$BK$3:$BK$48828,H$124,HData!$F$3:$F$48828,$J287,HData!$BR$3:$BR$48828,$K287,HData!$AB$3:$AB$48828,TRUE)","v":0},"White",1,2]
["BME, sibling group of 2, with disability",{"$f":"COUNTIFS(HData!$O$3:$O$48828,\">=\"&SDate,HData!$O$3:$O$48828,\"<=\"&RDate,HData!$BP$3:$BP$48828,$I288,HData!$BK$3:$BK$48828,B$124,HData!$F$3:$F$48828,$J288,HData!$BR$3:$BR$48828,$K288,HData!$AB$3:$AB$48828,TRUE)","v":0},{"$f":"COUNTIFS(HData!$O$3:$O$48828,\">=\"&SDate,HData!$O$3:$O$48828,\"<=\"&RDate,HData!$BP$3:$BP$48828,$I288,HData!$BK$3:$BK$48828,C$124,HData!$F$3:$F$48828,$J288,HData!$BR$3:$BR$48828,$K288,HData!$AB$3:$AB$48828,TRUE)","v":0},{"$f":"COUNTIFS(HData!$O$3:$O$48828,\">=\"&SDate,HData!$O$3:$O$48828,\"<=\"&RDate,HData!$BP$3:$BP$48828,$I288,HData!$BK$3:$BK$48828,D$124,HData!$F$3:$F$48828,$J288,HData!$BR$3:$BR$48828,$K288,HData!$AB$3:$AB$48828,TRUE)","v":0},{"$f":"COUNTIFS(HData!$O$3:$O$48828,\">=\"&SDate,HData!$O$3:$O$48828,\"<=\"&RDate,HData!$BP$3:$BP$48828,$I288,HData!$BK$3:$BK$48828,E$124,HData!$F$3:$F$48828,$J288,HData!$BR$3:$BR$48828,$K288,HData!$AB$3:$AB$48828,TRUE)","v":0},{"$f":"COUNTIFS(HData!$O$3:$O$48828,\">=\"&SDate,HData!$O$3:$O$48828,\"<=\"&RDate,HData!$BP$3:$BP$48828,$I288,HData!$BK$3:$BK$48828,F$124,HData!$F$3:$F$48828,$J288,HData!$BR$3:$BR$48828,$K288,HData!$AB$3:$AB$48828,TRUE)","v":0},{"$f":"COUNTIFS(HData!$O$3:$O$48828,\">=\"&SDate,HData!$O$3:$O$48828,\"<=\"&RDate,HData!$BP$3:$BP$48828,$I288,HData!$BK$3:$BK$48828,G$124,HData!$F$3:$F$48828,$J288,HData!$BR$3:$BR$48828,$K288,HData!$AB$3:$AB$48828,TRUE)","v":0},{"$f":"COUNTIFS(HData!$O$3:$O$48828,\">=\"&SDate,HData!$O$3:$O$48828,\"<=\"&RDate,HData!$BP$3:$BP$48828,$I288,HData!$BK$3:$BK$48828,H$124,HData!$F$3:$F$48828,$J288,HData!$BR$3:$BR$48828,$K288,HData!$AB$3:$AB$48828,TRUE)","v":0},"BME",1,2]
["White, sibling group of 3, no disability",{"$f":"COUNTIFS(HData!$O$3:$O$48828,\">=\"&SDate,HData!$O$3:$O$48828,\"<=\"&RDate,HData!$BP$3:$BP$48828,$I289,HData!$BK$3:$BK$48828,B$124,HData!$F$3:$F$48828,$J289,HData!$BR$3:$BR$48828,$K289,HData!$AB$3:$AB$48828,TRUE)","v":0},{"$f":"COUNTIFS(HData!$O$3:$O$48828,\">=\"&SDate,HData!$O$3:$O$48828,\"<=\"&RDate,HData!$BP$3:$BP$48828,$I289,HData!$BK$3:$BK$48828,C$124,HData!$F$3:$F$48828,$J289,HData!$BR$3:$BR$48828,$K289,HData!$AB$3:$AB$48828,TRUE)","v":0},{"$f":"COUNTIFS(HData!$O$3:$O$48828,\">=\"&SDate,HData!$O$3:$O$48828,\"<=\"&RDate,HData!$BP$3:$BP$48828,$I289,HData!$BK$3:$BK$48828,D$124,HData!$F$3:$F$48828,$J289,HData!$BR$3:$BR$48828,$K289,HData!$AB$3:$AB$48828,TRUE)","v":0},{"$f":"COUNTIFS(HData!$O$3:$O$48828,\">=\"&SDate,HData!$O$3:$O$48828,\"<=\"&RDate,HData!$BP$3:$BP$48828,$I289,HData!$BK$3:$BK$48828,E$124,HData!$F$3:$F$48828,$J289,HData!$BR$3:$BR$48828,$K289,HData!$AB$3:$AB$48828,TRUE)","v":0},{"$f":"COUNTIFS(HData!$O$3:$O$48828,\">=\"&SDate,HData!$O$3:$O$48828,\"<=\"&RDate,HData!$BP$3:$BP$48828,$I289,HData!$BK$3:$BK$48828,F$124,HData!$F$3:$F$48828,$J289,HData!$BR$3:$BR$48828,$K289,HData!$AB$3:$AB$48828,TRUE)","v":0},{"$f":"COUNTIFS(HData!$O$3:$O$48828,\">=\"&SDate,HData!$O$3:$O$48828,\"<=\"&RDate,HData!$BP$3:$BP$48828,$I289,HData!$BK$3:$BK$48828,G$124,HData!$F$3:$F$48828,$J289,HData!$BR$3:$BR$48828,$K289,HData!$AB$3:$AB$48828,TRUE)","v":0},{"$f":"COUNTIFS(HData!$O$3:$O$48828,\">=\"&SDate,HData!$O$3:$O$48828,\"<=\"&RDate,HData!$BP$3:$BP$48828,$I289,HData!$BK$3:$BK$48828,H$124,HData!$F$3:$F$48828,$J289,HData!$BR$3:$BR$48828,$K289,HData!$AB$3:$AB$48828,TRUE)","v":0},"White",0,3]
["BME, sibling group of 3, no disability",{"$f":"COUNTIFS(HData!$O$3:$O$48828,\">=\"&SDate,HData!$O$3:$O$48828,\"<=\"&RDate,HData!$BP$3:$BP$48828,$I290,HData!$BK$3:$BK$48828,B$124,HData!$F$3:$F$48828,$J290,HData!$BR$3:$BR$48828,$K290,HData!$AB$3:$AB$48828,TRUE)","v":0},{"$f":"COUNTIFS(HData!$O$3:$O$48828,\">=\"&SDate,HData!$O$3:$O$48828,\"<=\"&RDate,HData!$BP$3:$BP$48828,$I290,HData!$BK$3:$BK$48828,C$124,HData!$F$3:$F$48828,$J290,HData!$BR$3:$BR$48828,$K290,HData!$AB$3:$AB$48828,TRUE)","v":0},{"$f":"COUNTIFS(HData!$O$3:$O$48828,\">=\"&SDate,HData!$O$3:$O$48828,\"<=\"&RDate,HData!$BP$3:$BP$48828,$I290,HData!$BK$3:$BK$48828,D$124,HData!$F$3:$F$48828,$J290,HData!$BR$3:$BR$48828,$K290,HData!$AB$3:$AB$48828,TRUE)","v":0},{"$f":"COUNTIFS(HData!$O$3:$O$48828,\">=\"&SDate,HData!$O$3:$O$48828,\"<=\"&RDate,HData!$BP$3:$BP$48828,$I290,HData!$BK$3:$BK$48828,E$124,HData!$F$3:$F$48828,$J290,HData!$BR$3:$BR$48828,$K290,HData!$AB$3:$AB$48828,TRUE)","v":0},{"$f":"COUNTIFS(HData!$O$3:$O$48828,\">=\"&SDate,HData!$O$3:$O$48828,\"<=\"&RDate,HData!$BP$3:$BP$48828,$I290,HData!$BK$3:$BK$48828,F$124,HData!$F$3:$F$48828,$J290,HData!$BR$3:$BR$48828,$K290,HData!$AB$3:$AB$48828,TRUE)","v":0},{"$f":"COUNTIFS(HData!$O$3:$O$48828,\">=\"&SDate,HData!$O$3:$O$48828,\"<=\"&RDate,HData!$BP$3:$BP$48828,$I290,HData!$BK$3:$BK$48828,G$124,HData!$F$3:$F$48828,$J290,HData!$BR$3:$BR$48828,$K290,HData!$AB$3:$AB$48828,TRUE)","v":0},{"$f":"COUNTIFS(HData!$O$3:$O$48828,\">=\"&SDate,HData!$O$3:$O$48828,\"<=\"&RDate,HData!$BP$3:$BP$48828,$I290,HData!$BK$3:$BK$48828,H$124,HData!$F$3:$F$48828,$J290,HData!$BR$3:$BR$48828,$K290,HData!$AB$3:$AB$48828,TRUE)","v":0},"BME",0,3]
["White, sibling group of 3, with disability",{"$f":"COUNTIFS(HData!$O$3:$O$48828,\">=\"&SDate,HData!$O$3:$O$48828,\"<=\"&RDate,HData!$BP$3:$BP$48828,$I291,HData!$BK$3:$BK$48828,B$124,HData!$F$3:$F$48828,$J291,HData!$BR$3:$BR$48828,$K291,HData!$AB$3:$AB$48828,TRUE)","v":0},{"$f":"COUNTIFS(HData!$O$3:$O$48828,\">=\"&SDate,HData!$O$3:$O$48828,\"<=\"&RDate,HData!$BP$3:$BP$48828,$I291,HData!$BK$3:$BK$48828,C$124,HData!$F$3:$F$48828,$J291,HData!$BR$3:$BR$48828,$K291,HData!$AB$3:$AB$48828,TRUE)","v":0},{"$f":"COUNTIFS(HData!$O$3:$O$48828,\">=\"&SDate,HData!$O$3:$O$48828,\"<=\"&RDate,HData!$BP$3:$BP$48828,$I291,HData!$BK$3:$BK$48828,D$124,HData!$F$3:$F$48828,$J291,HData!$BR$3:$BR$48828,$K291,HData!$AB$3:$AB$48828,TRUE)","v":0},{"$f":"COUNTIFS(HData!$O$3:$O$48828,\">=\"&SDate,HData!$O$3:$O$48828,\"<=\"&RDate,HData!$BP$3:$BP$48828,$I291,HData!$BK$3:$BK$48828,E$124,HData!$F$3:$F$48828,$J291,HData!$BR$3:$BR$48828,$K291,HData!$AB$3:$AB$48828,TRUE)","v":0},{"$f":"COUNTIFS(HData!$O$3:$O$48828,\">=\"&SDate,HData!$O$3:$O$48828,\"<=\"&RDate,HData!$BP$3:$BP$48828,$I291,HData!$BK$3:$BK$48828,F$124,HData!$F$3:$F$48828,$J291,HData!$BR$3:$BR$48828,$K291,HData!$AB$3:$AB$48828,TRUE)","v":0},{"$f":"COUNTIFS(HData!$O$3:$O$48828,\">=\"&SDate,HData!$O$3:$O$48828,\"<=\"&RDate,HData!$BP$3:$BP$48828,$I291,HData!$BK$3:$BK$48828,G$124,HData!$F$3:$F$48828,$J291,HData!$BR$3:$BR$48828,$K291,HData!$AB$3:$AB$48828,TRUE)","v":0},{"$f":"COUNTIFS(HData!$O$3:$O$48828,\">=\"&SDate,HData!$O$3:$O$48828,\"<=\"&RDate,HData!$BP$3:$BP$48828,$I291,HData!$BK$3:$BK$48828,H$124,HData!$F$3:$F$48828,$J291,HData!$BR$3:$BR$48828,$K291,HData!$AB$3:$AB$48828,TRUE)","v":0},"White",1,3]
["BME, sibling group of 3, with disability",{"$f":"COUNTIFS(HData!$O$3:$O$48828,\">=\"&SDate,HData!$O$3:$O$48828,\"<=\"&RDate,HData!$BP$3:$BP$48828,$I292,HData!$BK$3:$BK$48828,B$124,HData!$F$3:$F$48828,$J292,HData!$BR$3:$BR$48828,$K292,HData!$AB$3:$AB$48828,TRUE)","v":0},{"$f":"COUNTIFS(HData!$O$3:$O$48828,\">=\"&SDate,HData!$O$3:$O$48828,\"<=\"&RDate,HData!$BP$3:$BP$48828,$I292,HData!$BK$3:$BK$48828,C$124,HData!$F$3:$F$48828,$J292,HData!$BR$3:$BR$48828,$K292,HData!$AB$3:$AB$48828,TRUE)","v":0},{"$f":"COUNTIFS(HData!$O$3:$O$48828,\">=\"&SDate,HData!$O$3:$O$48828,\"<=\"&RDate,HData!$BP$3:$BP$48828,$I292,HData!$BK$3:$BK$48828,D$124,HData!$F$3:$F$48828,$J292,HData!$BR$3:$BR$48828,$K292,HData!$AB$3:$AB$48828,TRUE)","v":0},{"$f":"COUNTIFS(HData!$O$3:$O$48828,\">=\"&SDate,HData!$O$3:$O$48828,\"<=\"&RDate,HData!$BP$3:$BP$48828,$I292,HData!$BK$3:$BK$48828,E$124,HData!$F$3:$F$48828,$J292,HData!$BR$3:$BR$48828,$K292,HData!$AB$3:$AB$48828,TRUE)","v":0},{"$f":"COUNTIFS(HData!$O$3:$O$48828,\">=\"&SDate,HData!$O$3:$O$48828,\"<=\"&RDate,HData!$BP$3:$BP$48828,$I292,HData!$BK$3:$BK$48828,F$124,HData!$F$3:$F$48828,$J292,HData!$BR$3:$BR$48828,$K292,HData!$AB$3:$AB$48828,TRUE)","v":0},{"$f":"COUNTIFS(HData!$O$3:$O$48828,\">=\"&SDate,HData!$O$3:$O$48828,\"<=\"&RDate,HData!$BP$3:$BP$48828,$I292,HData!$BK$3:$BK$48828,G$124,HData!$F$3:$F$48828,$J292,HData!$BR$3:$BR$48828,$K292,HData!$AB$3:$AB$48828,TRUE)","v":0},{"$f":"COUNTIFS(HData!$O$3:$O$48828,\">=\"&SDate,HData!$O$3:$O$48828,\"<=\"&RDate,HData!$BP$3:$BP$48828,$I292,HData!$BK$3:$BK$48828,H$124,HData!$F$3:$F$48828,$J292,HData!$BR$3:$BR$48828,$K292,HData!$AB$3:$AB$48828,TRUE)","v":0},"BME",1,3]
[null,"Age at PO"]
["CHILDREN GRANTED A PO, CoP",0,1,2,3,4,5,">5","BME","Disability","Sibling"]
["White, single child, no disability",{"$f":"COUNTIFS(HData!$O$3:$O$48828,\">=\"&SDate,HData!$O$3:$O$48828,\"<=\"&RDate,HData!$BP$3:$BP$48828,$I295,HData!$BK$3:$BK$48828,B$124,HData!$F$3:$F$48828,$J295,HData!$BR$3:$BR$48828,$K295,HData!$W$3:$W$48828,\"<>\",HData!$AB$3:$AB$48828,TRUE)","v":0},{"$f":"COUNTIFS(HData!$O$3:$O$48828,\">=\"&SDate,HData!$O$3:$O$48828,\"<=\"&RDate,HData!$BP$3:$BP$48828,$I295,HData!$BK$3:$BK$48828,C$124,HData!$F$3:$F$48828,$J295,HData!$BR$3:$BR$48828,$K295,HData!$W$3:$W$48828,\"<>\",HData!$AB$3:$AB$48828,TRUE)","v":0},{"$f":"COUNTIFS(HData!$O$3:$O$48828,\">=\"&SDate,HData!$O$3:$O$48828,\"<=\"&RDate,HData!$BP$3:$BP$48828,$I295,HData!$BK$3:$BK$48828,D$124,HData!$F$3:$F$48828,$J295,HData!$BR$3:$BR$48828,$K295,HData!$W$3:$W$48828,\"<>\",HData!$AB$3:$AB$48828,TRUE)","v":0},{"$f":"COUNTIFS(HData!$O$3:$O$48828,\">=\"&SDate,HData!$O$3:$O$48828,\"<=\"&RDate,HData!$BP$3:$BP$48828,$I295,HData!$BK$3:$BK$48828,E$124,HData!$F$3:$F$48828,$J295,HData!$BR$3:$BR$48828,$K295,HData!$W$3:$W$48828,\"<>\",HData!$AB$3:$AB$48828,TRUE)","v":0},{"$f":"COUNTIFS(HData!$O$3:$O$48828,\">=\"&SDate,HData!$O$3:$O$48828,\"<=\"&RDate,HData!$BP$3:$BP$48828,$I295,HData!$BK$3:$BK$48828,F$124,HData!$F$3:$F$48828,$J295,HData!$BR$3:$BR$48828,$K295,HData!$W$3:$W$48828,\"<>\",HData!$AB$3:$AB$48828,TRUE)","v":0},{"$f":"COUNTIFS(HData!$O$3:$O$48828,\">=\"&SDate,HData!$O$3:$O$48828,\"<=\"&RDate,HData!$BP$3:$BP$48828,$I295,HData!$BK$3:$BK$48828,G$124,HData!$F$3:$F$48828,$J295,HData!$BR$3:$BR$48828,$K295,HData!$W$3:$W$48828,\"<>\",HData!$AB$3:$AB$48828,TRUE)","v":0},{"$f":"COUNTIFS(HData!$O$3:$O$48828,\">=\"&SDate,HData!$O$3:$O$48828,\"<=\"&RDate,HData!$BP$3:$BP$48828,$I295,HData!$BK$3:$BK$48828,H$124,HData!$F$3:$F$48828,$J295,HData!$BR$3:$BR$48828,$K295,HData!$W$3:$W$48828,\"<>\",HData!$AB$3:$AB$48828,TRUE)","v":0},"White",0,1]
["BME, single child, no disability",{"$f":"COUNTIFS(HData!$O$3:$O$48828,\">=\"&SDate,HData!$O$3:$O$48828,\"<=\"&RDate,HData!$BP$3:$BP$48828,$I296,HData!$BK$3:$BK$48828,B$124,HData!$F$3:$F$48828,$J296,HData!$BR$3:$BR$48828,$K296,HData!$W$3:$W$48828,\"<>\",HData!$AB$3:$AB$48828,TRUE)","v":0},{"$f":"COUNTIFS(HData!$O$3:$O$48828,\">=\"&SDate,HData!$O$3:$O$48828,\"<=\"&RDate,HData!$BP$3:$BP$48828,$I296,HData!$BK$3:$BK$48828,C$124,HData!$F$3:$F$48828,$J296,HData!$BR$3:$BR$48828,$K296,HData!$W$3:$W$48828,\"<>\",HData!$AB$3:$AB$48828,TRUE)","v":0},{"$f":"COUNTIFS(HData!$O$3:$O$48828,\">=\"&SDate,HData!$O$3:$O$48828,\"<=\"&RDate,HData!$BP$3:$BP$48828,$I296,HData!$BK$3:$BK$48828,D$124,HData!$F$3:$F$48828,$J296,HData!$BR$3:$BR$48828,$K296,HData!$W$3:$W$48828,\"<>\",HData!$AB$3:$AB$48828,TRUE)","v":0},{"$f":"COUNTIFS(HData!$O$3:$O$48828,\">=\"&SDate,HData!$O$3:$O$48828,\"<=\"&RDate,HData!$BP$3:$BP$48828,$I296,HData!$BK$3:$BK$48828,E$124,HData!$F$3:$F$48828,$J296,HData!$BR$3:$BR$48828,$K296,HData!$W$3:$W$48828,\"<>\",HData!$AB$3:$AB$48828,TRUE)","v":0},{"$f":"COUNTIFS(HData!$O$3:$O$48828,\">=\"&SDate,HData!$O$3:$O$48828,\"<=\"&RDate,HData!$BP$3:$BP$48828,$I296,HData!$BK$3:$BK$48828,F$124,HData!$F$3:$F$48828,$J296,HData!$BR$3:$BR$48828,$K296,HData!$W$3:$W$48828,\"<>\",HData!$AB$3:$AB$48828,TRUE)","v":0},{"$f":"COUNTIFS(HData!$O$3:$O$48828,\">=\"&SDate,HData!$O$3:$O$48828,\"<=\"&RDate,HData!$BP$3:$BP$48828,$I296,HData!$BK$3:$BK$48828,G$124,HData!$F$3:$F$48828,$J296,HData!$BR$3:$BR$48828,$K296,HData!$W$3:$W$48828,\"<>\",HData!$AB$3:$AB$48828,TRUE)","v":0},{"$f":"COUNTIFS(HData!$O$3:$O$48828,\">=\"&SDate,HData!$O$3:$O$48828,\"<=\"&RDate,HData!$BP$3:$BP$48828,$I296,HData!$BK$3:$BK$48828,H$124,HData!$F$3:$F$48828,$J296,HData!$BR$3:$BR$48828,$K296,HData!$W$3:$W$48828,\"<>\",HData!$AB$3:$AB$48828,TRUE)","v":0},"BME",0,1]
["White, single child, with disability",{"$f":"COUNTIFS(HData!$O$3:$O$48828,\">=\"&SDate,HData!$O$3:$O$48828,\"<=\"&RDate,HData!$BP$3:$BP$48828,$I297,HData!$BK$3:$BK$48828,B$124,HData!$F$3:$F$48828,$J297,HData!$BR$3:$BR$48828,$K297,HData!$W$3:$W$48828,\"<>\",HData!$AB$3:$AB$48828,TRUE)","v":0},{"$f":"COUNTIFS(HData!$O$3:$O$48828,\">=\"&SDate,HData!$O$3:$O$48828,\"<=\"&RDate,HData!$BP$3:$BP$48828,$I297,HData!$BK$3:$BK$48828,C$124,HData!$F$3:$F$48828,$J297,HData!$BR$3:$BR$48828,$K297,HData!$W$3:$W$48828,\"<>\",HData!$AB$3:$AB$48828,TRUE)","v":0},{"$f":"COUNTIFS(HData!$O$3:$O$48828,\">=\"&SDate,HData!$O$3:$O$48828,\"<=\"&RDate,HData!$BP$3:$BP$48828,$I297,HData!$BK$3:$BK$48828,D$124,HData!$F$3:$F$48828,$J297,HData!$BR$3:$BR$48828,$K297,HData!$W$3:$W$48828,\"<>\",HData!$AB$3:$AB$48828,TRUE)","v":0},{"$f":"COUNTIFS(HData!$O$3:$O$48828,\">=\"&SDate,HData!$O$3:$O$48828,\"<=\"&RDate,HData!$BP$3:$BP$48828,$I297,HData!$BK$3:$BK$48828,E$124,HData!$F$3:$F$48828,$J297,HData!$BR$3:$BR$48828,$K297,HData!$W$3:$W$48828,\"<>\",HData!$AB$3:$AB$48828,TRUE)","v":0},{"$f":"COUNTIFS(HData!$O$3:$O$48828,\">=\"&SDate,HData!$O$3:$O$48828,\"<=\"&RDate,HData!$BP$3:$BP$48828,$I297,HData!$BK$3:$BK$48828,F$124,HData!$F$3:$F$48828,$J297,HData!$BR$3:$BR$48828,$K297,HData!$W$3:$W$48828,\"<>\",HData!$AB$3:$AB$48828,TRUE)","v":0},{"$f":"COUNTIFS(HData!$O$3:$O$48828,\">=\"&SDate,HData!$O$3:$O$48828,\"<=\"&RDate,HData!$BP$3:$BP$48828,$I297,HData!$BK$3:$BK$48828,G$124,HData!$F$3:$F$48828,$J297,HData!$BR$3:$BR$48828,$K297,HData!$W$3:$W$48828,\"<>\",HData!$AB$3:$AB$48828,TRUE)","v":0},{"$f":"COUNTIFS(HData!$O$3:$O$48828,\">=\"&SDate,HData!$O$3:$O$48828,\"<=\"&RDate,HData!$BP$3:$BP$48828,$I297,HData!$BK$3:$BK$48828,H$124,HData!$F$3:$F$48828,$J297,HData!$BR$3:$BR$48828,$K297,HData!$W$3:$W$48828,\"<>\",HData!$AB$3:$AB$48828,TRUE)","v":0},"White",1,1]
["BME, single child, with disability",{"$f":"COUNTIFS(HData!$O$3:$O$48828,\">=\"&SDate,HData!$O$3:$O$48828,\"<=\"&RDate,HData!$BP$3:$BP$48828,$I298,HData!$BK$3:$BK$48828,B$124,HData!$F$3:$F$48828,$J298,HData!$BR$3:$BR$48828,$K298,HData!$W$3:$W$48828,\"<>\",HData!$AB$3:$AB$48828,TRUE)","v":0},{"$f":"COUNTIFS(HData!$O$3:$O$48828,\">=\"&SDate,HData!$O$3:$O$48828,\"<=\"&RDate,HData!$BP$3:$BP$48828,$I298,HData!$BK$3:$BK$48828,C$124,HData!$F$3:$F$48828,$J298,HData!$BR$3:$BR$48828,$K298,HData!$W$3:$W$48828,\"<>\",HData!$AB$3:$AB$48828,TRUE)","v":0},{"$f":"COUNTIFS(HData!$O$3:$O$48828,\">=\"&SDate,HData!$O$3:$O$48828,\"<=\"&RDate,HData!$BP$3:$BP$48828,$I298,HData!$BK$3:$BK$48828,D$124,HData!$F$3:$F$48828,$J298,HData!$BR$3:$BR$48828,$K298,HData!$W$3:$W$48828,\"<>\",HData!$AB$3:$AB$48828,TRUE)","v":0},{"$f":"COUNTIFS(HData!$O$3:$O$48828,\">=\"&SDate,HData!$O$3:$O$48828,\"<=\"&RDate,HData!$BP$3:$BP$48828,$I298,HData!$BK$3:$BK$48828,E$124,HData!$F$3:$F$48828,$J298,HData!$BR$3:$BR$48828,$K298,HData!$W$3:$W$48828,\"<>\",HData!$AB$3:$AB$48828,TRUE)","v":0},{"$f":"COUNTIFS(HData!$O$3:$O$48828,\">=\"&SDate,HData!$O$3:$O$48828,\"<=\"&RDate,HData!$BP$3:$BP$48828,$I298,HData!$BK$3:$BK$48828,F$124,HData!$F$3:$F$48828,$J298,HData!$BR$3:$BR$48828,$K298,HData!$W$3:$W$48828,\"<>\",HData!$AB$3:$AB$48828,TRUE)","v":0},{"$f":"COUNTIFS(HData!$O$3:$O$48828,\">=\"&SDate,HData!$O$3:$O$48828,\"<=\"&RDate,HData!$BP$3:$BP$48828,$I298,HData!$BK$3:$BK$48828,G$124,HData!$F$3:$F$48828,$J298,HData!$BR$3:$BR$48828,$K298,HData!$W$3:$W$48828,\"<>\",HData!$AB$3:$AB$48828,TRUE)","v":0},{"$f":"COUNTIFS(HData!$O$3:$O$48828,\">=\"&SDate,HData!$O$3:$O$48828,\"<=\"&RDate,HData!$BP$3:$BP$48828,$I298,HData!$BK$3:$BK$48828,H$124,HData!$F$3:$F$48828,$J298,HData!$BR$3:$BR$48828,$K298,HData!$W$3:$W$48828,\"<>\",HData!$AB$3:$AB$48828,TRUE)","v":0},"BME",1,1]
["White, sibling group of 2, no disability",{"$f":"COUNTIFS(HData!$O$3:$O$48828,\">=\"&SDate,HData!$O$3:$O$48828,\"<=\"&RDate,HData!$BP$3:$BP$48828,$I299,HData!$BK$3:$BK$48828,B$124,HData!$F$3:$F$48828,$J299,HData!$BR$3:$BR$48828,$K299,HData!$W$3:$W$48828,\"<>\",HData!$AB$3:$AB$48828,TRUE)","v":0},{"$f":"COUNTIFS(HData!$O$3:$O$48828,\">=\"&SDate,HData!$O$3:$O$48828,\"<=\"&RDate,HData!$BP$3:$BP$48828,$I299,HData!$BK$3:$BK$48828,C$124,HData!$F$3:$F$48828,$J299,HData!$BR$3:$BR$48828,$K299,HData!$W$3:$W$48828,\"<>\",HData!$AB$3:$AB$48828,TRUE)","v":0},{"$f":"COUNTIFS(HData!$O$3:$O$48828,\">=\"&SDate,HData!$O$3:$O$48828,\"<=\"&RDate,HData!$BP$3:$BP$48828,$I299,HData!$BK$3:$BK$48828,D$124,HData!$F$3:$F$48828,$J299,HData!$BR$3:$BR$48828,$K299,HData!$W$3:$W$48828,\"<>\",HData!$AB$3:$AB$48828,TRUE)","v":0},{"$f":"COUNTIFS(HData!$O$3:$O$48828,\">=\"&SDate,HData!$O$3:$O$48828,\"<=\"&RDate,HData!$BP$3:$BP$48828,$I299,HData!$BK$3:$BK$48828,E$124,HData!$F$3:$F$48828,$J299,HData!$BR$3:$BR$48828,$K299,HData!$W$3:$W$48828,\"<>\",HData!$AB$3:$AB$48828,TRUE)","v":0},{"$f":"COUNTIFS(HData!$O$3:$O$48828,\">=\"&SDate,HData!$O$3:$O$48828,\"<=\"&RDate,HData!$BP$3:$BP$48828,$I299,HData!$BK$3:$BK$48828,F$124,HData!$F$3:$F$48828,$J299,HData!$BR$3:$BR$48828,$K299,HData!$W$3:$W$48828,\"<>\",HData!$AB$3:$AB$48828,TRUE)","v":0},{"$f":"COUNTIFS(HData!$O$3:$O$48828,\">=\"&SDate,HData!$O$3:$O$48828,\"<=\"&RDate,HData!$BP$3:$BP$48828,$I299,HData!$BK$3:$BK$48828,G$124,HData!$F$3:$F$48828,$J299,HData!$BR$3:$BR$48828,$K299,HData!$W$3:$W$48828,\"<>\",HData!$AB$3:$AB$48828,TRUE)","v":0},{"$f":"COUNTIFS(HData!$O$3:$O$48828,\">=\"&SDate,HData!$O$3:$O$48828,\"<=\"&RDate,HData!$BP$3:$BP$48828,$I299,HData!$BK$3:$BK$48828,H$124,HData!$F$3:$F$48828,$J299,HData!$BR$3:$BR$48828,$K299,HData!$W$3:$W$48828,\"<>\",HData!$AB$3:$AB$48828,TRUE)","v":0},"White",0,2]
["BME, sibling group of 2, no disability",{"$f":"COUNTIFS(HData!$O$3:$O$48828,\">=\"&SDate,HData!$O$3:$O$48828,\"<=\"&RDate,HData!$BP$3:$BP$48828,$I300,HData!$BK$3:$BK$48828,B$124,HData!$F$3:$F$48828,$J300,HData!$BR$3:$BR$48828,$K300,HData!$W$3:$W$48828,\"<>\",HData!$AB$3:$AB$48828,TRUE)","v":0},{"$f":"COUNTIFS(HData!$O$3:$O$48828,\">=\"&SDate,HData!$O$3:$O$48828,\"<=\"&RDate,HData!$BP$3:$BP$48828,$I300,HData!$BK$3:$BK$48828,C$124,HData!$F$3:$F$48828,$J300,HData!$BR$3:$BR$48828,$K300,HData!$W$3:$W$48828,\"<>\",HData!$AB$3:$AB$48828,TRUE)","v":0},{"$f":"COUNTIFS(HData!$O$3:$O$48828,\">=\"&SDate,HData!$O$3:$O$48828,\"<=\"&RDate,HData!$BP$3:$BP$48828,$I300,HData!$BK$3:$BK$48828,D$124,HData!$F$3:$F$48828,$J300,HData!$BR$3:$BR$48828,$K300,HData!$W$3:$W$48828,\"<>\",HData!$AB$3:$AB$48828,TRUE)","v":0},{"$f":"COUNTIFS(HData!$O$3:$O$48828,\">=\"&SDate,HData!$O$3:$O$48828,\"<=\"&RDate,HData!$BP$3:$BP$48828,$I300,HData!$BK$3:$BK$48828,E$124,HData!$F$3:$F$48828,$J300,HData!$BR$3:$BR$48828,$K300,HData!$W$3:$W$48828,\"<>\",HData!$AB$3:$AB$48828,TRUE)","v":0},{"$f":"COUNTIFS(HData!$O$3:$O$48828,\">=\"&SDate,HData!$O$3:$O$48828,\"<=\"&RDate,HData!$BP$3:$BP$48828,$I300,HData!$BK$3:$BK$48828,F$124,HData!$F$3:$F$48828,$J300,HData!$BR$3:$BR$48828,$K300,HData!$W$3:$W$48828,\"<>\",HData!$AB$3:$AB$48828,TRUE)","v":0},{"$f":"COUNTIFS(HData!$O$3:$O$48828,\">=\"&SDate,HData!$O$3:$O$48828,\"<=\"&RDate,HData!$BP$3:$BP$48828,$I300,HData!$BK$3:$BK$48828,G$124,HData!$F$3:$F$48828,$J300,HData!$BR$3:$BR$48828,$K300,HData!$W$3:$W$48828,\"<>\",HData!$AB$3:$AB$48828,TRUE)","v":0},{"$f":"COUNTIFS(HData!$O$3:$O$48828,\">=\"&SDate,HData!$O$3:$O$48828,\"<=\"&RDate,HData!$BP$3:$BP$48828,$I300,HData!$BK$3:$BK$48828,H$124,HData!$F$3:$F$48828,$J300,HData!$BR$3:$BR$48828,$K300,HData!$W$3:$W$48828,\"<>\",HData!$AB$3:$AB$48828,TRUE)","v":0},"BME",0,2]
["White, sibling group of 2, with disability",{"$f":"COUNTIFS(HData!$O$3:$O$48828,\">=\"&SDate,HData!$O$3:$O$48828,\"<=\"&RDate,HData!$BP$3:$BP$48828,$I301,HData!$BK$3:$BK$48828,B$124,HData!$F$3:$F$48828,$J301,HData!$BR$3:$BR$48828,$K301,HData!$W$3:$W$48828,\"<>\",HData!$AB$3:$AB$48828,TRUE)","v":0},{"$f":"COUNTIFS(HData!$O$3:$O$48828,\">=\"&SDate,HData!$O$3:$O$48828,\"<=\"&RDate,HData!$BP$3:$BP$48828,$I301,HData!$BK$3:$BK$48828,C$124,HData!$F$3:$F$48828,$J301,HData!$BR$3:$BR$48828,$K301,HData!$W$3:$W$48828,\"<>\",HData!$AB$3:$AB$48828,TRUE)","v":0},{"$f":"COUNTIFS(HData!$O$3:$O$48828,\">=\"&SDate,HData!$O$3:$O$48828,\"<=\"&RDate,HData!$BP$3:$BP$48828,$I301,HData!$BK$3:$BK$48828,D$124,HData!$F$3:$F$48828,$J301,HData!$BR$3:$BR$48828,$K301,HData!$W$3:$W$48828,\"<>\",HData!$AB$3:$AB$48828,TRUE)","v":0},{"$f":"COUNTIFS(HData!$O$3:$O$48828,\">=\"&SDate,HData!$O$3:$O$48828,\"<=\"&RDate,HData!$BP$3:$BP$48828,$I301,HData!$BK$3:$BK$48828,E$124,HData!$F$3:$F$48828,$J301,HData!$BR$3:$BR$48828,$K301,HData!$W$3:$W$48828,\"<>\",HData!$AB$3:$AB$48828,TRUE)","v":0},{"$f":"COUNTIFS(HData!$O$3:$O$48828,\">=\"&SDate,HData!$O$3:$O$48828,\"<=\"&RDate,HData!$BP$3:$BP$48828,$I301,HData!$BK$3:$BK$48828,F$124,HData!$F$3:$F$48828,$J301,HData!$BR$3:$BR$48828,$K301,HData!$W$3:$W$48828,\"<>\",HData!$AB$3:$AB$48828,TRUE)","v":0},{"$f":"COUNTIFS(HData!$O$3:$O$48828,\">=\"&SDate,HData!$O$3:$O$48828,\"<=\"&RDate,HData!$BP$3:$BP$48828,$I301,HData!$BK$3:$BK$48828,G$124,HData!$F$3:$F$48828,$J301,HData!$BR$3:$BR$48828,$K301,HData!$W$3:$W$48828,\"<>\",HData!$AB$3:$AB$48828,TRUE)","v":0},{"$f":"COUNTIFS(HData!$O$3:$O$48828,\">=\"&SDate,HData!$O$3:$O$48828,\"<=\"&RDate,HData!$BP$3:$BP$48828,$I301,HData!$BK$3:$BK$48828,H$124,HData!$F$3:$F$48828,$J301,HData!$BR$3:$BR$48828,$K301,HData!$W$3:$W$48828,\"<>\",HData!$AB$3:$AB$48828,TRUE)","v":0},"White",1,2]
["BME, sibling group of 2, with disability",{"$f":"COUNTIFS(HData!$O$3:$O$48828,\">=\"&SDate,HData!$O$3:$O$48828,\"<=\"&RDate,HData!$BP$3:$BP$48828,$I302,HData!$BK$3:$BK$48828,B$124,HData!$F$3:$F$48828,$J302,HData!$BR$3:$BR$48828,$K302,HData!$W$3:$W$48828,\"<>\",HData!$AB$3:$AB$48828,TRUE)","v":0},{"$f":"COUNTIFS(HData!$O$3:$O$48828,\">=\"&SDate,HData!$O$3:$O$48828,\"<=\"&RDate,HData!$BP$3:$BP$48828,$I302,HData!$BK$3:$BK$48828,C$124,HData!$F$3:$F$48828,$J302,HData!$BR$3:$BR$48828,$K302,HData!$W$3:$W$48828,\"<>\",HData!$AB$3:$AB$48828,TRUE)","v":0},{"$f":"COUNTIFS(HData!$O$3:$O$48828,\">=\"&SDate,HData!$O$3:$O$48828,\"<=\"&RDate,HData!$BP$3:$BP$48828,$I302,HData!$BK$3:$BK$48828,D$124,HData!$F$3:$F$48828,$J302,HData!$BR$3:$BR$48828,$K302,HData!$W$3:$W$48828,\"<>\",HData!$AB$3:$AB$48828,TRUE)","v":0},{"$f":"COUNTIFS(HData!$O$3:$O$48828,\">=\"&SDate,HData!$O$3:$O$48828,\"<=\"&RDate,HData!$BP$3:$BP$48828,$I302,HData!$BK$3:$BK$48828,E$124,HData!$F$3:$F$48828,$J302,HData!$BR$3:$BR$48828,$K302,HData!$W$3:$W$48828,\"<>\",HData!$AB$3:$AB$48828,TRUE)","v":0},{"$f":"COUNTIFS(HData!$O$3:$O$48828,\">=\"&SDate,HData!$O$3:$O$48828,\"<=\"&RDate,HData!$BP$3:$BP$48828,$I302,HData!$BK$3:$BK$48828,F$124,HData!$F$3:$F$48828,$J302,HData!$BR$3:$BR$48828,$K302,HData!$W$3:$W$48828,\"<>\",HData!$AB$3:$AB$48828,TRUE)","v":0},{"$f":"COUNTIFS(HData!$O$3:$O$48828,\">=\"&SDate,HData!$O$3:$O$48828,\"<=\"&RDate,HData!$BP$3:$BP$48828,$I302,HData!$BK$3:$BK$48828,G$124,HData!$F$3:$F$48828,$J302,HData!$BR$3:$BR$48828,$K302,HData!$W$3:$W$48828,\"<>\",HData!$AB$3:$AB$48828,TRUE)","v":0},{"$f":"COUNTIFS(HData!$O$3:$O$48828,\">=\"&SDate,HData!$O$3:$O$48828,\"<=\"&RDate,HData!$BP$3:$BP$48828,$I302,HData!$BK$3:$BK$48828,H$124,HData!$F$3:$F$48828,$J302,HData!$BR$3:$BR$48828,$K302,HData!$W$3:$W$48828,\"<>\",HData!$AB$3:$AB$48828,TRUE)","v":0},"BME",1,2]
["White, sibling group of 3, no disability",{"$f":"COUNTIFS(HData!$O$3:$O$48828,\">=\"&SDate,HData!$O$3:$O$48828,\"<=\"&RDate,HData!$BP$3:$BP$48828,$I303,HData!$BK$3:$BK$48828,B$124,HData!$F$3:$F$48828,$J303,HData!$BR$3:$BR$48828,$K303,HData!$W$3:$W$48828,\"<>\",HData!$AB$3:$AB$48828,TRUE)","v":0},{"$f":"COUNTIFS(HData!$O$3:$O$48828,\">=\"&SDate,HData!$O$3:$O$48828,\"<=\"&RDate,HData!$BP$3:$BP$48828,$I303,HData!$BK$3:$BK$48828,C$124,HData!$F$3:$F$48828,$J303,HData!$BR$3:$BR$48828,$K303,HData!$W$3:$W$48828,\"<>\",HData!$AB$3:$AB$48828,TRUE)","v":0},{"$f":"COUNTIFS(HData!$O$3:$O$48828,\">=\"&SDate,HData!$O$3:$O$48828,\"<=\"&RDate,HData!$BP$3:$BP$48828,$I303,HData!$BK$3:$BK$48828,D$124,HData!$F$3:$F$48828,$J303,HData!$BR$3:$BR$48828,$K303,HData!$W$3:$W$48828,\"<>\",HData!$AB$3:$AB$48828,TRUE)","v":0},{"$f":"COUNTIFS(HData!$O$3:$O$48828,\">=\"&SDate,HData!$O$3:$O$48828,\"<=\"&RDate,HData!$BP$3:$BP$48828,$I303,HData!$BK$3:$BK$48828,E$124,HData!$F$3:$F$48828,$J303,HData!$BR$3:$BR$48828,$K303,HData!$W$3:$W$48828,\"<>\",HData!$AB$3:$AB$48828,TRUE)","v":0},{"$f":"COUNTIFS(HData!$O$3:$O$48828,\">=\"&SDate,HData!$O$3:$O$48828,\"<=\"&RDate,HData!$BP$3:$BP$48828,$I303,HData!$BK$3:$BK$48828,F$124,HData!$F$3:$F$48828,$J303,HData!$BR$3:$BR$48828,$K303,HData!$W$3:$W$48828,\"<>\",HData!$AB$3:$AB$48828,TRUE)","v":0},{"$f":"COUNTIFS(HData!$O$3:$O$48828,\">=\"&SDate,HData!$O$3:$O$48828,\"<=\"&RDate,HData!$BP$3:$BP$48828,$I303,HData!$BK$3:$BK$48828,G$124,HData!$F$3:$F$48828,$J303,HData!$BR$3:$BR$48828,$K303,HData!$W$3:$W$48828,\"<>\",HData!$AB$3:$AB$48828,TRUE)","v":0},{"$f":"COUNTIFS(HData!$O$3:$O$48828,\">=\"&SDate,HData!$O$3:$O$48828,\"<=\"&RDate,HData!$BP$3:$BP$48828,$I303,HData!$BK$3:$BK$48828,H$124,HData!$F$3:$F$48828,$J303,HData!$BR$3:$BR$48828,$K303,HData!$W$3:$W$48828,\"<>\",HData!$AB$3:$AB$48828,TRUE)","v":0},"White",0,3]
["BME, sibling group of 3, no disability",{"$f":"COUNTIFS(HData!$O$3:$O$48828,\">=\"&SDate,HData!$O$3:$O$48828,\"<=\"&RDate,HData!$BP$3:$BP$48828,$I304,HData!$BK$3:$BK$48828,B$124,HData!$F$3:$F$48828,$J304,HData!$BR$3:$BR$48828,$K304,HData!$W$3:$W$48828,\"<>\",HData!$AB$3:$AB$48828,TRUE)","v":0},{"$f":"COUNTIFS(HData!$O$3:$O$48828,\">=\"&SDate,HData!$O$3:$O$48828,\"<=\"&RDate,HData!$BP$3:$BP$48828,$I304,HData!$BK$3:$BK$48828,C$124,HData!$F$3:$F$48828,$J304,HData!$BR$3:$BR$48828,$K304,HData!$W$3:$W$48828,\"<>\",HData!$AB$3:$AB$48828,TRUE)","v":0},{"$f":"COUNTIFS(HData!$O$3:$O$48828,\">=\"&SDate,HData!$O$3:$O$48828,\"<=\"&RDate,HData!$BP$3:$BP$48828,$I304,HData!$BK$3:$BK$48828,D$124,HData!$F$3:$F$48828,$J304,HData!$BR$3:$BR$48828,$K304,HData!$W$3:$W$48828,\"<>\",HData!$AB$3:$AB$48828,TRUE)","v":0},{"$f":"COUNTIFS(HData!$O$3:$O$48828,\">=\"&SDate,HData!$O$3:$O$48828,\"<=\"&RDate,HData!$BP$3:$BP$48828,$I304,HData!$BK$3:$BK$48828,E$124,HData!$F$3:$F$48828,$J304,HData!$BR$3:$BR$48828,$K304,HData!$W$3:$W$48828,\"<>\",HData!$AB$3:$AB$48828,TRUE)","v":0},{"$f":"COUNTIFS(HData!$O$3:$O$48828,\">=\"&SDate,HData!$O$3:$O$48828,\"<=\"&RDate,HData!$BP$3:$BP$48828,$I304,HData!$BK$3:$BK$48828,F$124,HData!$F$3:$F$48828,$J304,HData!$BR$3:$BR$48828,$K304,HData!$W$3:$W$48828,\"<>\",HData!$AB$3:$AB$48828,TRUE)","v":0},{"$f":"COUNTIFS(HData!$O$3:$O$48828,\">=\"&SDate,HData!$O$3:$O$48828,\"<=\"&RDate,HData!$BP$3:$BP$48828,$I304,HData!$BK$3:$BK$48828,G$124,HData!$F$3:$F$48828,$J304,HData!$BR$3:$BR$48828,$K304,HData!$W$3:$W$48828,\"<>\",HData!$AB$3:$AB$48828,TRUE)","v":0},{"$f":"COUNTIFS(HData!$O$3:$O$48828,\">=\"&SDate,HData!$O$3:$O$48828,\"<=\"&RDate,HData!$BP$3:$BP$48828,$I304,HData!$BK$3:$BK$48828,H$124,HData!$F$3:$F$48828,$J304,HData!$BR$3:$BR$48828,$K304,HData!$W$3:$W$48828,\"<>\",HData!$AB$3:$AB$48828,TRUE)","v":0},"BME",0,3]
["White, sibling group of 3, with disability",{"$f":"COUNTIFS(HData!$O$3:$O$48828,\">=\"&SDate,HData!$O$3:$O$48828,\"<=\"&RDate,HData!$BP$3:$BP$48828,$I305,HData!$BK$3:$BK$48828,B$124,HData!$F$3:$F$48828,$J305,HData!$BR$3:$BR$48828,$K305,HData!$W$3:$W$48828,\"<>\",HData!$AB$3:$AB$48828,TRUE)","v":0},{"$f":"COUNTIFS(HData!$O$3:$O$48828,\">=\"&SDate,HData!$O$3:$O$48828,\"<=\"&RDate,HData!$BP$3:$BP$48828,$I305,HData!$BK$3:$BK$48828,C$124,HData!$F$3:$F$48828,$J305,HData!$BR$3:$BR$48828,$K305,HData!$W$3:$W$48828,\"<>\",HData!$AB$3:$AB$48828,TRUE)","v":0},{"$f":"COUNTIFS(HData!$O$3:$O$48828,\">=\"&SDate,HData!$O$3:$O$48828,\"<=\"&RDate,HData!$BP$3:$BP$48828,$I305,HData!$BK$3:$BK$48828,D$124,HData!$F$3:$F$48828,$J305,HData!$BR$3:$BR$48828,$K305,HData!$W$3:$W$48828,\"<>\",HData!$AB$3:$AB$48828,TRUE)","v":0},{"$f":"COUNTIFS(HData!$O$3:$O$48828,\">=\"&SDate,HData!$O$3:$O$48828,\"<=\"&RDate,HData!$BP$3:$BP$48828,$I305,HData!$BK$3:$BK$48828,E$124,HData!$F$3:$F$48828,$J305,HData!$BR$3:$BR$48828,$K305,HData!$W$3:$W$48828,\"<>\",HData!$AB$3:$AB$48828,TRUE)","v":0},{"$f":"COUNTIFS(HData!$O$3:$O$48828,\">=\"&SDate,HData!$O$3:$O$48828,\"<=\"&RDate,HData!$BP$3:$BP$48828,$I305,HData!$BK$3:$BK$48828,F$124,HData!$F$3:$F$48828,$J305,HData!$BR$3:$BR$48828,$K305,HData!$W$3:$W$48828,\"<>\",HData!$AB$3:$AB$48828,TRUE)","v":0},{"$f":"COUNTIFS(HData!$O$3:$O$48828,\">=\"&SDate,HData!$O$3:$O$48828,\"<=\"&RDate,HData!$BP$3:$BP$48828,$I305,HData!$BK$3:$BK$48828,G$124,HData!$F$3:$F$48828,$J305,HData!$BR$3:$BR$48828,$K305,HData!$W$3:$W$48828,\"<>\",HData!$AB$3:$AB$48828,TRUE)","v":0},{"$f":"COUNTIFS(HData!$O$3:$O$48828,\">=\"&SDate,HData!$O$3:$O$48828,\"<=\"&RDate,HData!$BP$3:$BP$48828,$I305,HData!$BK$3:$BK$48828,H$124,HData!$F$3:$F$48828,$J305,HData!$BR$3:$BR$48828,$K305,HData!$W$3:$W$48828,\"<>\",HData!$AB$3:$AB$48828,TRUE)","v":0},"White",1,3]
["BME, sibling group of 3, with disability",{"$f":"COUNTIFS(HData!$O$3:$O$48828,\">=\"&SDate,HData!$O$3:$O$48828,\"<=\"&RDate,HData!$BP$3:$BP$48828,$I306,HData!$BK$3:$BK$48828,B$124,HData!$F$3:$F$48828,$J306,HData!$BR$3:$BR$48828,$K306,HData!$W$3:$W$48828,\"<>\",HData!$AB$3:$AB$48828,TRUE)","v":0},{"$f":"COUNTIFS(HData!$O$3:$O$48828,\">=\"&SDate,HData!$O$3:$O$48828,\"<=\"&RDate,HData!$BP$3:$BP$48828,$I306,HData!$BK$3:$BK$48828,C$124,HData!$F$3:$F$48828,$J306,HData!$BR$3:$BR$48828,$K306,HData!$W$3:$W$48828,\"<>\",HData!$AB$3:$AB$48828,TRUE)","v":0},{"$f":"COUNTIFS(HData!$O$3:$O$48828,\">=\"&SDate,HData!$O$3:$O$48828,\"<=\"&RDate,HData!$BP$3:$BP$48828,$I306,HData!$BK$3:$BK$48828,D$124,HData!$F$3:$F$48828,$J306,HData!$BR$3:$BR$48828,$K306,HData!$W$3:$W$48828,\"<>\",HData!$AB$3:$AB$48828,TRUE)","v":0},{"$f":"COUNTIFS(HData!$O$3:$O$48828,\">=\"&SDate,HData!$O$3:$O$48828,\"<=\"&RDate,HData!$BP$3:$BP$48828,$I306,HData!$BK$3:$BK$48828,E$124,HData!$F$3:$F$48828,$J306,HData!$BR$3:$BR$48828,$K306,HData!$W$3:$W$48828,\"<>\",HData!$AB$3:$AB$48828,TRUE)","v":0},{"$f":"COUNTIFS(HData!$O$3:$O$48828,\">=\"&SDate,HData!$O$3:$O$48828,\"<=\"&RDate,HData!$BP$3:$BP$48828,$I306,HData!$BK$3:$BK$48828,F$124,HData!$F$3:$F$48828,$J306,HData!$BR$3:$BR$48828,$K306,HData!$W$3:$W$48828,\"<>\",HData!$AB$3:$AB$48828,TRUE)","v":0},{"$f":"COUNTIFS(HData!$O$3:$O$48828,\">=\"&SDate,HData!$O$3:$O$48828,\"<=\"&RDate,HData!$BP$3:$BP$48828,$I306,HData!$BK$3:$BK$48828,G$124,HData!$F$3:$F$48828,$J306,HData!$BR$3:$BR$48828,$K306,HData!$W$3:$W$48828,\"<>\",HData!$AB$3:$AB$48828,TRUE)","v":0},{"$f":"COUNTIFS(HData!$O$3:$O$48828,\">=\"&SDate,HData!$O$3:$O$48828,\"<=\"&RDate,HData!$BP$3:$BP$48828,$I306,HData!$BK$3:$BK$48828,H$124,HData!$F$3:$F$48828,$J306,HData!$BR$3:$BR$48828,$K306,HData!$W$3:$W$48828,\"<>\",HData!$AB$3:$AB$48828,TRUE)","v":0},"BME",1,3]
[null,"Age at PO"]
["CHILDREN WAITING > 4 mo",0,1,2,3,4,5,">5","BME","Disability","Sibling"]
["White, single child, no disability",{"$f":"COUNTIFS(HData!$BT$3:$BT$48828,TRUE,HData!$BP$3:$BP$48828,$I167,HData!$BO$3:$BO$48828,B$124,HData!$F$3:$F$48828,$J167,HData!$BR$3:$BR$48828,$K167,HData!$AX$3:$AX$48828,\">=4\")","v":0},{"$f":"COUNTIFS(HData!$BT$3:$BT$48828,TRUE,HData!$BP$3:$BP$48828,$I167,HData!$BO$3:$BO$48828,C$124,HData!$F$3:$F$48828,$J167,HData!$BR$3:$BR$48828,$K167,HData!$AX$3:$AX$48828,\">=4\")","v":0},{"$f":"COUNTIFS(HData!$BT$3:$BT$48828,TRUE,HData!$BP$3:$BP$48828,$I167,HData!$BO$3:$BO$48828,D$124,HData!$F$3:$F$48828,$J167,HData!$BR$3:$BR$48828,$K167,HData!$AX$3:$AX$48828,\">=4\")","v":0},{"$f":"COUNTIFS(HData!$BT$3:$BT$48828,TRUE,HData!$BP$3:$BP$48828,$I167,HData!$BO$3:$BO$48828,E$124,HData!$F$3:$F$48828,$J167,HData!$BR$3:$BR$48828,$K167,HData!$AX$3:$AX$48828,\">=4\")","v":0},{"$f":"COUNTIFS(HData!$BT$3:$BT$48828,TRUE,HData!$BP$3:$BP$48828,$I167,HData!$BO$3:$BO$48828,F$124,HData!$F$3:$F$48828,$J167,HData!$BR$3:$BR$48828,$K167,HData!$AX$3:$AX$48828,\">=4\")","v":0},{"$f":"COUNTIFS(HData!$BT$3:$BT$48828,TRUE,HData!$BP$3:$BP$48828,$I167,HData!$BO$3:$BO$48828,G$124,HData!$F$3:$F$48828,$J167,HData!$BR$3:$BR$48828,$K167,HData!$AX$3:$AX$48828,\">=4\")","v":0},{"$f":"COUNTIFS(HData!$BT$3:$BT$48828,TRUE,HData!$BP$3:$BP$48828,$I167,HData!$BO$3:$BO$48828,H$124,HData!$F$3:$F$48828,$J167,HData!$BR$3:$BR$48828,$K167,HData!$AX$3:$AX$48828,\">=4\")","v":0},"White",0,1]
["BME, single child, no disability",{"$f":"COUNTIFS(HData!$BT$3:$BT$48828,TRUE,HData!$BP$3:$BP$48828,$I168,HData!$BO$3:$BO$48828,B$124,HData!$F$3:$F$48828,$J168,HData!$BR$3:$BR$48828,$K168,HData!$AX$3:$AX$48828,\">=4\")","v":0},{"$f":"COUNTIFS(HData!$BT$3:$BT$48828,TRUE,HData!$BP$3:$BP$48828,$I168,HData!$BO$3:$BO$48828,C$124,HData!$F$3:$F$48828,$J168,HData!$BR$3:$BR$48828,$K168,HData!$AX$3:$AX$48828,\">=4\")","v":0},{"$f":"COUNTIFS(HData!$BT$3:$BT$48828,TRUE,HData!$BP$3:$BP$48828,$I168,HData!$BO$3:$BO$48828,D$124,HData!$F$3:$F$48828,$J168,HData!$BR$3:$BR$48828,$K168,HData!$AX$3:$AX$48828,\">=4\")","v":0},{"$f":"COUNTIFS(HData!$BT$3:$BT$48828,TRUE,HData!$BP$3:$BP$48828,$I168,HData!$BO$3:$BO$48828,E$124,HData!$F$3:$F$48828,$J168,HData!$BR$3:$BR$48828,$K168,HData!$AX$3:$AX$48828,\">=4\")","v":0},{"$f":"COUNTIFS(HData!$BT$3:$BT$48828,TRUE,HData!$BP$3:$BP$48828,$I168,HData!$BO$3:$BO$48828,F$124,HData!$F$3:$F$48828,$J168,HData!$BR$3:$BR$48828,$K168,HData!$AX$3:$AX$48828,\">=4\")","v":0},{"$f":"COUNTIFS(HData!$BT$3:$BT$48828,TRUE,HData!$BP$3:$BP$48828,$I168,HData!$BO$3:$BO$48828,G$124,HData!$F$3:$F$48828,$J168,HData!$BR$3:$BR$48828,$K168,HData!$AX$3:$AX$48828,\">=4\")","v":0},{"$f":"COUNTIFS(HData!$BT$3:$BT$48828,TRUE,HData!$BP$3:$BP$48828,$I168,HData!$BO$3:$BO$48828,H$124,HData!$F$3:$F$48828,$J168,HData!$BR$3:$BR$48828,$K168,HData!$AX$3:$AX$48828,\">=4\")","v":0},"BME",0,1]
["White, single child, with disability",{"$f":"COUNTIFS(HData!$BT$3:$BT$48828,TRUE,HData!$BP$3:$BP$48828,$I169,HData!$BO$3:$BO$48828,B$124,HData!$F$3:$F$48828,$J169,HData!$BR$3:$BR$48828,$K169,HData!$AX$3:$AX$48828,\">=4\")","v":0},{"$f":"COUNTIFS(HData!$BT$3:$BT$48828,TRUE,HData!$BP$3:$BP$48828,$I169,HData!$BO$3:$BO$48828,C$124,HData!$F$3:$F$48828,$J169,HData!$BR$3:$BR$48828,$K169,HData!$AX$3:$AX$48828,\">=4\")","v":0},{"$f":"COUNTIFS(HData!$BT$3:$BT$48828,TRUE,HData!$BP$3:$BP$48828,$I169,HData!$BO$3:$BO$48828,D$124,HData!$F$3:$F$48828,$J169,HData!$BR$3:$BR$48828,$K169,HData!$AX$3:$AX$48828,\">=4\")","v":0},{"$f":"COUNTIFS(HData!$BT$3:$BT$48828,TRUE,HData!$BP$3:$BP$48828,$I169,HData!$BO$3:$BO$48828,E$124,HData!$F$3:$F$48828,$J169,HData!$BR$3:$BR$48828,$K169,HData!$AX$3:$AX$48828,\">=4\")","v":0},{"$f":"COUNTIFS(HData!$BT$3:$BT$48828,TRUE,HData!$BP$3:$BP$48828,$I169,HData!$BO$3:$BO$48828,F$124,HData!$F$3:$F$48828,$J169,HData!$BR$3:$BR$48828,$K169,HData!$AX$3:$AX$48828,\">=4\")","v":0},{"$f":"COUNTIFS(HData!$BT$3:$BT$48828,TRUE,HData!$BP$3:$BP$48828,$I169,HData!$BO$3:$BO$48828,G$124,HData!$F$3:$F$48828,$J169,HData!$BR$3:$BR$48828,$K169,HData!$AX$3:$AX$48828,\">=4\")","v":0},{"$f":"COUNTIFS(HData!$BT$3:$BT$48828,TRUE,HData!$BP$3:$BP$48828,$I169,HData!$BO$3:$BO$48828,H$124,HData!$F$3:$F$48828,$J169,HData!$BR$3:$BR$48828,$K169,HData!$AX$3:$AX$48828,\">=4\")","v":0},"White",1,1]
["BME, single child, with disability",{"$f":"COUNTIFS(HData!$BT$3:$BT$48828,TRUE,HData!$BP$3:$BP$48828,$I170,HData!$BO$3:$BO$48828,B$124,HData!$F$3:$F$48828,$J170,HData!$BR$3:$BR$48828,$K170,HData!$AX$3:$AX$48828,\">=4\")","v":0},{"$f":"COUNTIFS(HData!$BT$3:$BT$48828,TRUE,HData!$BP$3:$BP$48828,$I170,HData!$BO$3:$BO$48828,C$124,HData!$F$3:$F$48828,$J170,HData!$BR$3:$BR$48828,$K170,HData!$AX$3:$AX$48828,\">=4\")","v":0},{"$f":"COUNTIFS(HData!$BT$3:$BT$48828,TRUE,HData!$BP$3:$BP$48828,$I170,HData!$BO$3:$BO$48828,D$124,HData!$F$3:$F$48828,$J170,HData!$BR$3:$BR$48828,$K170,HData!$AX$3:$AX$48828,\">=4\")","v":0},{"$f":"COUNTIFS(HData!$BT$3:$BT$48828,TRUE,HData!$BP$3:$BP$48828,$I170,HData!$BO$3:$BO$48828,E$124,HData!$F$3:$F$48828,$J170,HData!$BR$3:$BR$48828,$K170,HData!$AX$3:$AX$48828,\">=4\")","v":0},{"$f":"COUNTIFS(HData!$BT$3:$BT$48828,TRUE,HData!$BP$3:$BP$48828,$I170,HData!$BO$3:$BO$48828,F$124,HData!$F$3:$F$48828,$J170,HData!$BR$3:$BR$48828,$K170,HData!$AX$3:$AX$48828,\">=4\")","v":0},{"$f":"COUNTIFS(HData!$BT$3:$BT$48828,TRUE,HData!$BP$3:$BP$48828,$I170,HData!$BO$3:$BO$48828,G$124,HData!$F$3:$F$48828,$J170,HData!$BR$3:$BR$48828,$K170,HData!$AX$3:$AX$48828,\">=4\")","v":0},{"$f":"COUNTIFS(HData!$BT$3:$BT$48828,TRUE,HData!$BP$3:$BP$48828,$I170,HData!$BO$3:$BO$48828,H$124,HData!$F$3:$F$48828,$J170,HData!$BR$3:$BR$48828,$K170,HData!$AX$3:$AX$48828,\">=4\")","v":0},"BME",1,1]
["White, sibling group of 2, no disability",{"$f":"COUNTIFS(HData!$BT$3:$BT$48828,TRUE,HData!$BP$3:$BP$48828,$I171,HData!$BO$3:$BO$48828,B$124,HData!$F$3:$F$48828,$J171,HData!$BR$3:$BR$48828,$K171,HData!$AX$3:$AX$48828,\">=4\")","v":0},{"$f":"COUNTIFS(HData!$BT$3:$BT$48828,TRUE,HData!$BP$3:$BP$48828,$I171,HData!$BO$3:$BO$48828,C$124,HData!$F$3:$F$48828,$J171,HData!$BR$3:$BR$48828,$K171,HData!$AX$3:$AX$48828,\">=4\")","v":0},{"$f":"COUNTIFS(HData!$BT$3:$BT$48828,TRUE,HData!$BP$3:$BP$48828,$I171,HData!$BO$3:$BO$48828,D$124,HData!$F$3:$F$48828,$J171,HData!$BR$3:$BR$48828,$K171,HData!$AX$3:$AX$48828,\">=4\")","v":0},{"$f":"COUNTIFS(HData!$BT$3:$BT$48828,TRUE,HData!$BP$3:$BP$48828,$I171,HData!$BO$3:$BO$48828,E$124,HData!$F$3:$F$48828,$J171,HData!$BR$3:$BR$48828,$K171,HData!$AX$3:$AX$48828,\">=4\")","v":0},{"$f":"COUNTIFS(HData!$BT$3:$BT$48828,TRUE,HData!$BP$3:$BP$48828,$I171,HData!$BO$3:$BO$48828,F$124,HData!$F$3:$F$48828,$J171,HData!$BR$3:$BR$48828,$K171,HData!$AX$3:$AX$48828,\">=4\")","v":0},{"$f":"COUNTIFS(HData!$BT$3:$BT$48828,TRUE,HData!$BP$3:$BP$48828,$I171,HData!$BO$3:$BO$48828,G$124,HData!$F$3:$F$48828,$J171,HData!$BR$3:$BR$48828,$K171,HData!$AX$3:$AX$48828,\">=4\")","v":0},{"$f":"COUNTIFS(HData!$BT$3:$BT$48828,TRUE,HData!$BP$3:$BP$48828,$I171,HData!$BO$3:$BO$48828,H$124,HData!$F$3:$F$48828,$J171,HData!$BR$3:$BR$48828,$K171,HData!$AX$3:$AX$48828,\">=4\")","v":0},"White",0,2]
["BME, sibling group of 2, no disability",{"$f":"COUNTIFS(HData!$BT$3:$BT$48828,TRUE,HData!$BP$3:$BP$48828,$I172,HData!$BO$3:$BO$48828,B$124,HData!$F$3:$F$48828,$J172,HData!$BR$3:$BR$48828,$K172,HData!$AX$3:$AX$48828,\">=4\")","v":0},{"$f":"COUNTIFS(HData!$BT$3:$BT$48828,TRUE,HData!$BP$3:$BP$48828,$I172,HData!$BO$3:$BO$48828,C$124,HData!$F$3:$F$48828,$J172,HData!$BR$3:$BR$48828,$K172,HData!$AX$3:$AX$48828,\">=4\")","v":0},{"$f":"COUNTIFS(HData!$BT$3:$BT$48828,TRUE,HData!$BP$3:$BP$48828,$I172,HData!$BO$3:$BO$48828,D$124,HData!$F$3:$F$48828,$J172,HData!$BR$3:$BR$48828,$K172,HData!$AX$3:$AX$48828,\">=4\")","v":0},{"$f":"COUNTIFS(HData!$BT$3:$BT$48828,TRUE,HData!$BP$3:$BP$48828,$I172,HData!$BO$3:$BO$48828,E$124,HData!$F$3:$F$48828,$J172,HData!$BR$3:$BR$48828,$K172,HData!$AX$3:$AX$48828,\">=4\")","v":0},{"$f":"COUNTIFS(HData!$BT$3:$BT$48828,TRUE,HData!$BP$3:$BP$48828,$I172,HData!$BO$3:$BO$48828,F$124,HData!$F$3:$F$48828,$J172,HData!$BR$3:$BR$48828,$K172,HData!$AX$3:$AX$48828,\">=4\")","v":0},{"$f":"COUNTIFS(HData!$BT$3:$BT$48828,TRUE,HData!$BP$3:$BP$48828,$I172,HData!$BO$3:$BO$48828,G$124,HData!$F$3:$F$48828,$J172,HData!$BR$3:$BR$48828,$K172,HData!$AX$3:$AX$48828,\">=4\")","v":0},{"$f":"COUNTIFS(HData!$BT$3:$BT$48828,TRUE,HData!$BP$3:$BP$48828,$I172,HData!$BO$3:$BO$48828,H$124,HData!$F$3:$F$48828,$J172,HData!$BR$3:$BR$48828,$K172,HData!$AX$3:$AX$48828,\">=4\")","v":0},"BME",0,2]
["White, sibling group of 2, with disability",{"$f":"COUNTIFS(HData!$BT$3:$BT$48828,TRUE,HData!$BP$3:$BP$48828,$I173,HData!$BO$3:$BO$48828,B$124,HData!$F$3:$F$48828,$J173,HData!$BR$3:$BR$48828,$K173,HData!$AX$3:$AX$48828,\">=4\")","v":0},{"$f":"COUNTIFS(HData!$BT$3:$BT$48828,TRUE,HData!$BP$3:$BP$48828,$I173,HData!$BO$3:$BO$48828,C$124,HData!$F$3:$F$48828,$J173,HData!$BR$3:$BR$48828,$K173,HData!$AX$3:$AX$48828,\">=4\")","v":0},{"$f":"COUNTIFS(HData!$BT$3:$BT$48828,TRUE,HData!$BP$3:$BP$48828,$I173,HData!$BO$3:$BO$48828,D$124,HData!$F$3:$F$48828,$J173,HData!$BR$3:$BR$48828,$K173,HData!$AX$3:$AX$48828,\">=4\")","v":0},{"$f":"COUNTIFS(HData!$BT$3:$BT$48828,TRUE,HData!$BP$3:$BP$48828,$I173,HData!$BO$3:$BO$48828,E$124,HData!$F$3:$F$48828,$J173,HData!$BR$3:$BR$48828,$K173,HData!$AX$3:$AX$48828,\">=4\")","v":0},{"$f":"COUNTIFS(HData!$BT$3:$BT$48828,TRUE,HData!$BP$3:$BP$48828,$I173,HData!$BO$3:$BO$48828,F$124,HData!$F$3:$F$48828,$J173,HData!$BR$3:$BR$48828,$K173,HData!$AX$3:$AX$48828,\">=4\")","v":0},{"$f":"COUNTIFS(HData!$BT$3:$BT$48828,TRUE,HData!$BP$3:$BP$48828,$I173,HData!$BO$3:$BO$48828,G$124,HData!$F$3:$F$48828,$J173,HData!$BR$3:$BR$48828,$K173,HData!$AX$3:$AX$48828,\">=4\")","v":0},{"$f":"COUNTIFS(HData!$BT$3:$BT$48828,TRUE,HData!$BP$3:$BP$48828,$I173,HData!$BO$3:$BO$48828,H$124,HData!$F$3:$F$48828,$J173,HData!$BR$3:$BR$48828,$K173,HData!$AX$3:$AX$48828,\">=4\")","v":0},"White",1,2]
["BME, sibling group of 2, with disability",{"$f":"COUNTIFS(HData!$BT$3:$BT$48828,TRUE,HData!$BP$3:$BP$48828,$I174,HData!$BO$3:$BO$48828,B$124,HData!$F$3:$F$48828,$J174,HData!$BR$3:$BR$48828,$K174,HData!$AX$3:$AX$48828,\">=4\")","v":0},{"$f":"COUNTIFS(HData!$BT$3:$BT$48828,TRUE,HData!$BP$3:$BP$48828,$I174,HData!$BO$3:$BO$48828,C$124,HData!$F$3:$F$48828,$J174,HData!$BR$3:$BR$48828,$K174,HData!$AX$3:$AX$48828,\">=4\")","v":0},{"$f":"COUNTIFS(HData!$BT$3:$BT$48828,TRUE,HData!$BP$3:$BP$48828,$I174,HData!$BO$3:$BO$48828,D$124,HData!$F$3:$F$48828,$J174,HData!$BR$3:$BR$48828,$K174,HData!$AX$3:$AX$48828,\">=4\")","v":0},{"$f":"COUNTIFS(HData!$BT$3:$BT$48828,TRUE,HData!$BP$3:$BP$48828,$I174,HData!$BO$3:$BO$48828,E$124,HData!$F$3:$F$48828,$J174,HData!$BR$3:$BR$48828,$K174,HData!$AX$3:$AX$48828,\">=4\")","v":0},{"$f":"COUNTIFS(HData!$BT$3:$BT$48828,TRUE,HData!$BP$3:$BP$48828,$I174,HData!$BO$3:$BO$48828,F$124,HData!$F$3:$F$48828,$J174,HData!$BR$3:$BR$48828,$K174,HData!$AX$3:$AX$48828,\">=4\")","v":0},{"$f":"COUNTIFS(HData!$BT$3:$BT$48828,TRUE,HData!$BP$3:$BP$48828,$I174,HData!$BO$3:$BO$48828,G$124,HData!$F$3:$F$48828,$J174,HData!$BR$3:$BR$48828,$K174,HData!$AX$3:$AX$48828,\">=4\")","v":0},{"$f":"COUNTIFS(HData!$BT$3:$BT$48828,TRUE,HData!$BP$3:$BP$48828,$I174,HData!$BO$3:$BO$48828,H$124,HData!$F$3:$F$48828,$J174,HData!$BR$3:$BR$48828,$K174,HData!$AX$3:$AX$48828,\">=4\")","v":0},"BME",1,2]
["White, sibling group of 3, no disability",{"$f":"COUNTIFS(HData!$BT$3:$BT$48828,TRUE,HData!$BP$3:$BP$48828,$I175,HData!$BO$3:$BO$48828,B$124,HData!$F$3:$F$48828,$J175,HData!$BR$3:$BR$48828,$K175,HData!$AX$3:$AX$48828,\">=4\")","v":0},{"$f":"COUNTIFS(HData!$BT$3:$BT$48828,TRUE,HData!$BP$3:$BP$48828,$I175,HData!$BO$3:$BO$48828,C$124,HData!$F$3:$F$48828,$J175,HData!$BR$3:$BR$48828,$K175,HData!$AX$3:$AX$48828,\">=4\")","v":0},{"$f":"COUNTIFS(HData!$BT$3:$BT$48828,TRUE,HData!$BP$3:$BP$48828,$I175,HData!$BO$3:$BO$48828,D$124,HData!$F$3:$F$48828,$J175,HData!$BR$3:$BR$48828,$K175,HData!$AX$3:$AX$48828,\">=4\")","v":0},{"$f":"COUNTIFS(HData!$BT$3:$BT$48828,TRUE,HData!$BP$3:$BP$48828,$I175,HData!$BO$3:$BO$48828,E$124,HData!$F$3:$F$48828,$J175,HData!$BR$3:$BR$48828,$K175,HData!$AX$3:$AX$48828,\">=4\")","v":0},{"$f":"COUNTIFS(HData!$BT$3:$BT$48828,TRUE,HData!$BP$3:$BP$48828,$I175,HData!$BO$3:$BO$48828,F$124,HData!$F$3:$F$48828,$J175,HData!$BR$3:$BR$48828,$K175,HData!$AX$3:$AX$48828,\">=4\")","v":0},{"$f":"COUNTIFS(HData!$BT$3:$BT$48828,TRUE,HData!$BP$3:$BP$48828,$I175,HData!$BO$3:$BO$48828,G$124,HData!$F$3:$F$48828,$J175,HData!$BR$3:$BR$48828,$K175,HData!$AX$3:$AX$48828,\">=4\")","v":0},{"$f":"COUNTIFS(HData!$BT$3:$BT$48828,TRUE,HData!$BP$3:$BP$48828,$I175,HData!$BO$3:$BO$48828,H$124,HData!$F$3:$F$48828,$J175,HData!$BR$3:$BR$48828,$K175,HData!$AX$3:$AX$48828,\">=4\")","v":0},"White",0,3]
["BME, sibling group of 3, no disability",{"$f":"COUNTIFS(HData!$BT$3:$BT$48828,TRUE,HData!$BP$3:$BP$48828,$I176,HData!$BO$3:$BO$48828,B$124,HData!$F$3:$F$48828,$J176,HData!$BR$3:$BR$48828,$K176,HData!$AX$3:$AX$48828,\">=4\")","v":0},{"$f":"COUNTIFS(HData!$BT$3:$BT$48828,TRUE,HData!$BP$3:$BP$48828,$I176,HData!$BO$3:$BO$48828,C$124,HData!$F$3:$F$48828,$J176,HData!$BR$3:$BR$48828,$K176,HData!$AX$3:$AX$48828,\">=4\")","v":0},{"$f":"COUNTIFS(HData!$BT$3:$BT$48828,TRUE,HData!$BP$3:$BP$48828,$I176,HData!$BO$3:$BO$48828,D$124,HData!$F$3:$F$48828,$J176,HData!$BR$3:$BR$48828,$K176,HData!$AX$3:$AX$48828,\">=4\")","v":0},{"$f":"COUNTIFS(HData!$BT$3:$BT$48828,TRUE,HData!$BP$3:$BP$48828,$I176,HData!$BO$3:$BO$48828,E$124,HData!$F$3:$F$48828,$J176,HData!$BR$3:$BR$48828,$K176,HData!$AX$3:$AX$48828,\">=4\")","v":0},{"$f":"COUNTIFS(HData!$BT$3:$BT$48828,TRUE,HData!$BP$3:$BP$48828,$I176,HData!$BO$3:$BO$48828,F$124,HData!$F$3:$F$48828,$J176,HData!$BR$3:$BR$48828,$K176,HData!$AX$3:$AX$48828,\">=4\")","v":0},{"$f":"COUNTIFS(HData!$BT$3:$BT$48828,TRUE,HData!$BP$3:$BP$48828,$I176,HData!$BO$3:$BO$48828,G$124,HData!$F$3:$F$48828,$J176,HData!$BR$3:$BR$48828,$K176,HData!$AX$3:$AX$48828,\">=4\")","v":0},{"$f":"COUNTIFS(HData!$BT$3:$BT$48828,TRUE,HData!$BP$3:$BP$48828,$I176,HData!$BO$3:$BO$48828,H$124,HData!$F$3:$F$48828,$J176,HData!$BR$3:$BR$48828,$K176,HData!$AX$3:$AX$48828,\">=4\")","v":0},"BME",0,3]
["White, sibling group of 3, with disability",{"$f":"COUNTIFS(HData!$BT$3:$BT$48828,TRUE,HData!$BP$3:$BP$48828,$I177,HData!$BO$3:$BO$48828,B$124,HData!$F$3:$F$48828,$J177,HData!$BR$3:$BR$48828,$K177,HData!$AX$3:$AX$48828,\">=4\")","v":0},{"$f":"COUNTIFS(HData!$BT$3:$BT$48828,TRUE,HData!$BP$3:$BP$48828,$I177,HData!$BO$3:$BO$48828,C$124,HData!$F$3:$F$48828,$J177,HData!$BR$3:$BR$48828,$K177,HData!$AX$3:$AX$48828,\">=4\")","v":0},{"$f":"COUNTIFS(HData!$BT$3:$BT$48828,TRUE,HData!$BP$3:$BP$48828,$I177,HData!$BO$3:$BO$48828,D$124,HData!$F$3:$F$48828,$J177,HData!$BR$3:$BR$48828,$K177,HData!$AX$3:$AX$48828,\">=4\")","v":0},{"$f":"COUNTIFS(HData!$BT$3:$BT$48828,TRUE,HData!$BP$3:$BP$48828,$I177,HData!$BO$3:$BO$48828,E$124,HData!$F$3:$F$48828,$J177,HData!$BR$3:$BR$48828,$K177,HData!$AX$3:$AX$48828,\">=4\")","v":0},{"$f":"COUNTIFS(HData!$BT$3:$BT$48828,TRUE,HData!$BP$3:$BP$48828,$I177,HData!$BO$3:$BO$48828,F$124,HData!$F$3:$F$48828,$J177,HData!$BR$3:$BR$48828,$K177,HData!$AX$3:$AX$48828,\">=4\")","v":0},{"$f":"COUNTIFS(HData!$BT$3:$BT$48828,TRUE,HData!$BP$3:$BP$48828,$I177,HData!$BO$3:$BO$48828,G$124,HData!$F$3:$F$48828,$J177,HData!$BR$3:$BR$48828,$K177,HData!$AX$3:$AX$48828,\">=4\")","v":0},{"$f":"COUNTIFS(HData!$BT$3:$BT$48828,TRUE,HData!$BP$3:$BP$48828,$I177,HData!$BO$3:$BO$48828,H$124,HData!$F$3:$F$48828,$J177,HData!$BR$3:$BR$48828,$K177,HData!$AX$3:$AX$48828,\">=4\")","v":0},"White",1,3]
["BME, sibling group of 3, with disability",{"$f":"COUNTIFS(HData!$BT$3:$BT$48828,TRUE,HData!$BP$3:$BP$48828,$I178,HData!$BO$3:$BO$48828,B$124,HData!$F$3:$F$48828,$J178,HData!$BR$3:$BR$48828,$K178,HData!$AX$3:$AX$48828,\">=4\")","v":0},{"$f":"COUNTIFS(HData!$BT$3:$BT$48828,TRUE,HData!$BP$3:$BP$48828,$I178,HData!$BO$3:$BO$48828,C$124,HData!$F$3:$F$48828,$J178,HData!$BR$3:$BR$48828,$K178,HData!$AX$3:$AX$48828,\">=4\")","v":0},{"$f":"COUNTIFS(HData!$BT$3:$BT$48828,TRUE,HData!$BP$3:$BP$48828,$I178,HData!$BO$3:$BO$48828,D$124,HData!$F$3:$F$48828,$J178,HData!$BR$3:$BR$48828,$K178,HData!$AX$3:$AX$48828,\">=4\")","v":0},{"$f":"COUNTIFS(HData!$BT$3:$BT$48828,TRUE,HData!$BP$3:$BP$48828,$I178,HData!$BO$3:$BO$48828,E$124,HData!$F$3:$F$48828,$J178,HData!$BR$3:$BR$48828,$K178,HData!$AX$3:$AX$48828,\">=4\")","v":0},{"$f":"COUNTIFS(HData!$BT$3:$BT$48828,TRUE,HData!$BP$3:$BP$48828,$I178,HData!$BO$3:$BO$48828,F$124,HData!$F$3:$F$48828,$J178,HData!$BR$3:$BR$48828,$K178,HData!$AX$3:$AX$48828,\">=4\")","v":0},{"$f":"COUNTIFS(HData!$BT$3:$BT$48828,TRUE,HData!$BP$3:$BP$48828,$I178,HData!$BO$3:$BO$48828,G$124,HData!$F$3:$F$48828,$J178,HData!$BR$3:$BR$48828,$K178,HData!$AX$3:$AX$48828,\">=4\")","v":0},{"$f":"COUNTIFS(HData!$BT$3:$BT$48828,TRUE,HData!$BP$3:$BP$48828,$I178,HData!$BO$3:$BO$48828,H$124,HData!$F$3:$F$48828,$J178,HData!$BR$3:$BR$48828,$K178,HData!$AX$3:$AX$48828,\">=4\")","v":0},"BME",1,3]
[null,"Age at ADM"]
["CHILDREN WITH ADM BID",0,1,2,3,4,5,">5","BME","Disability","Sibling"]
["White, single child, no disability",{"$f":"COUNTIFS(HData!$N$3:$N$48828,\">=\"&SDate,HData!$N$3:$N$48828,\"<=\"&RDate,HData!$BP$3:$BP$48828,$I323,HData!$BJ$3:$BJ$48828,B$124,HData!$F$3:$F$48828,$J323,HData!$BR$3:$BR$48828,$K323,HData!$AB$3:$AB$48828,TRUE)","v":0},{"$f":"COUNTIFS(HData!$N$3:$N$48828,\">=\"&SDate,HData!$N$3:$N$48828,\"<=\"&RDate,HData!$BP$3:$BP$48828,$I323,HData!$BJ$3:$BJ$48828,C$124,HData!$F$3:$F$48828,$J323,HData!$BR$3:$BR$48828,$K323,HData!$AB$3:$AB$48828,TRUE)","v":0},{"$f":"COUNTIFS(HData!$N$3:$N$48828,\">=\"&SDate,HData!$N$3:$N$48828,\"<=\"&RDate,HData!$BP$3:$BP$48828,$I323,HData!$BJ$3:$BJ$48828,D$124,HData!$F$3:$F$48828,$J323,HData!$BR$3:$BR$48828,$K323,HData!$AB$3:$AB$48828,TRUE)","v":0},{"$f":"COUNTIFS(HData!$N$3:$N$48828,\">=\"&SDate,HData!$N$3:$N$48828,\"<=\"&RDate,HData!$BP$3:$BP$48828,$I323,HData!$BJ$3:$BJ$48828,E$124,HData!$F$3:$F$48828,$J323,HData!$BR$3:$BR$48828,$K323,HData!$AB$3:$AB$48828,TRUE)","v":0},{"$f":"COUNTIFS(HData!$N$3:$N$48828,\">=\"&SDate,HData!$N$3:$N$48828,\"<=\"&RDate,HData!$BP$3:$BP$48828,$I323,HData!$BJ$3:$BJ$48828,F$124,HData!$F$3:$F$48828,$J323,HData!$BR$3:$BR$48828,$K323,HData!$AB$3:$AB$48828,TRUE)","v":0},{"$f":"COUNTIFS(HData!$N$3:$N$48828,\">=\"&SDate,HData!$N$3:$N$48828,\"<=\"&RDate,HData!$BP$3:$BP$48828,$I323,HData!$BJ$3:$BJ$48828,G$124,HData!$F$3:$F$48828,$J323,HData!$BR$3:$BR$48828,$K323,HData!$AB$3:$AB$48828,TRUE)","v":0},{"$f":"COUNTIFS(HData!$N$3:$N$48828,\">=\"&SDate,HData!$N$3:$N$48828,\"<=\"&RDate,HData!$BP$3:$BP$48828,$I323,HData!$BJ$3:$BJ$48828,H$124,HData!$F$3:$F$48828,$J323,HData!$BR$3:$BR$48828,$K323,HData!$AB$3:$AB$48828,TRUE)","v":0},"White",0,1]
["BME, single child, no disability",{"$f":"COUNTIFS(HData!$N$3:$N$48828,\">=\"&SDate,HData!$N$3:$N$48828,\"<=\"&RDate,HData!$BP$3:$BP$48828,$I324,HData!$BJ$3:$BJ$48828,B$124,HData!$F$3:$F$48828,$J324,HData!$BR$3:$BR$48828,$K324,HData!$AB$3:$AB$48828,TRUE)","v":0},{"$f":"COUNTIFS(HData!$N$3:$N$48828,\">=\"&SDate,HData!$N$3:$N$48828,\"<=\"&RDate,HData!$BP$3:$BP$48828,$I324,HData!$BJ$3:$BJ$48828,C$124,HData!$F$3:$F$48828,$J324,HData!$BR$3:$BR$48828,$K324,HData!$AB$3:$AB$48828,TRUE)","v":0},{"$f":"COUNTIFS(HData!$N$3:$N$48828,\">=\"&SDate,HData!$N$3:$N$48828,\"<=\"&RDate,HData!$BP$3:$BP$48828,$I324,HData!$BJ$3:$BJ$48828,D$124,HData!$F$3:$F$48828,$J324,HData!$BR$3:$BR$48828,$K324,HData!$AB$3:$AB$48828,TRUE)","v":0},{"$f":"COUNTIFS(HData!$N$3:$N$48828,\">=\"&SDate,HData!$N$3:$N$48828,\"<=\"&RDate,HData!$BP$3:$BP$48828,$I324,HData!$BJ$3:$BJ$48828,E$124,HData!$F$3:$F$48828,$J324,HData!$BR$3:$BR$48828,$K324,HData!$AB$3:$AB$48828,TRUE)","v":0},{"$f":"COUNTIFS(HData!$N$3:$N$48828,\">=\"&SDate,HData!$N$3:$N$48828,\"<=\"&RDate,HData!$BP$3:$BP$48828,$I324,HData!$BJ$3:$BJ$48828,F$124,HData!$F$3:$F$48828,$J324,HData!$BR$3:$BR$48828,$K324,HData!$AB$3:$AB$48828,TRUE)","v":0},{"$f":"COUNTIFS(HData!$N$3:$N$48828,\">=\"&SDate,HData!$N$3:$N$48828,\"<=\"&RDate,HData!$BP$3:$BP$48828,$I324,HData!$BJ$3:$BJ$48828,G$124,HData!$F$3:$F$48828,$J324,HData!$BR$3:$BR$48828,$K324,HData!$AB$3:$AB$48828,TRUE)","v":0},{"$f":"COUNTIFS(HData!$N$3:$N$48828,\">=\"&SDate,HData!$N$3:$N$48828,\"<=\"&RDate,HData!$BP$3:$BP$48828,$I324,HData!$BJ$3:$BJ$48828,H$124,HData!$F$3:$F$48828,$J324,HData!$BR$3:$BR$48828,$K324,HData!$AB$3:$AB$48828,TRUE)","v":0},"BME",0,1]
["White, single child, with disability",{"$f":"COUNTIFS(HData!$N$3:$N$48828,\">=\"&SDate,HData!$N$3:$N$48828,\"<=\"&RDate,HData!$BP$3:$BP$48828,$I325,HData!$BJ$3:$BJ$48828,B$124,HData!$F$3:$F$48828,$J325,HData!$BR$3:$BR$48828,$K325,HData!$AB$3:$AB$48828,TRUE)","v":0},{"$f":"COUNTIFS(HData!$N$3:$N$48828,\">=\"&SDate,HData!$N$3:$N$48828,\"<=\"&RDate,HData!$BP$3:$BP$48828,$I325,HData!$BJ$3:$BJ$48828,C$124,HData!$F$3:$F$48828,$J325,HData!$BR$3:$BR$48828,$K325,HData!$AB$3:$AB$48828,TRUE)","v":0},{"$f":"COUNTIFS(HData!$N$3:$N$48828,\">=\"&SDate,HData!$N$3:$N$48828,\"<=\"&RDate,HData!$BP$3:$BP$48828,$I325,HData!$BJ$3:$BJ$48828,D$124,HData!$F$3:$F$48828,$J325,HData!$BR$3:$BR$48828,$K325,HData!$AB$3:$AB$48828,TRUE)","v":0},{"$f":"COUNTIFS(HData!$N$3:$N$48828,\">=\"&SDate,HData!$N$3:$N$48828,\"<=\"&RDate,HData!$BP$3:$BP$48828,$I325,HData!$BJ$3:$BJ$48828,E$124,HData!$F$3:$F$48828,$J325,HData!$BR$3:$BR$48828,$K325,HData!$AB$3:$AB$48828,TRUE)","v":0},{"$f":"COUNTIFS(HData!$N$3:$N$48828,\">=\"&SDate,HData!$N$3:$N$48828,\"<=\"&RDate,HData!$BP$3:$BP$48828,$I325,HData!$BJ$3:$BJ$48828,F$124,HData!$F$3:$F$48828,$J325,HData!$BR$3:$BR$48828,$K325,HData!$AB$3:$AB$48828,TRUE)","v":0},{"$f":"COUNTIFS(HData!$N$3:$N$48828,\">=\"&SDate,HData!$N$3:$N$48828,\"<=\"&RDate,HData!$BP$3:$BP$48828,$I325,HData!$BJ$3:$BJ$48828,G$124,HData!$F$3:$F$48828,$J325,HData!$BR$3:$BR$48828,$K325,HData!$AB$3:$AB$48828,TRUE)","v":0},{"$f":"COUNTIFS(HData!$N$3:$N$48828,\">=\"&SDate,HData!$N$3:$N$48828,\"<=\"&RDate,HData!$BP$3:$BP$48828,$I325,HData!$BJ$3:$BJ$48828,H$124,HData!$F$3:$F$48828,$J325,HData!$BR$3:$BR$48828,$K325,HData!$AB$3:$AB$48828,TRUE)","v":0},"White",1,1]
["BME, single child, with disability",{"$f":"COUNTIFS(HData!$N$3:$N$48828,\">=\"&SDate,HData!$N$3:$N$48828,\"<=\"&RDate,HData!$BP$3:$BP$48828,$I326,HData!$BJ$3:$BJ$48828,B$124,HData!$F$3:$F$48828,$J326,HData!$BR$3:$BR$48828,$K326,HData!$AB$3:$AB$48828,TRUE)","v":0},{"$f":"COUNTIFS(HData!$N$3:$N$48828,\">=\"&SDate,HData!$N$3:$N$48828,\"<=\"&RDate,HData!$BP$3:$BP$48828,$I326,HData!$BJ$3:$BJ$48828,C$124,HData!$F$3:$F$48828,$J326,HData!$BR$3:$BR$48828,$K326,HData!$AB$3:$AB$48828,TRUE)","v":0},{"$f":"COUNTIFS(HData!$N$3:$N$48828,\">=\"&SDate,HData!$N$3:$N$48828,\"<=\"&RDate,HData!$BP$3:$BP$48828,$I326,HData!$BJ$3:$BJ$48828,D$124,HData!$F$3:$F$48828,$J326,HData!$BR$3:$BR$48828,$K326,HData!$AB$3:$AB$48828,TRUE)","v":0},{"$f":"COUNTIFS(HData!$N$3:$N$48828,\">=\"&SDate,HData!$N$3:$N$48828,\"<=\"&RDate,HData!$BP$3:$BP$48828,$I326,HData!$BJ$3:$BJ$48828,E$124,HData!$F$3:$F$48828,$J326,HData!$BR$3:$BR$48828,$K326,HData!$AB$3:$AB$48828,TRUE)","v":0},{"$f":"COUNTIFS(HData!$N$3:$N$48828,\">=\"&SDate,HData!$N$3:$N$48828,\"<=\"&RDate,HData!$BP$3:$BP$48828,$I326,HData!$BJ$3:$BJ$48828,F$124,HData!$F$3:$F$48828,$J326,HData!$BR$3:$BR$48828,$K326,HData!$AB$3:$AB$48828,TRUE)","v":0},{"$f":"COUNTIFS(HData!$N$3:$N$48828,\">=\"&SDate,HData!$N$3:$N$48828,\"<=\"&RDate,HData!$BP$3:$BP$48828,$I326,HData!$BJ$3:$BJ$48828,G$124,HData!$F$3:$F$48828,$J326,HData!$BR$3:$BR$48828,$K326,HData!$AB$3:$AB$48828,TRUE)","v":0},{"$f":"COUNTIFS(HData!$N$3:$N$48828,\">=\"&SDate,HData!$N$3:$N$48828,\"<=\"&RDate,HData!$BP$3:$BP$48828,$I326,HData!$BJ$3:$BJ$48828,H$124,HData!$F$3:$F$48828,$J326,HData!$BR$3:$BR$48828,$K326,HData!$AB$3:$AB$48828,TRUE)","v":0},"BME",1,1]
["White, sibling group of 2, no disability",{"$f":"COUNTIFS(HData!$N$3:$N$48828,\">=\"&SDate,HData!$N$3:$N$48828,\"<=\"&RDate,HData!$BP$3:$BP$48828,$I327,HData!$BJ$3:$BJ$48828,B$124,HData!$F$3:$F$48828,$J327,HData!$BR$3:$BR$48828,$K327,HData!$AB$3:$AB$48828,TRUE)","v":0},{"$f":"COUNTIFS(HData!$N$3:$N$48828,\">=\"&SDate,HData!$N$3:$N$48828,\"<=\"&RDate,HData!$BP$3:$BP$48828,$I327,HData!$BJ$3:$BJ$48828,C$124,HData!$F$3:$F$48828,$J327,HData!$BR$3:$BR$48828,$K327,HData!$AB$3:$AB$48828,TRUE)","v":0},{"$f":"COUNTIFS(HData!$N$3:$N$48828,\">=\"&SDate,HData!$N$3:$N$48828,\"<=\"&RDate,HData!$BP$3:$BP$48828,$I327,HData!$BJ$3:$BJ$48828,D$124,HData!$F$3:$F$48828,$J327,HData!$BR$3:$BR$48828,$K327,HData!$AB$3:$AB$48828,TRUE)","v":0},{"$f":"COUNTIFS(HData!$N$3:$N$48828,\">=\"&SDate,HData!$N$3:$N$48828,\"<=\"&RDate,HData!$BP$3:$BP$48828,$I327,HData!$BJ$3:$BJ$48828,E$124,HData!$F$3:$F$48828,$J327,HData!$BR$3:$BR$48828,$K327,HData!$AB$3:$AB$48828,TRUE)","v":0},{"$f":"COUNTIFS(HData!$N$3:$N$48828,\">=\"&SDate,HData!$N$3:$N$48828,\"<=\"&RDate,HData!$BP$3:$BP$48828,$I327,HData!$BJ$3:$BJ$48828,F$124,HData!$F$3:$F$48828,$J327,HData!$BR$3:$BR$48828,$K327,HData!$AB$3:$AB$48828,TRUE)","v":0},{"$f":"COUNTIFS(HData!$N$3:$N$48828,\">=\"&SDate,HData!$N$3:$N$48828,\"<=\"&RDate,HData!$BP$3:$BP$48828,$I327,HData!$BJ$3:$BJ$48828,G$124,HData!$F$3:$F$48828,$J327,HData!$BR$3:$BR$48828,$K327,HData!$AB$3:$AB$48828,TRUE)","v":0},{"$f":"COUNTIFS(HData!$N$3:$N$48828,\">=\"&SDate,HData!$N$3:$N$48828,\"<=\"&RDate,HData!$BP$3:$BP$48828,$I327,HData!$BJ$3:$BJ$48828,H$124,HData!$F$3:$F$48828,$J327,HData!$BR$3:$BR$48828,$K327,HData!$AB$3:$AB$48828,TRUE)","v":0},"White",0,2]
["BME, sibling group of 2, no disability",{"$f":"COUNTIFS(HData!$N$3:$N$48828,\">=\"&SDate,HData!$N$3:$N$48828,\"<=\"&RDate,HData!$BP$3:$BP$48828,$I328,HData!$BJ$3:$BJ$48828,B$124,HData!$F$3:$F$48828,$J328,HData!$BR$3:$BR$48828,$K328,HData!$AB$3:$AB$48828,TRUE)","v":0},{"$f":"COUNTIFS(HData!$N$3:$N$48828,\">=\"&SDate,HData!$N$3:$N$48828,\"<=\"&RDate,HData!$BP$3:$BP$48828,$I328,HData!$BJ$3:$BJ$48828,C$124,HData!$F$3:$F$48828,$J328,HData!$BR$3:$BR$48828,$K328,HData!$AB$3:$AB$48828,TRUE)","v":0},{"$f":"COUNTIFS(HData!$N$3:$N$48828,\">=\"&SDate,HData!$N$3:$N$48828,\"<=\"&RDate,HData!$BP$3:$BP$48828,$I328,HData!$BJ$3:$BJ$48828,D$124,HData!$F$3:$F$48828,$J328,HData!$BR$3:$BR$48828,$K328,HData!$AB$3:$AB$48828,TRUE)","v":0},{"$f":"COUNTIFS(HData!$N$3:$N$48828,\">=\"&SDate,HData!$N$3:$N$48828,\"<=\"&RDate,HData!$BP$3:$BP$48828,$I328,HData!$BJ$3:$BJ$48828,E$124,HData!$F$3:$F$48828,$J328,HData!$BR$3:$BR$48828,$K328,HData!$AB$3:$AB$48828,TRUE)","v":0},{"$f":"COUNTIFS(HData!$N$3:$N$48828,\">=\"&SDate,HData!$N$3:$N$48828,\"<=\"&RDate,HData!$BP$3:$BP$48828,$I328,HData!$BJ$3:$BJ$48828,F$124,HData!$F$3:$F$48828,$J328,HData!$BR$3:$BR$48828,$K328,HData!$AB$3:$AB$48828,TRUE)","v":0},{"$f":"COUNTIFS(HData!$N$3:$N$48828,\">=\"&SDate,HData!$N$3:$N$48828,\"<=\"&RDate,HData!$BP$3:$BP$48828,$I328,HData!$BJ$3:$BJ$48828,G$124,HData!$F$3:$F$48828,$J328,HData!$BR$3:$BR$48828,$K328,HData!$AB$3:$AB$48828,TRUE)","v":0},{"$f":"COUNTIFS(HData!$N$3:$N$48828,\">=\"&SDate,HData!$N$3:$N$48828,\"<=\"&RDate,HData!$BP$3:$BP$48828,$I328,HData!$BJ$3:$BJ$48828,H$124,HData!$F$3:$F$48828,$J328,HData!$BR$3:$BR$48828,$K328,HData!$AB$3:$AB$48828,TRUE)","v":0},"BME",0,2]
["White, sibling group of 2, with disability",{"$f":"COUNTIFS(HData!$N$3:$N$48828,\">=\"&SDate,HData!$N$3:$N$48828,\"<=\"&RDate,HData!$BP$3:$BP$48828,$I329,HData!$BJ$3:$BJ$48828,B$124,HData!$F$3:$F$48828,$J329,HData!$BR$3:$BR$48828,$K329,HData!$AB$3:$AB$48828,TRUE)","v":0},{"$f":"COUNTIFS(HData!$N$3:$N$48828,\">=\"&SDate,HData!$N$3:$N$48828,\"<=\"&RDate,HData!$BP$3:$BP$48828,$I329,HData!$BJ$3:$BJ$48828,C$124,HData!$F$3:$F$48828,$J329,HData!$BR$3:$BR$48828,$K329,HData!$AB$3:$AB$48828,TRUE)","v":0},{"$f":"COUNTIFS(HData!$N$3:$N$48828,\">=\"&SDate,HData!$N$3:$N$48828,\"<=\"&RDate,HData!$BP$3:$BP$48828,$I329,HData!$BJ$3:$BJ$48828,D$124,HData!$F$3:$F$48828,$J329,HData!$BR$3:$BR$48828,$K329,HData!$AB$3:$AB$48828,TRUE)","v":0},{"$f":"COUNTIFS(HData!$N$3:$N$48828,\">=\"&SDate,HData!$N$3:$N$48828,\"<=\"&RDate,HData!$BP$3:$BP$48828,$I329,HData!$BJ$3:$BJ$48828,E$124,HData!$F$3:$F$48828,$J329,HData!$BR$3:$BR$48828,$K329,HData!$AB$3:$AB$48828,TRUE)","v":0},{"$f":"COUNTIFS(HData!$N$3:$N$48828,\">=\"&SDate,HData!$N$3:$N$48828,\"<=\"&RDate,HData!$BP$3:$BP$48828,$I329,HData!$BJ$3:$BJ$48828,F$124,HData!$F$3:$F$48828,$J329,HData!$BR$3:$BR$48828,$K329,HData!$AB$3:$AB$48828,TRUE)","v":0},{"$f":"COUNTIFS(HData!$N$3:$N$48828,\">=\"&SDate,HData!$N$3:$N$48828,\"<=\"&RDate,HData!$BP$3:$BP$48828,$I329,HData!$BJ$3:$BJ$48828,G$124,HData!$F$3:$F$48828,$J329,HData!$BR$3:$BR$48828,$K329,HData!$AB$3:$AB$48828,TRUE)","v":0},{"$f":"COUNTIFS(HData!$N$3:$N$48828,\">=\"&SDate,HData!$N$3:$N$48828,\"<=\"&RDate,HData!$BP$3:$BP$48828,$I329,HData!$BJ$3:$BJ$48828,H$124,HData!$F$3:$F$48828,$J329,HData!$BR$3:$BR$48828,$K329,HData!$AB$3:$AB$48828,TRUE)","v":0},"White",1,2]
["BME, sibling group of 2, with disability",{"$f":"COUNTIFS(HData!$N$3:$N$48828,\">=\"&SDate,HData!$N$3:$N$48828,\"<=\"&RDate,HData!$BP$3:$BP$48828,$I330,HData!$BJ$3:$BJ$48828,B$124,HData!$F$3:$F$48828,$J330,HData!$BR$3:$BR$48828,$K330,HData!$AB$3:$AB$48828,TRUE)","v":0},{"$f":"COUNTIFS(HData!$N$3:$N$48828,\">=\"&SDate,HData!$N$3:$N$48828,\"<=\"&RDate,HData!$BP$3:$BP$48828,$I330,HData!$BJ$3:$BJ$48828,C$124,HData!$F$3:$F$48828,$J330,HData!$BR$3:$BR$48828,$K330,HData!$AB$3:$AB$48828,TRUE)","v":0},{"$f":"COUNTIFS(HData!$N$3:$N$48828,\">=\"&SDate,HData!$N$3:$N$48828,\"<=\"&RDate,HData!$BP$3:$BP$48828,$I330,HData!$BJ$3:$BJ$48828,D$124,HData!$F$3:$F$48828,$J330,HData!$BR$3:$BR$48828,$K330,HData!$AB$3:$AB$48828,TRUE)","v":0},{"$f":"COUNTIFS(HData!$N$3:$N$48828,\">=\"&SDate,HData!$N$3:$N$48828,\"<=\"&RDate,HData!$BP$3:$BP$48828,$I330,HData!$BJ$3:$BJ$48828,E$124,HData!$F$3:$F$48828,$J330,HData!$BR$3:$BR$48828,$K330,HData!$AB$3:$AB$48828,TRUE)","v":0},{"$f":"COUNTIFS(HData!$N$3:$N$48828,\">=\"&SDate,HData!$N$3:$N$48828,\"<=\"&RDate,HData!$BP$3:$BP$48828,$I330,HData!$BJ$3:$BJ$48828,F$124,HData!$F$3:$F$48828,$J330,HData!$BR$3:$BR$48828,$K330,HData!$AB$3:$AB$48828,TRUE)","v":0},{"$f":"COUNTIFS(HData!$N$3:$N$48828,\">=\"&SDate,HData!$N$3:$N$48828,\"<=\"&RDate,HData!$BP$3:$BP$48828,$I330,HData!$BJ$3:$BJ$48828,G$124,HData!$F$3:$F$48828,$J330,HData!$BR$3:$BR$48828,$K330,HData!$AB$3:$AB$48828,TRUE)","v":0},{"$f":"COUNTIFS(HData!$N$3:$N$48828,\">=\"&SDate,HData!$N$3:$N$48828,\"<=\"&RDate,HData!$BP$3:$BP$48828,$I330,HData!$BJ$3:$BJ$48828,H$124,HData!$F$3:$F$48828,$J330,HData!$BR$3:$BR$48828,$K330,HData!$AB$3:$AB$48828,TRUE)","v":0},"BME",1,2]
["White, sibling group of 3, no disability",{"$f":"COUNTIFS(HData!$N$3:$N$48828,\">=\"&SDate,HData!$N$3:$N$48828,\"<=\"&RDate,HData!$BP$3:$BP$48828,$I331,HData!$BJ$3:$BJ$48828,B$124,HData!$F$3:$F$48828,$J331,HData!$BR$3:$BR$48828,$K331,HData!$AB$3:$AB$48828,TRUE)","v":0},{"$f":"COUNTIFS(HData!$N$3:$N$48828,\">=\"&SDate,HData!$N$3:$N$48828,\"<=\"&RDate,HData!$BP$3:$BP$48828,$I331,HData!$BJ$3:$BJ$48828,C$124,HData!$F$3:$F$48828,$J331,HData!$BR$3:$BR$48828,$K331,HData!$AB$3:$AB$48828,TRUE)","v":0},{"$f":"COUNTIFS(HData!$N$3:$N$48828,\">=\"&SDate,HData!$N$3:$N$48828,\"<=\"&RDate,HData!$BP$3:$BP$48828,$I331,HData!$BJ$3:$BJ$48828,D$124,HData!$F$3:$F$48828,$J331,HData!$BR$3:$BR$48828,$K331,HData!$AB$3:$AB$48828,TRUE)","v":0},{"$f":"COUNTIFS(HData!$N$3:$N$48828,\">=\"&SDate,HData!$N$3:$N$48828,\"<=\"&RDate,HData!$BP$3:$BP$48828,$I331,HData!$BJ$3:$BJ$48828,E$124,HData!$F$3:$F$48828,$J331,HData!$BR$3:$BR$48828,$K331,HData!$AB$3:$AB$48828,TRUE)","v":0},{"$f":"COUNTIFS(HData!$N$3:$N$48828,\">=\"&SDate,HData!$N$3:$N$48828,\"<=\"&RDate,HData!$BP$3:$BP$48828,$I331,HData!$BJ$3:$BJ$48828,F$124,HData!$F$3:$F$48828,$J331,HData!$BR$3:$BR$48828,$K331,HData!$AB$3:$AB$48828,TRUE)","v":0},{"$f":"COUNTIFS(HData!$N$3:$N$48828,\">=\"&SDate,HData!$N$3:$N$48828,\"<=\"&RDate,HData!$BP$3:$BP$48828,$I331,HData!$BJ$3:$BJ$48828,G$124,HData!$F$3:$F$48828,$J331,HData!$BR$3:$BR$48828,$K331,HData!$AB$3:$AB$48828,TRUE)","v":0},{"$f":"COUNTIFS(HData!$N$3:$N$48828,\">=\"&SDate,HData!$N$3:$N$48828,\"<=\"&RDate,HData!$BP$3:$BP$48828,$I331,HData!$BJ$3:$BJ$48828,H$124,HData!$F$3:$F$48828,$J331,HData!$BR$3:$BR$48828,$K331,HData!$AB$3:$AB$48828,TRUE)","v":0},"White",0,3]
["BME, sibling group of 3, no disability",{"$f":"COUNTIFS(HData!$N$3:$N$48828,\">=\"&SDate,HData!$N$3:$N$48828,\"<=\"&RDate,HData!$BP$3:$BP$48828,$I332,HData!$BJ$3:$BJ$48828,B$124,HData!$F$3:$F$48828,$J332,HData!$BR$3:$BR$48828,$K332,HData!$AB$3:$AB$48828,TRUE)","v":0},{"$f":"COUNTIFS(HData!$N$3:$N$48828,\">=\"&SDate,HData!$N$3:$N$48828,\"<=\"&RDate,HData!$BP$3:$BP$48828,$I332,HData!$BJ$3:$BJ$48828,C$124,HData!$F$3:$F$48828,$J332,HData!$BR$3:$BR$48828,$K332,HData!$AB$3:$AB$48828,TRUE)","v":0},{"$f":"COUNTIFS(HData!$N$3:$N$48828,\">=\"&SDate,HData!$N$3:$N$48828,\"<=\"&RDate,HData!$BP$3:$BP$48828,$I332,HData!$BJ$3:$BJ$48828,D$124,HData!$F$3:$F$48828,$J332,HData!$BR$3:$BR$48828,$K332,HData!$AB$3:$AB$48828,TRUE)","v":0},{"$f":"COUNTIFS(HData!$N$3:$N$48828,\">=\"&SDate,HData!$N$3:$N$48828,\"<=\"&RDate,HData!$BP$3:$BP$48828,$I332,HData!$BJ$3:$BJ$48828,E$124,HData!$F$3:$F$48828,$J332,HData!$BR$3:$BR$48828,$K332,HData!$AB$3:$AB$48828,TRUE)","v":0},{"$f":"COUNTIFS(HData!$N$3:$N$48828,\">=\"&SDate,HData!$N$3:$N$48828,\"<=\"&RDate,HData!$BP$3:$BP$48828,$I332,HData!$BJ$3:$BJ$48828,F$124,HData!$F$3:$F$48828,$J332,HData!$BR$3:$BR$48828,$K332,HData!$AB$3:$AB$48828,TRUE)","v":0},{"$f":"COUNTIFS(HData!$N$3:$N$48828,\">=\"&SDate,HData!$N$3:$N$48828,\"<=\"&RDate,HData!$BP$3:$BP$48828,$I332,HData!$BJ$3:$BJ$48828,G$124,HData!$F$3:$F$48828,$J332,HData!$BR$3:$BR$48828,$K332,HData!$AB$3:$AB$48828,TRUE)","v":0},{"$f":"COUNTIFS(HData!$N$3:$N$48828,\">=\"&SDate,HData!$N$3:$N$48828,\"<=\"&RDate,HData!$BP$3:$BP$48828,$I332,HData!$BJ$3:$BJ$48828,H$124,HData!$F$3:$F$48828,$J332,HData!$BR$3:$BR$48828,$K332,HData!$AB$3:$AB$48828,TRUE)","v":0},"BME",0,3]
["White, sibling group of 3, with disability",{"$f":"COUNTIFS(HData!$N$3:$N$48828,\">=\"&SDate,HData!$N$3:$N$48828,\"<=\"&RDate,HData!$BP$3:$BP$48828,$I333,HData!$BJ$3:$BJ$48828,B$124,HData!$F$3:$F$48828,$J333,HData!$BR$3:$BR$48828,$K333,HData!$AB$3:$AB$48828,TRUE)","v":0},{"$f":"COUNTIFS(HData!$N$3:$N$48828,\">=\"&SDate,HData!$N$3:$N$48828,\"<=\"&RDate,HData!$BP$3:$BP$48828,$I333,HData!$BJ$3:$BJ$48828,C$124,HData!$F$3:$F$48828,$J333,HData!$BR$3:$BR$48828,$K333,HData!$AB$3:$AB$48828,TRUE)","v":0},{"$f":"COUNTIFS(HData!$N$3:$N$48828,\">=\"&SDate,HData!$N$3:$N$48828,\"<=\"&RDate,HData!$BP$3:$BP$48828,$I333,HData!$BJ$3:$BJ$48828,D$124,HData!$F$3:$F$48828,$J333,HData!$BR$3:$BR$48828,$K333,HData!$AB$3:$AB$48828,TRUE)","v":0},{"$f":"COUNTIFS(HData!$N$3:$N$48828,\">=\"&SDate,HData!$N$3:$N$48828,\"<=\"&RDate,HData!$BP$3:$BP$48828,$I333,HData!$BJ$3:$BJ$48828,E$124,HData!$F$3:$F$48828,$J333,HData!$BR$3:$BR$48828,$K333,HData!$AB$3:$AB$48828,TRUE)","v":0},{"$f":"COUNTIFS(HData!$N$3:$N$48828,\">=\"&SDate,HData!$N$3:$N$48828,\"<=\"&RDate,HData!$BP$3:$BP$48828,$I333,HData!$BJ$3:$BJ$48828,F$124,HData!$F$3:$F$48828,$J333,HData!$BR$3:$BR$48828,$K333,HData!$AB$3:$AB$48828,TRUE)","v":0},{"$f":"COUNTIFS(HData!$N$3:$N$48828,\">=\"&SDate,HData!$N$3:$N$48828,\"<=\"&RDate,HData!$BP$3:$BP$48828,$I333,HData!$BJ$3:$BJ$48828,G$124,HData!$F$3:$F$48828,$J333,HData!$BR$3:$BR$48828,$K333,HData!$AB$3:$AB$48828,TRUE)","v":0},{"$f":"COUNTIFS(HData!$N$3:$N$48828,\">=\"&SDate,HData!$N$3:$N$48828,\"<=\"&RDate,HData!$BP$3:$BP$48828,$I333,HData!$BJ$3:$BJ$48828,H$124,HData!$F$3:$F$48828,$J333,HData!$BR$3:$BR$48828,$K333,HData!$AB$3:$AB$48828,TRUE)","v":0},"White",1,3]
["BME, sibling group of 3, with disability",{"$f":"COUNTIFS(HData!$N$3:$N$48828,\">=\"&SDate,HData!$N$3:$N$48828,\"<=\"&RDate,HData!$BP$3:$BP$48828,$I334,HData!$BJ$3:$BJ$48828,B$124,HData!$F$3:$F$48828,$J334,HData!$BR$3:$BR$48828,$K334,HData!$AB$3:$AB$48828,TRUE)","v":0},{"$f":"COUNTIFS(HData!$N$3:$N$48828,\">=\"&SDate,HData!$N$3:$N$48828,\"<=\"&RDate,HData!$BP$3:$BP$48828,$I334,HData!$BJ$3:$BJ$48828,C$124,HData!$F$3:$F$48828,$J334,HData!$BR$3:$BR$48828,$K334,HData!$AB$3:$AB$48828,TRUE)","v":0},{"$f":"COUNTIFS(HData!$N$3:$N$48828,\">=\"&SDate,HData!$N$3:$N$48828,\"<=\"&RDate,HData!$BP$3:$BP$48828,$I334,HData!$BJ$3:$BJ$48828,D$124,HData!$F$3:$F$48828,$J334,HData!$BR$3:$BR$48828,$K334,HData!$AB$3:$AB$48828,TRUE)","v":0},{"$f":"COUNTIFS(HData!$N$3:$N$48828,\">=\"&SDate,HData!$N$3:$N$48828,\"<=\"&RDate,HData!$BP$3:$BP$48828,$I334,HData!$BJ$3:$BJ$48828,E$124,HData!$F$3:$F$48828,$J334,HData!$BR$3:$BR$48828,$K334,HData!$AB$3:$AB$48828,TRUE)","v":0},{"$f":"COUNTIFS(HData!$N$3:$N$48828,\">=\"&SDate,HData!$N$3:$N$48828,\"<=\"&RDate,HData!$BP$3:$BP$48828,$I334,HData!$BJ$3:$BJ$48828,F$124,HData!$F$3:$F$48828,$J334,HData!$BR$3:$BR$48828,$K334,HData!$AB$3:$AB$48828,TRUE)","v":0},{"$f":"COUNTIFS(HData!$N$3:$N$48828,\">=\"&SDate,HData!$N$3:$N$48828,\"<=\"&RDate,HData!$BP$3:$BP$48828,$I334,HData!$BJ$3:$BJ$48828,G$124,HData!$F$3:$F$48828,$J334,HData!$BR$3:$BR$48828,$K334,HData!$AB$3:$AB$48828,TRUE)","v":0},{"$f":"COUNTIFS(HData!$N$3:$N$48828,\">=\"&SDate,HData!$N$3:$N$48828,\"<=\"&RDate,HData!$BP$3:$BP$48828,$I334,HData!$BJ$3:$BJ$48828,H$124,HData!$F$3:$F$48828,$J334,HData!$BR$3:$BR$48828,$K334,HData!$AB$3:$AB$48828,TRUE)","v":0},"BME",1,3]
[null,"Age at ADM"]
["CHILDREN WITH ADM BID, no PO and CoP",0,1,2,3,4,5,">5","BME","Disability","Sibling"]
["White, single child, no disability",{"$f":"COUNTIFS(HData!$N$3:$N$48828,\">=\"&SDate,HData!$N$3:$N$48828,\"<=\"&RDate,HData!$BP$3:$BP$48828,$I337,HData!$BJ$3:$BJ$48828,B$124,HData!$F$3:$F$48828,$J337,HData!$BR$3:$BR$48828,$K337,HData!$W$3:$W$48828,\"<>\",HData!$O$3:$O$48828,\"\",HData!$AB$3:$AB$48828,TRUE)","v":0},{"$f":"COUNTIFS(HData!$N$3:$N$48828,\">=\"&SDate,HData!$N$3:$N$48828,\"<=\"&RDate,HData!$BP$3:$BP$48828,$I337,HData!$BJ$3:$BJ$48828,C$124,HData!$F$3:$F$48828,$J337,HData!$BR$3:$BR$48828,$K337,HData!$W$3:$W$48828,\"<>\",HData!$O$3:$O$48828,\"\",HData!$AB$3:$AB$48828,TRUE)","v":0},{"$f":"COUNTIFS(HData!$N$3:$N$48828,\">=\"&SDate,HData!$N$3:$N$48828,\"<=\"&RDate,HData!$BP$3:$BP$48828,$I337,HData!$BJ$3:$BJ$48828,D$124,HData!$F$3:$F$48828,$J337,HData!$BR$3:$BR$48828,$K337,HData!$W$3:$W$48828,\"<>\",HData!$O$3:$O$48828,\"\",HData!$AB$3:$AB$48828,TRUE)","v":0},{"$f":"COUNTIFS(HData!$N$3:$N$48828,\">=\"&SDate,HData!$N$3:$N$48828,\"<=\"&RDate,HData!$BP$3:$BP$48828,$I337,HData!$BJ$3:$BJ$48828,E$124,HData!$F$3:$F$48828,$J337,HData!$BR$3:$BR$48828,$K337,HData!$W$3:$W$48828,\"<>\",HData!$O$3:$O$48828,\"\",HData!$AB$3:$AB$48828,TRUE)","v":0},{"$f":"COUNTIFS(HData!$N$3:$N$48828,\">=\"&SDate,HData!$N$3:$N$48828,\"<=\"&RDate,HData!$BP$3:$BP$48828,$I337,HData!$BJ$3:$BJ$48828,F$124,HData!$F$3:$F$48828,$J337,HData!$BR$3:$BR$48828,$K337,HData!$W$3:$W$48828,\"<>\",HData!$O$3:$O$48828,\"\",HData!$AB$3:$AB$48828,TRUE)","v":0},{"$f":"COUNTIFS(HData!$N$3:$N$48828,\">=\"&SDate,HData!$N$3:$N$48828,\"<=\"&RDate,HData!$BP$3:$BP$48828,$I337,HData!$BJ$3:$BJ$48828,G$124,HData!$F$3:$F$48828,$J337,HData!$BR$3:$BR$48828,$K337,HData!$W$3:$W$48828,\"<>\",HData!$O$3:$O$48828,\"\",HData!$AB$3:$AB$48828,TRUE)","v":0},{"$f":"COUNTIFS(HData!$N$3:$N$48828,\">=\"&SDate,HData!$N$3:$N$48828,\"<=\"&RDate,HData!$BP$3:$BP$48828,$I337,HData!$BJ$3:$BJ$48828,H$124,HData!$F$3:$F$48828,$J337,HData!$BR$3:$BR$48828,$K337,HData!$W$3:$W$48828,\"<>\",HData!$O$3:$O$48828,\"\",HData!$AB$3:$AB$48828,TRUE)","v":0},"White",0,1]
["BME, single child, no disability",{"$f":"COUNTIFS(HData!$N$3:$N$48828,\">=\"&SDate,HData!$N$3:$N$48828,\"<=\"&RDate,HData!$BP$3:$BP$48828,$I338,HData!$BJ$3:$BJ$48828,B$124,HData!$F$3:$F$48828,$J338,HData!$BR$3:$BR$48828,$K338,HData!$W$3:$W$48828,\"<>\",HData!$O$3:$O$48828,\"\",HData!$AB$3:$AB$48828,TRUE)","v":0},{"$f":"COUNTIFS(HData!$N$3:$N$48828,\">=\"&SDate,HData!$N$3:$N$48828,\"<=\"&RDate,HData!$BP$3:$BP$48828,$I338,HData!$BJ$3:$BJ$48828,C$124,HData!$F$3:$F$48828,$J338,HData!$BR$3:$BR$48828,$K338,HData!$W$3:$W$48828,\"<>\",HData!$O$3:$O$48828,\"\",HData!$AB$3:$AB$48828,TRUE)","v":0},{"$f":"COUNTIFS(HData!$N$3:$N$48828,\">=\"&SDate,HData!$N$3:$N$48828,\"<=\"&RDate,HData!$BP$3:$BP$48828,$I338,HData!$BJ$3:$BJ$48828,D$124,HData!$F$3:$F$48828,$J338,HData!$BR$3:$BR$48828,$K338,HData!$W$3:$W$48828,\"<>\",HData!$O$3:$O$48828,\"\",HData!$AB$3:$AB$48828,TRUE)","v":0},{"$f":"COUNTIFS(HData!$N$3:$N$48828,\">=\"&SDate,HData!$N$3:$N$48828,\"<=\"&RDate,HData!$BP$3:$BP$48828,$I338,HData!$BJ$3:$BJ$48828,E$124,HData!$F$3:$F$48828,$J338,HData!$BR$3:$BR$48828,$K338,HData!$W$3:$W$48828,\"<>\",HData!$O$3:$O$48828,\"\",HData!$AB$3:$AB$48828,TRUE)","v":0},{"$f":"COUNTIFS(HData!$N$3:$N$48828,\">=\"&SDate,HData!$N$3:$N$48828,\"<=\"&RDate,HData!$BP$3:$BP$48828,$I338,HData!$BJ$3:$BJ$48828,F$124,HData!$F$3:$F$48828,$J338,HData!$BR$3:$BR$48828,$K338,HData!$W$3:$W$48828,\"<>\",HData!$O$3:$O$48828,\"\",HData!$AB$3:$AB$48828,TRUE)","v":0},{"$f":"COUNTIFS(HData!$N$3:$N$48828,\">=\"&SDate,HData!$N$3:$N$48828,\"<=\"&RDate,HData!$BP$3:$BP$48828,$I338,HData!$BJ$3:$BJ$48828,G$124,HData!$F$3:$F$48828,$J338,HData!$BR$3:$BR$48828,$K338,HData!$W$3:$W$48828,\"<>\",HData!$O$3:$O$48828,\"\",HData!$AB$3:$AB$48828,TRUE)","v":0},{"$f":"COUNTIFS(HData!$N$3:$N$48828,\">=\"&SDate,HData!$N$3:$N$48828,\"<=\"&RDate,HData!$BP$3:$BP$48828,$I338,HData!$BJ$3:$BJ$48828,H$124,HData!$F$3:$F$48828,$J338,HData!$BR$3:$BR$48828,$K338,HData!$W$3:$W$48828,\"<>\",HData!$O$3:$O$48828,\"\",HData!$AB$3:$AB$48828,TRUE)","v":0},"BME",0,1]
["White, single child, with disability",{"$f":"COUNTIFS(HData!$N$3:$N$48828,\">=\"&SDate,HData!$N$3:$N$48828,\"<=\"&RDate,HData!$BP$3:$BP$48828,$I339,HData!$BJ$3:$BJ$48828,B$124,HData!$F$3:$F$48828,$J339,HData!$BR$3:$BR$48828,$K339,HData!$W$3:$W$48828,\"<>\",HData!$O$3:$O$48828,\"\",HData!$AB$3:$AB$48828,TRUE)","v":0},{"$f":"COUNTIFS(HData!$N$3:$N$48828,\">=\"&SDate,HData!$N$3:$N$48828,\"<=\"&RDate,HData!$BP$3:$BP$48828,$I339,HData!$BJ$3:$BJ$48828,C$124,HData!$F$3:$F$48828,$J339,HData!$BR$3:$BR$48828,$K339,HData!$W$3:$W$48828,\"<>\",HData!$O$3:$O$48828,\"\",HData!$AB$3:$AB$48828,TRUE)","v":0},{"$f":"COUNTIFS(HData!$N$3:$N$48828,\">=\"&SDate,HData!$N$3:$N$48828,\"<=\"&RDate,HData!$BP$3:$BP$48828,$I339,HData!$BJ$3:$BJ$48828,D$124,HData!$F$3:$F$48828,$J339,HData!$BR$3:$BR$48828,$K339,HData!$W$3:$W$48828,\"<>\",HData!$O$3:$O$48828,\"\",HData!$AB$3:$AB$48828,TRUE)","v":0},{"$f":"COUNTIFS(HData!$N$3:$N$48828,\">=\"&SDate,HData!$N$3:$N$48828,\"<=\"&RDate,HData!$BP$3:$BP$48828,$I339,HData!$BJ$3:$BJ$48828,E$124,HData!$F$3:$F$48828,$J339,HData!$BR$3:$BR$48828,$K339,HData!$W$3:$W$48828,\"<>\",HData!$O$3:$O$48828,\"\",HData!$AB$3:$AB$48828,TRUE)","v":0},{"$f":"COUNTIFS(HData!$N$3:$N$48828,\">=\"&SDate,HData!$N$3:$N$48828,\"<=\"&RDate,HData!$BP$3:$BP$48828,$I339,HData!$BJ$3:$BJ$48828,F$124,HData!$F$3:$F$48828,$J339,HData!$BR$3:$BR$48828,$K339,HData!$W$3:$W$48828,\"<>\",HData!$O$3:$O$48828,\"\",HData!$AB$3:$AB$48828,TRUE)","v":0},{"$f":"COUNTIFS(HData!$N$3:$N$48828,\">=\"&SDate,HData!$N$3:$N$48828,\"<=\"&RDate,HData!$BP$3:$BP$48828,$I339,HData!$BJ$3:$BJ$48828,G$124,HData!$F$3:$F$48828,$J339,HData!$BR$3:$BR$48828,$K339,HData!$W$3:$W$48828,\"<>\",HData!$O$3:$O$48828,\"\",HData!$AB$3:$AB$48828,TRUE)","v":0},{"$f":"COUNTIFS(HData!$N$3:$N$48828,\">=\"&SDate,HData!$N$3:$N$48828,\"<=\"&RDate,HData!$BP$3:$BP$48828,$I339,HData!$BJ$3:$BJ$48828,H$124,HData!$F$3:$F$48828,$J339,HData!$BR$3:$BR$48828,$K339,HData!$W$3:$W$48828,\"<>\",HData!$O$3:$O$48828,\"\",HData!$AB$3:$AB$48828,TRUE)","v":0},"White",1,1]
["BME, single child, with disability",{"$f":"COUNTIFS(HData!$N$3:$N$48828,\">=\"&SDate,HData!$N$3:$N$48828,\"<=\"&RDate,HData!$BP$3:$BP$48828,$I340,HData!$BJ$3:$BJ$48828,B$124,HData!$F$3:$F$48828,$J340,HData!$BR$3:$BR$48828,$K340,HData!$W$3:$W$48828,\"<>\",HData!$O$3:$O$48828,\"\",HData!$AB$3:$AB$48828,TRUE)","v":0},{"$f":"COUNTIFS(HData!$N$3:$N$48828,\">=\"&SDate,HData!$N$3:$N$48828,\"<=\"&RDate,HData!$BP$3:$BP$48828,$I340,HData!$BJ$3:$BJ$48828,C$124,HData!$F$3:$F$48828,$J340,HData!$BR$3:$BR$48828,$K340,HData!$W$3:$W$48828,\"<>\",HData!$O$3:$O$48828,\"\",HData!$AB$3:$AB$48828,TRUE)","v":0},{"$f":"COUNTIFS(HData!$N$3:$N$48828,\">=\"&SDate,HData!$N$3:$N$48828,\"<=\"&RDate,HData!$BP$3:$BP$48828,$I340,HData!$BJ$3:$BJ$48828,D$124,HData!$F$3:$F$48828,$J340,HData!$BR$3:$BR$48828,$K340,HData!$W$3:$W$48828,\"<>\",HData!$O$3:$O$48828,\"\",HData!$AB$3:$AB$48828,TRUE)","v":0},{"$f":"COUNTIFS(HData!$N$3:$N$48828,\">=\"&SDate,HData!$N$3:$N$48828,\"<=\"&RDate,HData!$BP$3:$BP$48828,$I340,HData!$BJ$3:$BJ$48828,E$124,HData!$F$3:$F$48828,$J340,HData!$BR$3:$BR$48828,$K340,HData!$W$3:$W$48828,\"<>\",HData!$O$3:$O$48828,\"\",HData!$AB$3:$AB$48828,TRUE)","v":0},{"$f":"COUNTIFS(HData!$N$3:$N$48828,\">=\"&SDate,HData!$N$3:$N$48828,\"<=\"&RDate,HData!$BP$3:$BP$48828,$I340,HData!$BJ$3:$BJ$48828,F$124,HData!$F$3:$F$48828,$J340,HData!$BR$3:$BR$48828,$K340,HData!$W$3:$W$48828,\"<>\",HData!$O$3:$O$48828,\"\",HData!$AB$3:$AB$48828,TRUE)","v":0},{"$f":"COUNTIFS(HData!$N$3:$N$48828,\">=\"&SDate,HData!$N$3:$N$48828,\"<=\"&RDate,HData!$BP$3:$BP$48828,$I340,HData!$BJ$3:$BJ$48828,G$124,HData!$F$3:$F$48828,$J340,HData!$BR$3:$BR$48828,$K340,HData!$W$3:$W$48828,\"<>\",HData!$O$3:$O$48828,\"\",HData!$AB$3:$AB$48828,TRUE)","v":0},{"$f":"COUNTIFS(HData!$N$3:$N$48828,\">=\"&SDate,HData!$N$3:$N$48828,\"<=\"&RDate,HData!$BP$3:$BP$48828,$I340,HData!$BJ$3:$BJ$48828,H$124,HData!$F$3:$F$48828,$J340,HData!$BR$3:$BR$48828,$K340,HData!$W$3:$W$48828,\"<>\",HData!$O$3:$O$48828,\"\",HData!$AB$3:$AB$48828,TRUE)","v":0},"BME",1,1]
["White, sibling group of 2, no disability",{"$f":"COUNTIFS(HData!$N$3:$N$48828,\">=\"&SDate,HData!$N$3:$N$48828,\"<=\"&RDate,HData!$BP$3:$BP$48828,$I341,HData!$BJ$3:$BJ$48828,B$124,HData!$F$3:$F$48828,$J341,HData!$BR$3:$BR$48828,$K341,HData!$W$3:$W$48828,\"<>\",HData!$O$3:$O$48828,\"\",HData!$AB$3:$AB$48828,TRUE)","v":0},{"$f":"COUNTIFS(HData!$N$3:$N$48828,\">=\"&SDate,HData!$N$3:$N$48828,\"<=\"&RDate,HData!$BP$3:$BP$48828,$I341,HData!$BJ$3:$BJ$48828,C$124,HData!$F$3:$F$48828,$J341,HData!$BR$3:$BR$48828,$K341,HData!$W$3:$W$48828,\"<>\",HData!$O$3:$O$48828,\"\",HData!$AB$3:$AB$48828,TRUE)","v":0},{"$f":"COUNTIFS(HData!$N$3:$N$48828,\">=\"&SDate,HData!$N$3:$N$48828,\"<=\"&RDate,HData!$BP$3:$BP$48828,$I341,HData!$BJ$3:$BJ$48828,D$124,HData!$F$3:$F$48828,$J341,HData!$BR$3:$BR$48828,$K341,HData!$W$3:$W$48828,\"<>\",HData!$O$3:$O$48828,\"\",HData!$AB$3:$AB$48828,TRUE)","v":0},{"$f":"COUNTIFS(HData!$N$3:$N$48828,\">=\"&SDate,HData!$N$3:$N$48828,\"<=\"&RDate,HData!$BP$3:$BP$48828,$I341,HData!$BJ$3:$BJ$48828,E$124,HData!$F$3:$F$48828,$J341,HData!$BR$3:$BR$48828,$K341,HData!$W$3:$W$48828,\"<>\",HData!$O$3:$O$48828,\"\",HData!$AB$3:$AB$48828,TRUE)","v":0},{"$f":"COUNTIFS(HData!$N$3:$N$48828,\">=\"&SDate,HData!$N$3:$N$48828,\"<=\"&RDate,HData!$BP$3:$BP$48828,$I341,HData!$BJ$3:$BJ$48828,F$124,HData!$F$3:$F$48828,$J341,HData!$BR$3:$BR$48828,$K341,HData!$W$3:$W$48828,\"<>\",HData!$O$3:$O$48828,\"\",HData!$AB$3:$AB$48828,TRUE)","v":0},{"$f":"COUNTIFS(HData!$N$3:$N$48828,\">=\"&SDate,HData!$N$3:$N$48828,\"<=\"&RDate,HData!$BP$3:$BP$48828,$I341,HData!$BJ$3:$BJ$48828,G$124,HData!$F$3:$F$48828,$J341,HData!$BR$3:$BR$48828,$K341,HData!$W$3:$W$48828,\"<>\",HData!$O$3:$O$48828,\"\",HData!$AB$3:$AB$48828,TRUE)","v":0},{"$f":"COUNTIFS(HData!$N$3:$N$48828,\">=\"&SDate,HData!$N$3:$N$48828,\"<=\"&RDate,HData!$BP$3:$BP$48828,$I341,HData!$BJ$3:$BJ$48828,H$124,HData!$F$3:$F$48828,$J341,HData!$BR$3:$BR$48828,$K341,HData!$W$3:$W$48828,\"<>\",HData!$O$3:$O$48828,\"\",HData!$AB$3:$AB$48828,TRUE)","v":0},"White",0,2]
["BME, sibling group of 2, no disability",{"$f":"COUNTIFS(HData!$N$3:$N$48828,\">=\"&SDate,HData!$N$3:$N$48828,\"<=\"&RDate,HData!$BP$3:$BP$48828,$I342,HData!$BJ$3:$BJ$48828,B$124,HData!$F$3:$F$48828,$J342,HData!$BR$3:$BR$48828,$K342,HData!$W$3:$W$48828,\"<>\",HData!$O$3:$O$48828,\"\",HData!$AB$3:$AB$48828,TRUE)","v":0},{"$f":"COUNTIFS(HData!$N$3:$N$48828,\">=\"&SDate,HData!$N$3:$N$48828,\"<=\"&RDate,HData!$BP$3:$BP$48828,$I342,HData!$BJ$3:$BJ$48828,C$124,HData!$F$3:$F$48828,$J342,HData!$BR$3:$BR$48828,$K342,HData!$W$3:$W$48828,\"<>\",HData!$O$3:$O$48828,\"\",HData!$AB$3:$AB$48828,TRUE)","v":0},{"$f":"COUNTIFS(HData!$N$3:$N$48828,\">=\"&SDate,HData!$N$3:$N$48828,\"<=\"&RDate,HData!$BP$3:$BP$48828,$I342,HData!$BJ$3:$BJ$48828,D$124,HData!$F$3:$F$48828,$J342,HData!$BR$3:$BR$48828,$K342,HData!$W$3:$W$48828,\"<>\",HData!$O$3:$O$48828,\"\",HData!$AB$3:$AB$48828,TRUE)","v":0},{"$f":"COUNTIFS(HData!$N$3:$N$48828,\">=\"&SDate,HData!$N$3:$N$48828,\"<=\"&RDate,HData!$BP$3:$BP$48828,$I342,HData!$BJ$3:$BJ$48828,E$124,HData!$F$3:$F$48828,$J342,HData!$BR$3:$BR$48828,$K342,HData!$W$3:$W$48828,\"<>\",HData!$O$3:$O$48828,\"\",HData!$AB$3:$AB$48828,TRUE)","v":0},{"$f":"COUNTIFS(HData!$N$3:$N$48828,\">=\"&SDate,HData!$N$3:$N$48828,\"<=\"&RDate,HData!$BP$3:$BP$48828,$I342,HData!$BJ$3:$BJ$48828,F$124,HData!$F$3:$F$48828,$J342,HData!$BR$3:$BR$48828,$K342,HData!$W$3:$W$48828,\"<>\",HData!$O$3:$O$48828,\"\",HData!$AB$3:$AB$48828,TRUE)","v":0},{"$f":"COUNTIFS(HData!$N$3:$N$48828,\">=\"&SDate,HData!$N$3:$N$48828,\"<=\"&RDate,HData!$BP$3:$BP$48828,$I342,HData!$BJ$3:$BJ$48828,G$124,HData!$F$3:$F$48828,$J342,HData!$BR$3:$BR$48828,$K342,HData!$W$3:$W$48828,\"<>\",HData!$O$3:$O$48828,\"\",HData!$AB$3:$AB$48828,TRUE)","v":0},{"$f":"COUNTIFS(HData!$N$3:$N$48828,\">=\"&SDate,HData!$N$3:$N$48828,\"<=\"&RDate,HData!$BP$3:$BP$48828,$I342,HData!$BJ$3:$BJ$48828,H$124,HData!$F$3:$F$48828,$J342,HData!$BR$3:$BR$48828,$K342,HData!$W$3:$W$48828,\"<>\",HData!$O$3:$O$48828,\"\",HData!$AB$3:$AB$48828,TRUE)","v":0},"BME",0,2]
["White, sibling group of 2, with disability",{"$f":"COUNTIFS(HData!$N$3:$N$48828,\">=\"&SDate,HData!$N$3:$N$48828,\"<=\"&RDate,HData!$BP$3:$BP$48828,$I343,HData!$BJ$3:$BJ$48828,B$124,HData!$F$3:$F$48828,$J343,HData!$BR$3:$BR$48828,$K343,HData!$W$3:$W$48828,\"<>\",HData!$O$3:$O$48828,\"\",HData!$AB$3:$AB$48828,TRUE)","v":0},{"$f":"COUNTIFS(HData!$N$3:$N$48828,\">=\"&SDate,HData!$N$3:$N$48828,\"<=\"&RDate,HData!$BP$3:$BP$48828,$I343,HData!$BJ$3:$BJ$48828,C$124,HData!$F$3:$F$48828,$J343,HData!$BR$3:$BR$48828,$K343,HData!$W$3:$W$48828,\"<>\",HData!$O$3:$O$48828,\"\",HData!$AB$3:$AB$48828,TRUE)","v":0},{"$f":"COUNTIFS(HData!$N$3:$N$48828,\">=\"&SDate,HData!$N$3:$N$48828,\"<=\"&RDate,HData!$BP$3:$BP$48828,$I343,HData!$BJ$3:$BJ$48828,D$124,HData!$F$3:$F$48828,$J343,HData!$BR$3:$BR$48828,$K343,HData!$W$3:$W$48828,\"<>\",HData!$O$3:$O$48828,\"\",HData!$AB$3:$AB$48828,TRUE)","v":0},{"$f":"COUNTIFS(HData!$N$3:$N$48828,\">=\"&SDate,HData!$N$3:$N$48828,\"<=\"&RDate,HData!$BP$3:$BP$48828,$I343,HData!$BJ$3:$BJ$48828,E$124,HData!$F$3:$F$48828,$J343,HData!$BR$3:$BR$48828,$K343,HData!$W$3:$W$48828,\"<>\",HData!$O$3:$O$48828,\"\",HData!$AB$3:$AB$48828,TRUE)","v":0},{"$f":"COUNTIFS(HData!$N$3:$N$48828,\">=\"&SDate,HData!$N$3:$N$48828,\"<=\"&RDate,HData!$BP$3:$BP$48828,$I343,HData!$BJ$3:$BJ$48828,F$124,HData!$F$3:$F$48828,$J343,HData!$BR$3:$BR$48828,$K343,HData!$W$3:$W$48828,\"<>\",HData!$O$3:$O$48828,\"\",HData!$AB$3:$AB$48828,TRUE)","v":0},{"$f":"COUNTIFS(HData!$N$3:$N$48828,\">=\"&SDate,HData!$N$3:$N$48828,\"<=\"&RDate,HData!$BP$3:$BP$48828,$I343,HData!$BJ$3:$BJ$48828,G$124,HData!$F$3:$F$48828,$J343,HData!$BR$3:$BR$48828,$K343,HData!$W$3:$W$48828,\"<>\",HData!$O$3:$O$48828,\"\",HData!$AB$3:$AB$48828,TRUE)","v":0},{"$f":"COUNTIFS(HData!$N$3:$N$48828,\">=\"&SDate,HData!$N$3:$N$48828,\"<=\"&RDate,HData!$BP$3:$BP$48828,$I343,HData!$BJ$3:$BJ$48828,H$124,HData!$F$3:$F$48828,$J343,HData!$BR$3:$BR$48828,$K343,HData!$W$3:$W$48828,\"<>\",HData!$O$3:$O$48828,\"\",HData!$AB$3:$AB$48828,TRUE)","v":0},"White",1,2]
["BME, sibling group of 2, with disability",{"$f":"COUNTIFS(HData!$N$3:$N$48828,\">=\"&SDate,HData!$N$3:$N$48828,\"<=\"&RDate,HData!$BP$3:$BP$48828,$I344,HData!$BJ$3:$BJ$48828,B$124,HData!$F$3:$F$48828,$J344,HData!$BR$3:$BR$48828,$K344,HData!$W$3:$W$48828,\"<>\",HData!$O$3:$O$48828,\"\",HData!$AB$3:$AB$48828,TRUE)","v":0},{"$f":"COUNTIFS(HData!$N$3:$N$48828,\">=\"&SDate,HData!$N$3:$N$48828,\"<=\"&RDate,HData!$BP$3:$BP$48828,$I344,HData!$BJ$3:$BJ$48828,C$124,HData!$F$3:$F$48828,$J344,HData!$BR$3:$BR$48828,$K344,HData!$W$3:$W$48828,\"<>\",HData!$O$3:$O$48828,\"\",HData!$AB$3:$AB$48828,TRUE)","v":0},{"$f":"COUNTIFS(HData!$N$3:$N$48828,\">=\"&SDate,HData!$N$3:$N$48828,\"<=\"&RDate,HData!$BP$3:$BP$48828,$I344,HData!$BJ$3:$BJ$48828,D$124,HData!$F$3:$F$48828,$J344,HData!$BR$3:$BR$48828,$K344,HData!$W$3:$W$48828,\"<>\",HData!$O$3:$O$48828,\"\",HData!$AB$3:$AB$48828,TRUE)","v":0},{"$f":"COUNTIFS(HData!$N$3:$N$48828,\">=\"&SDate,HData!$N$3:$N$48828,\"<=\"&RDate,HData!$BP$3:$BP$48828,$I344,HData!$BJ$3:$BJ$48828,E$124,HData!$F$3:$F$48828,$J344,HData!$BR$3:$BR$48828,$K344,HData!$W$3:$W$48828,\"<>\",HData!$O$3:$O$48828,\"\",HData!$AB$3:$AB$48828,TRUE)","v":0},{"$f":"COUNTIFS(HData!$N$3:$N$48828,\">=\"&SDate,HData!$N$3:$N$48828,\"<=\"&RDate,HData!$BP$3:$BP$48828,$I344,HData!$BJ$3:$BJ$48828,F$124,HData!$F$3:$F$48828,$J344,HData!$BR$3:$BR$48828,$K344,HData!$W$3:$W$48828,\"<>\",HData!$O$3:$O$48828,\"\",HData!$AB$3:$AB$48828,TRUE)","v":0},{"$f":"COUNTIFS(HData!$N$3:$N$48828,\">=\"&SDate,HData!$N$3:$N$48828,\"<=\"&RDate,HData!$BP$3:$BP$48828,$I344,HData!$BJ$3:$BJ$48828,G$124,HData!$F$3:$F$48828,$J344,HData!$BR$3:$BR$48828,$K344,HData!$W$3:$W$48828,\"<>\",HData!$O$3:$O$48828,\"\",HData!$AB$3:$AB$48828,TRUE)","v":0},{"$f":"COUNTIFS(HData!$N$3:$N$48828,\">=\"&SDate,HData!$N$3:$N$48828,\"<=\"&RDate,HData!$BP$3:$BP$48828,$I344,HData!$BJ$3:$BJ$48828,H$124,HData!$F$3:$F$48828,$J344,HData!$BR$3:$BR$48828,$K344,HData!$W$3:$W$48828,\"<>\",HData!$O$3:$O$48828,\"\",HData!$AB$3:$AB$48828,TRUE)","v":0},"BME",1,2]
["White, sibling group of 3, no disability",{"$f":"COUNTIFS(HData!$N$3:$N$48828,\">=\"&SDate,HData!$N$3:$N$48828,\"<=\"&RDate,HData!$BP$3:$BP$48828,$I345,HData!$BJ$3:$BJ$48828,B$124,HData!$F$3:$F$48828,$J345,HData!$BR$3:$BR$48828,$K345,HData!$W$3:$W$48828,\"<>\",HData!$O$3:$O$48828,\"\",HData!$AB$3:$AB$48828,TRUE)","v":0},{"$f":"COUNTIFS(HData!$N$3:$N$48828,\">=\"&SDate,HData!$N$3:$N$48828,\"<=\"&RDate,HData!$BP$3:$BP$48828,$I345,HData!$BJ$3:$BJ$48828,C$124,HData!$F$3:$F$48828,$J345,HData!$BR$3:$BR$48828,$K345,HData!$W$3:$W$48828,\"<>\",HData!$O$3:$O$48828,\"\",HData!$AB$3:$AB$48828,TRUE)","v":0},{"$f":"COUNTIFS(HData!$N$3:$N$48828,\">=\"&SDate,HData!$N$3:$N$48828,\"<=\"&RDate,HData!$BP$3:$BP$48828,$I345,HData!$BJ$3:$BJ$48828,D$124,HData!$F$3:$F$48828,$J345,HData!$BR$3:$BR$48828,$K345,HData!$W$3:$W$48828,\"<>\",HData!$O$3:$O$48828,\"\",HData!$AB$3:$AB$48828,TRUE)","v":0},{"$f":"COUNTIFS(HData!$N$3:$N$48828,\">=\"&SDate,HData!$N$3:$N$48828,\"<=\"&RDate,HData!$BP$3:$BP$48828,$I345,HData!$BJ$3:$BJ$48828,E$124,HData!$F$3:$F$48828,$J345,HData!$BR$3:$BR$48828,$K345,HData!$W$3:$W$48828,\"<>\",HData!$O$3:$O$48828,\"\",HData!$AB$3:$AB$48828,TRUE)","v":0},{"$f":"COUNTIFS(HData!$N$3:$N$48828,\">=\"&SDate,HData!$N$3:$N$48828,\"<=\"&RDate,HData!$BP$3:$BP$48828,$I345,HData!$BJ$3:$BJ$48828,F$124,HData!$F$3:$F$48828,$J345,HData!$BR$3:$BR$48828,$K345,HData!$W$3:$W$48828,\"<>\",HData!$O$3:$O$48828,\"\",HData!$AB$3:$AB$48828,TRUE)","v":0},{"$f":"COUNTIFS(HData!$N$3:$N$48828,\">=\"&SDate,HData!$N$3:$N$48828,\"<=\"&RDate,HData!$BP$3:$BP$48828,$I345,HData!$BJ$3:$BJ$48828,G$124,HData!$F$3:$F$48828,$J345,HData!$BR$3:$BR$48828,$K345,HData!$W$3:$W$48828,\"<>\",HData!$O$3:$O$48828,\"\",HData!$AB$3:$AB$48828,TRUE)","v":0},{"$f":"COUNTIFS(HData!$N$3:$N$48828,\">=\"&SDate,HData!$N$3:$N$48828,\"<=\"&RDate,HData!$BP$3:$BP$48828,$I345,HData!$BJ$3:$BJ$48828,H$124,HData!$F$3:$F$48828,$J345,HData!$BR$3:$BR$48828,$K345,HData!$W$3:$W$48828,\"<>\",HData!$O$3:$O$48828,\"\",HData!$AB$3:$AB$48828,TRUE)","v":0},"White",0,3]
["BME, sibling group of 3, no disability",{"$f":"COUNTIFS(HData!$N$3:$N$48828,\">=\"&SDate,HData!$N$3:$N$48828,\"<=\"&RDate,HData!$BP$3:$BP$48828,$I346,HData!$BJ$3:$BJ$48828,B$124,HData!$F$3:$F$48828,$J346,HData!$BR$3:$BR$48828,$K346,HData!$W$3:$W$48828,\"<>\",HData!$O$3:$O$48828,\"\",HData!$AB$3:$AB$48828,TRUE)","v":0},{"$f":"COUNTIFS(HData!$N$3:$N$48828,\">=\"&SDate,HData!$N$3:$N$48828,\"<=\"&RDate,HData!$BP$3:$BP$48828,$I346,HData!$BJ$3:$BJ$48828,C$124,HData!$F$3:$F$48828,$J346,HData!$BR$3:$BR$48828,$K346,HData!$W$3:$W$48828,\"<>\",HData!$O$3:$O$48828,\"\",HData!$AB$3:$AB$48828,TRUE)","v":0},{"$f":"COUNTIFS(HData!$N$3:$N$48828,\">=\"&SDate,HData!$N$3:$N$48828,\"<=\"&RDate,HData!$BP$3:$BP$48828,$I346,HData!$BJ$3:$BJ$48828,D$124,HData!$F$3:$F$48828,$J346,HData!$BR$3:$BR$48828,$K346,HData!$W$3:$W$48828,\"<>\",HData!$O$3:$O$48828,\"\",HData!$AB$3:$AB$48828,TRUE)","v":0},{"$f":"COUNTIFS(HData!$N$3:$N$48828,\">=\"&SDate,HData!$N$3:$N$48828,\"<=\"&RDate,HData!$BP$3:$BP$48828,$I346,HData!$BJ$3:$BJ$48828,E$124,HData!$F$3:$F$48828,$J346,HData!$BR$3:$BR$48828,$K346,HData!$W$3:$W$48828,\"<>\",HData!$O$3:$O$48828,\"\",HData!$AB$3:$AB$48828,TRUE)","v":0},{"$f":"COUNTIFS(HData!$N$3:$N$48828,\">=\"&SDate,HData!$N$3:$N$48828,\"<=\"&RDate,HData!$BP$3:$BP$48828,$I346,HData!$BJ$3:$BJ$48828,F$124,HData!$F$3:$F$48828,$J346,HData!$BR$3:$BR$48828,$K346,HData!$W$3:$W$48828,\"<>\",HData!$O$3:$O$48828,\"\",HData!$AB$3:$AB$48828,TRUE)","v":0},{"$f":"COUNTIFS(HData!$N$3:$N$48828,\">=\"&SDate,HData!$N$3:$N$48828,\"<=\"&RDate,HData!$BP$3:$BP$48828,$I346,HData!$BJ$3:$BJ$48828,G$124,HData!$F$3:$F$48828,$J346,HData!$BR$3:$BR$48828,$K346,HData!$W$3:$W$48828,\"<>\",HData!$O$3:$O$48828,\"\",HData!$AB$3:$AB$48828,TRUE)","v":0},{"$f":"COUNTIFS(HData!$N$3:$N$48828,\">=\"&SDate,HData!$N$3:$N$48828,\"<=\"&RDate,HData!$BP$3:$BP$48828,$I346,HData!$BJ$3:$BJ$48828,H$124,HData!$F$3:$F$48828,$J346,HData!$BR$3:$BR$48828,$K346,HData!$W$3:$W$48828,\"<>\",HData!$O$3:$O$48828,\"\",HData!$AB$3:$AB$48828,TRUE)","v":0},"BME",0,3]
["White, sibling group of 3, with disability",{"$f":"COUNTIFS(HData!$N$3:$N$48828,\">=\"&SDate,HData!$N$3:$N$48828,\"<=\"&RDate,HData!$BP$3:$BP$48828,$I347,HData!$BJ$3:$BJ$48828,B$124,HData!$F$3:$F$48828,$J347,HData!$BR$3:$BR$48828,$K347,HData!$W$3:$W$48828,\"<>\",HData!$O$3:$O$48828,\"\",HData!$AB$3:$AB$48828,TRUE)","v":0},{"$f":"COUNTIFS(HData!$N$3:$N$48828,\">=\"&SDate,HData!$N$3:$N$48828,\"<=\"&RDate,HData!$BP$3:$BP$48828,$I347,HData!$BJ$3:$BJ$48828,C$124,HData!$F$3:$F$48828,$J347,HData!$BR$3:$BR$48828,$K347,HData!$W$3:$W$48828,\"<>\",HData!$O$3:$O$48828,\"\",HData!$AB$3:$AB$48828,TRUE)","v":0},{"$f":"COUNTIFS(HData!$N$3:$N$48828,\">=\"&SDate,HData!$N$3:$N$48828,\"<=\"&RDate,HData!$BP$3:$BP$48828,$I347,HData!$BJ$3:$BJ$48828,D$124,HData!$F$3:$F$48828,$J347,HData!$BR$3:$BR$48828,$K347,HData!$W$3:$W$48828,\"<>\",HData!$O$3:$O$48828,\"\",HData!$AB$3:$AB$48828,TRUE)","v":0},{"$f":"COUNTIFS(HData!$N$3:$N$48828,\">=\"&SDate,HData!$N$3:$N$48828,\"<=\"&RDate,HData!$BP$3:$BP$48828,$I347,HData!$BJ$3:$BJ$48828,E$124,HData!$F$3:$F$48828,$J347,HData!$BR$3:$BR$48828,$K347,HData!$W$3:$W$48828,\"<>\",HData!$O$3:$O$48828,\"\",HData!$AB$3:$AB$48828,TRUE)","v":0},{"$f":"COUNTIFS(HData!$N$3:$N$48828,\">=\"&SDate,HData!$N$3:$N$48828,\"<=\"&RDate,HData!$BP$3:$BP$48828,$I347,HData!$BJ$3:$BJ$48828,F$124,HData!$F$3:$F$48828,$J347,HData!$BR$3:$BR$48828,$K347,HData!$W$3:$W$48828,\"<>\",HData!$O$3:$O$48828,\"\",HData!$AB$3:$AB$48828,TRUE)","v":0},{"$f":"COUNTIFS(HData!$N$3:$N$48828,\">=\"&SDate,HData!$N$3:$N$48828,\"<=\"&RDate,HData!$BP$3:$BP$48828,$I347,HData!$BJ$3:$BJ$48828,G$124,HData!$F$3:$F$48828,$J347,HData!$BR$3:$BR$48828,$K347,HData!$W$3:$W$48828,\"<>\",HData!$O$3:$O$48828,\"\",HData!$AB$3:$AB$48828,TRUE)","v":0},{"$f":"COUNTIFS(HData!$N$3:$N$48828,\">=\"&SDate,HData!$N$3:$N$48828,\"<=\"&RDate,HData!$BP$3:$BP$48828,$I347,HData!$BJ$3:$BJ$48828,H$124,HData!$F$3:$F$48828,$J347,HData!$BR$3:$BR$48828,$K347,HData!$W$3:$W$48828,\"<>\",HData!$O$3:$O$48828,\"\",HData!$AB$3:$AB$48828,TRUE)","v":0},"White",1,3]
["BME, sibling group of 3, with disability",{"$f":"COUNTIFS(HData!$N$3:$N$48828,\">=\"&SDate,HData!$N$3:$N$48828,\"<=\"&RDate,HData!$BP$3:$BP$48828,$I348,HData!$BJ$3:$BJ$48828,B$124,HData!$F$3:$F$48828,$J348,HData!$BR$3:$BR$48828,$K348,HData!$W$3:$W$48828,\"<>\",HData!$O$3:$O$48828,\"\",HData!$AB$3:$AB$48828,TRUE)","v":0},{"$f":"COUNTIFS(HData!$N$3:$N$48828,\">=\"&SDate,HData!$N$3:$N$48828,\"<=\"&RDate,HData!$BP$3:$BP$48828,$I348,HData!$BJ$3:$BJ$48828,C$124,HData!$F$3:$F$48828,$J348,HData!$BR$3:$BR$48828,$K348,HData!$W$3:$W$48828,\"<>\",HData!$O$3:$O$48828,\"\",HData!$AB$3:$AB$48828,TRUE)","v":0},{"$f":"COUNTIFS(HData!$N$3:$N$48828,\">=\"&SDate,HData!$N$3:$N$48828,\"<=\"&RDate,HData!$BP$3:$BP$48828,$I348,HData!$BJ$3:$BJ$48828,D$124,HData!$F$3:$F$48828,$J348,HData!$BR$3:$BR$48828,$K348,HData!$W$3:$W$48828,\"<>\",HData!$O$3:$O$48828,\"\",HData!$AB$3:$AB$48828,TRUE)","v":0},{"$f":"COUNTIFS(HData!$N$3:$N$48828,\">=\"&SDate,HData!$N$3:$N$48828,\"<=\"&RDate,HData!$BP$3:$BP$48828,$I348,HData!$BJ$3:$BJ$48828,E$124,HData!$F$3:$F$48828,$J348,HData!$BR$3:$BR$48828,$K348,HData!$W$3:$W$48828,\"<>\",HData!$O$3:$O$48828,\"\",HData!$AB$3:$AB$48828,TRUE)","v":0},{"$f":"COUNTIFS(HData!$N$3:$N$48828,\">=\"&SDate,HData!$N$3:$N$48828,\"<=\"&RDate,HData!$BP$3:$BP$48828,$I348,HData!$BJ$3:$BJ$48828,F$124,HData!$F$3:$F$48828,$J348,HData!$BR$3:$BR$48828,$K348,HData!$W$3:$W$48828,\"<>\",HData!$O$3:$O$48828,\"\",HData!$AB$3:$AB$48828,TRUE)","v":0},{"$f":"COUNTIFS(HData!$N$3:$N$48828,\">=\"&SDate,HData!$N$3:$N$48828,\"<=\"&RDate,HData!$BP$3:$BP$48828,$I348,HData!$BJ$3:$BJ$48828,G$124,HData!$F$3:$F$48828,$J348,HData!$BR$3:$BR$48828,$K348,HData!$W$3:$W$48828,\"<>\",HData!$O$3:$O$48828,\"\",HData!$AB$3:$AB$48828,TRUE)","v":0},{"$f":"COUNTIFS(HData!$N$3:$N$48828,\">=\"&SDate,HData!$N$3:$N$48828,\"<=\"&RDate,HData!$BP$3:$BP$48828,$I348,HData!$BJ$3:$BJ$48828,H$124,HData!$F$3:$F$48828,$J348,HData!$BR$3:$BR$48828,$K348,HData!$W$3:$W$48828,\"<>\",HData!$O$3:$O$48828,\"\",HData!$AB$3:$AB$48828,TRUE)","v":0},"BME",1,3]
[]
[]
["PO to match cumulative timeframe"]
[0,1,2,3,4,5,6,7,8,9,10,11,12,13,14,15,16,17,18,19,20,21,22,23,24,25,26]
[0,{"$f":"IFERROR(COUNTIFS(HData!$AU$3:$AU$48828,\"<\"&B352,HData!$P$3:$P$48828,\">=\"&SDate,HData!$P$3:$P$48828,\"<=\"&RDate)/$B$107,\"\")","v":""},{"$f":"IFERROR(COUNTIFS(HData!$AU$3:$AU$48828,\"<\"&C352,HData!$P$3:$P$48828,\">=\"&SDate,HData!$P$3:$P$48828,\"<=\"&RDate)/$B$107,\"\")","v":""},{"$f":"IFERROR(COUNTIFS(HData!$AU$3:$AU$48828,\"<\"&D352,HData!$P$3:$P$48828,\">=\"&SDate,HData!$P$3:$P$48828,\"<=\"&RDate)/$B$107,\"\")","v":""},{"$f":"IFERROR(COUNTIFS(HData!$AU$3:$AU$48828,\"<\"&E352,HData!$P$3:$P$48828,\">=\"&SDate,HData!$P$3:$P$48828,\"<=\"&RDate)/$B$107,\"\")","v":""},{"$f":"IFERROR(COUNTIFS(HData!$AU$3:$AU$48828,\"<\"&F352,HData!$P$3:$P$48828,\">=\"&SDate,HData!$P$3:$P$48828,\"<=\"&RDate)/$B$107,\"\")","v":""},{"$f":"IFERROR(COUNTIFS(HData!$AU$3:$AU$48828,\"<\"&G352,HData!$P$3:$P$48828,\">=\"&SDate,HData!$P$3:$P$48828,\"<=\"&RDate)/$B$107,\"\")","v":""},{"$f":"IFERROR(COUNTIFS(HData!$AU$3:$AU$48828,\"<\"&H352,HData!$P$3:$P$48828,\">=\"&SDate,HData!$P$3:$P$48828,\"<=\"&RDate)/$B$107,\"\")","v":""},{"$f":"IFERROR(COUNTIFS(HData!$AU$3:$AU$48828,\"<\"&I352,HData!$P$3:$P$48828,\">=\"&SDate,HData!$P$3:$P$48828,\"<=\"&RDate)/$B$107,\"\")","v":""},{"$f":"IFERROR(COUNTIFS(HData!$AU$3:$AU$48828,\"<\"&J352,HData!$P$3:$P$48828,\">=\"&SDate,HData!$P$3:$P$48828,\"<=\"&RDate)/$B$107,\"\")","v":""},{"$f":"IFERROR(COUNTIFS(HData!$AU$3:$AU$48828,\"<\"&K352,HData!$P$3:$P$48828,\">=\"&SDate,HData!$P$3:$P$48828,\"<=\"&RDate)/$B$107,\"\")","v":""},{"$f":"IFERROR(COUNTIFS(HData!$AU$3:$AU$48828,\"<\"&L352,HData!$P$3:$P$48828,\">=\"&SDate,HData!$P$3:$P$48828,\"<=\"&RDate)/$B$107,\"\")","v":""},{"$f":"IFERROR(COUNTIFS(HData!$AU$3:$AU$48828,\"<\"&M352,HData!$P$3:$P$48828,\">=\"&SDate,HData!$P$3:$P$48828,\"<=\"&RDate)/$B$107,\"\")","v":""},{"$f":"IFERROR(COUNTIFS(HData!$AU$3:$AU$48828,\"<\"&N352,HData!$P$3:$P$48828,\">=\"&SDate,HData!$P$3:$P$48828,\"<=\"&RDate)/$B$107,\"\")","v":""},{"$f":"IFERROR(COUNTIFS(HData!$AU$3:$AU$48828,\"<\"&O352,HData!$P$3:$P$48828,\">=\"&SDate,HData!$P$3:$P$48828,\"<=\"&RDate)/$B$107,\"\")","v":""},{"$f":"IFERROR(COUNTIFS(HData!$AU$3:$AU$48828,\"<\"&P352,HData!$P$3:$P$48828,\">=\"&SDate,HData!$P$3:$P$48828,\"<=\"&RDate)/$B$107,\"\")","v":""},{"$f":"IFERROR(COUNTIFS(HData!$AU$3:$AU$48828,\"<\"&Q352,HData!$P$3:$P$48828,\">=\"&SDate,HData!$P$3:$P$48828,\"<=\"&RDate)/$B$107,\"\")","v":""},{"$f":"IFERROR(COUNTIFS(HData!$AU$3:$AU$48828,\"<\"&R352,HData!$P$3:$P$48828,\">=\"&SDate,HData!$P$3:$P$48828,\"<=\"&RDate)/$B$107,\"\")","v":""},{"$f":"IFERROR(COUNTIFS(HData!$AU$3:$AU$48828,\"<\"&S352,HData!$P$3:$P$48828,\">=\"&SDate,HData!$P$3:$P$48828,\"<=\"&RDate)/$B$107,\"\")","v":""},{"$f":"IFERROR(COUNTIFS(HData!$AU$3:$AU$48828,\"<\"&T352,HData!$P$3:$P$48828,\">=\"&SDate,HData!$P$3:$P$48828,\"<=\"&RDate)/$B$107,\"\")","v":""},{"$f":"IFERROR(COUNTIFS(HData!$AU$3:$AU$48828,\"<\"&U352,HData!$P$3:$P$48828,\">=\"&SDate,HData!$P$3:$P$48828,\"<=\"&RDate)/$B$107,\"\")","v":""},{"$f":"IFERROR(COUNTIFS(HData!$AU$3:$AU$48828,\"<\"&V352,HData!$P$3:$P$48828,\">=\"&SDate,HData!$P$3:$P$48828,\"<=\"&RDate)/$B$107,\"\")","v":""},{"$f":"IFERROR(COUNTIFS(HData!$AU$3:$AU$48828,\"<\"&W352,HData!$P$3:$P$48828,\">=\"&SDate,HData!$P$3:$P$48828,\"<=\"&RDate)/$B$107,\"\")","v":""},{"$f":"IFERROR(COUNTIFS(HData!$AU$3:$AU$48828,\"<\"&X352,HData!$P$3:$P$48828,\">=\"&SDate,HData!$P$3:$P$48828,\"<=\"&RDate)/$B$107,\"\")","v":""},{"$f":"IFERROR(COUNTIFS(HData!$AU$3:$AU$48828,\"<\"&Y352,HData!$P$3:$P$48828,\">=\"&SDate,HData!$P$3:$P$48828,\"<=\"&RDate)/$B$107,\"\")","v":""},{"$f":"IFERROR(COUNTIFS(HData!$AU$3:$AU$48828,\"<\"&Z352,HData!$P$3:$P$48828,\">=\"&SDate,HData!$P$3:$P$48828,\"<=\"&RDate)/$B$107,\"\")","v":""},{"$f":"IFERROR(COUNTIFS(HData!$AU$3:$AU$48828,\"<\"&AA352,HData!$P$3:$P$48828,\">=\"&SDate,HData!$P$3:$P$48828,\"<=\"&RDate)/$B$107,\"\")","v":""}]
[]
["BLA to placement cumulative timeframe"]
[0,1,2,3,4,5,6,7,8,9,10,11,12,13,14,15,16,17,18,19,20,21,22,23,24,25,26,27,28,29,30]
[0,{"$f":"IFERROR(COUNTIFS(HData!$AH$3:$AH$48828,\"<\"&B356,HData!$R$3:$R$48828,\">=\"&SDate,HData!$R$3:$R$48828,\"<=\"&RDate)/$B$106,\"\")","v":""},{"$f":"IFERROR(COUNTIFS(HData!$AH$3:$AH$48828,\"<\"&C356,HData!$R$3:$R$48828,\">=\"&SDate,HData!$R$3:$R$48828,\"<=\"&RDate)/$B$106,\"\")","v":""},{"$f":"IFERROR(COUNTIFS(HData!$AH$3:$AH$48828,\"<\"&D356,HData!$R$3:$R$48828,\">=\"&SDate,HData!$R$3:$R$48828,\"<=\"&RDate)/$B$106,\"\")","v":""},{"$f":"IFERROR(COUNTIFS(HData!$AH$3:$AH$48828,\"<\"&E356,HData!$R$3:$R$48828,\">=\"&SDate,HData!$R$3:$R$48828,\"<=\"&RDate)/$B$106,\"\")","v":""},{"$f":"IFERROR(COUNTIFS(HData!$AH$3:$AH$48828,\"<\"&F356,HData!$R$3:$R$48828,\">=\"&SDate,HData!$R$3:$R$48828,\"<=\"&RDate)/$B$106,\"\")","v":""},{"$f":"IFERROR(COUNTIFS(HData!$AH$3:$AH$48828,\"<\"&G356,HData!$R$3:$R$48828,\">=\"&SDate,HData!$R$3:$R$48828,\"<=\"&RDate)/$B$106,\"\")","v":""},{"$f":"IFERROR(COUNTIFS(HData!$AH$3:$AH$48828,\"<\"&H356,HData!$R$3:$R$48828,\">=\"&SDate,HData!$R$3:$R$48828,\"<=\"&RDate)/$B$106,\"\")","v":""},{"$f":"IFERROR(COUNTIFS(HData!$AH$3:$AH$48828,\"<\"&I356,HData!$R$3:$R$48828,\">=\"&SDate,HData!$R$3:$R$48828,\"<=\"&RDate)/$B$106,\"\")","v":""},{"$f":"IFERROR(COUNTIFS(HData!$AH$3:$AH$48828,\"<\"&J356,HData!$R$3:$R$48828,\">=\"&SDate,HData!$R$3:$R$48828,\"<=\"&RDate)/$B$106,\"\")","v":""},{"$f":"IFERROR(COUNTIFS(HData!$AH$3:$AH$48828,\"<\"&K356,HData!$R$3:$R$48828,\">=\"&SDate,HData!$R$3:$R$48828,\"<=\"&RDate)/$B$106,\"\")","v":""},{"$f":"IFERROR(COUNTIFS(HData!$AH$3:$AH$48828,\"<\"&L356,HData!$R$3:$R$48828,\">=\"&SDate,HData!$R$3:$R$48828,\"<=\"&RDate)/$B$106,\"\")","v":""},{"$f":"IFERROR(COUNTIFS(HData!$AH$3:$AH$48828,\"<\"&M356,HData!$R$3:$R$48828,\">=\"&SDate,HData!$R$3:$R$48828,\"<=\"&RDate)/$B$106,\"\")","v":""},{"$f":"IFERROR(COUNTIFS(HData!$AH$3:$AH$48828,\"<\"&N356,HData!$R$3:$R$48828,\">=\"&SDate,HData!$R$3:$R$48828,\"<=\"&RDate)/$B$106,\"\")","v":""},{"$f":"IFERROR(COUNTIFS(HData!$AH$3:$AH$48828,\"<\"&O356,HData!$R$3:$R$48828,\">=\"&SDate,HData!$R$3:$R$48828,\"<=\"&RDate)/$B$106,\"\")","v":""},{"$f":"IFERROR(COUNTIFS(HData!$AH$3:$AH$48828,\"<\"&P356,HData!$R$3:$R$48828,\">=\"&SDate,HData!$R$3:$R$48828,\"<=\"&RDate)/$B$106,\"\")","v":""},{"$f":"IFERROR(COUNTIFS(HData!$AH$3:$AH$48828,\"<\"&Q356,HData!$R$3:$R$48828,\">=\"&SDate,HData!$R$3:$R$48828,\"<=\"&RDate)/$B$106,\"\")","v":""},{"$f":"IFERROR(COUNTIFS(HData!$AH$3:$AH$48828,\"<\"&R356,HData!$R$3:$R$48828,\">=\"&SDate,HData!$R$3:$R$48828,\"<=\"&RDate)/$B$106,\"\")","v":""},{"$f":"IFERROR(COUNTIFS(HData!$AH$3:$AH$48828,\"<\"&S356,HData!$R$3:$R$48828,\">=\"&SDate,HData!$R$3:$R$48828,\"<=\"&RDate)/$B$106,\"\")","v":""},{"$f":"IFERROR(COUNTIFS(HData!$AH$3:$AH$48828,\"<\"&T356,HData!$R$3:$R$48828,\">=\"&SDate,HData!$R$3:$R$48828,\"<=\"&RDate)/$B$106,\"\")","v":""},{"$f":"IFERROR(COUNTIFS(HData!$AH$3:$AH$48828,\"<\"&U356,HData!$R$3:$R$48828,\">=\"&SDate,HData!$R$3:$R$48828,\"<=\"&RDate)/$B$106,\"\")","v":""},{"$f":"IFERROR(COUNTIFS(HData!$AH$3:$AH$48828,\"<\"&V356,HData!$R$3:$R$48828,\">=\"&SDate,HData!$R$3:$R$48828,\"<=\"&RDate)/$B$106,\"\")","v":""},{"$f":"IFERROR(COUNTIFS(HData!$AH$3:$AH$48828,\"<\"&W356,HData!$R$3:$R$48828,\">=\"&SDate,HData!$R$3:$R$48828,\"<=\"&RDate)/$B$106,\"\")","v":""},{"$f":"IFERROR(COUNTIFS(HData!$AH$3:$AH$48828,\"<\"&X356,HData!$R$3:$R$48828,\">=\"&SDate,HData!$R$3:$R$48828,\"<=\"&RDate)/$B$106,\"\")","v":""},{"$f":"IFERROR(COUNTIFS(HData!$AH$3:$AH$48828,\"<\"&Y356,HData!$R$3:$R$48828,\">=\"&SDate,HData!$R$3:$R$48828,\"<=\"&RDate)/$B$106,\"\")","v":""},{"$f":"IFERROR(COUNTIFS(HData!$AH$3:$AH$48828,\"<\"&Z356,HData!$R$3:$R$48828,\">=\"&SDate,HData!$R$3:$R$48828,\"<=\"&RDate)/$B$106,\"\")","v":""},{"$f":"IFERROR(COUNTIFS(HData!$AH$3:$AH$48828,\"<\"&AA356,HData!$R$3:$R$48828,\">=\"&SDate,HData!$R$3:$R$48828,\"<=\"&RDate)/$B$106,\"\")","v":""},{"$f":"IFERROR(COUNTIFS(HData!$AH$3:$AH$48828,\"<\"&AB356,HData!$R$3:$R$48828,\">=\"&SDate,HData!$R$3:$R$48828,\"<=\"&RDate)/$B$106,\"\")","v":""},{"$f":"IFERROR(COUNTIFS(HData!$AH$3:$AH$48828,\"<\"&AC356,HData!$R$3:$R$48828,\">=\"&SDate,HData!$R$3:$R$48828,\"<=\"&RDate)/$B$106,\"\")","v":""},{"$f":"IFERROR(COUNTIFS(HData!$AH$3:$AH$48828,\"<\"&AD356,HData!$R$3:$R$48828,\">=\"&SDate,HData!$R$3:$R$48828,\"<=\"&RDate)/$B$106,\"\")","v":""},{"$f":"IFERROR(COUNTIFS(HData!$AH$3:$AH$48828,\"<\"&AE356,HData!$R$3:$R$48828,\">=\"&SDate,HData!$R$3:$R$48828,\"<=\"&RDate)/$B$106,\"\")","v":""}]
[]
["National average placement to AO",274]
["Scorecard target BLA to placement",426]
["Scorecard target PO to match",121]
["BI to PO nominal target",91]
["NMS target BLA to BI",182]

{"sheet":"Discrepancies","index":12,"n_rows":1,"n_cols":4,"rows_kept":1,"cut":false,"hidden":true,"merged":[]}
["Child ID","Field","Old value","New value"]

{"sheet":"Checks","index":13,"n_rows":69,"n_cols":3,"rows_kept":69,"cut":false,"hidden":false,"merged":[]}
["This is a full list of the data checks this tool performs. If any checks are incorrect or missing please let us know."]
[{"$f":"COUNTA(A4:A501)","v":66}]
["Check ID","Check description"]
["A2a (i)","Checks if an ID appears more than once in your data","=IF(AND(COUNTIF(A$3:A$50000,A3)>1,ABS(COUNTIF(A$3:A$50000,A3)-COUNTIFS(A$3:A$50000,A3,Y$3:Y$50000,\"<>\"))>1),\"This child's ID appears more than once in your dataset, please remove any duplicates\",\"\")"]
["A3 (i)","Checks if a valid code has been entered under Gender","=IF(AND(C3<>\"\",OR(C3=0,C3=1,C3=2,C3=9)),\"\",\"Gender (A3) code must be entered and can only be 0, 1, 2 or 9\")"]
["A4 (i)","Checks if a valid date has been entered under Date of Birth","=IF(D3>TODAY(),\"Date of birth cannot be in the future\",IF(OR(AND(D3<>\"\",ISNUMBER(D3)=TRUE,DATEDIF(D3,RDate,\"y\")>=19),AND(D3<>\"\",ISNUMBER(D3)=FALSE),D3=\"\"),\"Only dates after \"&TEXT(EDATE(RDate,-19*12),\"dd/mm/yyyy\") &\" should be recorded here\",\"\"))"]
["A4 (ii)","Checks that Date of Birth is not after the date entered for Date child entered care","=IF(AND(D3<>\"\",ISNUMBER(D3)=TRUE,D3>L3,L3<>\"\",AG3=\"\"),\"Date of birth cannot be after date child entered care (\"&TEXT(L3,\"dd/mm/yyyy\") &\")\",\"\")"]
["A4 (iii)","Checks that what has been entered under A4 is a date","=IF(OR(D3=\"\",ISNUMBER(D3)=FALSE),\"A valid date must be entered\",\"\")"]
["A5 (i)","Checks if a valid code has been entered under Ethnicity","=IF(ISNA(MATCH(E3,Lists!A$2:A$21,0)),\"Invalid code under Ethnicity (A5)\",\"\")"]
["A6 (i)","Checks if a valid code has been entered under Disability","=IF(AND(F3<>\"\",OR(F3=0,F3=1)),\"\",\"Disability (A6) code can only be 0 or 1\")"]
["A7a (i)","If '1' is not entered under A7a to show a child is in a sibling group but data under A7b - A7d indicates the child is in a sibling group","=IF(AND(SUM(H3:J3)>0,G3<>1),\"If child is part of a sibling group being considered for adoption you must enter 1 under A7a\",\"\")"]
["A7a (ii)","If '1' is entered under A7a to show a child is in a sibling group but 0s are recorded under A7b or A7c, indicating no siblings","=IF(AND(G3=1,SUM(H3:I3)<=1),\"A7a indicates child is part of a sibling group but A7b and/or A7c do not reflect this - A7b+A7c must be at least 2\",\"\")"]
["A7a (iii)","Checks if a valid code has been entered under A7a","=IF(AND(G3<>\"\",OR(G3=0,G3=1)),\"\",\"Sibling group (A7a) code can only be 0 or 1\")"]
["A7b (i)","If '0' is entered under A7a to show a child is not in a sibling group then nothing should be recorded under A7b, A7c or A7d","=IF(AND(G3=0,SUM(H3:J3)>0),\"If child is not part of a sibling group nothing should be entered under A7b, A7c or A7d\",\"\")"]
["A7b (ii)","Checks if a number has been recorded under A7b. If the child is part of a sibling group but planned to be placed apart from all of other their siblings you should enter '1' under A7b","=IF(OR(AND(H3=\"\",G3=1),AND(H3<>\"\",G3=1,OR(H3=0,ISNUMBER(H3)=FALSE))),\"A valid (non-zero) numerical value should be entered under A7b (1, 2, 3 etc) if the child is a part of a sibling group\",\"\")"]
["A7c (i)","Checks if a number has been recorded under A7c","=IF(OR(AND(I3=\"\",G3=1),AND(I3<>\"\",G3=1,ISNUMBER(I3)=FALSE)),\"A valid numerical value should be entered under A7c if the child is a part of a sibling group\",\"\")"]
["A7d (i)","If '1' is entered under A7a to show a child is in a sibling group then '0' or '1' must be recorded under A7d","=IF(AND(G3=1,OR(J3=\"\",AND(J3<>\"\",J3<>0,J3<>1))),\"If child is part of a sibling group being adopted, then 0 or 1 must be entered under A7d\",\"\")"]
["A8b (i)","Checks if placement agency information is missing as child has been placed / adopted","=IF(AND(R3<>\"\",K3=\"\"),\"Placement provider URN is missing\",\"\")"]
["A8b (ii)","Checks if a valid code has been entered under Placement Provider URN","=IF(K3<>\"\",IF(ISNUMBER(K3),IF(OR(AND(ISNA(MATCH(K3*1,Ucodes,0)),ISNA(MATCH(K3*1,URN!$B$2:$B$500,0))),IF(NOT(ISNA(MATCH(K3*1,Ucodes,0))),AND(INDEX(URN!$G$2:$G$500,MATCH(K3*1,Ucodes,0))<>\"\",R3>INDEX(URN!$G$2:$G$500,MATCH(K3*1,Ucodes,0))),FALSE),IF(NOT(ISNA(MATCH(K3*1,URN!$B$2:$B$500,0))),AND(INDEX(URN!$G$2:$G$500,MATCH(K3*1,URN!$B$2:$B$500,0))<>\"\",R3>INDEX(URN!$G$2:$G$500,MATCH(K3*1,URN!$B$2:$B$500,0))),FALSE)),\"Unrecognised URN entered under A8b\",\"\"),IF(OR(AND(ISNA(MATCH(K3,Ucodes,0)),ISNA(MATCH(K3,URN!$B$2:$B$500,0))),IF(NOT(ISNA(MATCH(K3,Ucodes,0))),AND(INDEX(URN!$G$2:$G$500,MATCH(K3,Ucodes,0))<>\"\",R3>INDEX(URN!$G$2:$G$500,MATCH(K3,Ucodes,0))),FALSE),IF(NOT(ISNA(MATCH(K3,URN!$B$2:$B$500,0))),AND(INDEX(URN!$G$2:$G$500,MATCH(K3,URN!$B$2:$B$500,0))<>\"\",R3>INDEX(URN!$G$2:$G$500,MATCH(K3,URN!$B$2:$B$500,0))),FALSE)),\"Unrecognised URN entered under A8b\",\"\")),\"\")"]
["B1 (i)","Checks that what has been entered under B1 is a (suitable) date","=IF(AND(L3<>\"\",OR(ISNUMBER(L3)=FALSE,AND(ISNUMBER(L3)=TRUE,OR(L3>Rdate,L3<D3)))),\"Only suitable dates should be recorded here\",\"\")"]
["B1 (ii)","Checks that Date child entered care is not after Date of Placement Order","=IF(AND(L3<>\"\",O3<>\"\",L3>O3,AS3=\"\"),\"BLA date (B1) cannot be after PO date (B4)\",\"\")"]
["B1 (iii)","Checks that Date child entered care is not missing","=IF(AND(O3<>\"\",L3=\"\"),\"Date child entered care appears to be missing\",\"\")"]
["B2a (i)","If child was placed under FFA/CP, then the date the FFA/CP match was approved is required","=IF(OR(AND(V3=1,M3=\"\"),AND(Q3<>\"\",M3=\"\")),\"FFA/CP match approval date (B2a) is missing\",\"\")"]
["B2a (ii)","If child was placed under FFA/CP, then the date the FFA/CP match was approved must be before the FFA/CP placement date","=IF(AND(M3<>\"\",Q3<>\"\",M3>Q3,AX3=\"\"),\"FFA/CP match approval date (B2a) cannot be after FFA/CP placement date (B5a)\",\"\")"]
["B2a (iii)","Checks that what has been entered under B2a is a (suitable) date","=IF(AND(M3<>\"\",OR(ISNUMBER(M3)=FALSE,AND(ISNUMBER(M3)=TRUE,M3>=IF(MONTH(RDate)=12,DATE(YEAR(RDate)+1,1,1),DATE(YEAR(RDate),MONTH(RDate)+1,1))))),\"Only suitable dates should be recorded here\",\"\")"]
["B2b (i)","Checks if the ADM BID date is missing","=IF(AND(N3=\"\",AND(M3=\"\",Q3=\"\"),OR(O3<>\"\",P3<>\"\",R3<>\"\",T3<>\"\",W3<>\"\"),LEFT(U3,1)<>\"U\"),\"ADM BI date (B2b) is missing\",\"\")"]
["B2b (ii)","The ADM BID date cannot be after the Date of PO","=IF(AND(N3<>\"\",O3<>\"\",N3>O3,BB3=\"\"),\"ADM BI date (B2b) cannot be after PO date (B3)\",\"\")"]
["B2b (iii)","The ADM BID date cannot be after the Date the child's plan was changed from adoption","=IF(AND(N3<>\"\",W3<>\"\",N3>W3,BB3=\"\"),\"ADM BI date (B2b) cannot be after decision child should no longer be placed for adoption (C1a)\",\"\")"]
["B2b (iv)","Checks that what has been entered under B2b is a (suitable) date","=IF(AND(N3<>\"\",OR(ISNUMBER(N3)=FALSE,AND(ISNUMBER(N3)=TRUE,N3>=IF(MONTH(RDate)=12,DATE(YEAR(RDate)+1,1,1),DATE(YEAR(RDate),MONTH(RDate)+1,1))))),\"Only suitable dates should be recorded here\",\"\")"]
["B2b (v)","The ADM BID date cannot be before the child's DoB","=IF(AND(N3<>\"\",D3<>\"\",N3<D3),\"ADM BI date (B2b) cannot be before the child's DoB (A4)\",\"\")"]
["B2b (vi)","Checks if this child has had a PO, match, placement or reversal within a year of their ADM BID date","=IF(AND(N3<>\"\",O3=\"\",P3=\"\",R3=\"\",W3=\"\",EDATE(N3,12)<=RDate),\"This child has not had a PO, match, placement or reversal within 1 year of their ADM BID date, please check that this child's record is up-to-date\",\"\")"]
["B3 (i)","A child cannot be placed for adoption before the Placement Order is granted","=IF(AND(O3<>\"\",R3<>\"\",O3>R3,BG3=\"\"),\"PO date (B3) cannot be after the child has been placed for adoption (B5b)\",\"\")"]
["B3 (ii)","The PO date cannot be after the Date the child's plan was changed from adoption","=IF(AND(O3<>\"\",W3<>\"\",O3>W3,BG3=\"\"),\"PO date (B3) cannot be after decision child should no longer be placed for adoption (C1a)\",\"\")"]
["B3 (iii)","Checks that what has been entered under B3 is a (suitable) date","=IF(AND(O3<>\"\",OR(ISNUMBER(O3)=FALSE,AND(ISNUMBER(O3)=TRUE,OR(O3>Rdate,O3<N3)))),\"Only suitable dates should be recorded here\",\"\")"]
["B4 (i)","The Date the ADM approved an adoptive match cannot be after the Date the child moved in with an adoptive family","=IF(AND(P3<>\"\",R3<>\"\",P3>R3,BI3=\"\"),\"Date match approved by ADM (B4) cannot be after date of adoptive placement (B5b)\",\"\")"]
["B4 (ii)","Checks if the Date the ADM approved an adoptive match is missing - this should not be the date of the panel meeting","=IF(AND(P3=\"\",R3<>\"\",LEFT(U3,1)<>\"U\"),\"Date match approved by ADM (B4) is missing\",\"\")"]
["B4 (iii)","Checks that what has been entered under B4 is a (suitable) date","=IF(AND(P3<>\"\",OR(ISNUMBER(P3)=FALSE,AND(ISNUMBER(P3)=TRUE,OR(P3>Rdate,P3<N3)))),\"Only suitable dates should be recorded here\",\"\")"]
["B5a (i)","Checks that what has been entered under B5a is a (suitable) date","=IF(AND(Q3<>\"\",OR(ISNUMBER(Q3)=FALSE,AND(ISNUMBER(Q3)=TRUE,OR(Q3>Rdate,Q3<M3)))),\"Only suitable dates should be recorded here\",\"\")"]
["B5a (ii)","If child was placed under FFA/CP according to B9, then the date of FFA/CP placement must be provided","=IF(AND(V3=1,Q3=\"\"),\"FFA / CP placement date (B5a) is missing\",\"\")"]
["B5b (i)","The Date of adoptive placement cannot be after the Date of the Adoption Order","=IF(AND(R3<>\"\",T3<>\"\",R3>T3,BO3=\"\"),\"Date of adoptive placement (B5b) cannot be after Date of AO (B7)\",\"\")"]
["B5b (ii)","The Date of adoptive placement cannot be after the Date the placement disrupted. If a previous placement disrupted and the child has been placed again then C2 should be blank","=IF(AND(R3<>\"\",Y3<>\"\",R3>Y3,BO3=\"\"),\"Date of adoptive placement (B5b) cannot be after date placement disrupted (C2)\",\"\")"]
["B5b (iii)","Checks if the adoptive placment date is missing","=IF(AND(OR(T3<>\"\",Y3<>\"\"),R3=\"\",LEFT(U3,1)<>\"U\"),\"Date of adoptive placement is missing\",\"\")"]
["B5b (iv)","Checks that what has been entered under B5b is a (suitable) date","=IF(AND(R3<>\"\",OR(ISNUMBER(R3)=FALSE,AND(ISNUMBER(R3)=TRUE,OR(R3>Rdate,R3<N3)))),\"Only suitable dates should be recorded here\",\"\")"]
["B5b (v)","The Date of adoptive placement has to be after the Date of placement with FFA/CP","=IF(AND(R3<>\"\",Q3<>\"\",R3<=Q3),\"The date of adoptive placement (B5b) has to be after the child moved into the FFA placement (B5a)\",\"\")"]
["B5b (vi)","The Date of adoptive placement has to be after the Date of PO","=IF(AND(R3<>\"\",O3<>\"\",R3<O3),\"The date of adoptive placement (B5b) has to be after the PO is granted (B3)\",\"\")"]
["B5b (vii)","If an adoptive match has been approved more than 3 months ago and there is no record of an adoptive placement then query if placement date is missing","=IF(AND(P3<>\"\",R3=\"\",RDate-P3>90,W3=\"\",X3=\"\",Y3=\"\",U3=\"\"),\"Is placement date missing?\",\"\")"]
["B6 (i)","Checks that what has been entered under B6 is a (suitable) date","=IF(AND(S3<>\"\",OR(ISNUMBER(S3)=FALSE,AND(ISNUMBER(S3)=TRUE,OR(S3>Rdate,S3<L3)))),\"Only suitable dates should be recorded here\",\"\")"]
["B6 (ii)","A date should only be recorded under B6 where the foster carer adopts the child, excluding FFA/CP cases (as this date is provided under B5a)","=IF(AND(Q3<>\"\",S3<>\"\"),\"If child was in FFA/CP placement (B5a) please do not record anything under B6 or vice versa\",\"\")"]
["B6 (iii)","The Date of adoptive placement has to be after the Date of placement with the foster carer","=IF(AND(R3<>\"\",S3<>\"\",R3<=S3),\"The date the child originally went to live with the foster carer (B6) has to be before the date of adoptive placement (B5b)\",\"\")"]
["B7 (i)","Checks if the adoption order date is missing","=IF(OR(AND(T3=\"\",U3<>\"\"),AND(AA3=TRUE,R3<>\"\",W3=\"\",T3=\"\")),\"Date of AO (B7) appears to be missing\",\"\")"]
["B7 (ii)","Checks that what has been entered under B7 is a (suitable) date","=IF(AND(T3<>\"\",OR(ISNUMBER(T3)=FALSE,AND(ISNUMBER(T3)=TRUE,OR(T3>Rdate,T3<N3)))),\"Only suitable dates should be recorded here\",\"\")"]
["B8 (i)","Checks that dates for foster carer (B6) or FFA/CP (B5a and B9) placement are recorded in line with A3/A5 code","=IF(AND(OR(U3=\"A3\",U3=\"A5\"),V3<>1,S3=\"\",Q3=\"\"),\"B8 code indicates adoption by FFA/CP/Foster carer, but no FFA/CP placement date (B5b, B9) or Foster carer placement data (B6) is recorded\",\"\")"]
["B8 (ii)","Checks that dates for foster carer (B6) or FFA/CP (B5a and B9) placement are not recorded in line with A4/A6 code","=IF(AND(OR(U3=\"A4\",U3=\"A6\"),OR(V3=1,S3<>\"\",Q3<>\"\")),\"Data indicates adoption by FFA/CP/Foster carer but B8 code does not reflect this\",\"\")"]
["B8 (iii)","Checks that no PO date (B3) is recorded in line with A3/A4 code","=IF(AND(OR(U3=\"A3\",U3=\"A4\"),O3<>\"\"),\"B8 code indicates adoption by consent, but a PO date (B3) is recorded\",\"\")"]
["B8 (iv)","Checks that PO date (B3) is recorded in line with A5/A6 code","=IF(AND(OR(U3=\"A5\",U3=\"A6\"),O3=\"\"),\"B8 code indicates adoption under PO, but a PO date (B3) is not recorded\",\"\")"]
["B8 (v)","Checks if the B8 code is missing (i.e. blank when a AO date is entered)","=IF(AND(T3<>\"\",U3=\"\"),\"B8 code is missing\",\"\")"]
["B8 (vi)","Checks that a A code has been provided when a date has been entered under B5b","=IF(AND(R3<>\"\",T3<>\"\",LEFT(U3,1)<>\"A\"),\"B8 code should be an A code for adoption\",\"\")"]
["B9 (i)","Checks that correct code is recorded under B9 depending on what is entered under B2a and B5a","=IF(OR(AND(V3=1,T3<>\"\",M3=\"\",Q3=\"\"),AND(V3=0,T3<>\"\",OR(M3<>\"\",Q3<>\"\"))),\"Incorrect code appears to be entered under B9\",\"\")"]
["B9 (ii)","Checks that a 0 or 1 is entered","=IF(OR(V3=0,V3=1),\"\",\"B9 code can only be 0 (No) or 1 (Yes).\")"]
["C1a (i)","If a child was included in the previous return but is missing from this one and no AO Date or Change of Plan Date was been provided for them then they are flagged as missing and the AO Date or Change of Plan is needed","=IF(AND(OR(AND(AA3=TRUE,T3=\"\"),X3<>\"\"),W3=\"\"),\"Child's plan appears to have changed from adoption but no date is recorded under C1a\",\"\")"]
["C1a (ii)","Checks that what has been entered under C1a is a (suitable) date","=IF(AND(W3<>\"\",OR(ISNUMBER(W3)=FALSE,AND(ISNUMBER(W3)=TRUE,OR(W3>Rdate,W3<N3)))),\"Only suitable dates should be recorded here\",\"\")"]
["C1b (i)","A date has been recorded under C1a or the child has gone missing since the last return, and no code has been entered under C1b","=IF(AND(OR(AND(T3=\"\",AA3=TRUE),W3<>\"\"),X3=\"\"),\"Child's plan appears to have changed from adoption but no reason code is recorded under C1b\",\"\")"]
["C1b (ii)","Checks if a valid code has been entered under C1b","=IF(X3<>\"\",IF(ISNA(MATCH(X3,Rcodes,0)),\"C1b code not valid\",\"\"),\"\")"]
["C1b (iii)","If code RD2 has been entered but a PO Date has also been entered then one of these is wrong","=IF(AND(X3=\"RD2\",O3<>\"\"),\"RD2 cannot be correct if a PO has been granted (B3)\",\"\")"]
["C2 (i)","If no adoptive placement date is recorded then C2 should also be blank","=IF(AND(Y3<>\"\",R3=\"\"),\"Disruption date (C2) should not be recorded if there is no placement date (B5b)\",\"\")"]
["C2 (ii)","If a placement date and change of plan information is entered then the adoptive placement must have disrupted but nothing is recorded under C2","=IF(AND(Y3=\"\",R3<>\"\",OR(W3<>\"\",X3<>\"\")),\"Disruption date (C2) appears to be missing\",\"\")"]
["C2 (iii)","Checks that what has been entered under C2 is a (suitable) date","=IF(AND(Y3<>\"\",OR(ISNUMBER(Y3)=FALSE,AND(ISNUMBER(Y3)=TRUE,OR(Y3>Rdate,Y3<R3)))),\"Only suitable dates should be recorded here\",\"\")"]
["C3 (i)","Checks that a valid code has been entered under C3 for any children with a PO who are not placed for adoption and where there is no indication of a change of plan","=IF(AND(OR(COUNTIF($A$3:$A$50000,A3)=1,AND(COUNTIF($A$3:$A$50000,A3)>1,Y3=\"\")),AND(AND(O3<>\"\",O3<=RDate),OR(R3=\"\",AND(R3<>\"\",R3>RDate),AND(R3<>\"\",Y3<>\"\",R3<Y3,Y3<=RDate)),OR(AND(W3=\"\",X3=\"\"),AND(W3<>\"\",W3>RDate)),OR(T3=\"\",AND(T3<>\"\",OR(AND(R3=\"\",T3>RDate),AND(R3<>\"\",R3>RDate)))))=TRUE,OR(Z3=\"\",AND(Z3<>1,Z3<>2,Z3<>3,Z3<>4))),\"Please enter a valid code (1, 2, 3 or 4) under C3\",\"\")"]
["C3 (ii)","Checks that code 4 has been entered under C3 for any children matched but not yet placed for adoption and where there is no indication of a change of plan","=IF(AND(P3<>\"\",R3=\"\",Z3<>4,T3=\"\",W3=\"\",X3=\"\"),\"This child appears to have been matched and not yet placed for adoption, so C3 should equal 4\",\"\")"]

{"sheet":"Lists","index":14,"n_rows":184,"n_cols":48,"rows_kept":184,"cut":false,"hidden":false,"merged":[[183,24,183,34],[0,24,1,39]]}
["Ethnic origin",null,null,"Gender",null,null,"Yes/No",null,null,"Placement at adoption",null,null,"Provider code",null,null,"Family Finding",null,null,"Reason no longer placed for adoption",null,null,"Quarters ending",null,null,"Percentage of looked after children adopted during the year (with percentages based on the number of children that ceased to be looked after during the year)",null,null,null,null,null,null,null,null,null,null,null,null,null,null,null,null,"New Style URN","Old Style URN","Agency ID","Adoption Agency",null,null,"HData formulae"]
["WBRI","White – British",null,"Not known (gender not recorded or unknown for unborn children)",0,null,"No",0,null,"Placed for adoption with consent with current foster carer ","A3",null,"PR1","Own LA/RAA",null,1,"Currently family-finding for the child",null,"RD1","The child’s needs changed subsequent to the ADM decision",null,"2014-06-30","2014/15 Q1",null,null,null,null,null,null,null,null,null,null,null,null,null,null,null,null,null,null,1023087,"SC053472",301,"Barking and Dagenham",null,null,"=IF(ISNA(MATCH(K3,Ucodes,0)),IF(ISNA(MATCH(K3,URN!$B$2:$B$500,0)),\"\",INDEX(URN!$I$2:$I$500,MATCH(K3,URN!$B$2:$B$500,0))),INDEX(URN!$I$2:$I$500,MATCH(K3,URN!$A$2:$A$500,0)))"]
["WIRI","White – Irish",null,"Male",1,null,"Yes",1,null,"Placed for adoption with consent not with current foster carer ","A4",null,"PR2","Other LA/RAA",null,2,"Not family-finding – PO currently being appealed/revoked",null,"RD2","The court did not make a PO",null,{"$f":"EDATE(V2+1,3)-1","v":"2014-09-30"},"2014/15 Q2",null,null,null,null,null,null,null,null,null,null,null,null,null,null,null,null,null,null,1023129,"SC054951",302,"Barnet",null,null,"=OR(Y3=\"\",AND(Y3<>\"\",IF(COUNTIFS(A$3:A$50000,A3,Y$3:Y$50000,\"\")<>0,FALSE,Y3=SUMPRODUCT(MAX((A$3:A$50000=A3)*(Y$3:Y$50000))))))"]
["WIRT","White – Traveller of Irish heritage",null,"Female",2,null,null,null,null,"Placed for adoption with PO with current foster carer ","A5",null,"PR5","VAA",null,3,"Not family-finding – family found but not yet formally matched at panel",null,"RD3","No (prospective) adopter(s) can be found",null,{"$f":"EDATE(V3+1,3)-1","v":"2014-12-31"},"2014/15 Q3",null,"URN","LA name","2012/13","2013/14","2014/15","2015/16","2016/17","2017/18","2018/19","2019/20","2020/21","2021/22","2022/23","2023/24","2024/25","2025/26",null,1022968,"SC050108",370,"Barnsley",null,null,"=IF(AB3,0,COUNTIFS(A$3:A$50000,A3,Y$3:Y$50000,\"<\"&Y3)+1)"]
["WROM","White – Gypsy/Roma",null,"Neither (indeterminate, i.e. unable to be classed as either male or female)",9,null,null,null,null,"Placed for adoption with PO not with current foster carer ","A6",null,"PR6","Adopters outside England",null,4,"Not family-finding – other reason",null,"RD4","Any other reason",null,"2015-03-31","2014/15 Q4",null,null,null,null,null,null,null,null,null,null,null,null,null,null,null,null,null,null,1022969,"SC050122",800,"Bath and North East Somerset",null,null,"=IF(AND(L3<>\"\",N3<>\"\",L3<=N3),N3-L3,\"\")"]
["WOTH","Any other White background",null,null,null,null,null,null,null,null,null,null,null,null,null,null,null,null,null,null,null,"2015-06-30","2015/16 Q1",null,null,null,null,null,null,null,null,null,null,null,null,null,null,null,null,null,null,1026019,"SC454369",822,"Bedford",null,null,"=IF(AND(L3<>\"\",O3<>\"\",L3<=O3),O3-L3,\"\")"]
["ABAN","Asian – Bangladeshi",null,null,null,null,null,null,null,null,null,null,null,null,null,null,null,null,null,null,null,"2015-09-30","2015/16 Q2",null,null,"England",14,17,17,15,14,13,12,12,10,10,9,9,9,null,null,1023088,"SC053480",303,"Bexley",null,null,"=IF(AND(L3<>\"\",OR(AND(R3<>\"\",Y3=\"\"),AND(R3<>\"\",Y3<>\"\",Y3<R3)),L3<=R3),R3-L3,\"\")"]
["AIND","Asian – Indian",null,null,null,null,null,null,null,null,null,null,null,null,null,null,null,null,null,null,null,"2015-12-31","2015/16 Q3",null,null,null,null,null,null,null,null,"","","","",null,null,null,null,null,null,1022947,"SC050034","213B","Bi-Borough",null,null,"=IF(AND(L3<>\"\",OR(AND(R3<>\"\",Y3=\"\"),AND(R3<>\"\",Y3<>\"\",Y3<R3))),IF(AND(S3<>\"\",L3<=S3),S3-L3,IF(AND(Q3<>\"\",L3<=Q3),Q3-L3,IF(L3<=R3,R3-L3,\"\"))),\"\")"]
["APKN","Asian – Pakistani",null,{"$f":"OR(D10,D11)","v":false},"<= flag for whether data needs to be compiled, which needs to occur if either of the bottom two flags are TRUE",null,null,null,null,null,null,null,null,null,null,null,null,null,null,null,null,"2016-03-31","2015/16 Q4",null,null,"North East",16,20,19,13,14,14,13,12,13,13,13,11,10,null,null,1273493,1273493,330,"Birmingham",null,null,"=IF(AND(L3<>\"\",OR(AND(R3<>\"\",Y3=\"\"),AND(R3<>\"\",Y3<>\"\",Y3<R3)),L3<=R3),DATEDIF(L3,R3,\"M\"),\"\")"]
["AOTH","Any other Asian background",null,{"$f":"SUMPRODUCT((ISNA(MATCH(NData!$A:$A,HData!$A:$A,0)))*(NData!$A:$A<>\"\"))>0","v":false},"<= if TRUE, then there are new children in NData",null,null,null,null,null,null,null,null,null,null,null,null,null,null,null,null,"2016-06-30","2016/17 Q1",null,841,"Darlington",9,20,26,12,13,20,"c",11,9,15,17,8,15,null,null,1022922,"SC049186",889,"Blackburn with Darwen",null,null,"=IF(AND(L3<>\"\",OR(AND(R3<>\"\",Y3=\"\"),AND(R3<>\"\",Y3<>\"\",Y3<R3))),IF(AND(S3<>\"\",L3<=S3),DATEDIF(L3,S3,\"M\"),IF(AND(Q3<>\"\",L3<=Q3),DATEDIF(L3,Q3,\"M\"),IF(L3<=R3,DATEDIF(L3,R3,\"M\"),\"\"))),\"\")"]
["CHNE","Chinese",null,{"$f":"IF(COUNTIF(HData!$BY:$BY,TRUE)>0,TRUE,FALSE)","v":false},"<= if TRUE, then there are missing children from HData",null,null,null,null,null,null,null,null,null,null,null,null,null,null,null,null,"2016-09-30","2016/17 Q2",null,840,"Durham",14,25,17,11,17,14,14,16,18,18,17,14,10,null,null,1023208,"SC056531",890,"Blackpool",null,null,"=IF(AND(L3<>\"\",T3<>\"\",L3<=T3),T3-L3,\"\")"]
["BAFR","Black African",null,null,null,null,null,null,null,null,null,null,null,null,null,null,null,null,null,null,null,"2016-12-31","2016/17 Q3",null,390,"Gateshead",10,16,15,12,14,15,15,15,15,9,15,14,13,null,null,1023268,"SC057273",350,"Bolton",null,null,"=IF(AND(L3<>\"\",L3<=RDate),RDate-L3,\"\")"]
["BCRB","Black Caribbean",null,null,null,null,null,null,null,null,null,null,null,null,null,null,null,null,null,null,null,"2017-03-31","2016/17 Q4",null,805,"Hartlepool",13,18,16,15,15,9,15,12,11,11,6,9,8,null,null,2533843,2533843,837,"Bournemouth, Christchurch, Poole",null,null,"=IF(AND(L3<>\"\",L3<=RDate),DATEDIF(L3,RDate,\"m\"),\"\")"]
["BOTH","Any other Black background",null,null,null,null,null,null,null,null,null,null,null,null,null,null,null,null,null,null,null,"2017-06-30","2017/18 Q1",null,806,"Middlesbrough",10,11,18,10,12,14,13,8,9,9,11,11,9,null,null,1023376,"SC059849",867,"Bracknell Forest",null,null,"=IF(AND(L3<>\"\",L3<=Analysis!$B$4-1,OR(R3=\"\",AND(R3<>\"\",R3>=Analysis!$B$4),AND(R3<>\"\",Y3<>\"\",R3<Y3)),OR(AND(W3=\"\",X3=\"\"),AND(W3<>\"\",W3>=Analysis!$B$4)),OR(T3=\"\",AND(T3<>\"\",T3>=Analysis!$B$4)),N3<>\"\"),DATEDIF(L3,Analysis!$B$4-1,\"m\"),\"\")"]
["MWAS","Mixed – White and Asian",null,null,null,null,null,null,null,null,null,null,null,null,null,null,null,null,null,null,null,"2017-09-30","2017/18 Q2",null,391,"Newcastle Upon Tyne",20,27,20,12,12,16,11,13,16,12,15,11,12,null,null,2730622,2730622,380,"Bradford",null,null,"=IF(L3<>\"\",IF(MONTH(L3)>=4,YEAR(L3)&\"/\"&RIGHT(YEAR(L3)+1,2),YEAR(L3)-1&\"/\"&RIGHT(YEAR(L3),2)),\"\")"]
["MWBA","Mixed – White and Black African",null,null,null,null,null,null,null,null,null,null,null,null,null,null,null,null,null,null,null,"2017-12-31","2017/18 Q3",null,392,"North Tyneside",20,20,16,14,10,12,"c",10,5,14,4,8,8,null,null,1023309,"SC058592",304,"Brent",null,null,"=IF(AND(N3<>\"\",O3<>\"\",N3<=O3),O3-N3,\"\")"]
["MWBC","Mixed – White and Black Caribbean",null,null,null,null,null,null,null,null,null,null,null,null,null,null,null,null,null,null,null,"2018-03-31","2017/18 Q4",null,929,"Northumberland",20,14,23,21,15,14,22,15,16,18,14,7,13,null,null,1022963,"SC050073",846,"Brighton and Hove",null,null,"=IF(AND(N3<>\"\",OR(AND(R3<>\"\",Y3=\"\"),AND(R3<>\"\",Y3<>\"\",Y3<R3)),N3<=R3),R3-N3,\"\")"]
["MOTH","Any other mixed background",null,null,null,null,null,null,null,null,null,null,null,null,null,null,null,null,null,null,null,"2018-06-30","2018/19 Q1",null,807,"Redcar and Cleveland",20,28,27,10,7,14,10,8,13,6,11,7,4,null,null,1023132,"SC054985",801,"Bristol",null,null,"=IF(AND(N3<>\"\",OR(O3=\"\",O3>RDate),OR(P3=\"\",P3>RDate),OR(R3=\"\",R3>RDate),OR(T3=\"\",T3>RDate),OR(W3=\"\",W3>RDate),X3=\"\",N3<=RDate),RDate-N3,\"\")"]
["OOTH","Any other ethnic group",null,null,null,null,null,null,null,null,null,null,null,null,null,null,null,null,null,null,null,"2018-09-30","2018/19 Q2",null,393,"South Tyneside",31,25,22,15,26,19,11,15,13,15,15,14,13,null,null,1023102,"SC054048",305,"Bromley",null,null,"=IF(AND(N3<>\"\",OR(O3=\"\",O3>RDate),OR(P3=\"\",P3>RDate),OR(R3=\"\",R3>RDate),OR(T3=\"\",T3>RDate),OR(W3=\"\",W3>RDate),X3=\"\",N3<=RDate),DATEDIF(N3,RDate,\"m\"),\"\")"]
["REFU","Refused",null,null,null,null,null,null,null,null,null,null,null,null,null,null,null,null,null,null,null,"2018-12-31","2018/19 Q3",null,808,"Stockton-On-Tees",11,16,21,14,8,12,25,10,16,9,10,10,8,null,null,1023166,"SC055713",825,"Buckinghamshire",null,null,"=IF(N3<>\"\",IF(MONTH(N3)>=4,YEAR(N3)&\"/\"&RIGHT(YEAR(N3)+1,2),YEAR(N3)-1&\"/\"&RIGHT(YEAR(N3),2)),\"\")"]
["NOBT","Information not yet obtained",null,null,null,null,null,null,null,null,null,null,null,null,null,null,null,null,null,null,null,"2019-03-31","2018/19 Q4",null,394,"Sunderland",19,17,21,14,14,15,11,12,13,12,13,15,10,null,null,1022942,"SC049997",351,"Bury",null,null,"=IF(AND(O3<>\"\",OR(AND(P3<>\"\",Y3=\"\"),AND(P3<>\"\",Y3<>\"\",Y3<P3)),O3<=P3),P3-O3,\"\")"]
[null,null,null,null,null,null,null,null,null,null,null,null,null,null,null,null,null,null,null,null,null,"2019-06-30","2019/20 Q1",null,null,null,null,null,null,null,null,"","","","",null,null,null,null,null,null,1022943,"SC050029",381,"Calderdale",null,null,"=IF(AND(O3<>\"\",OR(AND(P3<>\"\",Y3=\"\"),AND(P3<>\"\",Y3<>\"\",Y3<P3)),O3<=P3),DATEDIF(O3,P3,\"m\"),\"\")"]
[null,null,null,null,null,null,null,null,null,null,null,null,null,null,null,null,null,null,null,null,null,"2019-09-30","2019/20 Q2",null,null,"North West",16,17,19,18,16,14,12,15,11,10,9,10,9,null,null,1022900,"SC048977",873,"Cambridgeshire",null,null,"=IF(AND(O3<>\"\",OR(AND(R3<>\"\",Y3=\"\"),AND(R3<>\"\",Y3<>\"\",Y3<R3)),O3<=R3),R3-O3,\"\")"]
[null,null,null,null,null,null,null,null,null,null,null,null,null,null,null,null,null,null,null,null,null,"2019-12-31","2019/20 Q3",null,889,"Blackburn with Darwen",13,34,37,21,25,13,18,15,17,16,13,25,11,null,null,1022946,"SC050033",202,"Camden",null,null,"=IF(AND(O3<>\"\",T3<>\"\",O3<=T3),T3-O3,\"\")"]
[null,null,null,null,null,null,null,null,null,null,null,null,null,null,null,null,null,null,null,null,null,"2020-03-31","2019/20 Q4",null,890,"Blackpool",14,20,27,21,19,17,18,22,14,9,14,21,16,null,null,1025048,"SC394407",823,"Central Bedfordshire",null,null,"=IF(AND(O3<>\"\",OR(W3=\"\",W3>RDate),O3<=RDate),DATEDIF(O3,RDate,\"m\"),\"\")"]
[null,null,null,null,null,null,null,null,null,null,null,null,null,null,null,null,null,null,null,null,null,"2020-06-30","2020/21 Q1",null,350,"Bolton",28,35,31,26,23,21,20,23,14,10,15,7,10,null,null,1025028,"SC393773",895,"Cheshire East",null,null,"=IF(AND(O3<>\"\",W3<>\"\",O3<=W3),W3-O3,\"\")"]
[null,null,null,null,null,null,null,null,null,null,null,null,null,null,null,null,null,null,null,null,null,"2020-09-30","2020/21 Q2",null,351,"Bury",17,17,20,18,7,8,9,14,7,14,10,12,8,null,null,1025030,"SC393778",896,"Cheshire West and Chester",null,null,"=IF(AND(O3<>\"\",OR(W3=\"\",W3>RDate),O3<=RDate),DATEDIF(O3,RDate,\"d\"),\"\")"]
[null,null,null,null,null,null,null,null,null,null,null,null,null,null,null,null,null,null,null,null,null,"2020-12-31","2020/21 Q3",null,895,"Cheshire East",14,18,17,13,18,10,12,13,18,9,7,9,11,null,null,1023379,"SC059857",201,"City of London",null,null,"=IF(O3<>\"\",IF(MONTH(O3)>=4,YEAR(O3)&\"/\"&RIGHT(YEAR(O3)+1,2),YEAR(O3)-1&\"/\"&RIGHT(YEAR(O3),2)),\"\")"]
[null,null,null,null,null,null,null,null,null,null,null,null,null,null,null,null,null,null,null,null,null,"2021-03-31","2020/21 Q4",null,896,"Cheshire West and Chester",14,16,21,18,14,5,12,20,19,11,10,7,11,null,null,1023134,"SC054995",908,"Cornwall",null,null,"=IF(AND(P3<>\"\",OR(AND(R3<>\"\",Y3=\"\"),AND(R3<>\"\",Y3<>\"\",Y3<R3)),P3<=R3),R3-P3,\"\")"]
[null,null,null,null,null,null,null,null,null,null,null,null,null,null,null,null,null,null,null,null,null,"2021-06-30","2021/22 Q1",null,909,"Cumbria",19,13,23,25,31,23,18,21,13,12,10,"z","z",null,null,1023135,"SC055002",331,"Coventry",null,null,"=IF(P3<>\"\",IF(MONTH(P3)>=4,YEAR(P3)&\"/\"&RIGHT(YEAR(P3)+1,2),YEAR(P3)-1&\"/\"&RIGHT(YEAR(P3),2)),\"\")"]
[null,null,null,null,null,null,null,null,null,null,null,null,null,null,null,null,null,null,null,null,null,"2021-09-30","2021/22 Q2",null,942,"Cumberland","z","z","z","z","z","z","z","z","z","z","z",13,10,null,null,1023353,"SC059610",306,"Croydon",null,null,"=IF(AND(R3<>\"\",T3<>\"\",R3<=T3),T3-R3,\"\")"]
[null,null,null,null,null,null,null,null,null,null,null,null,null,null,null,null,null,null,null,null,null,"2021-12-31","2021/22 Q3",null,876,"Halton",19,10,18,24,18,28,"c",19,"c","c",8,8,9,null,null,1023099,"SC054013",909,"Cumbria",null,null,"=IF(AND(R3<>\"\",OR(T3=\"\",T3>RDate),OR(Y3=\"\",Y3>RDate),OR(W3=\"\",W3>RDate),X3=\"\",R3<=RDate),RDate-R3,\"\")"]
[null,null,null,null,null,null,null,null,null,null,null,null,null,null,null,null,null,null,null,null,null,"2022-03-31","2021/22 Q4",null,340,"Knowsley",11,11,11,9,17,16,8,8,10,"c","c","c",0,null,null,2733364,2733364,942,"Cumberland",null,null,"=IF(AND(R3<>\"\",OR(T3=\"\",T3>RDate),OR(Y3=\"\",Y3>RDate),OR(W3=\"\",W3>RDate),X3=\"\",R3<=RDate),DATEDIF(R3,RDate,\"m\"),\"\")"]
[null,null,null,null,null,null,null,null,null,null,null,null,null,null,null,null,null,null,null,null,null,"2022-06-30","2022/23 Q1",null,888,"Lancashire",16,15,20,20,13,13,10,12,10,11,6,7,11,null,null,1024027,"SC067257",841,"Darlington",null,null,"=IF(R3<>\"\",IF(MONTH(R3)>=4,YEAR(R3)&\"/\"&RIGHT(YEAR(R3)+1,2),YEAR(R3)-1&\"/\"&RIGHT(YEAR(R3),2)),\"\")"]
[null,null,null,null,null,null,null,null,null,null,null,null,null,null,null,null,null,null,null,null,null,"2022-09-30","2022/23 Q2",null,341,"Liverpool",21,14,14,9,13,11,8,12,8,6,7,9,8,null,null,1023334,"SC059360",831,"Derby",null,null,"=IF(T3<>\"\",IF(MONTH(T3)>=4,YEAR(T3)&\"/\"&RIGHT(YEAR(T3)+1,2),YEAR(T3)-1&\"/\"&RIGHT(YEAR(T3),2)),\"\")"]
[null,null,null,null,null,null,null,null,null,null,null,null,null,null,null,null,null,null,null,null,null,"2022-12-31","2022/23 Q3",null,352,"Manchester",10,12,12,18,15,10,11,11,6,10,6,7,5,null,null,1023347,"SC059568",830,"Derbyshire",null,null,"=IF(AND(D3<>\"\",L3<>\"\",D3<=L3),DATEDIF(D3,L3,\"y\"),\"\")"]
[null,null,null,null,null,null,null,null,null,null,null,null,null,null,null,null,null,null,null,null,null,"2023-03-31","2022/23 Q4",null,353,"Oldham",21,21,18,20,16,17,14,16,15,20,13,13,14,null,null,1022944,"SC050030",878,"Devon",null,null,"=IF(AND(D3<>\"\",N3<>\"\",D3<=N3),DATEDIF(D3,N3,\"y\"),\"\")"]
[null,null,null,null,null,null,null,null,null,null,null,null,null,null,null,null,null,null,null,null,null,{"$f":"EDATE(V37+1,3)-1","v":"2023-06-30"},"2023/24 Q1",null,354,"Rochdale",22,17,29,30,30,21,16,28,21,14,17,11,7,null,null,"SC481450","SC481450",371,"Doncaster",null,null,"=IF(AND(D3<>\"\",O3<>\"\",D3<=O3),DATEDIF(D3,O3,\"y\"),\"\")"]
[null,null,null,null,null,null,null,null,null,null,null,null,null,null,null,null,null,null,null,null,null,"2023-09-30","2023/24 Q2",null,355,"Salford",13,10,20,13,12,9,9,13,10,8,8,9,11,null,null,1022945,"SC050031",835,"Dorset",null,null,"=IF(AND(D3<>\"\",OR(AND(R3<>\"\",Y3=\"\"),AND(R3<>\"\",Y3<>\"\",Y3<R3)),D3<=R3),DATEDIF(D3,R3,\"y\"),\"\")"]
[null,null,null,null,null,null,null,null,null,null,null,null,null,null,null,null,null,null,null,null,null,"2023-12-31","2023/24 Q3",null,343,"Sefton",13,25,13,8,6,8,17,12,9,13,"c",6,10,null,null,1023137,"SC055017",332,"Dudley",null,null,"=IF(AND(D3<>\"\",T3<>\"\",D3<=T3),DATEDIF(D3,T3,\"y\"),\"\")"]
[null,null,null,null,null,null,null,null,null,null,null,null,null,null,null,null,null,null,null,null,null,"2024-03-31","2023/24 Q4",null,342,"St. Helens",22,12,22,32,18,19,11,17,10,10,9,10,18,null,null,1023139,"SC055022",840,"Durham",null,null,"=IF(AND(D3<>\"\",W3<>\"\",D3<=W3),DATEDIF(D3,W3,\"y\"),\"\")"]
[null,null,null,null,null,null,null,null,null,null,null,null,null,null,null,null,null,null,null,null,null,"2024-06-30","2024/25 Q1",null,356,"Stockport",19,18,21,17,18,6,10,13,11,7,9,5,6,null,null,1023140,"SC055023",307,"Ealing",null,null,"=IF(AND(D3>0,D3<=RDate),DATEDIF(D3,RDate,\"y\"),\"\")"]
[null,null,null,null,null,null,null,null,null,null,null,null,null,null,null,null,null,null,null,null,null,"2024-09-30","2024/25 Q2",null,357,"Tameside",18,25,17,14,22,12,10,12,13,9,7,13,8,null,null,1023209,"SC056538",811,"East Riding of Yorkshire",null,null,"=IF(OR(E3=\"\",E3=\"NOBT\",E3=\"REFU\"),\"Unclassified\",IF(LEFT(E3,1)=\"W\",\"White\",\"BME\"))"]
[null,null,null,null,null,null,null,null,null,null,null,null,null,null,null,null,null,null,null,null,null,"2024-12-31","2024/25 Q3",null,358,"Trafford",14,12,10,9,"c",9,6,7,8,"c","c","c",6,null,null,1023009,"SC050780",845,"East Sussex",null,null,"=OR(BP3=\"BME\",BR3>1,F3>0,AND(BT3=TRUE,BO3<>\"\",BO3>4),AND(T3<>\"\",BL3<>\"\",BL3>4))"]
[null,null,null,null,null,null,null,null,null,null,null,null,null,null,null,null,null,null,null,null,null,"2025-03-31","2024/25 Q4",null,877,"Warrington",8,25,16,13,11,20,12,14,7,10,12,9,6,null,null,1023141,"SC055062",308,"Enfield",null,null,"=IF(G3=0,1,IF(H3=0,1,H3))"]
[null,null,null,null,null,null,null,null,null,null,null,null,null,null,null,null,null,null,null,null,null,{"$f":"EDATE(V45+1,3)-1","v":"2025-06-30"},"2025/26 Q1",null,943,"Westmoreland and Furness","z","z","z","z","z","z","z","z","z","z",null,15,14,null,null,1023142,"SC055065",881,"Essex",null,null,"=AND(AB3,AND(O3<>\"\",O3<=RDate),OR(P3=\"\",AND(P3<>\"\",P3>RDate),AND(P3<>\"\",Y3<>\"\",P3<Y3,Y3<=RDate)),OR(AND(W3=\"\",X3=\"\"),AND(W3<>\"\",W3>RDate)),OR(T3=\"\",AND(T3<>\"\",OR(AND(P3=\"\",T3>RDate),AND(P3<>\"\",P3>RDate)))),OR(R3=\"\",AND(R3<>\"\",OR(AND(P3=\"\",R3>RDate),AND(P3<>\"\",P3>RDate)))))"]
[null,null,null,null,null,null,null,null,null,null,null,null,null,null,null,null,null,null,null,null,null,"2025-09-30","2025/26 Q2",null,359,"Wigan",26,23,34,23,24,22,11,19,8,9,13,9,11,null,null,1023143,"SC055067",390,"Gateshead",null,null,"=AND(AB3,AND(O3<>\"\",O3<=RDate),OR(R3=\"\",AND(R3<>\"\",R3>RDate),AND(R3<>\"\",Y3<>\"\",R3<Y3,Y3<=RDate)),OR(AND(W3=\"\",X3=\"\"),AND(W3<>\"\",W3>RDate)),OR(T3=\"\",AND(T3<>\"\",OR(AND(R3=\"\",T3>RDate),AND(R3<>\"\",R3>RDate)))))"]
[null,null,null,null,null,null,null,null,null,null,null,null,null,null,null,null,null,null,null,null,null,"2025-12-31","2025/26 Q3",null,344,"Wirral",9,19,11,15,7,10,14,17,15,8,11,9,7,null,null,1023156,"SC055643",916,"Gloucestershire",null,null,"=AND(AB3,AND(N3<>\"\",N3<=RDate),OR(R3=\"\",AND(R3<>\"\",R3>RDate),AND(R3<>\"\",Y3<>\"\",R3<Y3,Y3<=RDate)),OR(AND(W3=\"\",X3=\"\"),AND(W3<>\"\",W3>RDate)),OR(T3=\"\",AND(T3<>\"\",OR(AND(R3=\"\",T3>RDate),AND(R3<>\"\",R3>RDate)))))"]
[null,null,null,null,null,null,null,null,null,null,null,null,null,null,null,null,null,null,null,null,null,"2026-03-31","2025/26 Q4",null,null,null,null,null,null,null,null,"","","","",null,null,null,null,null,null,1023308,"SC058590",203,"Greenwich",null,null,"=AND(R3<>\"\",R3<=Analysis!$B$4-1,OR(T3=\"\",AND(T3<>\"\",T3>=Analysis!$B$4)),OR(Y3=\"\",AND(Y3<>\"\",Y3>=Analysis!$B$4)),OR(W3=\"\",AND(W3<>\"\",W3>=Analysis!$B$4)))"]
[null,null,null,null,null,null,null,null,null,null,null,null,null,null,null,null,null,null,null,null,null,"2026-06-30","2026/27 Q1",null,null,"Yorkshire and The Humber",19,22,23,21,17,16,15,14,12,12,11,11,11,null,null,1023145,"SC055128",204,"Hackney",null,null,"=AND(AND(N3<>\"\",N3<=Analysis!$B$4-1),OR(R3=\"\",AND(R3<>\"\",R3>Analysis!$B$4-1),AND(R3<>\"\",Y3<>\"\",R3<Y3,Y3<=Analysis!$B$4-1)),OR(AND(W3=\"\",X3=\"\"),AND(W3<>\"\",W3>Analysis!$B$4-1)),OR(T3=\"\",AND(T3<>\"\",OR(AND(R3=\"\",T3>Analysis!$B$4-1),AND(R3<>\"\",R3>Analysis!$B$4-1)))))"]
[null,null,null,null,null,null,null,null,null,null,null,null,null,null,null,null,null,null,null,null,null,"2026-09-30","2026/27 Q2",null,370,"Barnsley",26,18,32,25,28,32,42,27,19,20,11,12,9,null,null,1022919,"SC049148",876,"Halton",null,null,"=IF(AB3,IF(COUNTIFS(A$3:A$50000,A3,AB$3:AB$50000,FALSE,BW$3:BW$50000,FALSE)>0,FALSE,BW3),FALSE)"]
[null,null,null,null,null,null,null,null,null,null,null,null,null,null,null,null,null,null,null,null,null,"2026-12-31","2026/27 Q3",null,380,"Bradford",21,18,25,21,15,10,10,8,7,12,13,8,12,null,null,1022962,"SC050069",205,"Hammersmith and Fulham"]
[null,null,null,null,null,null,null,null,null,null,null,null,null,null,null,null,null,null,null,null,null,"2027-03-31","2026/27 Q4",null,381,"Calderdale",19,26,21,31,19,10,20,20,10,14,12,12,16,null,null,1023152,"SC055359",850,"Hampshire"]
[null,null,null,null,null,null,null,null,null,null,null,null,null,null,null,null,null,null,null,null,null,"2027-06-30","2027/28 Q1",null,371,"Doncaster",13,16,22,23,19,16,17,14,14,5,8,9,11,null,null,1023150,"SC055355",309,"Haringey"]
[null,null,null,null,null,null,null,null,null,null,null,null,null,null,null,null,null,null,null,null,null,"2027-09-30","2027/28 Q2",null,811,"East Riding of Yorkshire",10,20,28,22,8,13,13,17,12,9,17,10,13,null,null,1023350,"SC059588",310,"Harrow"]
[null,null,null,null,null,null,null,null,null,null,null,null,null,null,null,null,null,null,null,null,null,"2027-12-31","2027/28 Q3",null,810,"Kingston Upon Hull, City of",30,28,22,9,13,14,12,13,9,15,15,20,9,null,null,1023158,"SC055687",805,"Hartlepool"]
[null,null,null,null,null,null,null,null,null,null,null,null,null,null,null,null,null,null,null,null,null,"2028-03-31","2027/28 Q4",null,382,"Kirklees",14,21,18,18,16,13,14,17,7,13,10,7,5,null,null,1023159,"SC055691",311,"Havering"]
[null,null,null,null,null,null,null,null,null,null,null,null,null,null,null,null,null,null,null,null,null,null,null,null,383,"Leeds",19,25,25,27,19,17,15,13,13,9,9,9,11,null,null,1023291,"SC057941",884,"Herefordshire"]
[null,null,null,null,null,null,null,null,null,null,null,null,null,null,null,null,null,null,null,null,null,null,null,null,812,"North East Lincolnshire",25,28,22,20,14,18,11,13,7,3,8,17,20,null,null,1023160,"SC055695",919,"Hertfordshire"]
[null,null,null,null,null,null,null,null,null,null,null,null,null,null,null,null,null,null,null,null,null,null,null,null,813,"North Lincolnshire",19,32,25,13,13,20,10,10,9,15,9,13,7,null,null,1023161,"SC055697",312,"Hillingdon"]
[null,null,null,null,null,null,null,null,null,null,null,null,null,null,null,null,null,null,null,null,null,null,null,null,815,"North Yorkshire",19,16,29,17,19,18,8,11,7,8,5,"c",4,null,null,1023162,"SC055699",313,"Hounslow"]
[null,null,null,null,null,null,null,null,null,null,null,null,null,null,null,null,null,null,null,null,null,null,null,null,372,"Rotherham",25,28,28,23,15,14,13,11,19,15,12,8,12,null,null,1023163,"SC055702",921,"Isle of Wight"]
[null,null,null,null,null,null,null,null,null,null,null,null,null,null,null,null,null,null,null,null,null,null,null,null,373,"Sheffield",16,20,15,28,19,15,15,15,12,13,6,9,8,null,null,1024025,"SC067253",420,"Isles of Scilly"]
[null,null,null,null,null,null,null,null,null,null,null,null,null,null,null,null,null,null,null,null,null,null,null,null,384,"Wakefield",20,25,25,27,18,17,15,17,22,18,18,17,16,null,null,1023164,"SC055709",206,"Islington"]
[null,null,null,null,null,null,null,null,null,null,null,null,null,null,null,null,null,null,null,null,null,null,null,null,816,"York",18,19,17,"c",13,14,14,17,"c",16,12,"c",13,null,null,1023168,"SC055722",886,"Kent"]
[null,null,null,null,null,null,null,null,null,null,null,null,null,null,null,null,null,null,null,null,null,null,null,null,null,null,null,null,null,null,null,"","","","",null,null,null,null,null,null,1023210,"SC056542",810,"Kingston upon Hull"]
[null,null,null,null,null,null,null,null,null,null,null,null,null,null,null,null,null,null,null,null,null,null,null,null,null,"East Midlands",16,21,22,18,16,14,15,13,14,12,11,9,11,null,null,1023211,"SC056549",314,"Kingston upon Thames"]
[null,null,null,null,null,null,null,null,null,null,null,null,null,null,null,null,null,null,null,null,null,null,null,null,831,"Derby",21,29,32,15,23,11,14,10,17,14,16,11,12,null,null,1023212,"SC056554",382,"Kirklees"]
[null,null,null,null,null,null,null,null,null,null,null,null,null,null,null,null,null,null,null,null,null,null,null,null,830,"Derbyshire",24,28,28,20,17,19,14,12,14,12,11,12,10,null,null,1023213,"SC056558",340,"Knowsley"]
[null,null,null,null,null,null,null,null,null,null,null,null,null,null,null,null,null,null,null,null,null,null,null,null,856,"Leicester",13,20,14,22,14,10,17,11,14,22,10,9,13,null,null,1023240,"SC056817",208,"Lambeth"]
[null,null,null,null,null,null,null,null,null,null,null,null,null,null,null,null,null,null,null,null,null,null,null,null,855,"Leicestershire",11,20,19,18,16,15,20,18,"c",13,8,9,11,null,null,1023214,"SC056564",888,"Lancashire"]
[null,null,null,null,null,null,null,null,null,null,null,null,null,null,null,null,null,null,null,null,null,null,null,null,925,"Lincolnshire",17,24,21,16,13,9,13,19,13,12,15,11,12,null,null,1023215,"SC056566",383,"Leeds"]
[null,null,null,null,null,null,null,null,null,null,null,null,null,null,null,null,null,null,null,null,null,null,null,null,928,"Northamptonshire",11,15,15,14,15,15,12,13,18,"z","z","z","z",null,null,1023256,"SC057149",856,"Leicester"]
[null,null,null,null,null,null,null,null,null,null,null,null,null,null,null,null,null,null,null,null,null,null,null,null,892,"Nottingham",17,17,24,18,22,16,22,12,12,12,13,8,14,null,null,1023257,"SC057151",855,"Leicestershire"]
[null,null,null,null,null,null,null,null,null,null,null,null,null,null,null,null,null,null,null,null,null,null,null,null,891,"Nottinghamshire",15,20,25,20,16,19,11,10,11,8,8,7,8,null,null,1023243,"SC056854",209,"Lewisham"]
[null,null,null,null,null,null,null,null,null,null,null,null,null,null,null,null,null,null,null,null,null,null,null,null,857,"Rutland","x",0,0,47,0,"c","c",0,"c","c","c","c","c",null,null,1023216,"SC056568",925,"Lincolnshire"]
[null,null,null,null,null,null,null,null,null,null,null,null,null,null,null,null,null,null,null,null,null,null,null,null,null,null,null,null,null,null,null,"","","","",null,null,null,null,null,null,1023220,"SC056748",341,"Liverpool"]
[null,null,null,null,null,null,null,null,null,null,null,null,null,null,null,null,null,null,null,null,null,null,null,null,null,"West Midlands",16,17,18,18,20,17,15,14,12,14,13,13,12,null,null,1023221,"SC056751",821,"Luton"]
[null,null,null,null,null,null,null,null,null,null,null,null,null,null,null,null,null,null,null,null,null,null,null,null,330,"Birmingham",12,16,14,12,22,14,11,14,12,12,12,14,12,null,null,1023222,"SC056753",352,"Manchester"]
[null,null,null,null,null,null,null,null,null,null,null,null,null,null,null,null,null,null,null,null,null,null,null,null,331,"Coventry",16,16,19,19,19,13,14,12,7,14,11,18,7,null,null,1023348,"SC059573",887,"Medway"]
[null,null,null,null,null,null,null,null,null,null,null,null,null,null,null,null,null,null,null,null,null,null,null,null,332,"Dudley",20,15,19,17,21,14,21,21,7,13,11,9,17,null,null,1023287,"SC057813",315,"Merton"]
[null,null,null,null,null,null,null,null,null,null,null,null,null,null,null,null,null,null,null,null,null,null,null,null,884,"Herefordshire",11,17,18,28,19,19,18,21,11,24,null,9,14,null,null,1022948,"SC050035",806,"Middlesbrough"]
[null,null,null,null,null,null,null,null,null,null,null,null,null,null,null,null,null,null,null,null,null,null,null,null,333,"Sandwell",26,16,20,18,20,19,14,14,18,17,16,10,11,null,null,1023312,"SC058675",826,"Milton Keynes"]
[null,null,null,null,null,null,null,null,null,null,null,null,null,null,null,null,null,null,null,null,null,null,null,null,893,"Shropshire",19,18,17,20,13,7,"c",11,10,7,16,15,9,null,null,1022949,"SC050036",391,"Newcastle upon Tyne"]
[null,null,null,null,null,null,null,null,null,null,null,null,null,null,null,null,null,null,null,null,null,null,null,null,334,"Solihull",8,10,13,9,12,13,6,6,"c",8,9,7,11,null,null,1023223,"SC056754",316,"Newham"]
[null,null,null,null,null,null,null,null,null,null,null,null,null,null,null,null,null,null,null,null,null,null,null,null,860,"Staffordshire",17,24,17,22,13,17,12,11,13,8,9,8,10,null,null,1023224,"SC056760",926,"Norfolk"]
[null,null,null,null,null,null,null,null,null,null,null,null,null,null,null,null,null,null,null,null,null,null,null,null,861,"Stoke-On-Trent",21,16,13,23,19,29,18,10,15,13,17,22,12,null,null,1023262,"SC057231",812,"North East Lincolnshire"]
[null,null,null,null,null,null,null,null,null,null,null,null,null,null,null,null,null,null,null,null,null,null,null,null,894,"Telford and Wrekin",24,17,28,14,22,27,26,24,24,24,22,20,10,null,null,1022950,"SC050040",813,"North Lincolnshire"]
[null,null,null,null,null,null,null,null,null,null,null,null,null,null,null,null,null,null,null,null,null,null,null,null,335,"Walsall",15,15,17,20,21,21,18,9,10,15,15,15,21,null,null,1023226,"SC056766",802,"North Somerset"]
[null,null,null,null,null,null,null,null,null,null,null,null,null,null,null,null,null,null,null,null,null,null,null,null,937,"Warwickshire",11,17,20,17,22,19,11,8,11,9,5,7,10,null,null,1023227,"SC056767",392,"North Tyneside"]
[null,null,null,null,null,null,null,null,null,null,null,null,null,null,null,null,null,null,null,null,null,null,null,null,336,"Wolverhampton",21,22,22,24,26,24,27,27,15,28,18,12,18,null,null,1023228,"SC056771",815,"North Yorkshire"]
[null,null,null,null,null,null,null,null,null,null,null,null,null,null,null,null,null,null,null,null,null,null,null,null,885,"Worcestershire",17,15,20,19,18,21,22,14,12,15,16,14,13,null,null,2605174,2605174,928,"Northamptonshire"]
[null,null,null,null,null,null,null,null,null,null,null,null,null,null,null,null,null,null,null,null,null,null,null,null,null,null,null,null,null,null,null,"","","","",null,null,null,null,null,null,1022951,"SC050042",929,"Northumberland"]
[null,null,null,null,null,null,null,null,null,null,null,null,null,null,null,null,null,null,null,null,null,null,null,null,null,"East of England",14,19,18,15,17,14,15,13,12,12,12,11,11,null,null,1023108,"SC054186",892,"Nottingham"]
[null,null,null,null,null,null,null,null,null,null,null,null,null,null,null,null,null,null,null,null,null,null,null,null,822,"Bedford",5,13,25,12,10,19,24,24,12,16,18,18,15,null,null,1023229,"SC056772",891,"Nottinghamshire"]
[null,null,null,null,null,null,null,null,null,null,null,null,null,null,null,null,null,null,null,null,null,null,null,null,823,"Central Bedfordshire",6,15,16,18,24,10,16,20,16,8,10,12,16,null,null,1022953,"SC050044",353,"Oldham"]
[null,null,null,null,null,null,null,null,null,null,null,null,null,null,null,null,null,null,null,null,null,null,null,null,873,"Cambridgeshire",18,14,20,14,14,13,17,18,14,19,14,10,8,null,null,1023230,"SC056777",931,"Oxfordshire"]
[null,null,null,null,null,null,null,null,null,null,null,null,null,null,null,null,null,null,null,null,null,null,null,null,881,"Essex",12,22,18,16,17,16,21,12,12,7,10,11,9,null,null,1023170,"SC055738",874,"Peterborough"]
[null,null,null,null,null,null,null,null,null,null,null,null,null,null,null,null,null,null,null,null,null,null,null,null,919,"Hertfordshire",14,17,13,13,20,13,12,10,8,8,11,12,6,null,null,1023231,"SC056793",879,"Plymouth"]
[null,null,null,null,null,null,null,null,null,null,null,null,null,null,null,null,null,null,null,null,null,null,null,null,821,"Luton",11,8,13,10,13,6,11,7,7,13,9,8,6,null,null,1022921,"SC049177",851,"Portsmouth"]
[null,null,null,null,null,null,null,null,null,null,null,null,null,null,null,null,null,null,null,null,null,null,null,null,926,"Norfolk",14,17,20,18,21,17,14,15,15,14,12,14,16,null,null,2509643,2509643,870,"Reading"]
[null,null,null,null,null,null,null,null,null,null,null,null,null,null,null,null,null,null,null,null,null,null,null,null,874,"Peterborough",13,18,19,17,13,13,12,13,11,19,16,13,10,null,null,1023107,"SC054181",317,"Redbridge"]
[null,null,null,null,null,null,null,null,null,null,null,null,null,null,null,null,null,null,null,null,null,null,null,null,882,"Southend-on-Sea",18,24,16,23,21,32,23,19,15,16,11,12,14,null,null,1023109,"SC054192",807,"Redcar and Cleveland"]
[null,null,null,null,null,null,null,null,null,null,null,null,null,null,null,null,null,null,null,null,null,null,null,null,935,"Suffolk",24,29,23,19,18,17,16,13,13,15,13,8,18,null,null,1023232,"SC056797",318,"Richmond upon Thames"]
[null,null,null,null,null,null,null,null,null,null,null,null,null,null,null,null,null,null,null,null,null,null,null,null,883,"Thurrock",9,11,10,13,5,3,6,6,5,6,14,4,7,null,null,1023233,"SC056804",354,"Rochdale"]
[null,null,null,null,null,null,null,null,null,null,null,null,null,null,null,null,null,null,null,null,null,null,null,null,null,null,null,null,null,null,null,"","","","",null,null,null,null,null,null,1023234,"SC056805",372,"Rotherham"]
[null,null,null,null,null,null,null,null,null,null,null,null,null,null,null,null,null,null,null,null,null,null,null,null,null,"London",9,10,9,8,6,6,6,5,4,4,4,4,4,null,null,1023255,"SC057145",857,"Rutland"]
[null,null,null,null,null,null,null,null,null,null,null,null,null,null,null,null,null,null,null,null,null,null,null,null,null,"Inner London",9,10,9,8,7,4,6,5,4,3,5,4,4,null,null,1023235,"SC056806",355,"Salford"]
[null,null,null,null,null,null,null,null,null,null,null,null,null,null,null,null,null,null,null,null,null,null,null,null,202,"Camden",12,13,10,7,8,"c",9,"c","c","c",6,"c",6,null,null,1264707,"SC059602",333,"Sandwell"]
[null,null,null,null,null,null,null,null,null,null,null,null,null,null,null,null,null,null,null,null,null,null,null,null,201,"City Of London",0,0,0,0,0,0,0,0,"c",0,0,"c",0,null,null,1023236,"SC056808",343,"Sefton"]
[null,null,null,null,null,null,null,null,null,null,null,null,null,null,null,null,null,null,null,null,null,null,null,null,204,"Hackney",6,10,6,8,9,6,6,5,"c","c",6,"c","c",null,null,1023296,"SC058208",373,"Sheffield"]
[null,null,null,null,null,null,null,null,null,null,null,null,null,null,null,null,null,null,null,null,null,null,null,null,205,"Hammersmith and Fulham",14,13,10,6,"c","c","c","c","c","c",7,"c","c",null,null,1023275,"SC057549",893,"Shropshire"]
[null,null,null,null,null,null,null,null,null,null,null,null,null,null,null,null,null,null,null,null,null,null,null,null,309,"Haringey",6,15,10,11,6,5,6,5,"c",5,8,4,5,null,null,1183499,1183499,871,"Slough"]
[null,null,null,null,null,null,null,null,null,null,null,null,null,null,null,null,null,null,null,null,null,null,null,null,206,"Islington",10,11,6,4,6,4,9,4,"c","c","c","c","c",null,null,1023239,"SC056812",334,"Solihull"]
[null,null,null,null,null,null,null,null,null,null,null,null,null,null,null,null,null,null,null,null,null,null,null,null,207,"Kensington and Chelsea",7,"x",9,"c","c","c","c","c","c","c","c","c","c",null,null,1023244,"SC056858",933,"Somerset"]
[null,null,null,null,null,null,null,null,null,null,null,null,null,null,null,null,null,null,null,null,null,null,null,null,208,"Lambeth",7,7,7,11,6,4,5,4,"c","c",3,4,"c",null,null,1023245,"SC056860",803,"South Gloucestershire"]
[null,null,null,null,null,null,null,null,null,null,null,null,null,null,null,null,null,null,null,null,null,null,null,null,209,"Lewisham",9,12,12,14,7,7,3,13,5,7,"c",8,8,null,null,1022956,"SC050051",393,"South Tyneside"]
[null,null,null,null,null,null,null,null,null,null,null,null,null,null,null,null,null,null,null,null,null,null,null,null,316,"Newham",12,10,8,6,5,"c",5,4,7,3,4,5,4,null,null,1023246,"SC056862",852,"Southampton"]
[null,null,null,null,null,null,null,null,null,null,null,null,null,null,null,null,null,null,null,null,null,null,null,null,210,"Southwark",7,12,14,12,8,6,5,"c","c",4,4,5,"c",null,null,1023289,"SC057823",882,"Southend-on-Sea"]
[null,null,null,null,null,null,null,null,null,null,null,null,null,null,null,null,null,null,null,null,null,null,null,null,211,"Tower Hamlets",8,8,10,7,5,4,10,7,6,9,7,"c",4,null,null,1023247,"SC056870",210,"Southwark"]
[null,null,null,null,null,null,null,null,null,null,null,null,null,null,null,null,null,null,null,null,null,null,null,null,212,"Wandsworth",16,8,6,4,7,5,6,6,"c","c",7,8,"c",null,null,1023248,"SC056872",342,"St Helens"]
[null,null,null,null,null,null,null,null,null,null,null,null,null,null,null,null,null,null,null,null,null,null,null,null,213,"Westminster",6,8,15,"c",6,"c",4,"c","c","c","c","c","c",null,null,1023105,"SC054164",860,"Staffordshire"]
[null,null,null,null,null,null,null,null,null,null,null,null,null,null,null,null,null,null,null,null,null,null,null,null,null,null,null,null,null,null,null,"","","","",null,null,null,null,null,null,1023250,"SC056877",356,"Stockport"]
[null,null,null,null,null,null,null,null,null,null,null,null,null,null,null,null,null,null,null,null,null,null,null,null,null,"Outer London",9,9,8,7,6,7,6,5,5,5,4,4,4,null,null,1023249,"SC056876",808,"Stockton-on-Tees"]
[null,null,null,null,null,null,null,null,null,null,null,null,null,null,null,null,null,null,null,null,null,null,null,null,301,"Barking and Dagenham",8,6,12,11,7,6,8,8,7,9,"c",7,4,null,null,1023351,"SC059591",861,"Stoke-on-Trent"]
[null,null,null,null,null,null,null,null,null,null,null,null,null,null,null,null,null,null,null,null,null,null,null,null,302,"Barnet",8,7,9,6,4,7,7,6,9,"c",4,4,7,null,null,1023288,"SC057814",935,"Suffolk"]
[null,null,null,null,null,null,null,null,null,null,null,null,null,null,null,null,null,null,null,null,null,null,null,null,303,"Bexley",17,11,15,16,11,12,8,"c",7,6,"c",8,9,null,null,1254834,1254834,394,"Sunderland"]
[null,null,null,null,null,null,null,null,null,null,null,null,null,null,null,null,null,null,null,null,null,null,null,null,304,"Brent",9,5,4,3,"c",5,3,"c",3,"c",4,"c",5,null,null,1023242,"SC056851",936,"Surrey"]
[null,null,null,null,null,null,null,null,null,null,null,null,null,null,null,null,null,null,null,null,null,null,null,null,305,"Bromley",12,7,13,11,11,9,12,5,8,8,9,5,7,null,null,1023103,"SC054069",319,"Sutton"]
[null,null,null,null,null,null,null,null,null,null,null,null,null,null,null,null,null,null,null,null,null,null,null,null,306,"Croydon",7,7,7,4,4,2,4,6,6,4,4,6,6,null,null,1023252,"SC056881",866,"Swindon"]
[null,null,null,null,null,null,null,null,null,null,null,null,null,null,null,null,null,null,null,null,null,null,null,null,307,"Ealing",4,10,5,5,3,5,"c",5,6,5,"c","c","c",null,null,1023104,"SC054157",357,"Tameside"]
[null,null,null,null,null,null,null,null,null,null,null,null,null,null,null,null,null,null,null,null,null,null,null,null,308,"Enfield",11,11,10,6,5,7,7,"c",3,"c",4,6,"c",null,null,1026017,"SC454367",894,"Telford and Wrekin"]
[null,null,null,null,null,null,null,null,null,null,null,null,null,null,null,null,null,null,null,null,null,null,null,null,203,"Greenwich",9,13,6,9,8,9,8,3,4,6,7,"c","c",null,null,1023259,"SC057173",883,"Thurrock"]
[null,null,null,null,null,null,null,null,null,null,null,null,null,null,null,null,null,null,null,null,null,null,null,null,310,"Harrow",5,7,"c",8,4,7,5,"c","c","c","c","c","c",null,null,1023260,"SC057174",880,"Torbay"]
[null,null,null,null,null,null,null,null,null,null,null,null,null,null,null,null,null,null,null,null,null,null,null,null,311,"Havering",8,12,5,4,5,6,5,8,"c","c","c",0,"c",null,null,1023487,"SC061617",211,"Tower Hamlets"]
[null,null,null,null,null,null,null,null,null,null,null,null,null,null,null,null,null,null,null,null,null,null,null,null,312,"Hillingdon",9,9,4,6,4,7,6,4,4,4,"c",4,"c",null,null,1023261,"SC057183",358,"Trafford"]
[null,null,null,null,null,null,null,null,null,null,null,null,null,null,null,null,null,null,null,null,null,null,null,null,313,"Hounslow",8,7,12,6,7,10,6,7,6,14,3,5,6,null,null,1023258,"SC057171",384,"Wakefield"]
[null,null,null,null,null,null,null,null,null,null,null,null,null,null,null,null,null,null,null,null,null,null,null,null,314,"Kingston Upon Thames",14,10,21,11,"c",13,0,"c","c","c","c","c","c",null,null,1023264,"SC057237",335,"Walsall"]
[null,null,null,null,null,null,null,null,null,null,null,null,null,null,null,null,null,null,null,null,null,null,null,null,315,"Merton","x",9,8,9,10,11,"c",7,"c","c","c",0,"c",null,null,1023175,"SC055898",320,"Waltham Forest"]
[null,null,null,null,null,null,null,null,null,null,null,null,null,null,null,null,null,null,null,null,null,null,null,null,317,"Redbridge","x",8,10,11,"c",5,"c","c",0,"c","c",6,"c",null,null,1023297,"SC058212",212,"Wandsworth"]
[null,null,null,null,null,null,null,null,null,null,null,null,null,null,null,null,null,null,null,null,null,null,null,null,318,"Richmond Upon Thames","x","x",16,"c","c","c","c","c","c",9,"c","c","c",null,null,1022955,"SC050050",877,"Warrington"]
[null,null,null,null,null,null,null,null,null,null,null,null,null,null,null,null,null,null,null,null,null,null,null,null,319,"Sutton",15,16,7,7,9,10,10,11,6,12,7,10,8,null,null,1023106,"SC054166",937,"Warwickshire"]
[null,null,null,null,null,null,null,null,null,null,null,null,null,null,null,null,null,null,null,null,null,null,null,null,320,"Waltham Forest",12,12,11,5,7,8,"c","c",5,"c","c",3,"c",null,null,1023265,"SC057256",869,"West Berkshire"]
[null,null,null,null,null,null,null,null,null,null,null,null,null,null,null,null,null,null,null,null,null,null,null,null,null,null,null,null,null,null,null,"","","","",null,null,null,null,null,null,1022961,"SC050067",938,"West Sussex"]
[null,null,null,null,null,null,null,null,null,null,null,null,null,null,null,null,null,null,null,null,null,null,null,null,null,"South East",14,17,18,14,13,12,12,11,8,8,7,6,6,null,null,2733383,2733383,943,"Westmoreland and Furness"]
[null,null,null,null,null,null,null,null,null,null,null,null,null,null,null,null,null,null,null,null,null,null,null,null,867,"Bracknell Forest","x",21,10,13,"c","c",11,10,"c","c",9,"c","c",null,null,1023267,"SC057269",359,"Wigan"]
[null,null,null,null,null,null,null,null,null,null,null,null,null,null,null,null,null,null,null,null,null,null,null,null,846,"Brighton and Hove",22,21,27,16,13,18,18,10,7,6,7,16,8,null,null,1022958,"SC050059",865,"Wiltshire"]
[null,null,null,null,null,null,null,null,null,null,null,null,null,null,null,null,null,null,null,null,null,null,null,null,825,"Buckinghamshire",21,23,20,17,18,13,11,10,14,11,8,6,5,null,null,1023271,"SC057310",868,"Windsor and Maidenhead"]
[null,null,null,null,null,null,null,null,null,null,null,null,null,null,null,null,null,null,null,null,null,null,null,null,845,"East Sussex",23,27,23,24,20,20,16,17,15,8,8,8,8,null,null,1023382,"SC059886",344,"Wirral"]
[null,null,null,null,null,null,null,null,null,null,null,null,null,null,null,null,null,null,null,null,null,null,null,null,850,"Hampshire",13,13,16,15,13,11,12,11,9,8,9,11,7,null,null,1022959,"SC050063",872,"Wokingham"]
[null,null,null,null,null,null,null,null,null,null,null,null,null,null,null,null,null,null,null,null,null,null,null,null,921,"Isle Of Wight",8,8,9,12,21,16,18,17,"c",16,"c",8,11,null,null,1023298,"SC058214",336,"Wolverhampton"]
[null,null,null,null,null,null,null,null,null,null,null,null,null,null,null,null,null,null,null,null,null,null,null,null,886,"Kent",12,17,21,10,6,10,13,9,4,3,3,2,2,null,null,1023272,"SC057349",885,"Worcestershire"]
[null,null,null,null,null,null,null,null,null,null,null,null,null,null,null,null,null,null,null,null,null,null,null,null,887,"Medway",12,24,25,11,18,22,15,13,10,18,15,10,11,null,null,1022960,"SC050064",816,"York"]
[null,null,null,null,null,null,null,null,null,null,null,null,null,null,null,null,null,null,null,null,null,null,null,null,826,"Milton Keynes",18,17,9,10,7,6,11,13,12,15,11,10,12]
[null,null,null,null,null,null,null,null,null,null,null,null,null,null,null,null,null,null,null,null,null,null,null,null,931,"Oxfordshire",14,17,15,18,13,12,9,11,9,9,7,7,6]
[null,null,null,null,null,null,null,null,null,null,null,null,null,null,null,null,null,null,null,null,null,null,null,null,851,"Portsmouth",13,18,21,21,28,16,9,13,8,14,8,12,16]
[null,null,null,null,null,null,null,null,null,null,null,null,null,null,null,null,null,null,null,null,null,null,null,null,870,"Reading",19,27,23,20,16,14,21,14,11,12,17,"c",11]
[null,null,null,null,null,null,null,null,null,null,null,null,null,null,null,null,null,null,null,null,null,null,null,null,871,"Slough",9,16,20,10,10,12,11,12,10,8,16,"c",13]
[null,null,null,null,null,null,null,null,null,null,null,null,null,null,null,null,null,null,null,null,null,null,null,null,852,"Southampton",16,16,27,31,35,27,22,15,17,10,15,14,12]
[null,null,null,null,null,null,null,null,null,null,null,null,null,null,null,null,null,null,null,null,null,null,null,null,936,"Surrey",10,14,13,13,12,8,6,8,7,6,7,6,8]
[null,null,null,null,null,null,null,null,null,null,null,null,null,null,null,null,null,null,null,null,null,null,null,null,869,"West Berkshire",20,9,"c",10,16,"c","c",9,10,"c","c","c",18]
[null,null,null,null,null,null,null,null,null,null,null,null,null,null,null,null,null,null,null,null,null,null,null,null,938,"West Sussex",10,13,13,9,13,10,12,12,9,8,8,8,13]
[null,null,null,null,null,null,null,null,null,null,null,null,null,null,null,null,null,null,null,null,null,null,null,null,868,"Windsor and Maidenhead","x",26,15,16,17,"c",13,"c","c","c",8,"c","c"]
[null,null,null,null,null,null,null,null,null,null,null,null,null,null,null,null,null,null,null,null,null,null,null,null,872,"Wokingham","x","x","c","c","c","c","c",13,"c","c","c","c",12]
[null,null,null,null,null,null,null,null,null,null,null,null,null,null,null,null,null,null,null,null,null,null,null,null,null,null,null,null,null,null,null,"","","",""]
[null,null,null,null,null,null,null,null,null,null,null,null,null,null,null,null,null,null,null,null,null,null,null,null,null,"South West",12,15,16,13,14,14,14,13,12,10,13,11,12]
[null,null,null,null,null,null,null,null,null,null,null,null,null,null,null,null,null,null,null,null,null,null,null,null,800,"Bath and North East Somerset",9,"x",20,"c",19,15,20,16,31,"c",9,"c",10]
[null,null,null,null,null,null,null,null,null,null,null,null,null,null,null,null,null,null,null,null,null,null,null,null,837,"Bournemouth, Christchurch, Poole",16,17,20,22,19,"z","z",15,16,9,11,9,10]
[null,null,null,null,null,null,null,null,null,null,null,null,null,null,null,null,null,null,null,null,null,null,null,null,801,"Bristol, City of",8,15,13,12,8,7,11,12,7,6,7,3,7]
[null,null,null,null,null,null,null,null,null,null,null,null,null,null,null,null,null,null,null,null,null,null,null,null,908,"Cornwall",15,16,15,12,17,11,12,13,11,7,7,8,8]
[null,null,null,null,null,null,null,null,null,null,null,null,null,null,null,null,null,null,null,null,null,null,null,null,878,"Devon",8,12,17,11,14,20,12,11,10,12,14,13,15]
[null,null,null,null,null,null,null,null,null,null,null,null,null,null,null,null,null,null,null,null,null,null,null,null,835,"Dorset",16,10,10,6,11,"z","z",12,14,10,15,11,13]
[null,null,null,null,null,null,null,null,null,null,null,null,null,null,null,null,null,null,null,null,null,null,null,null,916,"Gloucestershire",12,18,21,10,10,16,9,7,9,10,11,11,16]
[null,null,null,null,null,null,null,null,null,null,null,null,null,null,null,null,null,null,null,null,null,null,null,null,420,"Isles Of Scilly",0,".","..","..","..","z","z","z",0,"z","z","z","z"]
[null,null,null,null,null,null,null,null,null,null,null,null,null,null,null,null,null,null,null,null,null,null,null,null,802,"North Somerset",6,18,16,11,14,14,16,19,19,16,"c",12,10]
[null,null,null,null,null,null,null,null,null,null,null,null,null,null,null,null,null,null,null,null,null,null,null,null,879,"Plymouth",22,22,19,17,23,19,16,16,14,18,15,14,13]
[null,null,null,null,null,null,null,null,null,null,null,null,null,null,null,null,null,null,null,null,null,null,null,null,836,"Poole",19,10,19,13,15,27,20,"z","z","z","z","z","z"]
[null,null,null,null,null,null,null,null,null,null,null,null,null,null,null,null,null,null,null,null,null,null,null,null,933,"Somerset",10,16,19,22,13,14,12,21,15,3,29,17,17]
[null,null,null,null,null,null,null,null,null,null,null,null,null,null,null,null,null,null,null,null,null,null,null,null,803,"South Gloucestershire",18,11,15,9,14,"c",8,"c","c",6,7,8,9]
[null,null,null,null,null,null,null,null,null,null,null,null,null,null,null,null,null,null,null,null,null,null,null,null,866,"Swindon",6,12,10,5,13,10,11,19,11,15,13,13,9]
[null,null,null,null,null,null,null,null,null,null,null,null,null,null,null,null,null,null,null,null,null,null,null,null,880,"Torbay",11,17,15,22,13,20,9,18,15,14,22,12,10]
[null,null,null,null,null,null,null,null,null,null,null,null,null,null,null,null,null,null,null,null,null,null,null,null,865,"Wiltshire",8,18,14,14,22,14,23,13,13,14,11,16,15]
[]
[null,null,null,null,null,null,null,null,null,null,null,null,null,null,null,null,null,null,null,null,null,null,null,null,"c = Figures not shown in order to protect confidentiality - see looked after children statistics guide for information on data suppression\n.. = Not applicable"]

{"sheet":"DATA EXPORT SGOs","index":15,"n_rows":3,"n_cols":130,"rows_kept":3,"cut":false,"hidden":true,"merged":[]}
[null,"TOTAL","TOTAL","TOTAL","TOTAL","GenderF","GenderF","GenderF","GenderF","GenderM","GenderM","GenderM","GenderM","AgeU1","AgeU1","AgeU1","AgeU1","Age1-4","Age1-4","Age1-4","Age1-4","Age5-9","Age5-9","Age5-9","Age5-9","Age10-15","Age10-15","Age10-15","Age10-15","Age16+","Age16+","Age16+","Age16+","EthnicityW","EthnicityW","EthnicityW","EthnicityW","EthnicityBME","EthnicityBME","EthnicityBME","EthnicityBME","EthnicityR/NO","EthnicityR/NO","EthnicityR/NO","EthnicityR/NO","Disabled","Disabled","Disabled","Disabled","SGG","SGG","SGG","SGG","SGOtherFamily","SGOtherFamily","SGOtherFamily","SGOtherFamily","SGFriend/Other","SGFriend/Other","SGFriend/Other","SGFriend/Other","SGFormerFC","SGFormerFC","SGFormerFC","SGFormerFC","SGOther","SGOther","SGOther","SGOther","SBGTotal","SBGTotal","SBGTotal","SBGTotal","2SG","2SG","2SG","2SG","3SG","3SG","3SG","3SG","4SG","4SG","4SG","4SG","5+SG","5+SG","5+SG","5+SG","SGOGrantedWithSV","SGOGrantedWithSV","PreviousADM","PreviousADM","PreviousADM","PreviousADM",null,"| Error messages --->"]
["URN","S1.1a","S1.1b","S1.1c","S1.1d","S2.1a","S2.1b","S2.1c","S2.1d","S2.2a","S2.2b","S2.2c","S2.2d","S3.1a","S3.1b","S3.1c","S3.1d","S3.2a","S3.2b","S3.2c","S3.2d","S3.3a","S3.3b","S3.3c","S3.3d","S3.4a","S3.4b","S3.4c","S3.4d","S3.5a","S3.5b","S3.5c","S3.5d","S4.1a","S4.1b","S4.1c","S4.1d","S4.2a","S4.2b","S4.2c","S4.2d","S4.3a","S4.3b","S4.3c","S4.3d","S5.1a","S5.1b","S5.1c","S5.1d","S6.1a","S6.1b","S6.1c","S6.1d","S6.2a","S6.2b","S6.2c","S6.2d","S6.3a","S6.3b","S6.3c","S6.3d","S6.4a","S6.4b","S6.4c","S6.4d","S6.5a","S6.5b","S6.5c","S6.5d","S7.1a","S7.1b","S7.1c","S7.1d","S7.2a","S7.2b","S7.2c","S7.2d","S7.3a","S7.3b","S7.3c","S7.3d","S7.4a","S7.4b","S7.4c","S7.4d","S7.5a","S7.5b","S7.5c","S7.5d","S8.1a","S8.1b","S9.1a","S9.1b","S9.1c","S9.1d","S10","S2a","S2b","S2c","S2d","S3a","S3b","S3c","S3d","S4a","S4b","S4c","S4d","S5a","S5b","S5c","S5d","S6a","S6b","S6c","S6d","S7aTotal","S7bTotal","S7cTotal","S7dTotal","S7aGroups","S7bGroups","S7cGroups","S7dGroups","S8a","S8b","S9a","S9b","S9c","S9d"]
[{"$f":"Analysis!B3","v":{"$error":"#N/A"}},{"$f":"#REF!","v":{"$error":"#REF!"}},{"$f":"#REF!","v":{"$error":"#REF!"}},{"$f":"#REF!","v":{"$error":"#REF!"}},{"$f":"#REF!","v":{"$error":"#REF!"}},{"$f":"#REF!","v":{"$error":"#REF!"}},{"$f":"#REF!","v":{"$error":"#REF!"}},{"$f":"#REF!","v":{"$error":"#REF!"}},{"$f":"#REF!","v":{"$error":"#REF!"}},{"$f":"#REF!","v":{"$error":"#REF!"}},{"$f":"#REF!","v":{"$error":"#REF!"}},{"$f":"#REF!","v":{"$error":"#REF!"}},{"$f":"#REF!","v":{"$error":"#REF!"}},{"$f":"#REF!","v":{"$error":"#REF!"}},{"$f":"#REF!","v":{"$error":"#REF!"}},{"$f":"#REF!","v":{"$error":"#REF!"}},{"$f":"#REF!","v":{"$error":"#REF!"}},{"$f":"#REF!","v":{"$error":"#REF!"}},{"$f":"#REF!","v":{"$error":"#REF!"}},{"$f":"#REF!","v":{"$error":"#REF!"}},{"$f":"#REF!","v":{"$error":"#REF!"}},{"$f":"#REF!","v":{"$error":"#REF!"}},{"$f":"#REF!","v":{"$error":"#REF!"}},{"$f":"#REF!","v":{"$error":"#REF!"}},{"$f":"#REF!","v":{"$error":"#REF!"}},{"$f":"#REF!","v":{"$error":"#REF!"}},{"$f":"#REF!","v":{"$error":"#REF!"}},{"$f":"#REF!","v":{"$error":"#REF!"}},{"$f":"#REF!","v":{"$error":"#REF!"}},{"$f":"#REF!","v":{"$error":"#REF!"}},{"$f":"#REF!","v":{"$error":"#REF!"}},{"$f":"#REF!","v":{"$error":"#REF!"}},{"$f":"#REF!","v":{"$error":"#REF!"}},{"$f":"#REF!","v":{"$error":"#REF!"}},{"$f":"#REF!","v":{"$error":"#REF!"}},{"$f":"#REF!","v":{"$error":"#REF!"}},{"$f":"#REF!","v":{"$error":"#REF!"}},{"$f":"#REF!","v":{"$error":"#REF!"}},{"$f":"#REF!","v":{"$error":"#REF!"}},{"$f":"#REF!","v":{"$error":"#REF!"}},{"$f":"#REF!","v":{"$error":"#REF!"}},{"$f":"#REF!","v":{"$error":"#REF!"}},{"$f":"#REF!","v":{"$error":"#REF!"}},{"$f":"#REF!","v":{"$error":"#REF!"}},{"$f":"#REF!","v":{"$error":"#REF!"}},{"$f":"#REF!","v":{"$error":"#REF!"}},{"$f":"#REF!","v":{"$error":"#REF!"}},{"$f":"#REF!","v":{"$error":"#REF!"}},{"$f":"#REF!","v":{"$error":"#REF!"}},{"$f":"#REF!","v":{"$error":"#REF!"}},{"$f":"#REF!","v":{"$error":"#REF!"}},{"$f":"#REF!","v":{"$error":"#REF!"}},{"$f":"#REF!","v":{"$error":"#REF!"}},{"$f":"#REF!","v":{"$error":"#REF!"}},{"$f":"#REF!","v":{"$error":"#REF!"}},{"$f":"#REF!","v":{"$error":"#REF!"}},{"$f":"#REF!","v":{"$error":"#REF!"}},{"$f":"#REF!","v":{"$error":"#REF!"}},{"$f":"#REF!","v":{"$error":"#REF!"}},{"$f":"#REF!","v":{"$error":"#REF!"}},{"$f":"#REF!","v":{"$error":"#REF!"}},{"$f":"#REF!","v":{"$error":"#REF!"}},{"$f":"#REF!","v":{"$error":"#REF!"}},{"$f":"#REF!","v":{"$error":"#REF!"}},{"$f":"#REF!","v":{"$error":"#REF!"}},{"$f":"#REF!","v":{"$error":"#REF!"}},{"$f":"#REF!","v":{"$error":"#REF!"}},{"$f":"#REF!","v":{"$error":"#REF!"}},{"$f":"#REF!","v":{"$error":"#REF!"}},{"$f":"#REF!","v":{"$error":"#REF!"}},{"$f":"#REF!","v":{"$error":"#REF!"}},{"$f":"#REF!","v":{"$error":"#REF!"}},{"$f":"#REF!","v":{"$error":"#REF!"}},{"$f":"#REF!","v":{"$error":"#REF!"}},{"$f":"#REF!","v":{"$error":"#REF!"}},{"$f":"#REF!","v":{"$error":"#REF!"}},{"$f":"#REF!","v":{"$error":"#REF!"}},{"$f":"#REF!","v":{"$error":"#REF!"}},{"$f":"#REF!","v":{"$error":"#REF!"}},{"$f":"#REF!","v":{"$error":"#REF!"}},{"$f":"#REF!","v":{"$error":"#REF!"}},{"$f":"#REF!","v":{"$error":"#REF!"}},{"$f":"#REF!","v":{"$error":"#REF!"}},{"$f":"#REF!","v":{"$error":"#REF!"}},{"$f":"#REF!","v":{"$error":"#REF!"}},{"$f":"#REF!","v":{"$error":"#REF!"}},{"$f":"#REF!","v":{"$error":"#REF!"}},{"$f":"#REF!","v":{"$error":"#REF!"}},{"$f":"#REF!","v":{"$error":"#REF!"}},{"$f":"#REF!","v":{"$error":"#REF!"}},{"$f":"#REF!","v":{"$error":"#REF!"}},{"$f":"#REF!","v":{"$error":"#REF!"}},{"$f":"#REF!","v":{"$error":"#REF!"}},{"$f":"#REF!","v":{"$error":"#REF!"}},{"$f":"#REF!","v":{"$error":"#REF!"}},{"$f":"#REF!","v":{"$error":"#REF!"}},{"$f":"#REF!","v":{"$error":"#REF!"}},{"$f":"#REF!","v":{"$error":"#REF!"}},{"$f":"#REF!","v":{"$error":"#REF!"}},{"$f":"#REF!","v":{"$error":"#REF!"}},{"$f":"#REF!","v":{"$error":"#REF!"}},{"$f":"#REF!","v":{"$error":"#REF!"}},{"$f":"#REF!","v":{"$error":"#REF!"}},{"$f":"#REF!","v":{"$error":"#REF!"}},{"$f":"#REF!","v":{"$error":"#REF!"}},{"$f":"#REF!","v":{"$error":"#REF!"}},{"$f":"#REF!","v":{"$error":"#REF!"}},{"$f":"#REF!","v":{"$error":"#REF!"}},{"$f":"#REF!","v":{"$error":"#REF!"}},{"$f":"#REF!","v":{"$error":"#REF!"}},{"$f":"#REF!","v":{"$error":"#REF!"}},{"$f":"#REF!","v":{"$error":"#REF!"}},{"$f":"#REF!","v":{"$error":"#REF!"}},{"$f":"#REF!","v":{"$error":"#REF!"}},{"$f":"#REF!","v":{"$error":"#REF!"}},{"$f":"#REF!","v":{"$error":"#REF!"}},{"$f":"#REF!","v":{"$error":"#REF!"}},{"$f":"#REF!","v":{"$error":"#REF!"}},{"$f":"#REF!","v":{"$error":"#REF!"}},{"$f":"#REF!","v":{"$error":"#REF!"}},{"$f":"#REF!","v":{"$error":"#REF!"}},{"$f":"#REF!","v":{"$error":"#REF!"}},{"$f":"#REF!","v":{"$error":"#REF!"}},{"$f":"#REF!","v":{"$error":"#REF!"}},{"$f":"#REF!","v":{"$error":"#REF!"}},{"$f":"#REF!","v":{"$error":"#REF!"}},{"$f":"#REF!","v":{"$error":"#REF!"}},{"$f":"#REF!","v":{"$error":"#REF!"}},{"$f":"#REF!","v":{"$error":"#REF!"}},{"$f":"#REF!","v":{"$error":"#REF!"}}]

{"sheet":"ESRI_MAPINFO_SHEET","index":16,"n_rows":0,"n_cols":0,"rows_kept":0,"cut":false,"hidden":true,"merged":[]}